{"text_format":"1","workbook":"xlsx","n_sheets":5,"sheets":["Produktionsanlæg","Distributionsanlæg","Fællesfunktionsanlæg","Genanskaffelsespriser","Priser"],"not_rendered":{"charts":13,"images":3,"macros":1,"external_links":0,"defined_names":8,"comments":0,"pivot_tables":0},"unopened":[],"bounds":{"document_bytes":16777216,"sheet_cells":100000,"rows_first":2000,"rows_last":500,"rows_between":2000,"halvings":0,"cell_chars":16384,"cell_head_chars":4096},"cells_cut":0,"cells_raw":0,"read":"whole","date_system":"1900"}

{"sheet":"Produktionsanlæg","index":0,"n_rows":197,"n_cols":10,"rows_kept":197,"cut":false,"hidden":false,"merged":[]}
["PRODUKTIONSANLÆG","Enhed","Standardlevetid","Mængde","Enhedspris","Samlet værdi","Afskrivning",null,"Postnr.","Samlede afskrivninger"]
["Boringer",null,null,null,null,null,null,null,0,{"$f":"SUM(G:G,Distributionsanlæg!G:G,Fællesfunktionsanlæg!G:G)","v":0}]
["Boring (inkl. etablering, forerør, filter og prøvepumpning)","dybdemeter",{"$f":"Genanskaffelsespriser!E5","v":30},0,{"$f":"Genanskaffelsespriser!$D5","v":2538},{"$f":"D3*E3","v":0},{"$f":"F3/C3","v":0}]
["Råvandsstationer"]
["Råvandsstation komplet montering og boringshus/tørbrønd","stk.",{"$f":"Genanskaffelsespriser!E7","v":30},0,{"$f":"Genanskaffelsespriser!$D7","v":57810},{"$f":"D5*E5","v":0},{"$f":"F5/C5","v":0}]
["Instrumenter (flowmåler+tryk transducer+alarmer)","stk.",{"$f":"Genanskaffelsespriser!E8","v":10},0,{"$f":"Genanskaffelsespriser!$D8","v":65241},{"$f":"D6*E6","v":0},0]
["Pumpe inkl. stigrør og forerørsforsejlinger mv. 1","m³/h ",{"$f":"Genanskaffelsespriser!E9","v":15},0,{"$f":"IF(COUNTIF(D7:D7,\"<>0\")<=1,IF((SUM(D7:D7))=0,0,(+HLOOKUP((SUM(D7:D7)),Priser!$E$54:$J$56,2)+((SUM(D7:D7))-HLOOKUP((SUM(D7:D7)),Priser!$E$54:$J$56,1))*HLOOKUP((SUM(D7:D7)),Priser!$E$54:$J$56,3))/(SUM(D7:D7)))*(1+Genanskaffelsespriser!$D$196),\"Fejl\")","v":0},{"$f":"D7*E7","v":0},0]
["Pumpe inkl. stigrør og forerørsforsejlinger mv. 2","m³/h ",{"$f":"Genanskaffelsespriser!E9","v":15},0,{"$f":"IF(COUNTIF(D8:D8,\"<>0\")<=1,IF((SUM(D8:D8))=0,0,(+HLOOKUP((SUM(D8:D8)),Priser!$E$54:$J$56,2)+((SUM(D8:D8))-HLOOKUP((SUM(D8:D8)),Priser!$E$54:$J$56,1))*HLOOKUP((SUM(D8:D8)),Priser!$E$54:$J$56,3))/(SUM(D8:D8)))*(1+Genanskaffelsespriser!$D$196),\"Fejl\")","v":0},{"$f":"D8*E8","v":0},0]
["Pumpe inkl. stigrør og forerørsforsejlinger mv. 3","m³/h ",{"$f":"Genanskaffelsespriser!E9","v":15},0,{"$f":"IF(COUNTIF(D9:D9,\"<>0\")<=1,IF((SUM(D9:D9))=0,0,(+HLOOKUP((SUM(D9:D9)),Priser!$E$54:$J$56,2)+((SUM(D9:D9))-HLOOKUP((SUM(D9:D9)),Priser!$E$54:$J$56,1))*HLOOKUP((SUM(D9:D9)),Priser!$E$54:$J$56,3))/(SUM(D9:D9)))*(1+Genanskaffelsespriser!$D$196),\"Fejl\")","v":0},0,0]
["Pumpe inkl. stigrør og forerørsforsejlinger mv. 4","m³/h ",{"$f":"Genanskaffelsespriser!E9","v":15},0,{"$f":"IF(COUNTIF(D10:D10,\"<>0\")<=1,IF((SUM(D10:D10))=0,0,(+HLOOKUP((SUM(D10:D10)),Priser!$E$54:$J$56,2)+((SUM(D10:D10))-HLOOKUP((SUM(D10:D10)),Priser!$E$54:$J$56,1))*HLOOKUP((SUM(D10:D10)),Priser!$E$54:$J$56,3))/(SUM(D10:D10)))*(1+Genanskaffelsespriser!$D$196),\"Fejl\")","v":0},0,0]
["Pumpe inkl. stigrør og forerørsforsejlinger mv. 5","m³/h ",{"$f":"Genanskaffelsespriser!E9","v":15},0,{"$f":"IF(COUNTIF(D11:D11,\"<>0\")<=1,IF((SUM(D11:D11))=0,0,(+HLOOKUP((SUM(D11:D11)),Priser!$E$54:$J$56,2)+((SUM(D11:D11))-HLOOKUP((SUM(D11:D11)),Priser!$E$54:$J$56,1))*HLOOKUP((SUM(D11:D11)),Priser!$E$54:$J$56,3))/(SUM(D11:D11)))*(1+Genanskaffelsespriser!$D$196),\"Fejl\")","v":0},0,0]
["Pumpe inkl. stigrør og forerørsforsejlinger mv. 6","m³/h ",{"$f":"Genanskaffelsespriser!E9","v":15},0,{"$f":"IF(COUNTIF(D12:D12,\"<>0\")<=1,IF((SUM(D12:D12))=0,0,(+HLOOKUP((SUM(D12:D12)),Priser!$E$54:$J$56,2)+((SUM(D12:D12))-HLOOKUP((SUM(D12:D12)),Priser!$E$54:$J$56,1))*HLOOKUP((SUM(D12:D12)),Priser!$E$54:$J$56,3))/(SUM(D12:D12)))*(1+Genanskaffelsespriser!$D$196),\"Fejl\")","v":0},0,0]
["Pumpe inkl. stigrør og forerørsforsejlinger mv. 7","m³/h ",{"$f":"Genanskaffelsespriser!E9","v":15},0,{"$f":"IF(COUNTIF(D13:D13,\"<>0\")<=1,IF((SUM(D13:D13))=0,0,(+HLOOKUP((SUM(D13:D13)),Priser!$E$54:$J$56,2)+((SUM(D13:D13))-HLOOKUP((SUM(D13:D13)),Priser!$E$54:$J$56,1))*HLOOKUP((SUM(D13:D13)),Priser!$E$54:$J$56,3))/(SUM(D13:D13)))*(1+Genanskaffelsespriser!$D$196),\"Fejl\")","v":0},0,0]
["Pumpe inkl. stigrør og forerørsforsejlinger mv. 8","m³/h ",{"$f":"Genanskaffelsespriser!E9","v":15},0,{"$f":"IF(COUNTIF(D14:D14,\"<>0\")<=1,IF((SUM(D14:D14))=0,0,(+HLOOKUP((SUM(D14:D14)),Priser!$E$54:$J$56,2)+((SUM(D14:D14))-HLOOKUP((SUM(D14:D14)),Priser!$E$54:$J$56,1))*HLOOKUP((SUM(D14:D14)),Priser!$E$54:$J$56,3))/(SUM(D14:D14)))*(1+Genanskaffelsespriser!$D$196),\"Fejl\")","v":0},0,0]
["Pumpe inkl. stigrør og forerørsforsejlinger mv. 9","m³/h ",{"$f":"Genanskaffelsespriser!E9","v":15},0,{"$f":"IF(COUNTIF(D15:D15,\"<>0\")<=1,IF((SUM(D15:D15))=0,0,(+HLOOKUP((SUM(D15:D15)),Priser!$E$54:$J$56,2)+((SUM(D15:D15))-HLOOKUP((SUM(D15:D15)),Priser!$E$54:$J$56,1))*HLOOKUP((SUM(D15:D15)),Priser!$E$54:$J$56,3))/(SUM(D15:D15)))*(1+Genanskaffelsespriser!$D$196),\"Fejl\")","v":0},0,0]
["Pumpe inkl. stigrør og forerørsforsejlinger mv. 10","m³/h ",15,0,{"$f":"IF(COUNTIF(D16:D16,\"<>0\")<=1,IF((SUM(D16:D16))=0,0,(+HLOOKUP((SUM(D16:D16)),Priser!$E$54:$J$56,2)+((SUM(D16:D16))-HLOOKUP((SUM(D16:D16)),Priser!$E$54:$J$56,1))*HLOOKUP((SUM(D16:D16)),Priser!$E$54:$J$56,3))/(SUM(D16:D16)))*(1+Genanskaffelsespriser!$D$196),\"Fejl\")","v":0},0,0]
["Pumpe inkl. stigrør og forerørsforsejlinger mv. 11","m³/h ",15,0,{"$f":"IF(COUNTIF(D17:D17,\"<>0\")<=1,IF((SUM(D17:D17))=0,0,(+HLOOKUP((SUM(D17:D17)),Priser!$E$54:$J$56,2)+((SUM(D17:D17))-HLOOKUP((SUM(D17:D17)),Priser!$E$54:$J$56,1))*HLOOKUP((SUM(D17:D17)),Priser!$E$54:$J$56,3))/(SUM(D17:D17)))*(1+Genanskaffelsespriser!$D$196),\"Fejl\")","v":0},0,0]
["Pumpe inkl. stigrør og forerørsforsejlinger mv. 12","m³/h ",15,0,{"$f":"IF(COUNTIF(D18:D18,\"<>0\")<=1,IF((SUM(D18:D18))=0,0,(+HLOOKUP((SUM(D18:D18)),Priser!$E$54:$J$56,2)+((SUM(D18:D18))-HLOOKUP((SUM(D18:D18)),Priser!$E$54:$J$56,1))*HLOOKUP((SUM(D18:D18)),Priser!$E$54:$J$56,3))/(SUM(D18:D18)))*(1+Genanskaffelsespriser!$D$196),\"Fejl\")","v":0},0,0]
["Pumpe inkl. stigrør og forerørsforsejlinger mv. 13","m³/h ",15,0,{"$f":"IF(COUNTIF(D19:D19,\"<>0\")<=1,IF((SUM(D19:D19))=0,0,(+HLOOKUP((SUM(D19:D19)),Priser!$E$54:$J$56,2)+((SUM(D19:D19))-HLOOKUP((SUM(D19:D19)),Priser!$E$54:$J$56,1))*HLOOKUP((SUM(D19:D19)),Priser!$E$54:$J$56,3))/(SUM(D19:D19)))*(1+Genanskaffelsespriser!$D$196),\"Fejl\")","v":0},0,0]
["Pumpe inkl. stigrør og forerørsforsejlinger mv. 14","m³/h ",15,0,{"$f":"IF(COUNTIF(D20:D20,\"<>0\")<=1,IF((SUM(D20:D20))=0,0,(+HLOOKUP((SUM(D20:D20)),Priser!$E$54:$J$56,2)+((SUM(D20:D20))-HLOOKUP((SUM(D20:D20)),Priser!$E$54:$J$56,1))*HLOOKUP((SUM(D20:D20)),Priser!$E$54:$J$56,3))/(SUM(D20:D20)))*(1+Genanskaffelsespriser!$D$196),\"Fejl\")","v":0},0,0]
["Pumpe inkl. stigrør og forerørsforsejlinger mv. 15","m³/h ",15,0,{"$f":"IF(COUNTIF(D21:D21,\"<>0\")<=1,IF((SUM(D21:D21))=0,0,(+HLOOKUP((SUM(D21:D21)),Priser!$E$54:$J$56,2)+((SUM(D21:D21))-HLOOKUP((SUM(D21:D21)),Priser!$E$54:$J$56,1))*HLOOKUP((SUM(D21:D21)),Priser!$E$54:$J$56,3))/(SUM(D21:D21)))*(1+Genanskaffelsespriser!$D$196),\"Fejl\")","v":0},0,0]
["Pumpe inkl. stigrør og forerørsforsejlinger mv. 16","m³/h ",15,0,{"$f":"IF(COUNTIF(D22:D22,\"<>0\")<=1,IF((SUM(D22:D22))=0,0,(+HLOOKUP((SUM(D22:D22)),Priser!$E$54:$J$56,2)+((SUM(D22:D22))-HLOOKUP((SUM(D22:D22)),Priser!$E$54:$J$56,1))*HLOOKUP((SUM(D22:D22)),Priser!$E$54:$J$56,3))/(SUM(D22:D22)))*(1+Genanskaffelsespriser!$D$196),\"Fejl\")","v":0},0,0]
["Pumpe inkl. stigrør og forerørsforsejlinger mv. 17","m³/h ",15,0,{"$f":"IF(COUNTIF(D23:D23,\"<>0\")<=1,IF((SUM(D23:D23))=0,0,(+HLOOKUP((SUM(D23:D23)),Priser!$E$54:$J$56,2)+((SUM(D23:D23))-HLOOKUP((SUM(D23:D23)),Priser!$E$54:$J$56,1))*HLOOKUP((SUM(D23:D23)),Priser!$E$54:$J$56,3))/(SUM(D23:D23)))*(1+Genanskaffelsespriser!$D$196),\"Fejl\")","v":0},0,0]
["Pumpe inkl. stigrør og forerørsforsejlinger mv. 18","m³/h ",15,0,{"$f":"IF(COUNTIF(D24:D24,\"<>0\")<=1,IF((SUM(D24:D24))=0,0,(+HLOOKUP((SUM(D24:D24)),Priser!$E$54:$J$56,2)+((SUM(D24:D24))-HLOOKUP((SUM(D24:D24)),Priser!$E$54:$J$56,1))*HLOOKUP((SUM(D24:D24)),Priser!$E$54:$J$56,3))/(SUM(D24:D24)))*(1+Genanskaffelsespriser!$D$196),\"Fejl\")","v":0},0,0]
["Pumpe inkl. stigrør og forerørsforsejlinger mv. 19","m³/h ",15,0,{"$f":"IF(COUNTIF(D25:D25,\"<>0\")<=1,IF((SUM(D25:D25))=0,0,(+HLOOKUP((SUM(D25:D25)),Priser!$E$54:$J$56,2)+((SUM(D25:D25))-HLOOKUP((SUM(D25:D25)),Priser!$E$54:$J$56,1))*HLOOKUP((SUM(D25:D25)),Priser!$E$54:$J$56,3))/(SUM(D25:D25)))*(1+Genanskaffelsespriser!$D$196),\"Fejl\")","v":0},0,0]
["Pumpe inkl. stigrør og forerørsforsejlinger mv. 20","m³/h ",15,0,{"$f":"IF(COUNTIF(D26:D26,\"<>0\")<=1,IF((SUM(D26:D26))=0,0,(+HLOOKUP((SUM(D26:D26)),Priser!$E$54:$J$56,2)+((SUM(D26:D26))-HLOOKUP((SUM(D26:D26)),Priser!$E$54:$J$56,1))*HLOOKUP((SUM(D26:D26)),Priser!$E$54:$J$56,3))/(SUM(D26:D26)))*(1+Genanskaffelsespriser!$D$196),\"Fejl\")","v":0},0,0]
["Pumpe inkl. stigrør og forerørsforsejlinger mv. 21","m³/h ",15,0,{"$f":"IF(COUNTIF(D27:D27,\"<>0\")<=1,IF((SUM(D27:D27))=0,0,(+HLOOKUP((SUM(D27:D27)),Priser!$E$54:$J$56,2)+((SUM(D27:D27))-HLOOKUP((SUM(D27:D27)),Priser!$E$54:$J$56,1))*HLOOKUP((SUM(D27:D27)),Priser!$E$54:$J$56,3))/(SUM(D27:D27)))*(1+Genanskaffelsespriser!$D$196),\"Fejl\")","v":0},0,0]
["Pumpe inkl. stigrør og forerørsforsejlinger mv. 22","m³/h ",15,0,{"$f":"IF(COUNTIF(D28:D28,\"<>0\")<=1,IF((SUM(D28:D28))=0,0,(+HLOOKUP((SUM(D28:D28)),Priser!$E$54:$J$56,2)+((SUM(D28:D28))-HLOOKUP((SUM(D28:D28)),Priser!$E$54:$J$56,1))*HLOOKUP((SUM(D28:D28)),Priser!$E$54:$J$56,3))/(SUM(D28:D28)))*(1+Genanskaffelsespriser!$D$196),\"Fejl\")","v":0},0,0]
["Pumpe inkl. stigrør og forerørsforsejlinger mv. 23","m³/h ",15,0,{"$f":"IF(COUNTIF(D29:D29,\"<>0\")<=1,IF((SUM(D29:D29))=0,0,(+HLOOKUP((SUM(D29:D29)),Priser!$E$54:$J$56,2)+((SUM(D29:D29))-HLOOKUP((SUM(D29:D29)),Priser!$E$54:$J$56,1))*HLOOKUP((SUM(D29:D29)),Priser!$E$54:$J$56,3))/(SUM(D29:D29)))*(1+Genanskaffelsespriser!$D$196),\"Fejl\")","v":0},0,0]
["Pumpe inkl. stigrør og forerørsforsejlinger mv. 24","m³/h ",15,0,{"$f":"IF(COUNTIF(D30:D30,\"<>0\")<=1,IF((SUM(D30:D30))=0,0,(+HLOOKUP((SUM(D30:D30)),Priser!$E$54:$J$56,2)+((SUM(D30:D30))-HLOOKUP((SUM(D30:D30)),Priser!$E$54:$J$56,1))*HLOOKUP((SUM(D30:D30)),Priser!$E$54:$J$56,3))/(SUM(D30:D30)))*(1+Genanskaffelsespriser!$D$196),\"Fejl\")","v":0},0,0]
["Pumpe inkl. stigrør og forerørsforsejlinger mv. 25","m³/h ",15,0,{"$f":"IF(COUNTIF(D31:D31,\"<>0\")<=1,IF((SUM(D31:D31))=0,0,(+HLOOKUP((SUM(D31:D31)),Priser!$E$54:$J$56,2)+((SUM(D31:D31))-HLOOKUP((SUM(D31:D31)),Priser!$E$54:$J$56,1))*HLOOKUP((SUM(D31:D31)),Priser!$E$54:$J$56,3))/(SUM(D31:D31)))*(1+Genanskaffelsespriser!$D$196),\"Fejl\")","v":0},0,0]
["Pumpe inkl. stigrør og forerørsforsejlinger mv. 26","m³/h ",15,0,{"$f":"IF(COUNTIF(D32:D32,\"<>0\")<=1,IF((SUM(D32:D32))=0,0,(+HLOOKUP((SUM(D32:D32)),Priser!$E$54:$J$56,2)+((SUM(D32:D32))-HLOOKUP((SUM(D32:D32)),Priser!$E$54:$J$56,1))*HLOOKUP((SUM(D32:D32)),Priser!$E$54:$J$56,3))/(SUM(D32:D32)))*(1+Genanskaffelsespriser!$D$196),\"Fejl\")","v":0},0,0]
["Pumpe inkl. stigrør og forerørsforsejlinger mv. 27","m³/h ",15,0,{"$f":"IF(COUNTIF(D33:D33,\"<>0\")<=1,IF((SUM(D33:D33))=0,0,(+HLOOKUP((SUM(D33:D33)),Priser!$E$54:$J$56,2)+((SUM(D33:D33))-HLOOKUP((SUM(D33:D33)),Priser!$E$54:$J$56,1))*HLOOKUP((SUM(D33:D33)),Priser!$E$54:$J$56,3))/(SUM(D33:D33)))*(1+Genanskaffelsespriser!$D$196),\"Fejl\")","v":0},0,0]
["Pumpe inkl. stigrør og forerørsforsejlinger mv. 28","m³/h ",15,0,{"$f":"IF(COUNTIF(D34:D34,\"<>0\")<=1,IF((SUM(D34:D34))=0,0,(+HLOOKUP((SUM(D34:D34)),Priser!$E$54:$J$56,2)+((SUM(D34:D34))-HLOOKUP((SUM(D34:D34)),Priser!$E$54:$J$56,1))*HLOOKUP((SUM(D34:D34)),Priser!$E$54:$J$56,3))/(SUM(D34:D34)))*(1+Genanskaffelsespriser!$D$196),\"Fejl\")","v":0},0,0]
["Pumpe inkl. stigrør og forerørsforsejlinger mv. 29","m³/h ",15,0,{"$f":"IF(COUNTIF(D35:D35,\"<>0\")<=1,IF((SUM(D35:D35))=0,0,(+HLOOKUP((SUM(D35:D35)),Priser!$E$54:$J$56,2)+((SUM(D35:D35))-HLOOKUP((SUM(D35:D35)),Priser!$E$54:$J$56,1))*HLOOKUP((SUM(D35:D35)),Priser!$E$54:$J$56,3))/(SUM(D35:D35)))*(1+Genanskaffelsespriser!$D$196),\"Fejl\")","v":0},0,0]
["Pumpe inkl. stigrør og forerørsforsejlinger mv. 30","m³/h ",15,0,{"$f":"IF(COUNTIF(D36:D36,\"<>0\")<=1,IF((SUM(D36:D36))=0,0,(+HLOOKUP((SUM(D36:D36)),Priser!$E$54:$J$56,2)+((SUM(D36:D36))-HLOOKUP((SUM(D36:D36)),Priser!$E$54:$J$56,1))*HLOOKUP((SUM(D36:D36)),Priser!$E$54:$J$56,3))/(SUM(D36:D36)))*(1+Genanskaffelsespriser!$D$196),\"Fejl\")","v":0},0,0]
["Pumpe inkl. stigrør og forerørsforsejlinger mv. 31","m³/h ",15,0,{"$f":"IF(COUNTIF(D37:D37,\"<>0\")<=1,IF((SUM(D37:D37))=0,0,(+HLOOKUP((SUM(D37:D37)),Priser!$E$54:$J$56,2)+((SUM(D37:D37))-HLOOKUP((SUM(D37:D37)),Priser!$E$54:$J$56,1))*HLOOKUP((SUM(D37:D37)),Priser!$E$54:$J$56,3))/(SUM(D37:D37)))*(1+Genanskaffelsespriser!$D$196),\"Fejl\")","v":0},0,0]
["Pumpe inkl. stigrør og forerørsforsejlinger mv. 32","m³/h ",15,0,{"$f":"IF(COUNTIF(D38:D38,\"<>0\")<=1,IF((SUM(D38:D38))=0,0,(+HLOOKUP((SUM(D38:D38)),Priser!$E$54:$J$56,2)+((SUM(D38:D38))-HLOOKUP((SUM(D38:D38)),Priser!$E$54:$J$56,1))*HLOOKUP((SUM(D38:D38)),Priser!$E$54:$J$56,3))/(SUM(D38:D38)))*(1+Genanskaffelsespriser!$D$196),\"Fejl\")","v":0},0,0]
["Pumpe inkl. stigrør og forerørsforsejlinger mv. 33","m³/h ",15,0,{"$f":"IF(COUNTIF(D39:D39,\"<>0\")<=1,IF((SUM(D39:D39))=0,0,(+HLOOKUP((SUM(D39:D39)),Priser!$E$54:$J$56,2)+((SUM(D39:D39))-HLOOKUP((SUM(D39:D39)),Priser!$E$54:$J$56,1))*HLOOKUP((SUM(D39:D39)),Priser!$E$54:$J$56,3))/(SUM(D39:D39)))*(1+Genanskaffelsespriser!$D$196),\"Fejl\")","v":0},0,0]
["Pumpe inkl. stigrør og forerørsforsejlinger mv. 34","m³/h ",15,0,{"$f":"IF(COUNTIF(D40:D40,\"<>0\")<=1,IF((SUM(D40:D40))=0,0,(+HLOOKUP((SUM(D40:D40)),Priser!$E$54:$J$56,2)+((SUM(D40:D40))-HLOOKUP((SUM(D40:D40)),Priser!$E$54:$J$56,1))*HLOOKUP((SUM(D40:D40)),Priser!$E$54:$J$56,3))/(SUM(D40:D40)))*(1+Genanskaffelsespriser!$D$196),\"Fejl\")","v":0},0,0]
["Pumpe inkl. stigrør og forerørsforsejlinger mv. 35","m³/h ",15,0,{"$f":"IF(COUNTIF(D41:D41,\"<>0\")<=1,IF((SUM(D41:D41))=0,0,(+HLOOKUP((SUM(D41:D41)),Priser!$E$54:$J$56,2)+((SUM(D41:D41))-HLOOKUP((SUM(D41:D41)),Priser!$E$54:$J$56,1))*HLOOKUP((SUM(D41:D41)),Priser!$E$54:$J$56,3))/(SUM(D41:D41)))*(1+Genanskaffelsespriser!$D$196),\"Fejl\")","v":0},0,0]
["Pumpe inkl. stigrør og forerørsforsejlinger mv. 36","m³/h ",15,0,{"$f":"IF(COUNTIF(D42:D42,\"<>0\")<=1,IF((SUM(D42:D42))=0,0,(+HLOOKUP((SUM(D42:D42)),Priser!$E$54:$J$56,2)+((SUM(D42:D42))-HLOOKUP((SUM(D42:D42)),Priser!$E$54:$J$56,1))*HLOOKUP((SUM(D42:D42)),Priser!$E$54:$J$56,3))/(SUM(D42:D42)))*(1+Genanskaffelsespriser!$D$196),\"Fejl\")","v":0},0,0]
["Pumpe inkl. stigrør og forerørsforsejlinger mv. 37","m³/h ",15,0,{"$f":"IF(COUNTIF(D43:D43,\"<>0\")<=1,IF((SUM(D43:D43))=0,0,(+HLOOKUP((SUM(D43:D43)),Priser!$E$54:$J$56,2)+((SUM(D43:D43))-HLOOKUP((SUM(D43:D43)),Priser!$E$54:$J$56,1))*HLOOKUP((SUM(D43:D43)),Priser!$E$54:$J$56,3))/(SUM(D43:D43)))*(1+Genanskaffelsespriser!$D$196),\"Fejl\")","v":0},0,0]
["Pumpe inkl. stigrør og forerørsforsejlinger mv. 38","m³/h ",15,0,{"$f":"IF(COUNTIF(D44:D44,\"<>0\")<=1,IF((SUM(D44:D44))=0,0,(+HLOOKUP((SUM(D44:D44)),Priser!$E$54:$J$56,2)+((SUM(D44:D44))-HLOOKUP((SUM(D44:D44)),Priser!$E$54:$J$56,1))*HLOOKUP((SUM(D44:D44)),Priser!$E$54:$J$56,3))/(SUM(D44:D44)))*(1+Genanskaffelsespriser!$D$196),\"Fejl\")","v":0},0,0]
["Pumpe inkl. stigrør og forerørsforsejlinger mv. 39","m³/h ",15,0,{"$f":"IF(COUNTIF(D45:D45,\"<>0\")<=1,IF((SUM(D45:D45))=0,0,(+HLOOKUP((SUM(D45:D45)),Priser!$E$54:$J$56,2)+((SUM(D45:D45))-HLOOKUP((SUM(D45:D45)),Priser!$E$54:$J$56,1))*HLOOKUP((SUM(D45:D45)),Priser!$E$54:$J$56,3))/(SUM(D45:D45)))*(1+Genanskaffelsespriser!$D$196),\"Fejl\")","v":0},0,0]
["Pumpe inkl. stigrør og forerørsforsejlinger mv. 40","m³/h ",15,0,{"$f":"IF(COUNTIF(D46:D46,\"<>0\")<=1,IF((SUM(D46:D46))=0,0,(+HLOOKUP((SUM(D46:D46)),Priser!$E$54:$J$56,2)+((SUM(D46:D46))-HLOOKUP((SUM(D46:D46)),Priser!$E$54:$J$56,1))*HLOOKUP((SUM(D46:D46)),Priser!$E$54:$J$56,3))/(SUM(D46:D46)))*(1+Genanskaffelsespriser!$D$196),\"Fejl\")","v":0},0,0]
["Pumpe inkl. stigrør og forerørsforsejlinger mv. 41","m³/h ",15,0,{"$f":"IF(COUNTIF(D47:D47,\"<>0\")<=1,IF((SUM(D47:D47))=0,0,(+HLOOKUP((SUM(D47:D47)),Priser!$E$54:$J$56,2)+((SUM(D47:D47))-HLOOKUP((SUM(D47:D47)),Priser!$E$54:$J$56,1))*HLOOKUP((SUM(D47:D47)),Priser!$E$54:$J$56,3))/(SUM(D47:D47)))*(1+Genanskaffelsespriser!$D$196),\"Fejl\")","v":0},0,0]
["Pumpe inkl. stigrør og forerørsforsejlinger mv. 42","m³/h ",15,0,{"$f":"IF(COUNTIF(D48:D48,\"<>0\")<=1,IF((SUM(D48:D48))=0,0,(+HLOOKUP((SUM(D48:D48)),Priser!$E$54:$J$56,2)+((SUM(D48:D48))-HLOOKUP((SUM(D48:D48)),Priser!$E$54:$J$56,1))*HLOOKUP((SUM(D48:D48)),Priser!$E$54:$J$56,3))/(SUM(D48:D48)))*(1+Genanskaffelsespriser!$D$196),\"Fejl\")","v":0},0,0]
["Pumpe inkl. stigrør og forerørsforsejlinger mv. 43","m³/h ",15,0,{"$f":"IF(COUNTIF(D49:D49,\"<>0\")<=1,IF((SUM(D49:D49))=0,0,(+HLOOKUP((SUM(D49:D49)),Priser!$E$54:$J$56,2)+((SUM(D49:D49))-HLOOKUP((SUM(D49:D49)),Priser!$E$54:$J$56,1))*HLOOKUP((SUM(D49:D49)),Priser!$E$54:$J$56,3))/(SUM(D49:D49)))*(1+Genanskaffelsespriser!$D$196),\"Fejl\")","v":0},0,0]
["Pumpe inkl. stigrør og forerørsforsejlinger mv. 44","m³/h ",15,0,{"$f":"IF(COUNTIF(D50:D50,\"<>0\")<=1,IF((SUM(D50:D50))=0,0,(+HLOOKUP((SUM(D50:D50)),Priser!$E$54:$J$56,2)+((SUM(D50:D50))-HLOOKUP((SUM(D50:D50)),Priser!$E$54:$J$56,1))*HLOOKUP((SUM(D50:D50)),Priser!$E$54:$J$56,3))/(SUM(D50:D50)))*(1+Genanskaffelsespriser!$D$196),\"Fejl\")","v":0},0,0]
["Pumpe inkl. stigrør og forerørsforsejlinger mv. 45","m³/h ",15,0,{"$f":"IF(COUNTIF(D51:D51,\"<>0\")<=1,IF((SUM(D51:D51))=0,0,(+HLOOKUP((SUM(D51:D51)),Priser!$E$54:$J$56,2)+((SUM(D51:D51))-HLOOKUP((SUM(D51:D51)),Priser!$E$54:$J$56,1))*HLOOKUP((SUM(D51:D51)),Priser!$E$54:$J$56,3))/(SUM(D51:D51)))*(1+Genanskaffelsespriser!$D$196),\"Fejl\")","v":0},0,0]
["Pumpe inkl. stigrør og forerørsforsejlinger mv. 46","m³/h ",15,0,{"$f":"IF(COUNTIF(D52:D52,\"<>0\")<=1,IF((SUM(D52:D52))=0,0,(+HLOOKUP((SUM(D52:D52)),Priser!$E$54:$J$56,2)+((SUM(D52:D52))-HLOOKUP((SUM(D52:D52)),Priser!$E$54:$J$56,1))*HLOOKUP((SUM(D52:D52)),Priser!$E$54:$J$56,3))/(SUM(D52:D52)))*(1+Genanskaffelsespriser!$D$196),\"Fejl\")","v":0},0,0]
["Pumpe inkl. stigrør og forerørsforsejlinger mv. 47","m³/h ",15,0,{"$f":"IF(COUNTIF(D53:D53,\"<>0\")<=1,IF((SUM(D53:D53))=0,0,(+HLOOKUP((SUM(D53:D53)),Priser!$E$54:$J$56,2)+((SUM(D53:D53))-HLOOKUP((SUM(D53:D53)),Priser!$E$54:$J$56,1))*HLOOKUP((SUM(D53:D53)),Priser!$E$54:$J$56,3))/(SUM(D53:D53)))*(1+Genanskaffelsespriser!$D$196),\"Fejl\")","v":0},0,0]
["Pumpe inkl. stigrør og forerørsforsejlinger mv. 48","m³/h ",15,0,{"$f":"IF(COUNTIF(D54:D54,\"<>0\")<=1,IF((SUM(D54:D54))=0,0,(+HLOOKUP((SUM(D54:D54)),Priser!$E$54:$J$56,2)+((SUM(D54:D54))-HLOOKUP((SUM(D54:D54)),Priser!$E$54:$J$56,1))*HLOOKUP((SUM(D54:D54)),Priser!$E$54:$J$56,3))/(SUM(D54:D54)))*(1+Genanskaffelsespriser!$D$196),\"Fejl\")","v":0},0,0]
["Pumpe inkl. stigrør og forerørsforsejlinger mv. 49","m³/h ",15,0,{"$f":"IF(COUNTIF(D55:D55,\"<>0\")<=1,IF((SUM(D55:D55))=0,0,(+HLOOKUP((SUM(D55:D55)),Priser!$E$54:$J$56,2)+((SUM(D55:D55))-HLOOKUP((SUM(D55:D55)),Priser!$E$54:$J$56,1))*HLOOKUP((SUM(D55:D55)),Priser!$E$54:$J$56,3))/(SUM(D55:D55)))*(1+Genanskaffelsespriser!$D$196),\"Fejl\")","v":0},0,0]
["Pumpe inkl. stigrør og forerørsforsejlinger mv. 50","m³/h ",15,0,{"$f":"IF(COUNTIF(D56:D56,\"<>0\")<=1,IF((SUM(D56:D56))=0,0,(+HLOOKUP((SUM(D56:D56)),Priser!$E$54:$J$56,2)+((SUM(D56:D56))-HLOOKUP((SUM(D56:D56)),Priser!$E$54:$J$56,1))*HLOOKUP((SUM(D56:D56)),Priser!$E$54:$J$56,3))/(SUM(D56:D56)))*(1+Genanskaffelsespriser!$D$196),\"Fejl\")","v":0},0,0]
["Pumpe inkl. stigrør og forerørsforsejlinger mv. 51","m³/h ",15,0,{"$f":"IF(COUNTIF(D57:D57,\"<>0\")<=1,IF((SUM(D57:D57))=0,0,(+HLOOKUP((SUM(D57:D57)),Priser!$E$54:$J$56,2)+((SUM(D57:D57))-HLOOKUP((SUM(D57:D57)),Priser!$E$54:$J$56,1))*HLOOKUP((SUM(D57:D57)),Priser!$E$54:$J$56,3))/(SUM(D57:D57)))*(1+Genanskaffelsespriser!$D$196),\"Fejl\")","v":0},0,0]
["Pumpe inkl. stigrør og forerørsforsejlinger mv. 52","m³/h ",15,0,{"$f":"IF(COUNTIF(D58:D58,\"<>0\")<=1,IF((SUM(D58:D58))=0,0,(+HLOOKUP((SUM(D58:D58)),Priser!$E$54:$J$56,2)+((SUM(D58:D58))-HLOOKUP((SUM(D58:D58)),Priser!$E$54:$J$56,1))*HLOOKUP((SUM(D58:D58)),Priser!$E$54:$J$56,3))/(SUM(D58:D58)))*(1+Genanskaffelsespriser!$D$196),\"Fejl\")","v":0},0,0]
["Pumpe inkl. stigrør og forerørsforsejlinger mv. 53","m³/h ",15,0,{"$f":"IF(COUNTIF(D59:D59,\"<>0\")<=1,IF((SUM(D59:D59))=0,0,(+HLOOKUP((SUM(D59:D59)),Priser!$E$54:$J$56,2)+((SUM(D59:D59))-HLOOKUP((SUM(D59:D59)),Priser!$E$54:$J$56,1))*HLOOKUP((SUM(D59:D59)),Priser!$E$54:$J$56,3))/(SUM(D59:D59)))*(1+Genanskaffelsespriser!$D$196),\"Fejl\")","v":0},0,0]
["Pumpe inkl. stigrør og forerørsforsejlinger mv. 54","m³/h ",15,0,{"$f":"IF(COUNTIF(D60:D60,\"<>0\")<=1,IF((SUM(D60:D60))=0,0,(+HLOOKUP((SUM(D60:D60)),Priser!$E$54:$J$56,2)+((SUM(D60:D60))-HLOOKUP((SUM(D60:D60)),Priser!$E$54:$J$56,1))*HLOOKUP((SUM(D60:D60)),Priser!$E$54:$J$56,3))/(SUM(D60:D60)))*(1+Genanskaffelsespriser!$D$196),\"Fejl\")","v":0},0,0]
["Pumpe inkl. stigrør og forerørsforsejlinger mv. 55","m³/h ",15,0,{"$f":"IF(COUNTIF(D61:D61,\"<>0\")<=1,IF((SUM(D61:D61))=0,0,(+HLOOKUP((SUM(D61:D61)),Priser!$E$54:$J$56,2)+((SUM(D61:D61))-HLOOKUP((SUM(D61:D61)),Priser!$E$54:$J$56,1))*HLOOKUP((SUM(D61:D61)),Priser!$E$54:$J$56,3))/(SUM(D61:D61)))*(1+Genanskaffelsespriser!$D$196),\"Fejl\")","v":0},0,0]
["Pumpe inkl. stigrør og forerørsforsejlinger mv. 56","m³/h ",15,0,{"$f":"IF(COUNTIF(D62:D62,\"<>0\")<=1,IF((SUM(D62:D62))=0,0,(+HLOOKUP((SUM(D62:D62)),Priser!$E$54:$J$56,2)+((SUM(D62:D62))-HLOOKUP((SUM(D62:D62)),Priser!$E$54:$J$56,1))*HLOOKUP((SUM(D62:D62)),Priser!$E$54:$J$56,3))/(SUM(D62:D62)))*(1+Genanskaffelsespriser!$D$196),\"Fejl\")","v":0},0,0]
["Pumpe inkl. stigrør og forerørsforsejlinger mv. 57","m³/h ",15,0,{"$f":"IF(COUNTIF(D63:D63,\"<>0\")<=1,IF((SUM(D63:D63))=0,0,(+HLOOKUP((SUM(D63:D63)),Priser!$E$54:$J$56,2)+((SUM(D63:D63))-HLOOKUP((SUM(D63:D63)),Priser!$E$54:$J$56,1))*HLOOKUP((SUM(D63:D63)),Priser!$E$54:$J$56,3))/(SUM(D63:D63)))*(1+Genanskaffelsespriser!$D$196),\"Fejl\")","v":0},0,0]
["Pumpe inkl. stigrør og forerørsforsejlinger mv. 58","m³/h ",15,0,{"$f":"IF(COUNTIF(D64:D64,\"<>0\")<=1,IF((SUM(D64:D64))=0,0,(+HLOOKUP((SUM(D64:D64)),Priser!$E$54:$J$56,2)+((SUM(D64:D64))-HLOOKUP((SUM(D64:D64)),Priser!$E$54:$J$56,1))*HLOOKUP((SUM(D64:D64)),Priser!$E$54:$J$56,3))/(SUM(D64:D64)))*(1+Genanskaffelsespriser!$D$196),\"Fejl\")","v":0},0,0]
["Pumpe inkl. stigrør og forerørsforsejlinger mv. 59","m³/h ",15,0,{"$f":"IF(COUNTIF(D65:D65,\"<>0\")<=1,IF((SUM(D65:D65))=0,0,(+HLOOKUP((SUM(D65:D65)),Priser!$E$54:$J$56,2)+((SUM(D65:D65))-HLOOKUP((SUM(D65:D65)),Priser!$E$54:$J$56,1))*HLOOKUP((SUM(D65:D65)),Priser!$E$54:$J$56,3))/(SUM(D65:D65)))*(1+Genanskaffelsespriser!$D$196),\"Fejl\")","v":0},0,0]
["Pumpe inkl. stigrør og forerørsforsejlinger mv. 60","m³/h ",15,0,{"$f":"IF(COUNTIF(D66:D66,\"<>0\")<=1,IF((SUM(D66:D66))=0,0,(+HLOOKUP((SUM(D66:D66)),Priser!$E$54:$J$56,2)+((SUM(D66:D66))-HLOOKUP((SUM(D66:D66)),Priser!$E$54:$J$56,1))*HLOOKUP((SUM(D66:D66)),Priser!$E$54:$J$56,3))/(SUM(D66:D66)))*(1+Genanskaffelsespriser!$D$196),\"Fejl\")","v":0},{"$f":"D66*E66","v":0},{"$f":"F66/C66","v":0}]
["Erstatninger (OBS ingen øst-tillæg eller øvrige tillæg) ","stk.",{"$f":"Genanskaffelsespriser!E10","v":30},0,{"$f":"Genanskaffelsespriser!$D10","v":44911},{"$f":"D67*E67","v":0},0]
["Hegn","stk.",{"$f":"Genanskaffelsespriser!E11","v":15},0,{"$f":"Genanskaffelsespriser!$D11","v":85428},{"$f":"D68*E68","v":0},0]
["Elanlæg","boring",{"$f":"Genanskaffelsespriser!E12","v":20},0,{"$f":"Genanskaffelsespriser!$D12","v":108657},{"$f":"D69*E69","v":0},0]
["SRO anlæg","boring",{"$f":"Genanskaffelsespriser!E13","v":10},0,{"$f":"Genanskaffelsespriser!$D13","v":29256},{"$f":"D70*E70","v":0},0]
["Råvandsledninger - Land"]
["Ø 50mm < Ledningsnet ≤ Ø110 mm","meter",{"$f":"Genanskaffelsespriser!E15","v":75},0,{"$f":"Genanskaffelsespriser!$D15","v":354},{"$f":"D72*E72","v":0},0]
["Ø110 mm < Ledningsnet ≤ Ø 250 mm","meter",{"$f":"Genanskaffelsespriser!E16","v":75},0,{"$f":"Genanskaffelsespriser!$D16","v":1018},{"$f":"D73*E73","v":0},0]
["Ø 250 mm < Ledningsnet ≤ Ø 500mm","meter",{"$f":"Genanskaffelsespriser!E17","v":75},0,{"$f":"Genanskaffelsespriser!$D17","v":2335},{"$f":"D74*E74","v":0},0]
["Ledningsnet > Ø 500 mm","meter",{"$f":"Genanskaffelsespriser!E18","v":75},0,{"$f":"Genanskaffelsespriser!$D18","v":5029},{"$f":"D75*E75","v":0},0]
["Råvandsledninger - By"]
["Ø 50mm < Ledningsnet ≤ Ø110 mm","meter",{"$f":"Genanskaffelsespriser!E20","v":75},0,{"$f":"Genanskaffelsespriser!$D20","v":958},{"$f":"D77*E77","v":0},0]
["Ø110 mm < Ledningsnet ≤ Ø 250 mm","meter",{"$f":"Genanskaffelsespriser!E21","v":75},0,{"$f":"Genanskaffelsespriser!$D21","v":1684},{"$f":"D78*E78","v":0},0]
["Ø 250 mm < Ledningsnet ≤ Ø 500mm","meter",{"$f":"Genanskaffelsespriser!E22","v":75},0,{"$f":"Genanskaffelsespriser!$D22","v":3153},{"$f":"D79*E79","v":0},0]
["Ledningsnet > Ø 500 mm","meter",{"$f":"Genanskaffelsespriser!E23","v":75},0,{"$f":"Genanskaffelsespriser!$D23","v":5998},{"$f":"D80*E80","v":0},0]
["Råvandsledninger - City"]
["Ø 50mm < Ledningsnet ≤ Ø110 mm","meter",{"$f":"Genanskaffelsespriser!E25","v":75},0,{"$f":"Genanskaffelsespriser!$D25","v":1495},{"$f":"D82*E82","v":0},0]
["Ø110 mm < Ledningsnet ≤ Ø 250 mm","meter",{"$f":"Genanskaffelsespriser!E26","v":75},0,{"$f":"Genanskaffelsespriser!$D26","v":2192},{"$f":"D83*E83","v":0},0]
["Ø 250 mm < Ledningsnet ≤ Ø 500mm","meter",{"$f":"Genanskaffelsespriser!E27","v":75},0,{"$f":"Genanskaffelsespriser!$D27","v":3773},{"$f":"D84*E84","v":0},0]
["Ledningsnet > Ø 500 mm","meter",{"$f":"Genanskaffelsespriser!E28","v":75},0,{"$f":"Genanskaffelsespriser!$D28","v":6732},{"$f":"D85*E85","v":0},0]
["Vandværk 1"]
["Beluftningsanlæg, iltningstrappe, Konstruktioner","m³/h ",{"$f":"Genanskaffelsespriser!$E$30","v":50},0,{"$f":"IF(COUNTIF(D87:D87,\"<>0\")<=1,IF((SUM(D87:D87))>0,(+HLOOKUP((SUM(D87:D87)),Priser!$E$96:$J$108,2)+((SUM(D87:D87))-HLOOKUP((SUM(D87:D87)),Priser!$E$96:$J$108,1))*HLOOKUP((SUM(D87:D87)),Priser!$E$96:$J$108,3))/(SUM(D87:D87)),0)*Priser!$Q$97*(1+Genanskaffelsespriser!$D$196),\"Fejl\")","v":0},{"$f":"E87*D87","v":0},0]
["Beluftningsanlæg, iltningstrappe, Mek./EL","m³/h ",{"$f":"Genanskaffelsespriser!$E$31","v":25},0,{"$f":"IF(COUNTIF(D88:D88,\"<>0\")<=1,IF((SUM(D88:D88))>0,(+HLOOKUP((SUM(D88:D88)),Priser!$E$96:$J$108,2)+((SUM(D88:D88))-HLOOKUP((SUM(D88:D88)),Priser!$E$96:$J$108,1))*HLOOKUP((SUM(D88:D88)),Priser!$E$96:$J$108,3))/(SUM(D88:D88)),0)*Priser!$R$97*(1+Genanskaffelsespriser!$D$196),\"Fejl\")","v":0},{"$f":"E88*D88","v":0},0]
["Beluftningsanlæg, ika-beluftning, Konstruktioner","m³/h ",{"$f":"Genanskaffelsespriser!$E$32","v":50},0,{"$f":"IF(COUNTIF(D89:D89,\"<>0\")<=1,IF((SUM(D89:D89))>0,(+HLOOKUP((SUM(D89:D89)),Priser!$E$96:$J$108,4)+((SUM(D89:D89))-HLOOKUP((SUM(D89:D89)),Priser!$E$96:$J$108,1))*HLOOKUP((SUM(D89:D89)),Priser!$E$96:$J$108,5))/(SUM(D89:D89)),0)*Priser!$Q$99*(1+Genanskaffelsespriser!$D$196),\"Fejl\")","v":0},0,0]
["Beluftningsanlæg, ika-beluftning, Mek./EL","m³/h ",{"$f":"Genanskaffelsespriser!$E$33","v":25},0,{"$f":"IF(COUNTIF(D90:D90,\"<>0\")<=1,IF((SUM(D90:D90))>0,(+HLOOKUP((SUM(D90:D90)),Priser!$E$96:$J$108,4)+((SUM(D90:D90))-HLOOKUP((SUM(D90:D90)),Priser!$E$96:$J$108,1))*HLOOKUP((SUM(D90:D90)),Priser!$E$96:$J$108,5))/(SUM(D90:D90)),0)*Priser!$R$99*(1+Genanskaffelsespriser!$D$196),\"Fejl\")","v":0},0,0]
["Beluftningsanlæg, bundbeluftbning, Konstruktioner","m³/h ",{"$f":"Genanskaffelsespriser!$E$34","v":50},0,{"$f":"IF(COUNTIF(D91:D91,\"<>0\")<=1,IF((SUM(D91:D91))>0,(+HLOOKUP((SUM(D91:D91)),Priser!$E$96:$J$108,8)+((SUM(D91:D91))-HLOOKUP((SUM(D91:D91)),Priser!$E$96:$J$108,1))*HLOOKUP((SUM(D91:D91)),Priser!$E$96:$J$108,9))/(SUM(D91:D91)),0)*Priser!$Q$103*(1+Genanskaffelsespriser!$D$196),\"Fejl\")","v":0},0,0]
["Beluftningsanlæg, bundbeluftbning, Mek./EL","m³/h ",{"$f":"Genanskaffelsespriser!$E$35","v":25},0,{"$f":"IF(COUNTIF(D92:D92,\"<>0\")<=1,IF((SUM(D92:D92))>0,(+HLOOKUP((SUM(D92:D92)),Priser!$E$96:$J$108,8)+((SUM(D92:D92))-HLOOKUP((SUM(D92:D92)),Priser!$E$96:$J$108,1))*HLOOKUP((SUM(D92:D92)),Priser!$E$96:$J$108,9))/(SUM(D92:D92)),0)*Priser!$R$103*(1+Genanskaffelsespriser!$D$196),\"Fejl\")","v":0},0,0]
["Beluftningsanlæg, rislebakke, Konstruktioner","m³/h ",{"$f":"Genanskaffelsespriser!$E$36","v":50},0,{"$f":"IF(COUNTIF(D93:D93,\"<>0\")<=1,IF((SUM(D93:D93))>0,(+HLOOKUP((SUM(D93:D93)),Priser!$E$96:$J$108,6)+((SUM(D93:D93))-HLOOKUP((SUM(D93:D93)),Priser!$E$96:$J$108,1))*HLOOKUP((SUM(D93:D93)),Priser!$E$96:$J$108,7))/(SUM(D93:D93)),0)*Priser!$Q$103*(1+Genanskaffelsespriser!$D$196),\"Fejl\")","v":0},0,0]
["Beluftningsanlæg, rislebakke, Mek./EL","m³/h ",{"$f":"Genanskaffelsespriser!$E$37","v":25},0,{"$f":"IF(COUNTIF(D94:D94,\"<>0\")<=1,IF((SUM(D94:D94))>0,(+HLOOKUP((SUM(D94:D94)),Priser!$E$96:$J$108,6)+((SUM(D94:D94))-HLOOKUP((SUM(D94:D94)),Priser!$E$96:$J$108,1))*HLOOKUP((SUM(D94:D94)),Priser!$E$96:$J$108,7))/(SUM(D94:D94)),0)*Priser!$R$103*(1+Genanskaffelsespriser!$D$196),\"Fejl\")","v":0},0,0]
["Beluftningsanlæg, kompressorbeluftning","m³/h ",{"$f":"Genanskaffelsespriser!$E$38","v":25},0,{"$f":"IF(COUNTIF(D95:D95,\"<>0\")<=1,IF((SUM(D95:D95))>0,(+HLOOKUP((SUM(D95:D95)),Priser!$E$96:$J$108,10)+((SUM(D95:D95))-HLOOKUP((SUM(D95:D95)),Priser!$E$96:$J$108,1))*HLOOKUP((SUM(D95:D95)),Priser!$E$96:$J$108,11))/(SUM(D95:D95)),0)*(1+Genanskaffelsespriser!$D$196),\"Fejl\")","v":0},0,0]
["Beluftningsanlæg, ren ilt","m³/h ",{"$f":"Genanskaffelsespriser!$E$39","v":25},0,{"$f":"IF(COUNTIF(D96:D96,\"<>0\")<=1,IF((SUM(D96:D96))>0,(+HLOOKUP((SUM(D96:D96)),Priser!$E$96:$J$108,12)+((SUM(D96:D96))-HLOOKUP((SUM(D96:D96)),Priser!$E$96:$J$108,1))*HLOOKUP((SUM(D96:D96)),Priser!$E$96:$J$108,13))/(SUM(D96:D96)),0)*(1+Genanskaffelsespriser!$D$196),\"Fejl\")","v":0},0,0]
["Behandlingsanlæg, kalk anlæg","m³/h ",{"$f":"Genanskaffelsespriser!$E$40","v":25},0,{"$f":"IF(COUNTIF(D97:D97,\"<>0\")<=1,IF((SUM(D97:D97))>0,(+HLOOKUP((SUM(D97:D97)),Priser!$E$118:$I$123,3)+((SUM(D97:D97))-HLOOKUP((SUM(D97:D97)),Priser!$E$118:$I$123,1))*HLOOKUP((SUM(D97:D97)),Priser!$E$118:$I$123,4))/(SUM(D97:D97)),0)*(1+Genanskaffelsespriser!$D$196),\"Fejl\")","v":0},0,0]
["Behandlingsanlæg, luddosering","m³/h ",{"$f":"Genanskaffelsespriser!$E$41","v":25},0,{"$f":"IF(COUNTIF(D98:D98,\"<>0\")<=1,IF((SUM(D98:D98))>0,(+HLOOKUP((SUM(D98:D98)),Priser!$E$118:$I$123,5)+((SUM(D98:D98))-HLOOKUP((SUM(D98:D98)),Priser!$E$118:$I$123,1))*HLOOKUP((SUM(D98:D98)),Priser!$E$118:$I$123,6))/(SUM(D98:D98)),0)*(1+Genanskaffelsespriser!$D$196),\"Fejl\")","v":0},0,0]
["Filteranlæg, åbne filtre, enkelt filtrering, Konstruktioner","m³/h ",{"$f":"Genanskaffelsespriser!$E$42","v":50},0,{"$f":"IF(COUNTIF(D99:D99,\"<>0\")<=1,IF((SUM(D99:D99))>0,(+HLOOKUP((SUM(D99:D99)),Priser!$E$132:$I$141,9)+((SUM(D99:D99))-HLOOKUP((SUM(D99:D99)),Priser!$E$132:$I$141,1))*HLOOKUP((SUM(D99:D99)),Priser!$E$132:$I$141,10))/(SUM(D99:D99)),0)*Priser!$Q$140*(1+Genanskaffelsespriser!$D$196),\"Fejl\")","v":0},0,0]
["Filteranlæg, åbne filtre, enkelt filtrering, Mek./EL","m³/h ",{"$f":"Genanskaffelsespriser!$E$43","v":25},0,{"$f":"IF(COUNTIF(D100:D100,\"<>0\")<=1,IF((SUM(D100:D100))>0,(+HLOOKUP((SUM(D100:D100)),Priser!$E$132:$I$141,9)+((SUM(D100:D100))-HLOOKUP((SUM(D100:D100)),Priser!$E$132:$I$141,1))*HLOOKUP((SUM(D100:D100)),Priser!$E$132:$I$141,10))/(SUM(D100:D100)),0)*Priser!$R$140*(1+Genanskaffelsespriser!$D$196),\"Fejl\")","v":0},0,0]
["Filteranlæg, åbne filtre, dobbelt filtrering, Konstruktioner","m³/h ",{"$f":"Genanskaffelsespriser!$E$44","v":50},0,{"$f":"IF(COUNTIF(D101:D101,\"<>0\")<=1,IF((SUM(D101:D101))>0,(+HLOOKUP((SUM(D101:D101)),Priser!$E$132:$I$141,6)+((SUM(D101:D101))-HLOOKUP((SUM(D101:D101)),Priser!$E$132:$I$141,1))*HLOOKUP((SUM(D101:D101)),Priser!$E$132:$I$141,7))/(SUM(D101:D101)),0)*Priser!$Q$138*(1+Genanskaffelsespriser!$D$196),\"Fejl\")","v":0},0,0]
["Filteranlæg, åbne filtre, dobbelt filtrering, Mek./EL","m³/h ",{"$f":"Genanskaffelsespriser!$E$45","v":25},0,{"$f":"IF(COUNTIF(D102:D102,\"<>0\")<=1,IF((SUM(D102:D102))>0,(+HLOOKUP((SUM(D102:D102)),Priser!$E$132:$I$141,6)+((SUM(D102:D102))-HLOOKUP((SUM(D102:D102)),Priser!$E$132:$I$141,1))*HLOOKUP((SUM(D102:D102)),Priser!$E$132:$I$141,7))/(SUM(D102:D102)),0)*Priser!$R$138*(1+Genanskaffelsespriser!$D$196),\"Fejl\")","v":0},0,0]
["Filteranlæg, trykfiltre, enkelt filtrering","m³/h ",{"$f":"Genanskaffelsespriser!$E$46","v":25},0,{"$f":"IF(COUNTIF(D103:D103,\"<>0\")<=1,IF((SUM(D103:D103))>0,(+HLOOKUP((SUM(D103:D103)),Priser!$E$150:$J$152,2)+((SUM(D103:D103))-HLOOKUP((SUM(D103:D103)),Priser!$E$150:$J$152,1))*HLOOKUP((SUM(D103:D103)),Priser!$E$150:$J$152,3))/(SUM(D103:D103)),0)*(1+Genanskaffelsespriser!$D$196),\"Fejl\")","v":0},0,0]
["Filteranlæg, trykfiltre, dobbelt filtrering","m³/h ",{"$f":"Genanskaffelsespriser!$E$47","v":25},0,{"$f":"IF(COUNTIF(D104:D104,\"<>0\")<=1,IF((SUM(D104:D104))>0,(+HLOOKUP((SUM(D104:D104)),Priser!$E$154:$J$156,2)+((SUM(D104:D104))-HLOOKUP((SUM(D104:D104)),Priser!$E$154:$J$156,1))*HLOOKUP((SUM(D104:D104)),Priser!$E$154:$J$156,3))/(SUM(D104:D104)),0)*Priser!$R$138*(1+Genanskaffelsespriser!$D$196),\"Fejl\")","v":0},0,0]
["Rentvandsbeholder  insitu støbt","m³",{"$f":"Genanskaffelsespriser!$E$48","v":50},0,{"$f":"IF(COUNTIF(D105:D105,\"<>0\")<=1,IF((SUM(D105:D105))>0,(+HLOOKUP((SUM(D105:D105)),Priser!$E$168:$J$170,2)+((SUM(D105:D105))-HLOOKUP((SUM(D105:D105)),Priser!$E$168:$J$170,1))*HLOOKUP((SUM(D105:D105)),Priser!$E$168:$J$170,3))/(SUM(D105:D105)),0)*(1+Genanskaffelsespriser!$D$196),\"Fejl\")","v":0},0,0]
["Rentvandsbeholder  element","m³",{"$f":"Genanskaffelsespriser!$E$49","v":50},0,{"$f":"IF(COUNTIF(D106:D106,\"<>0\")<=1,IF((SUM(D106:D106))>0,(+HLOOKUP(SUM(D106:D106),Priser!$E$175:$J$177,2)+((SUM(D106:D106))-HLOOKUP((SUM(D106:D106)),Priser!$E$175:$J$177,1))*HLOOKUP((SUM(D106:D106)),Priser!$E$175:$J$177,3))/(SUM(D106:D106)),0)*(1+Genanskaffelsespriser!$D$196),\"Fejl\")","v":0},0,0]
["Udpumpningsanlæg, rentvandspumper på vandværk","m³/h ",{"$f":"Genanskaffelsespriser!$E$50","v":25},0,{"$f":"IF(COUNTIF(D107:D107,\"<>0\")<=1,IF((SUM(D107:D107))>0,(+HLOOKUP((SUM(D107:D107)),Priser!$E$236:$J$238,2)+((SUM(D107:D107))-HLOOKUP((SUM(D107:D107)),Priser!$E$236:$J$238,1))*HLOOKUP((SUM(D107:D107)),Priser!$E$236:$J$238,3))/(SUM(D107:D107)),0)*(1+Genanskaffelsespriser!$D$196),\"Fejl\")","v":0},0,0]
["Udpumpningsanlæg, frekvensomformer","kW",{"$f":"Genanskaffelsespriser!$E$51","v":25},0,{"$f":"IF(COUNTIF(D108:D108,\"<>0\")<=1,IF((SUM(D108:D108))>0,(+HLOOKUP((SUM(D108:D108)),Priser!$E$255:$J$257,2)+((SUM(D108:D108))-HLOOKUP((SUM(D108:D108)),Priser!$E$255:$J$257,1))*HLOOKUP((SUM(D108:D108)),Priser!$E$255:$J$257,3))/(SUM(D108:D108)),0)*(1+Genanskaffelsespriser!$D$196),\"Fejl\")","v":0},0,0]
["Udpumpningsanlæg, Hydrofor","liter",{"$f":"Genanskaffelsespriser!$E$52","v":25},0,{"$f":"IF(COUNTIF(D109:D109,\"<>0\")<=1,IF((SUM(D109:D109))>0,(+HLOOKUP((SUM(D109:D109)),Priser!$E$275:$J$277,2)+((SUM(D109:D109))-HLOOKUP((SUM(D109:D109)),Priser!$E$275:$J$277,1))*HLOOKUP((SUM(D109:D109)),Priser!$E$275:$J$277,3))/(SUM(D109:D109)),0)*(1+Genanskaffelsespriser!$D$196),\"Fejl\")","v":0},0,0]
["Skyllevand-/slamhåndteringsanlæg - lukkede betonbeholdere","m³",{"$f":"Genanskaffelsespriser!$E$53","v":50},0,{"$f":"IF(COUNTIF(D110:D110,\"<>0\")<=1,IF((SUM(D110:D110))>0,(+HLOOKUP((SUM(D110:D110)),Priser!$E$207:$J$209,2)+((SUM(D110:D110))-HLOOKUP((SUM(D110:D110)),Priser!$E$207:$J$209,1))*HLOOKUP((SUM(D110:D110)),Priser!$E$207:$J$209,3))/(SUM(D110:D110)),0)*(1+Genanskaffelsespriser!$D$196),\"Fejl\")","v":0},0,0]
["Skyllevand-/slamhåndteringsanl. - åbne med faste sider/bund","m³",{"$f":"Genanskaffelsespriser!$E$54","v":50},0,{"$f":"IF(COUNTIF(D111:D111,\"<>0\")<=1,IF((SUM(D111:D111))>0,(+HLOOKUP((SUM(D111:D111)),Priser!$E$207:$J$212,5)+((SUM(D111:D111))-HLOOKUP((SUM(D111:D111)),Priser!$E$207:$J$212,1))*HLOOKUP((SUM(D111:D111)),Priser!$E$207:$J$212,6))/(SUM(D111:D111)),0)*(1+Genanskaffelsespriser!$D$196),\"Fejl\")","v":0},0,0]
["Skyllevand-/slamhåndteringsanlæg - jordbassiner","m³",{"$f":"Genanskaffelsespriser!$E$55","v":50},0,{"$f":"IF(COUNTIF(D112:D112,\"<>0\")<=1,IF((SUM(D112:D112))>0,(+HLOOKUP((SUM(D112:D112)),Priser!$E$207:$J$215,8)+((SUM(D112:D112))-HLOOKUP((SUM(D112:D112)),Priser!$E$207:$J$215,1))*HLOOKUP((SUM(D112:D112)),Priser!$E$207:$J$215,9))/(SUM(D112:D112)),0)*(1+Genanskaffelsespriser!$D$196),\"Fejl\")","v":0},0,0]
["Skyllevandsbehandling, inkl. UV-filter mv., Mek./EL","m³/h.",{"$f":"Genanskaffelsespriser!$E$56","v":25},0,{"$f":"IF(COUNTIF(D113:D113,\"<>0\")<=1,IF((SUM(D113:D113))>0,(+HLOOKUP((SUM(D113:D113)),Priser!$F$374:$H$376,2)+((SUM(D113:D113))-HLOOKUP((SUM(D113:D113)),Priser!$F$374:$H$376,1))*HLOOKUP((SUM(D113:D113)),Priser!$F$374:$H$376,3))/(SUM(D113:D113)),0)*Priser!$Q$376*(1+Genanskaffelsespriser!$D$196),\"Fejl\")","v":0},0,0]
["Skyllevandsbehandling, inkl. UV-filter mv., SRO","m³/h.",{"$f":"Genanskaffelsespriser!$E$57","v":10},0,{"$f":"IF(COUNTIF(D114:D114,\"<>0\")<=1,IF((SUM(D114:D114))>0,(+HLOOKUP((SUM(D114:D114)),Priser!$F$374:$H$376,2)+((SUM(D114:D114))-HLOOKUP((SUM(D114:D114)),Priser!$F$374:$H$376,1))*HLOOKUP((SUM(D114:D114)),Priser!$F$374:$H$376,3))/(SUM(D114:D114)),0)*Priser!$R$376*(1+Genanskaffelsespriser!$D$196),\"Fejl\")","v":0},0,0]
["Nødstrømsanlæg på vandværk","kW",{"$f":"Genanskaffelsespriser!$E$58","v":25},0,{"$f":"IF(COUNTIF(D115:D115,\"<>0\")<=1,IF((SUM(D115:D115))>0,(+HLOOKUP((SUM(D115:D115)),Priser!$E$294:$J$296,2)+((SUM(D115:D115))-HLOOKUP((SUM(D115:D115)),Priser!$E$294:$J$296,1))*HLOOKUP((SUM(D115:D115)),Priser!$E$294:$J$296,3))/(SUM(D115:D115)),0)*(1+Genanskaffelsespriser!$D$196),\"Fejl\")","v":0},0,0]
["Elanlæg og SRO-anlæg - vandværk, Elanlæg","m³/h.",{"$f":"Genanskaffelsespriser!$E$59","v":25},0,{"$f":"IF(COUNTIF(D116:D116,\"<>0\")<=1,IF((SUM(D116:D116))>0,((+HLOOKUP((SUM(D116:D116)),Priser!$E$311:$J$315,4)+((SUM(D116:D116))-HLOOKUP((SUM(D116:D116)),Priser!$E$311:$J$315,1))*HLOOKUP((SUM(D116:D116)),Priser!$E$311:$J$315,5))/(SUM(D116:D116))),0)*(1+Genanskaffelsespriser!$D$196),\"Fejl\")","v":0},0,0]
["Elanlæg og SRO-anlæg - vandværk, SRO","m³/h.",{"$f":"Genanskaffelsespriser!$E$60","v":10},0,{"$f":"IF(COUNTIF(D117:D117,\"<>0\")<=1,IF((SUM(D117:D117))>0,(+HLOOKUP((SUM(D117:D117)),Priser!$E$311:$J$318,7)+((SUM(D117:D117))-HLOOKUP((SUM(D117:D117)),Priser!$E$311:$J$318,1))*HLOOKUP((SUM(D117:D117)),Priser!$E$311:$J$318,8))/(SUM(D117:D117)),0)*(1+Genanskaffelsespriser!$D$196),\"Fejl\")","v":0},0,0]
["Vandværk 2"]
["Beluftningsanlæg, iltningstrappe, Konstruktioner","m³/h ",{"$f":"Genanskaffelsespriser!$E$30","v":50},0,{"$f":"IF(COUNTIF(D119:D119,\"<>0\")<=1,IF((SUM(D119:D119))>0,(+HLOOKUP((SUM(D119:D119)),Priser!$E$96:$J$108,2)+((SUM(D119:D119))-HLOOKUP((SUM(D119:D119)),Priser!$E$96:$J$108,1))*HLOOKUP((SUM(D119:D119)),Priser!$E$96:$J$108,3))/(SUM(D119:D119)),0)*Priser!$Q$97*(1+Genanskaffelsespriser!$D$196),\"Fejl\")","v":0},{"$f":"E119*D119","v":0},{"$f":"F119/C119","v":0}]
["Beluftningsanlæg, iltningstrappe, Mek./EL","m³/h ",{"$f":"Genanskaffelsespriser!$E$31","v":25},0,{"$f":"IF(COUNTIF(D120:D120,\"<>0\")<=1,IF((SUM(D120:D120))>0,(+HLOOKUP((SUM(D120:D120)),Priser!$E$96:$J$108,2)+((SUM(D120:D120))-HLOOKUP((SUM(D120:D120)),Priser!$E$96:$J$108,1))*HLOOKUP((SUM(D120:D120)),Priser!$E$96:$J$108,3))/(SUM(D120:D120)),0)*Priser!$R$97*(1+Genanskaffelsespriser!$D$196),\"Fejl\")","v":0},{"$f":"E120*D120","v":0},0]
["Beluftningsanlæg, ika-beluftning, Konstruktioner","m³/h ",{"$f":"Genanskaffelsespriser!$E$32","v":50},0,{"$f":"IF(COUNTIF(D121:D121,\"<>0\")<=1,IF((SUM(D121:D121))>0,(+HLOOKUP((SUM(D121:D121)),Priser!$E$96:$J$108,4)+((SUM(D121:D121))-HLOOKUP((SUM(D121:D121)),Priser!$E$96:$J$108,1))*HLOOKUP((SUM(D121:D121)),Priser!$E$96:$J$108,5))/(SUM(D121:D121)),0)*Priser!$Q$99*(1+Genanskaffelsespriser!$D$196),\"Fejl\")","v":0},0,0]
["Beluftningsanlæg, ika-beluftning, Mek./EL","m³/h ",{"$f":"Genanskaffelsespriser!$E$33","v":25},0,{"$f":"IF(COUNTIF(D122:D122,\"<>0\")<=1,IF((SUM(D122:D122))>0,(+HLOOKUP((SUM(D122:D122)),Priser!$E$96:$J$108,4)+((SUM(D122:D122))-HLOOKUP((SUM(D122:D122)),Priser!$E$96:$J$108,1))*HLOOKUP((SUM(D122:D122)),Priser!$E$96:$J$108,5))/(SUM(D122:D122)),0)*Priser!$R$99*(1+Genanskaffelsespriser!$D$196),\"Fejl\")","v":0},0,0]
["Beluftningsanlæg, bundbeluftbning, Konstruktioner","m³/h ",{"$f":"Genanskaffelsespriser!$E$34","v":50},0,{"$f":"IF(COUNTIF(D123:D123,\"<>0\")<=1,IF((SUM(D123:D123))>0,(+HLOOKUP((SUM(D123:D123)),Priser!$E$96:$J$108,8)+((SUM(D123:D123))-HLOOKUP((SUM(D123:D123)),Priser!$E$96:$J$108,1))*HLOOKUP((SUM(D123:D123)),Priser!$E$96:$J$108,9))/(SUM(D123:D123)),0)*Priser!$Q$103*(1+Genanskaffelsespriser!$D$196),\"Fejl\")","v":0},0,0]
["Beluftningsanlæg, bundbeluftbning, Mek./EL","m³/h ",{"$f":"Genanskaffelsespriser!$E$35","v":25},0,{"$f":"IF(COUNTIF(D124:D124,\"<>0\")<=1,IF((SUM(D124:D124))>0,(+HLOOKUP((SUM(D124:D124)),Priser!$E$96:$J$108,8)+((SUM(D124:D124))-HLOOKUP((SUM(D124:D124)),Priser!$E$96:$J$108,1))*HLOOKUP((SUM(D124:D124)),Priser!$E$96:$J$108,9))/(SUM(D124:D124)),0)*Priser!$R$103*(1+Genanskaffelsespriser!$D$196),\"Fejl\")","v":0},0,0]
["Beluftningsanlæg, rislebakke, Konstruktioner","m³/h ",{"$f":"Genanskaffelsespriser!$E$36","v":50},0,{"$f":"IF(COUNTIF(D125:D125,\"<>0\")<=1,IF((SUM(D125:D125))>0,(+HLOOKUP((SUM(D125:D125)),Priser!$E$96:$J$108,6)+((SUM(D125:D125))-HLOOKUP((SUM(D125:D125)),Priser!$E$96:$J$108,1))*HLOOKUP((SUM(D125:D125)),Priser!$E$96:$J$108,7))/(SUM(D125:D125)),0)*Priser!$Q$103*(1+Genanskaffelsespriser!$D$196),\"Fejl\")","v":0},0,0]
["Beluftningsanlæg, rislebakke, Mek./EL","m³/h ",{"$f":"Genanskaffelsespriser!$E$37","v":25},0,{"$f":"IF(COUNTIF(D126:D126,\"<>0\")<=1,IF((SUM(D126:D126))>0,(+HLOOKUP((SUM(D126:D126)),Priser!$E$96:$J$108,6)+((SUM(D126:D126))-HLOOKUP((SUM(D126:D126)),Priser!$E$96:$J$108,1))*HLOOKUP((SUM(D126:D126)),Priser!$E$96:$J$108,7))/(SUM(D126:D126)),0)*Priser!$R$103*(1+Genanskaffelsespriser!$D$196),\"Fejl\")","v":0},0,0]
["Beluftningsanlæg, kompressorbeluftning","m³/h ",{"$f":"Genanskaffelsespriser!$E$38","v":25},0,{"$f":"IF(COUNTIF(D127:D127,\"<>0\")<=1,IF((SUM(D127:D127))>0,(+HLOOKUP((SUM(D127:D127)),Priser!$E$96:$J$108,10)+((SUM(D127:D127))-HLOOKUP((SUM(D127:D127)),Priser!$E$96:$J$108,1))*HLOOKUP((SUM(D127:D127)),Priser!$E$96:$J$108,11))/(SUM(D127:D127)),0)*(1+Genanskaffelsespriser!$D$196),\"Fejl\")","v":0},0,0]
["Beluftningsanlæg, ren ilt","m³/h ",{"$f":"Genanskaffelsespriser!$E$39","v":25},0,{"$f":"IF(COUNTIF(D128:D128,\"<>0\")<=1,IF((SUM(D128:D128))>0,(+HLOOKUP((SUM(D128:D128)),Priser!$E$96:$J$108,12)+((SUM(D128:D128))-HLOOKUP((SUM(D128:D128)),Priser!$E$96:$J$108,1))*HLOOKUP((SUM(D128:D128)),Priser!$E$96:$J$108,13))/(SUM(D128:D128)),0)*(1+Genanskaffelsespriser!$D$196),\"Fejl\")","v":0},0,0]
["Behandlingsanlæg, kalk anlæg","m³/h ",{"$f":"Genanskaffelsespriser!$E$40","v":25},0,{"$f":"IF(COUNTIF(D129:D129,\"<>0\")<=1,IF((SUM(D129:D129))>0,(+HLOOKUP((SUM(D129:D129)),Priser!$E$118:$I$123,3)+((SUM(D129:D129))-HLOOKUP((SUM(D129:D129)),Priser!$E$118:$I$123,1))*HLOOKUP((SUM(D129:D129)),Priser!$E$118:$I$123,4))/(SUM(D129:D129)),0)*(1+Genanskaffelsespriser!$D$196),\"Fejl\")","v":0},0,0]
["Behandlingsanlæg, luddosering","m³/h ",{"$f":"Genanskaffelsespriser!$E$41","v":25},0,{"$f":"IF(COUNTIF(D130:D130,\"<>0\")<=1,IF((SUM(D130:D130))>0,(+HLOOKUP((SUM(D130:D130)),Priser!$E$118:$I$123,5)+((SUM(D130:D130))-HLOOKUP((SUM(D130:D130)),Priser!$E$118:$I$123,1))*HLOOKUP((SUM(D130:D130)),Priser!$E$118:$I$123,6))/(SUM(D130:D130)),0)*(1+Genanskaffelsespriser!$D$196),\"Fejl\")","v":0},0,0]
["Filteranlæg, åbne filtre, enkelt filtrering, Konstruktioner","m³/h ",{"$f":"Genanskaffelsespriser!$E$42","v":50},0,{"$f":"IF(COUNTIF(D131:D131,\"<>0\")<=1,IF((SUM(D131:D131))>0,(+HLOOKUP((SUM(D131:D131)),Priser!$E$132:$I$141,9)+((SUM(D131:D131))-HLOOKUP((SUM(D131:D131)),Priser!$E$132:$I$141,1))*HLOOKUP((SUM(D131:D131)),Priser!$E$132:$I$141,10))/(SUM(D131:D131)),0)*Priser!$Q$140*(1+Genanskaffelsespriser!$D$196),\"Fejl\")","v":0},0,0]
["Filteranlæg, åbne filtre, enkelt filtrering, Mek./EL","m³/h ",{"$f":"Genanskaffelsespriser!$E$43","v":25},0,{"$f":"IF(COUNTIF(D132:D132,\"<>0\")<=1,IF((SUM(D132:D132))>0,(+HLOOKUP((SUM(D132:D132)),Priser!$E$132:$I$141,9)+((SUM(D132:D132))-HLOOKUP((SUM(D132:D132)),Priser!$E$132:$I$141,1))*HLOOKUP((SUM(D132:D132)),Priser!$E$132:$I$141,10))/(SUM(D132:D132)),0)*Priser!$R$140*(1+Genanskaffelsespriser!$D$196),\"Fejl\")","v":0},0,0]
["Filteranlæg, åbne filtre, dobbelt filtrering, Konstruktioner","m³/h ",{"$f":"Genanskaffelsespriser!$E$44","v":50},0,{"$f":"IF(COUNTIF(D133:D133,\"<>0\")<=1,IF((SUM(D133:D133))>0,(+HLOOKUP((SUM(D133:D133)),Priser!$E$132:$I$141,6)+((SUM(D133:D133))-HLOOKUP((SUM(D133:D133)),Priser!$E$132:$I$141,1))*HLOOKUP((SUM(D133:D133)),Priser!$E$132:$I$141,7))/(SUM(D133:D133)),0)*Priser!$Q$138*(1+Genanskaffelsespriser!$D$196),\"Fejl\")","v":0},0,0]
["Filteranlæg, åbne filtre, dobbelt filtrering, Mek./EL","m³/h ",{"$f":"Genanskaffelsespriser!$E$45","v":25},0,{"$f":"IF(COUNTIF(D134:D134,\"<>0\")<=1,IF((SUM(D134:D134))>0,(+HLOOKUP((SUM(D134:D134)),Priser!$E$132:$I$141,6)+((SUM(D134:D134))-HLOOKUP((SUM(D134:D134)),Priser!$E$132:$I$141,1))*HLOOKUP((SUM(D134:D134)),Priser!$E$132:$I$141,7))/(SUM(D134:D134)),0)*Priser!$R$138*(1+Genanskaffelsespriser!$D$196),\"Fejl\")","v":0},0,0]
["Filteranlæg, trykfiltre, enkelt filtrering","m³/h ",{"$f":"Genanskaffelsespriser!$E$46","v":25},0,{"$f":"IF(COUNTIF(D135:D135,\"<>0\")<=1,IF((SUM(D135:D135))>0,(+HLOOKUP((SUM(D135:D135)),Priser!$E$150:$J$152,2)+((SUM(D135:D135))-HLOOKUP((SUM(D135:D135)),Priser!$E$150:$J$152,1))*HLOOKUP((SUM(D135:D135)),Priser!$E$150:$J$152,3))/(SUM(D135:D135)),0)*(1+Genanskaffelsespriser!$D$196),\"Fejl\")","v":0},0,0]
["Filteranlæg, trykfiltre, dobbelt filtrering","m³/h ",{"$f":"Genanskaffelsespriser!$E$47","v":25},0,{"$f":"IF(COUNTIF(D136:D136,\"<>0\")<=1,IF((SUM(D136:D136))>0,(+HLOOKUP((SUM(D136:D136)),Priser!$E$154:$J$156,2)+((SUM(D136:D136))-HLOOKUP((SUM(D136:D136)),Priser!$E$154:$J$156,1))*HLOOKUP((SUM(D136:D136)),Priser!$E$154:$J$156,3))/(SUM(D136:D136)),0)*Priser!$R$138*(1+Genanskaffelsespriser!$D$196),\"Fejl\")","v":0},0,0]
["Rentvandsbeholder  insitu støbt","m³",{"$f":"Genanskaffelsespriser!$E$48","v":50},0,{"$f":"IF(COUNTIF(D137:D137,\"<>0\")<=1,IF((SUM(D137:D137))>0,(+HLOOKUP((SUM(D137:D137)),Priser!$E$168:$J$170,2)+((SUM(D137:D137))-HLOOKUP((SUM(D137:D137)),Priser!$E$168:$J$170,1))*HLOOKUP((SUM(D137:D137)),Priser!$E$168:$J$170,3))/(SUM(D137:D137)),0)*(1+Genanskaffelsespriser!$D$196),\"Fejl\")","v":0},0,0]
["Rentvandsbeholder  element","m³",{"$f":"Genanskaffelsespriser!$E$49","v":50},0,{"$f":"IF(COUNTIF(D138:D138,\"<>0\")<=1,IF((SUM(D138:D138))>0,(+HLOOKUP(SUM(D138:D138),Priser!$E$175:$J$177,2)+((SUM(D138:D138))-HLOOKUP((SUM(D138:D138)),Priser!$E$175:$J$177,1))*HLOOKUP((SUM(D138:D138)),Priser!$E$175:$J$177,3))/(SUM(D138:D138)),0)*(1+Genanskaffelsespriser!$D$196),\"Fejl\")","v":0},0,0]
["Udpumpningsanlæg, rentvandspumper på vandværk","m³/h ",{"$f":"Genanskaffelsespriser!$E$50","v":25},0,{"$f":"IF(COUNTIF(D139:D139,\"<>0\")<=1,IF((SUM(D139:D139))>0,(+HLOOKUP((SUM(D139:D139)),Priser!$E$236:$J$238,2)+((SUM(D139:D139))-HLOOKUP((SUM(D139:D139)),Priser!$E$236:$J$238,1))*HLOOKUP((SUM(D139:D139)),Priser!$E$236:$J$238,3))/(SUM(D139:D139)),0)*(1+Genanskaffelsespriser!$D$196),\"Fejl\")","v":0},0,0]
["Udpumpningsanlæg, frekvensomformer","kW",{"$f":"Genanskaffelsespriser!$E$51","v":25},0,{"$f":"IF(COUNTIF(D140:D140,\"<>0\")<=1,IF((SUM(D140:D140))>0,(+HLOOKUP((SUM(D140:D140)),Priser!$E$255:$J$257,2)+((SUM(D140:D140))-HLOOKUP((SUM(D140:D140)),Priser!$E$255:$J$257,1))*HLOOKUP((SUM(D140:D140)),Priser!$E$255:$J$257,3))/(SUM(D140:D140)),0)*(1+Genanskaffelsespriser!$D$196),\"Fejl\")","v":0},0,0]
["Udpumpningsanlæg, Hydrofor","liter",{"$f":"Genanskaffelsespriser!$E$52","v":25},0,{"$f":"IF(COUNTIF(D141:D141,\"<>0\")<=1,IF((SUM(D141:D141))>0,(+HLOOKUP((SUM(D141:D141)),Priser!$E$275:$J$277,2)+((SUM(D141:D141))-HLOOKUP((SUM(D141:D141)),Priser!$E$275:$J$277,1))*HLOOKUP((SUM(D141:D141)),Priser!$E$275:$J$277,3))/(SUM(D141:D141)),0)*(1+Genanskaffelsespriser!$D$196),\"Fejl\")","v":0},0,0]
["Skyllevand-/slamhåndteringsanlæg - lukkede betonbeholdere","m³",{"$f":"Genanskaffelsespriser!$E$53","v":50},0,{"$f":"IF(COUNTIF(D142:D142,\"<>0\")<=1,IF((SUM(D142:D142))>0,(+HLOOKUP((SUM(D142:D142)),Priser!$E$207:$J$209,2)+((SUM(D142:D142))-HLOOKUP((SUM(D142:D142)),Priser!$E$207:$J$209,1))*HLOOKUP((SUM(D142:D142)),Priser!$E$207:$J$209,3))/(SUM(D142:D142)),0)*(1+Genanskaffelsespriser!$D$196),\"Fejl\")","v":0},0,0]
["Skyllevand-/slamhåndteringsanl. - åbne med faste sider/bund","m³",{"$f":"Genanskaffelsespriser!$E$54","v":50},0,{"$f":"IF(COUNTIF(D143:D143,\"<>0\")<=1,IF((SUM(D143:D143))>0,(+HLOOKUP((SUM(D143:D143)),Priser!$E$207:$J$212,5)+((SUM(D143:D143))-HLOOKUP((SUM(D143:D143)),Priser!$E$207:$J$212,1))*HLOOKUP((SUM(D143:D143)),Priser!$E$207:$J$212,6))/(SUM(D143:D143)),0)*(1+Genanskaffelsespriser!$D$196),\"Fejl\")","v":0},0,0]
["Skyllevand-/slamhåndteringsanlæg - jordbassiner","m³",{"$f":"Genanskaffelsespriser!$E$55","v":50},0,{"$f":"IF(COUNTIF(D144:D144,\"<>0\")<=1,IF((SUM(D144:D144))>0,(+HLOOKUP((SUM(D144:D144)),Priser!$E$207:$J$215,8)+((SUM(D144:D144))-HLOOKUP((SUM(D144:D144)),Priser!$E$207:$J$215,1))*HLOOKUP((SUM(D144:D144)),Priser!$E$207:$J$215,9))/(SUM(D144:D144)),0)*(1+Genanskaffelsespriser!$D$196),\"Fejl\")","v":0},0,0]
["Skyllevandsbehandling, inkl. UV-filter mv., Mek./EL","m³/h.",{"$f":"Genanskaffelsespriser!$E$56","v":25},0,{"$f":"IF(COUNTIF(D145:D145,\"<>0\")<=1,IF((SUM(D145:D145))>0,(+HLOOKUP((SUM(D145:D145)),Priser!$F$374:$H$376,2)+((SUM(D145:D145))-HLOOKUP((SUM(D145:D145)),Priser!$F$374:$H$376,1))*HLOOKUP((SUM(D145:D145)),Priser!$F$374:$H$376,3))/(SUM(D145:D145)),0)*Priser!$Q$376*(1+Genanskaffelsespriser!$D$196),\"Fejl\")","v":0},0,0]
["Skyllevandsbehandling, inkl. UV-filter mv., SRO","m³/h.",{"$f":"Genanskaffelsespriser!$E$57","v":10},0,{"$f":"IF(COUNTIF(D146:D146,\"<>0\")<=1,IF((SUM(D146:D146))>0,(+HLOOKUP((SUM(D146:D146)),Priser!$F$374:$H$376,2)+((SUM(D146:D146))-HLOOKUP((SUM(D146:D146)),Priser!$F$374:$H$376,1))*HLOOKUP((SUM(D146:D146)),Priser!$F$374:$H$376,3))/(SUM(D146:D146)),0)*Priser!$R$376*(1+Genanskaffelsespriser!$D$196),\"Fejl\")","v":0},0,0]
["Nødstrømsanlæg på vandværk","kW",{"$f":"Genanskaffelsespriser!$E$58","v":25},0,{"$f":"IF(COUNTIF(D147:D147,\"<>0\")<=1,IF((SUM(D147:D147))>0,(+HLOOKUP((SUM(D147:D147)),Priser!$E$294:$J$296,2)+((SUM(D147:D147))-HLOOKUP((SUM(D147:D147)),Priser!$E$294:$J$296,1))*HLOOKUP((SUM(D147:D147)),Priser!$E$294:$J$296,3))/(SUM(D147:D147)),0)*(1+Genanskaffelsespriser!$D$196),\"Fejl\")","v":0},0,0]
["Elanlæg og SRO-anlæg - vandværk, Elanlæg","m³/h.",{"$f":"Genanskaffelsespriser!$E$59","v":25},0,{"$f":"IF(COUNTIF(D148:D148,\"<>0\")<=1,IF((SUM(D148:D148))>0,((+HLOOKUP((SUM(D148:D148)),Priser!$E$311:$J$315,4)+((SUM(D148:D148))-HLOOKUP((SUM(D148:D148)),Priser!$E$311:$J$315,1))*HLOOKUP((SUM(D148:D148)),Priser!$E$311:$J$315,5))/(SUM(D148:D148))),0)*(1+Genanskaffelsespriser!$D$196),\"Fejl\")","v":0},0,0]
["Elanlæg og SRO-anlæg - vandværk, SRO","m³/h.",{"$f":"Genanskaffelsespriser!$E$60","v":10},0,{"$f":"IF(COUNTIF(D149:D149,\"<>0\")<=1,IF((SUM(D149:D149))>0,(+HLOOKUP((SUM(D149:D149)),Priser!$E$311:$J$318,7)+((SUM(D149:D149))-HLOOKUP((SUM(D149:D149)),Priser!$E$311:$J$318,1))*HLOOKUP((SUM(D149:D149)),Priser!$E$311:$J$318,8))/(SUM(D149:D149)),0)*(1+Genanskaffelsespriser!$D$196),\"Fejl\")","v":0},0,0]
["Vandværk 3"]
["Beluftningsanlæg, iltningstrappe, Konstruktioner","m³/h ",{"$f":"Genanskaffelsespriser!$E$30","v":50},0,{"$f":"IF(COUNTIF(D151:D151,\"<>0\")<=1,IF((SUM(D151:D151))>0,(+HLOOKUP((SUM(D151:D151)),Priser!$E$96:$J$108,2)+((SUM(D151:D151))-HLOOKUP((SUM(D151:D151)),Priser!$E$96:$J$108,1))*HLOOKUP((SUM(D151:D151)),Priser!$E$96:$J$108,3))/(SUM(D151:D151)),0)*Priser!$Q$97*(1+Genanskaffelsespriser!$D$196),\"Fejl\")","v":0},{"$f":"E151*D151","v":0},{"$f":"F151/C151","v":0}]
["Beluftningsanlæg, iltningstrappe, Mek./EL","m³/h ",{"$f":"Genanskaffelsespriser!$E$31","v":25},0,{"$f":"IF(COUNTIF(D152:D152,\"<>0\")<=1,IF((SUM(D152:D152))>0,(+HLOOKUP((SUM(D152:D152)),Priser!$E$96:$J$108,2)+((SUM(D152:D152))-HLOOKUP((SUM(D152:D152)),Priser!$E$96:$J$108,1))*HLOOKUP((SUM(D152:D152)),Priser!$E$96:$J$108,3))/(SUM(D152:D152)),0)*Priser!$R$97*(1+Genanskaffelsespriser!$D$196),\"Fejl\")","v":0},{"$f":"E152*D152","v":0},0]
["Beluftningsanlæg, ika-beluftning, Konstruktioner","m³/h ",{"$f":"Genanskaffelsespriser!$E$32","v":50},0,{"$f":"IF(COUNTIF(D153:D153,\"<>0\")<=1,IF((SUM(D153:D153))>0,(+HLOOKUP((SUM(D153:D153)),Priser!$E$96:$J$108,4)+((SUM(D153:D153))-HLOOKUP((SUM(D153:D153)),Priser!$E$96:$J$108,1))*HLOOKUP((SUM(D153:D153)),Priser!$E$96:$J$108,5))/(SUM(D153:D153)),0)*Priser!$Q$99*(1+Genanskaffelsespriser!$D$196),\"Fejl\")","v":0},0,0]
["Beluftningsanlæg, ika-beluftning, Mek./EL","m³/h ",{"$f":"Genanskaffelsespriser!$E$33","v":25},0,{"$f":"IF(COUNTIF(D154:D154,\"<>0\")<=1,IF((SUM(D154:D154))>0,(+HLOOKUP((SUM(D154:D154)),Priser!$E$96:$J$108,4)+((SUM(D154:D154))-HLOOKUP((SUM(D154:D154)),Priser!$E$96:$J$108,1))*HLOOKUP((SUM(D154:D154)),Priser!$E$96:$J$108,5))/(SUM(D154:D154)),0)*Priser!$R$99*(1+Genanskaffelsespriser!$D$196),\"Fejl\")","v":0},0,0]
["Beluftningsanlæg, bundbeluftbning, Konstruktioner","m³/h ",{"$f":"Genanskaffelsespriser!$E$34","v":50},0,{"$f":"IF(COUNTIF(D155:D155,\"<>0\")<=1,IF((SUM(D155:D155))>0,(+HLOOKUP((SUM(D155:D155)),Priser!$E$96:$J$108,8)+((SUM(D155:D155))-HLOOKUP((SUM(D155:D155)),Priser!$E$96:$J$108,1))*HLOOKUP((SUM(D155:D155)),Priser!$E$96:$J$108,9))/(SUM(D155:D155)),0)*Priser!$Q$103*(1+Genanskaffelsespriser!$D$196),\"Fejl\")","v":0},0,0]
["Beluftningsanlæg, bundbeluftbning, Mek./EL","m³/h ",{"$f":"Genanskaffelsespriser!$E$35","v":25},0,{"$f":"IF(COUNTIF(D156:D156,\"<>0\")<=1,IF((SUM(D156:D156))>0,(+HLOOKUP((SUM(D156:D156)),Priser!$E$96:$J$108,8)+((SUM(D156:D156))-HLOOKUP((SUM(D156:D156)),Priser!$E$96:$J$108,1))*HLOOKUP((SUM(D156:D156)),Priser!$E$96:$J$108,9))/(SUM(D156:D156)),0)*Priser!$R$103*(1+Genanskaffelsespriser!$D$196),\"Fejl\")","v":0},0,0]
["Beluftningsanlæg, rislebakke, Konstruktioner","m³/h ",{"$f":"Genanskaffelsespriser!$E$36","v":50},0,{"$f":"IF(COUNTIF(D157:D157,\"<>0\")<=1,IF((SUM(D157:D157))>0,(+HLOOKUP((SUM(D157:D157)),Priser!$E$96:$J$108,6)+((SUM(D157:D157))-HLOOKUP((SUM(D157:D157)),Priser!$E$96:$J$108,1))*HLOOKUP((SUM(D157:D157)),Priser!$E$96:$J$108,7))/(SUM(D157:D157)),0)*Priser!$Q$103*(1+Genanskaffelsespriser!$D$196),\"Fejl\")","v":0},0,0]
["Beluftningsanlæg, rislebakke, Mek./EL","m³/h ",{"$f":"Genanskaffelsespriser!$E$37","v":25},0,{"$f":"IF(COUNTIF(D158:D158,\"<>0\")<=1,IF((SUM(D158:D158))>0,(+HLOOKUP((SUM(D158:D158)),Priser!$E$96:$J$108,6)+((SUM(D158:D158))-HLOOKUP((SUM(D158:D158)),Priser!$E$96:$J$108,1))*HLOOKUP((SUM(D158:D158)),Priser!$E$96:$J$108,7))/(SUM(D158:D158)),0)*Priser!$R$103*(1+Genanskaffelsespriser!$D$196),\"Fejl\")","v":0},0,0]
["Beluftningsanlæg, kompressorbeluftning","m³/h ",{"$f":"Genanskaffelsespriser!$E$38","v":25},0,{"$f":"IF(COUNTIF(D159:D159,\"<>0\")<=1,IF((SUM(D159:D159))>0,(+HLOOKUP((SUM(D159:D159)),Priser!$E$96:$J$108,10)+((SUM(D159:D159))-HLOOKUP((SUM(D159:D159)),Priser!$E$96:$J$108,1))*HLOOKUP((SUM(D159:D159)),Priser!$E$96:$J$108,11))/(SUM(D159:D159)),0)*(1+Genanskaffelsespriser!$D$196),\"Fejl\")","v":0},0,0]
["Beluftningsanlæg, ren ilt","m³/h ",{"$f":"Genanskaffelsespriser!$E$39","v":25},0,{"$f":"IF(COUNTIF(D160:D160,\"<>0\")<=1,IF((SUM(D160:D160))>0,(+HLOOKUP((SUM(D160:D160)),Priser!$E$96:$J$108,12)+((SUM(D160:D160))-HLOOKUP((SUM(D160:D160)),Priser!$E$96:$J$108,1))*HLOOKUP((SUM(D160:D160)),Priser!$E$96:$J$108,13))/(SUM(D160:D160)),0)*(1+Genanskaffelsespriser!$D$196),\"Fejl\")","v":0},0,0]
["Behandlingsanlæg, kalk anlæg","m³/h ",{"$f":"Genanskaffelsespriser!$E$40","v":25},0,{"$f":"IF(COUNTIF(D161:D161,\"<>0\")<=1,IF((SUM(D161:D161))>0,(+HLOOKUP((SUM(D161:D161)),Priser!$E$118:$I$123,3)+((SUM(D161:D161))-HLOOKUP((SUM(D161:D161)),Priser!$E$118:$I$123,1))*HLOOKUP((SUM(D161:D161)),Priser!$E$118:$I$123,4))/(SUM(D161:D161)),0)*(1+Genanskaffelsespriser!$D$196),\"Fejl\")","v":0},0,0]
["Behandlingsanlæg, luddosering","m³/h ",{"$f":"Genanskaffelsespriser!$E$41","v":25},0,{"$f":"IF(COUNTIF(D162:D162,\"<>0\")<=1,IF((SUM(D162:D162))>0,(+HLOOKUP((SUM(D162:D162)),Priser!$E$118:$I$123,5)+((SUM(D162:D162))-HLOOKUP((SUM(D162:D162)),Priser!$E$118:$I$123,1))*HLOOKUP((SUM(D162:D162)),Priser!$E$118:$I$123,6))/(SUM(D162:D162)),0)*(1+Genanskaffelsespriser!$D$196),\"Fejl\")","v":0},0,0]
["Filteranlæg, åbne filtre, enkelt filtrering, Konstruktioner","m³/h ",{"$f":"Genanskaffelsespriser!$E$42","v":50},0,{"$f":"IF(COUNTIF(D163:D163,\"<>0\")<=1,IF((SUM(D163:D163))>0,(+HLOOKUP((SUM(D163:D163)),Priser!$E$132:$I$141,9)+((SUM(D163:D163))-HLOOKUP((SUM(D163:D163)),Priser!$E$132:$I$141,1))*HLOOKUP((SUM(D163:D163)),Priser!$E$132:$I$141,10))/(SUM(D163:D163)),0)*Priser!$Q$140*(1+Genanskaffelsespriser!$D$196),\"Fejl\")","v":0},0,0]
["Filteranlæg, åbne filtre, enkelt filtrering, Mek./EL","m³/h ",{"$f":"Genanskaffelsespriser!$E$43","v":25},0,{"$f":"IF(COUNTIF(D164:D164,\"<>0\")<=1,IF((SUM(D164:D164))>0,(+HLOOKUP((SUM(D164:D164)),Priser!$E$132:$I$141,9)+((SUM(D164:D164))-HLOOKUP((SUM(D164:D164)),Priser!$E$132:$I$141,1))*HLOOKUP((SUM(D164:D164)),Priser!$E$132:$I$141,10))/(SUM(D164:D164)),0)*Priser!$R$140*(1+Genanskaffelsespriser!$D$196),\"Fejl\")","v":0},0,0]
["Filteranlæg, åbne filtre, dobbelt filtrering, Konstruktioner","m³/h ",{"$f":"Genanskaffelsespriser!$E$44","v":50},0,{"$f":"IF(COUNTIF(D165:D165,\"<>0\")<=1,IF((SUM(D165:D165))>0,(+HLOOKUP((SUM(D165:D165)),Priser!$E$132:$I$141,6)+((SUM(D165:D165))-HLOOKUP((SUM(D165:D165)),Priser!$E$132:$I$141,1))*HLOOKUP((SUM(D165:D165)),Priser!$E$132:$I$141,7))/(SUM(D165:D165)),0)*Priser!$Q$138*(1+Genanskaffelsespriser!$D$196),\"Fejl\")","v":0},0,0]
["Filteranlæg, åbne filtre, dobbelt filtrering, Mek./EL","m³/h ",{"$f":"Genanskaffelsespriser!$E$45","v":25},0,{"$f":"IF(COUNTIF(D166:D166,\"<>0\")<=1,IF((SUM(D166:D166))>0,(+HLOOKUP((SUM(D166:D166)),Priser!$E$132:$I$141,6)+((SUM(D166:D166))-HLOOKUP((SUM(D166:D166)),Priser!$E$132:$I$141,1))*HLOOKUP((SUM(D166:D166)),Priser!$E$132:$I$141,7))/(SUM(D166:D166)),0)*Priser!$R$138*(1+Genanskaffelsespriser!$D$196),\"Fejl\")","v":0},0,0]
["Filteranlæg, trykfiltre, enkelt filtrering","m³/h ",{"$f":"Genanskaffelsespriser!$E$46","v":25},0,{"$f":"IF(COUNTIF(D167:D167,\"<>0\")<=1,IF((SUM(D167:D167))>0,(+HLOOKUP((SUM(D167:D167)),Priser!$E$150:$J$152,2)+((SUM(D167:D167))-HLOOKUP((SUM(D167:D167)),Priser!$E$150:$J$152,1))*HLOOKUP((SUM(D167:D167)),Priser!$E$150:$J$152,3))/(SUM(D167:D167)),0)*(1+Genanskaffelsespriser!$D$196),\"Fejl\")","v":0},0,0]
["Filteranlæg, trykfiltre, dobbelt filtrering","m³/h ",{"$f":"Genanskaffelsespriser!$E$47","v":25},0,{"$f":"IF(COUNTIF(D168:D168,\"<>0\")<=1,IF((SUM(D168:D168))>0,(+HLOOKUP((SUM(D168:D168)),Priser!$E$154:$J$156,2)+((SUM(D168:D168))-HLOOKUP((SUM(D168:D168)),Priser!$E$154:$J$156,1))*HLOOKUP((SUM(D168:D168)),Priser!$E$154:$J$156,3))/(SUM(D168:D168)),0)*Priser!$R$138*(1+Genanskaffelsespriser!$D$196),\"Fejl\")","v":0},0,0]
["Rentvandsbeholder  insitu støbt","m³",{"$f":"Genanskaffelsespriser!$E$48","v":50},0,{"$f":"IF(COUNTIF(D169:D169,\"<>0\")<=1,IF((SUM(D169:D169))>0,(+HLOOKUP((SUM(D169:D169)),Priser!$E$168:$J$170,2)+((SUM(D169:D169))-HLOOKUP((SUM(D169:D169)),Priser!$E$168:$J$170,1))*HLOOKUP((SUM(D169:D169)),Priser!$E$168:$J$170,3))/(SUM(D169:D169)),0)*(1+Genanskaffelsespriser!$D$196),\"Fejl\")","v":0},0,0]
["Rentvandsbeholder  element","m³",{"$f":"Genanskaffelsespriser!$E$49","v":50},0,{"$f":"IF(COUNTIF(D170:D170,\"<>0\")<=1,IF((SUM(D170:D170))>0,(+HLOOKUP(SUM(D170:D170),Priser!$E$175:$J$177,2)+((SUM(D170:D170))-HLOOKUP((SUM(D170:D170)),Priser!$E$175:$J$177,1))*HLOOKUP((SUM(D170:D170)),Priser!$E$175:$J$177,3))/(SUM(D170:D170)),0)*(1+Genanskaffelsespriser!$D$196),\"Fejl\")","v":0},0,0]
["Udpumpningsanlæg, rentvandspumper på vandværk","m³/h ",{"$f":"Genanskaffelsespriser!$E$50","v":25},0,{"$f":"IF(COUNTIF(D171:D171,\"<>0\")<=1,IF((SUM(D171:D171))>0,(+HLOOKUP((SUM(D171:D171)),Priser!$E$236:$J$238,2)+((SUM(D171:D171))-HLOOKUP((SUM(D171:D171)),Priser!$E$236:$J$238,1))*HLOOKUP((SUM(D171:D171)),Priser!$E$236:$J$238,3))/(SUM(D171:D171)),0)*(1+Genanskaffelsespriser!$D$196),\"Fejl\")","v":0},0,0]
["Udpumpningsanlæg, frekvensomformer","kW",{"$f":"Genanskaffelsespriser!$E$51","v":25},0,{"$f":"IF(COUNTIF(D172:D172,\"<>0\")<=1,IF((SUM(D172:D172))>0,(+HLOOKUP((SUM(D172:D172)),Priser!$E$255:$J$257,2)+((SUM(D172:D172))-HLOOKUP((SUM(D172:D172)),Priser!$E$255:$J$257,1))*HLOOKUP((SUM(D172:D172)),Priser!$E$255:$J$257,3))/(SUM(D172:D172)),0)*(1+Genanskaffelsespriser!$D$196),\"Fejl\")","v":0},0,0]
["Udpumpningsanlæg, Hydrofor","liter",{"$f":"Genanskaffelsespriser!$E$52","v":25},0,{"$f":"IF(COUNTIF(D173:D173,\"<>0\")<=1,IF((SUM(D173:D173))>0,(+HLOOKUP((SUM(D173:D173)),Priser!$E$275:$J$277,2)+((SUM(D173:D173))-HLOOKUP((SUM(D173:D173)),Priser!$E$275:$J$277,1))*HLOOKUP((SUM(D173:D173)),Priser!$E$275:$J$277,3))/(SUM(D173:D173)),0)*(1+Genanskaffelsespriser!$D$196),\"Fejl\")","v":0},0,0]
["Skyllevand-/slamhåndteringsanlæg - lukkede betonbeholdere","m³",{"$f":"Genanskaffelsespriser!$E$53","v":50},0,{"$f":"IF(COUNTIF(D174:D174,\"<>0\")<=1,IF((SUM(D174:D174))>0,(+HLOOKUP((SUM(D174:D174)),Priser!$E$207:$J$209,2)+((SUM(D174:D174))-HLOOKUP((SUM(D174:D174)),Priser!$E$207:$J$209,1))*HLOOKUP((SUM(D174:D174)),Priser!$E$207:$J$209,3))/(SUM(D174:D174)),0)*(1+Genanskaffelsespriser!$D$196),\"Fejl\")","v":0},0,0]
["Skyllevand-/slamhåndteringsanl. - åbne med faste sider/bund","m³",{"$f":"Genanskaffelsespriser!$E$54","v":50},0,{"$f":"IF(COUNTIF(D175:D175,\"<>0\")<=1,IF((SUM(D175:D175))>0,(+HLOOKUP((SUM(D175:D175)),Priser!$E$207:$J$212,5)+((SUM(D175:D175))-HLOOKUP((SUM(D175:D175)),Priser!$E$207:$J$212,1))*HLOOKUP((SUM(D175:D175)),Priser!$E$207:$J$212,6))/(SUM(D175:D175)),0)*(1+Genanskaffelsespriser!$D$196),\"Fejl\")","v":0},0,0]
["Skyllevand-/slamhåndteringsanlæg - jordbassiner","m³",{"$f":"Genanskaffelsespriser!$E$55","v":50},0,{"$f":"IF(COUNTIF(D176:D176,\"<>0\")<=1,IF((SUM(D176:D176))>0,(+HLOOKUP((SUM(D176:D176)),Priser!$E$207:$J$215,8)+((SUM(D176:D176))-HLOOKUP((SUM(D176:D176)),Priser!$E$207:$J$215,1))*HLOOKUP((SUM(D176:D176)),Priser!$E$207:$J$215,9))/(SUM(D176:D176)),0)*(1+Genanskaffelsespriser!$D$196),\"Fejl\")","v":0},0,0]
["Skyllevandsbehandling, inkl. UV-filter mv., Mek./EL","m³/h.",{"$f":"Genanskaffelsespriser!$E$56","v":25},0,{"$f":"IF(COUNTIF(D177:D177,\"<>0\")<=1,IF((SUM(D177:D177))>0,(+HLOOKUP((SUM(D177:D177)),Priser!$F$374:$H$376,2)+((SUM(D177:D177))-HLOOKUP((SUM(D177:D177)),Priser!$F$374:$H$376,1))*HLOOKUP((SUM(D177:D177)),Priser!$F$374:$H$376,3))/(SUM(D177:D177)),0)*Priser!$Q$376*(1+Genanskaffelsespriser!$D$196),\"Fejl\")","v":0},0,0]
["Skyllevandsbehandling, inkl. UV-filter mv., SRO","m³/h.",{"$f":"Genanskaffelsespriser!$E$57","v":10},0,{"$f":"IF(COUNTIF(D178:D178,\"<>0\")<=1,IF((SUM(D178:D178))>0,(+HLOOKUP((SUM(D178:D178)),Priser!$F$374:$H$376,2)+((SUM(D178:D178))-HLOOKUP((SUM(D178:D178)),Priser!$F$374:$H$376,1))*HLOOKUP((SUM(D178:D178)),Priser!$F$374:$H$376,3))/(SUM(D178:D178)),0)*Priser!$R$376*(1+Genanskaffelsespriser!$D$196),\"Fejl\")","v":0},0,0]
["Nødstrømsanlæg på vandværk","kW",{"$f":"Genanskaffelsespriser!$E$58","v":25},0,{"$f":"IF(COUNTIF(D179:D179,\"<>0\")<=1,IF((SUM(D179:D179))>0,(+HLOOKUP((SUM(D179:D179)),Priser!$E$294:$J$296,2)+((SUM(D179:D179))-HLOOKUP((SUM(D179:D179)),Priser!$E$294:$J$296,1))*HLOOKUP((SUM(D179:D179)),Priser!$E$294:$J$296,3))/(SUM(D179:D179)),0)*(1+Genanskaffelsespriser!$D$196),\"Fejl\")","v":0},0,0]
["Elanlæg og SRO-anlæg - vandværk, Elanlæg","m³/h.",{"$f":"Genanskaffelsespriser!$E$59","v":25},0,{"$f":"IF(COUNTIF(D180:D180,\"<>0\")<=1,IF((SUM(D180:D180))>0,((+HLOOKUP((SUM(D180:D180)),Priser!$E$311:$J$315,4)+((SUM(D180:D180))-HLOOKUP((SUM(D180:D180)),Priser!$E$311:$J$315,1))*HLOOKUP((SUM(D180:D180)),Priser!$E$311:$J$315,5))/(SUM(D180:D180))),0)*(1+Genanskaffelsespriser!$D$196),\"Fejl\")","v":0},0,0]
["Elanlæg og SRO-anlæg - vandværk, SRO","m³/h.",{"$f":"Genanskaffelsespriser!$E$60","v":10},0,{"$f":"IF(COUNTIF(D181:D181,\"<>0\")<=1,IF((SUM(D181:D181))>0,(+HLOOKUP((SUM(D181:D181)),Priser!$E$311:$J$318,7)+((SUM(D181:D181))-HLOOKUP((SUM(D181:D181)),Priser!$E$311:$J$318,1))*HLOOKUP((SUM(D181:D181)),Priser!$E$311:$J$318,8))/(SUM(D181:D181)),0)*(1+Genanskaffelsespriser!$D$196),\"Fejl\")","v":0},0,0]
["Bygninger"]
["Etageareal vandbehandlingsbygning","m²",{"$f":"Genanskaffelsespriser!E62","v":75},0,{"$f":"Genanskaffelsespriser!$D62","v":18108},{"$f":"D183*E183","v":0},{"$f":"F183/C183","v":0}]
["Etageareal kontor og mandskabsfaciliteter","m²",{"$f":"Genanskaffelsespriser!E63","v":75},0,{"$f":"Genanskaffelsespriser!$D63","v":19309},0,0]
["Værksted","m²",{"$f":"Genanskaffelsespriser!E64","v":75},0,{"$f":"Genanskaffelsespriser!$D64","v":14921},0,0]
["Lager","m²",{"$f":"Genanskaffelsespriser!E65","v":75},0,{"$f":"Genanskaffelsespriser!$D65","v":14921},0,0]
["Garage og rørlager","m²",{"$f":"Genanskaffelsespriser!E66","v":75},0,{"$f":"Genanskaffelsespriser!$D66","v":10444},0,0]
["Bygning for trykforøgere","m²",{"$f":"Genanskaffelsespriser!E67","v":75},0,{"$f":"Genanskaffelsespriser!$D67","v":20318},0,0]
["Laboratorium (bygning, inkl. inventar+udstyr), Konstruktioner","m²",{"$f":"Genanskaffelsespriser!E68","v":75},0,{"$f":"Genanskaffelsespriser!$D68","v":20362},0,0]
["Laboratorium (bygning, inkl. inventar+udstyr), Mek./EL","m²",{"$f":"Genanskaffelsespriser!E69","v":10},0,{"$f":"Genanskaffelsespriser!$D69","v":13575},0,0]
["Andre"]
["Sikring (terror, hærværk), Mek./EL","stk.",{"$f":"Genanskaffelsespriser!E71","v":25},0,{"$f":"Genanskaffelsespriser!$D71","v":6372},{"$f":"D192*E192","v":0},0]
["Sikring (terror, hærværk), SRO","stk.",{"$f":"Genanskaffelsespriser!E72","v":10},0,{"$f":"Genanskaffelsespriser!$D72","v":14868},0,0]
["Sikring, mindre avanceret (hegn, porte), Mek./EL","stk.",{"$f":"Genanskaffelsespriser!E73","v":25},0,{"$f":"Genanskaffelsespriser!$D73","v":26067},0,0]
["Sikring, mindre avanceret (hegn, porte), SRO","stk.",{"$f":"Genanskaffelsespriser!E74","v":10},0,{"$f":"Genanskaffelsespriser!$D74","v":60823},0,0]
["Sikring, avanceret (hegn, porte og overvågningssystemer), Mek./EL","stk.",{"$f":"Genanskaffelsespriser!E75","v":25},0,{"$f":"Genanskaffelsespriser!$D75","v":56318},0,0]
["Sikring, avanceret (hegn, porte og overvågningssystemer), SRO","stk.",{"$f":"Genanskaffelsespriser!E76","v":10},0,{"$f":"Genanskaffelsespriser!$D76","v":225271},0,0]

{"sheet":"Distributionsanlæg","index":1,"n_rows":162,"n_cols":7,"rows_kept":162,"cut":false,"hidden":false,"merged":[]}
["DISTRIBUTIONSANLÆG","Enhed","Standardlevetid","Mængde","Enhedspris","Samlet værdi","Afskrivning"]
["Ledningsnet - Land"]
["Ledningsnet ≤ Ø50 mm","meter",{"$f":"Genanskaffelsespriser!E81","v":75},0,{"$f":"Genanskaffelsespriser!$D81","v":529},{"$f":"D3*E3","v":0},{"$f":"F3/C3","v":0}]
["Ø 50mm < Ledningsnet ≤ Ø110 mm","meter",{"$f":"Genanskaffelsespriser!E82","v":75},0,{"$f":"Genanskaffelsespriser!$D82","v":808},{"$f":"D4*E4","v":0},{"$f":"F4/C4","v":0}]
["Ø110 mm < Ledningsnet ≤ Ø 250 mm","meter",{"$f":"Genanskaffelsespriser!E83","v":75},0,{"$f":"Genanskaffelsespriser!$D83","v":1513},0,0]
["Ø 250 mm < Ledningsnet ≤ Ø 500mm","meter",{"$f":"Genanskaffelsespriser!E84","v":75},0,{"$f":"Genanskaffelsespriser!$D84","v":2944},0,0]
["Ledningsnet > Ø 500 mm","meter",{"$f":"Genanskaffelsespriser!E85","v":75},0,{"$f":"Genanskaffelsespriser!$D85","v":5751},0,0]
["Støbejernsledninger ≤ Ø50 mm","meter",{"$f":"Genanskaffelsespriser!E86","v":100},0,{"$f":"Genanskaffelsespriser!$D86","v":899},0,0]
["Støbejernsledninger Ø 50mm < Ledningsnet ≤ Ø110 mm","meter",{"$f":"Genanskaffelsespriser!E87","v":100},0,{"$f":"Genanskaffelsespriser!$D87","v":1053},0,0]
["Støbejernsledninger Ø110 mm < Ledningsnet ≤ Ø 250 mm","meter",{"$f":"Genanskaffelsespriser!E88","v":100},0,{"$f":"Genanskaffelsespriser!$D88","v":1490},0,0]
["Støbejernsledninger Ø 250 mm < Ledningsnet ≤ Ø 500mm","meter",{"$f":"Genanskaffelsespriser!E89","v":100},0,{"$f":"Genanskaffelsespriser!$D89","v":2762},0,0]
["Støbejernsledninger Ledningsnet > Ø 500 mm","meter",{"$f":"Genanskaffelsespriser!E90","v":100},0,{"$f":"Genanskaffelsespriser!$D90","v":5484},0,0]
["Eternitledninger ≤ Ø50 mm","meter",{"$f":"Genanskaffelsespriser!E91","v":75},0,{"$f":"Genanskaffelsespriser!$D91","v":655},0,0]
["Eternitledninger Ø 50mm < Ledningsnet ≤ Ø110 mm","meter",{"$f":"Genanskaffelsespriser!E92","v":75},0,{"$f":"Genanskaffelsespriser!$D92","v":885},0,0]
["Eternitledninger Ø110 mm < Ledningsnet ≤ Ø 250 mm","meter",{"$f":"Genanskaffelsespriser!E93","v":75},0,{"$f":"Genanskaffelsespriser!$D93","v":1287},0,0]
["Eternitledninger Ø 250 mm < Ledningsnet ≤ Ø 500mm","meter",{"$f":"Genanskaffelsespriser!E94","v":75},0,{"$f":"Genanskaffelsespriser!$D94","v":3056},0,0]
["Eternitledninger Ledningsnet > Ø 500 mm","meter",{"$f":"Genanskaffelsespriser!E95","v":75},0,{"$f":"Genanskaffelsespriser!$D95","v":8477},0,0]
["Skelbrønd, Konstruktioner","stk.",{"$f":"Genanskaffelsespriser!E96","v":50},0,{"$f":"Genanskaffelsespriser!$D96","v":10415},0,0]
["Skelbrønd, Mek./EL","stk.",{"$f":"Genanskaffelsespriser!E97","v":15},0,{"$f":"Genanskaffelsespriser!$D97","v":15623},0,0]
["Inspektionsbrønd, Konstruktioner","stk.",{"$f":"Genanskaffelsespriser!E98","v":50},0,{"$f":"Genanskaffelsespriser!$D98","v":10415},0,0]
["Inspektionsbrønd, Mek./EL","stk.",{"$f":"Genanskaffelsespriser!E99","v":15},0,{"$f":"Genanskaffelsespriser!$D99","v":13019},0,0]
["Stik på ledningsnet, Konstruktioner","stk.",{"$f":"Genanskaffelsespriser!E100","v":75},0,{"$f":"Genanskaffelsespriser!$D100","v":4722},0,0]
["Stik på ledningsnet, Mek./EL","stk.",{"$f":"Genanskaffelsespriser!E101","v":75},0,{"$f":"Genanskaffelsespriser!$D101","v":4722},0,0]
["Ledningsnet - By"]
["Ledningsnet ≤ Ø50 mm","meter",{"$f":"Genanskaffelsespriser!E103","v":75},0,{"$f":"Genanskaffelsespriser!$D103","v":650},0,0]
["Ø 50mm < Ledningsnet ≤ Ø110 mm","meter",{"$f":"Genanskaffelsespriser!E104","v":75},0,{"$f":"Genanskaffelsespriser!$D104","v":958},0,0]
["Ø110 mm < Ledningsnet ≤ Ø 250 mm","meter",{"$f":"Genanskaffelsespriser!E105","v":75},0,{"$f":"Genanskaffelsespriser!$D105","v":1684},0,0]
["Ø 250 mm < Ledningsnet ≤ Ø 500mm","meter",{"$f":"Genanskaffelsespriser!E106","v":75},0,{"$f":"Genanskaffelsespriser!$D106","v":3153},0,0]
["Ledningsnet > Ø 500 mm","meter",{"$f":"Genanskaffelsespriser!E107","v":75},0,{"$f":"Genanskaffelsespriser!$D107","v":5998},0,0]
["Støbejernsledninger ≤ Ø50 mm","meter",{"$f":"Genanskaffelsespriser!E108","v":100},0,{"$f":"Genanskaffelsespriser!$D108","v":1020},0,0]
["Støbejernsledninger Ø 50mm < Ledningsnet ≤ Ø110 mm","meter",{"$f":"Genanskaffelsespriser!E109","v":100},0,{"$f":"Genanskaffelsespriser!$D109","v":1203},0,0]
["Støbejernsledninger Ø110 mm < Ledningsnet ≤ Ø 250 mm","meter",{"$f":"Genanskaffelsespriser!E110","v":100},0,{"$f":"Genanskaffelsespriser!$D110","v":1661},0,0]
["Støbejernsledninger Ø 250 mm < Ledningsnet ≤ Ø 500mm","meter",{"$f":"Genanskaffelsespriser!E111","v":100},0,{"$f":"Genanskaffelsespriser!$D111","v":2971},0,0]
["Støbejernsledninger Ledningsnet > Ø 500 mm","meter",{"$f":"Genanskaffelsespriser!E112","v":100},0,{"$f":"Genanskaffelsespriser!$D112","v":5731},0,0]
["Eternitledninger ≤ Ø50 mm","meter",{"$f":"Genanskaffelsespriser!E113","v":75},0,{"$f":"Genanskaffelsespriser!$D113","v":776},0,0]
["Eternitledninger Ø 50mm < Ledningsnet ≤ Ø110 mm","meter",{"$f":"Genanskaffelsespriser!E114","v":75},0,{"$f":"Genanskaffelsespriser!$D114","v":1035},0,0]
["Eternitledninger Ø110 mm < Ledningsnet ≤ Ø 250 mm","meter",{"$f":"Genanskaffelsespriser!E115","v":75},0,{"$f":"Genanskaffelsespriser!$D115","v":1456},0,0]
["Eternitledninger Ø 250 mm < Ledningsnet ≤ Ø 500mm","meter",{"$f":"Genanskaffelsespriser!E116","v":75},0,{"$f":"Genanskaffelsespriser!$D116","v":3265},0,0]
["Eternitledninger Ledningsnet > Ø 500 mm","meter",{"$f":"Genanskaffelsespriser!E117","v":75},0,{"$f":"Genanskaffelsespriser!$D117","v":8724},0,0]
["Skelbrønd, Konstruktioner","stk.",{"$f":"Genanskaffelsespriser!E118","v":50},0,{"$f":"Genanskaffelsespriser!$D118","v":11457},0,0]
["Skelbrønd, Mek./EL","stk.",{"$f":"Genanskaffelsespriser!E119","v":15},0,{"$f":"Genanskaffelsespriser!$D119","v":17185},0,0]
["Inspektionsbrønd, Konstruktioner","stk.",{"$f":"Genanskaffelsespriser!E120","v":50},0,{"$f":"Genanskaffelsespriser!$D120","v":11457},0,0]
["Inspektionsbrønd, Mek./EL","stk.",{"$f":"Genanskaffelsespriser!E121","v":15},0,{"$f":"Genanskaffelsespriser!$D121","v":14321},0,0]
["Stik på ledningsnet, Konstruktioner","stk.",{"$f":"Genanskaffelsespriser!E122","v":75},0,{"$f":"Genanskaffelsespriser!$D122","v":5666},0,0]
["Stik på ledningsnet, Mek./EL","stk.",{"$f":"Genanskaffelsespriser!E123","v":75},0,{"$f":"Genanskaffelsespriser!$D123","v":5666},0,0]
["Ledningsnet - City"]
["Ledningsnet ≤ Ø50 mm","meter",{"$f":"Genanskaffelsespriser!E125","v":75},0,{"$f":"Genanskaffelsespriser!$D125","v":1078},0,0]
["Ø 50mm < Ledningsnet ≤ Ø110 mm","meter",{"$f":"Genanskaffelsespriser!E126","v":75},0,{"$f":"Genanskaffelsespriser!$D126","v":1495},0,0]
["Ø110 mm < Ledningsnet ≤ Ø 250 mm","meter",{"$f":"Genanskaffelsespriser!E127","v":75},0,{"$f":"Genanskaffelsespriser!$D127","v":2192},0,0]
["Ø 250 mm < Ledningsnet ≤ Ø 500mm","meter",{"$f":"Genanskaffelsespriser!E128","v":75},0,{"$f":"Genanskaffelsespriser!$D128","v":3773},0,0]
["Ledningsnet > Ø 500 mm","meter",{"$f":"Genanskaffelsespriser!E129","v":75},0,{"$f":"Genanskaffelsespriser!$D129","v":6732},0,0]
["Støbejernsledninger ≤ Ø50 mm","meter",{"$f":"Genanskaffelsespriser!E130","v":100},0,{"$f":"Genanskaffelsespriser!$D130","v":1448},0,0]
["Støbejernsledninger Ø 50mm < Ledningsnet ≤ Ø110 mm","meter",{"$f":"Genanskaffelsespriser!E131","v":100},0,{"$f":"Genanskaffelsespriser!$D131","v":1740},0,0]
["Støbejernsledninger Ø110 mm < Ledningsnet ≤ Ø 250 mm","meter",{"$f":"Genanskaffelsespriser!E132","v":100},0,{"$f":"Genanskaffelsespriser!$D132","v":2169},0,0]
["Støbejernsledninger Ø 250 mm < Ledningsnet ≤ Ø 500mm","meter",{"$f":"Genanskaffelsespriser!E133","v":100},0,{"$f":"Genanskaffelsespriser!$D133","v":3591},0,0]
["Støbejernsledninger Ledningsnet > Ø 500 mm","meter",{"$f":"Genanskaffelsespriser!E134","v":100},0,{"$f":"Genanskaffelsespriser!$D134","v":6465},0,0]
["Eternitledninger ≤ Ø50 mm","meter",{"$f":"Genanskaffelsespriser!E135","v":75},0,{"$f":"Genanskaffelsespriser!$D135","v":1204},0,0]
["Eternitledninger Ø 50mm < Ledningsnet ≤ Ø110 mm","meter",{"$f":"Genanskaffelsespriser!E136","v":75},0,{"$f":"Genanskaffelsespriser!$D136","v":1572},0,0]
["Eternitledninger Ø110 mm < Ledningsnet ≤ Ø 250 mm","meter",{"$f":"Genanskaffelsespriser!E137","v":75},0,{"$f":"Genanskaffelsespriser!$D137","v":1966},0,0]
["Eternitledninger Ø 250 mm < Ledningsnet ≤ Ø 500mm","meter",{"$f":"Genanskaffelsespriser!E138","v":75},0,{"$f":"Genanskaffelsespriser!$D138","v":3885},0,0]
["Eternitledninger Ledningsnet > Ø 500 mm","meter",{"$f":"Genanskaffelsespriser!E139","v":75},0,{"$f":"Genanskaffelsespriser!$D139","v":9458},0,0]
["Skelbrønd, Konstruktioner","stk.",{"$f":"Genanskaffelsespriser!E140","v":50},0,{"$f":"Genanskaffelsespriser!$D140","v":12498},0,0]
["Skelbrønd, Mek./EL","stk.",{"$f":"Genanskaffelsespriser!E141","v":15},0,{"$f":"Genanskaffelsespriser!$D141","v":18747},0,0]
["Inspektionsbrønd, Konstruktioner","stk.",{"$f":"Genanskaffelsespriser!E142","v":50},0,{"$f":"Genanskaffelsespriser!$D142","v":12498},0,0]
["Inspektionsbrønd, Mek./EL","stk.",{"$f":"Genanskaffelsespriser!E143","v":15},0,{"$f":"Genanskaffelsespriser!$D143","v":15623},0,0]
["Stik på ledningsnet, Konstruktioner","stk.",{"$f":"Genanskaffelsespriser!E144","v":75},0,{"$f":"Genanskaffelsespriser!$D144","v":6139},0,0]
["Stik på ledningsnet, Mek./EL","stk.",{"$f":"Genanskaffelsespriser!E145","v":75},0,{"$f":"Genanskaffelsespriser!$D145","v":6139},0,0]
["Ledningsnet - Indre city"]
["Ledningsnet ≤ Ø50 mm","meter",{"$f":"Genanskaffelsespriser!E147","v":75},0,{"$f":"Genanskaffelsespriser!$D147","v":1697},0,{"$f":"F69/C69","v":0}]
["Ø 50mm < Ledningsnet ≤ Ø110 mm","meter",{"$f":"Genanskaffelsespriser!E148","v":75},0,{"$f":"Genanskaffelsespriser!$D148","v":2268},0,0]
["Ø110 mm < Ledningsnet ≤ Ø 250 mm","meter",{"$f":"Genanskaffelsespriser!E149","v":75},0,{"$f":"Genanskaffelsespriser!$D149","v":3009},{"$f":"D71*E71","v":0},0]
["Ø 250 mm < Ledningsnet ≤ Ø 500mm","meter",{"$f":"Genanskaffelsespriser!E150","v":75},0,{"$f":"Genanskaffelsespriser!$D150","v":4773},0,0]
["Ledningsnet > Ø 500 mm","meter",{"$f":"Genanskaffelsespriser!E151","v":75},0,{"$f":"Genanskaffelsespriser!$D151","v":7915},0,0]
["Støbejernsledninger ≤ Ø50 mm","meter",{"$f":"Genanskaffelsespriser!E152","v":100},0,{"$f":"Genanskaffelsespriser!$D152","v":2067},0,0]
["Støbejernsledninger Ø 50mm < Ledningsnet ≤ Ø110 mm","meter",{"$f":"Genanskaffelsespriser!E153","v":100},0,{"$f":"Genanskaffelsespriser!$D153","v":2513},0,0]
["Støbejernsledninger Ø110 mm < Ledningsnet ≤ Ø 250 mm","meter",{"$f":"Genanskaffelsespriser!E154","v":100},0,{"$f":"Genanskaffelsespriser!$D154","v":2986},0,0]
["Støbejernsledninger Ø 250 mm < Ledningsnet ≤ Ø 500mm","meter",{"$f":"Genanskaffelsespriser!E155","v":100},0,{"$f":"Genanskaffelsespriser!$D155","v":4591},0,0]
["Støbejernsledninger Ledningsnet > Ø 500 mm","meter",{"$f":"Genanskaffelsespriser!E156","v":100},0,{"$f":"Genanskaffelsespriser!$D156","v":7648},0,0]
["Eternitledninger ≤ Ø50 mm","meter",{"$f":"Genanskaffelsespriser!E157","v":75},0,{"$f":"Genanskaffelsespriser!$D157","v":1823},0,0]
["Eternitledninger Ø 50mm < Ledningsnet ≤ Ø110 mm","meter",{"$f":"Genanskaffelsespriser!E158","v":75},0,{"$f":"Genanskaffelsespriser!$D158","v":2345},0,0]
["Eternitledninger Ø110 mm < Ledningsnet ≤ Ø 250 mm","meter",{"$f":"Genanskaffelsespriser!E159","v":75},0,{"$f":"Genanskaffelsespriser!$D159","v":2783},0,0]
["Eternitledninger Ø 250 mm < Ledningsnet ≤ Ø 500mm","meter",{"$f":"Genanskaffelsespriser!E160","v":75},0,{"$f":"Genanskaffelsespriser!$D160","v":4885},0,0]
["Eternitledninger Ledningsnet > Ø 500 mm","meter",{"$f":"Genanskaffelsespriser!E161","v":75},0,{"$f":"Genanskaffelsespriser!$D161","v":10641},0,0]
["Skelbrønd, Konstruktioner","stk.",{"$f":"Genanskaffelsespriser!E162","v":50},0,{"$f":"Genanskaffelsespriser!$D162","v":13540},0,0]
["Skelbrønd, Mek./EL","stk.",{"$f":"Genanskaffelsespriser!E163","v":15},0,{"$f":"Genanskaffelsespriser!$D163","v":20310},0,0]
["Inspektionsbrønd, Konstruktioner","stk.",{"$f":"Genanskaffelsespriser!E164","v":50},0,{"$f":"Genanskaffelsespriser!$D164","v":13540},0,0]
["Inspektionsbrønd, Mek./EL","stk.",{"$f":"Genanskaffelsespriser!E165","v":15},0,{"$f":"Genanskaffelsespriser!$D165","v":16925},0,0]
["Stik på ledningsnet, Konstruktioner","stk.",{"$f":"Genanskaffelsespriser!E166","v":75},0,{"$f":"Genanskaffelsespriser!$D166","v":7555},0,0]
["Stik på ledningsnet, Mek./EL","stk.",{"$f":"Genanskaffelsespriser!E167","v":75},0,{"$f":"Genanskaffelsespriser!$D167","v":7555},0,0]
["Ventiler"]
["Ventiler på ledningsnet ≤ Ø50 mm","stk.",{"$f":"Genanskaffelsespriser!E169","v":75},0,{"$f":"Genanskaffelsespriser!$D169","v":7732},0,0]
["Ventiler på Ø 50mm < Ledningsnet ≤ Ø110 mm","stk.",{"$f":"Genanskaffelsespriser!E170","v":75},0,{"$f":"Genanskaffelsespriser!$D170","v":8980},0,0]
["Ventiler på Ø110 mm < Ledningsnet ≤ Ø 250 mm","stk.",{"$f":"Genanskaffelsespriser!E171","v":75},0,{"$f":"Genanskaffelsespriser!$D171","v":21736},0,0]
["Ventiler på Ø 250 mm < Ledningsnet ≤ Ø 500mm","stk.",{"$f":"Genanskaffelsespriser!E172","v":75},0,{"$f":"Genanskaffelsespriser!$D172","v":78299},0,0]
["Ventiler på ledningsnet > Ø 500 mm","stk.",{"$f":"Genanskaffelsespriser!E173","v":75},0,{"$f":"Genanskaffelsespriser!$D173","v":223733},0,0]
["Pumpestationer, bygværker og bassiner 1"]
["Pumpestation (inkl. evt. hydrofor)/trykforøger, Konstruktioner","m³/h ",{"$f":"+Genanskaffelsespriser!$E$175","v":50},0,{"$f":"IF(COUNTIF(D97:D97,\"<>0\")<=1,IF((SUM(D97:D97))>0,((+HLOOKUP((SUM(D97:D97)),Priser!$E$342:$H$344,2)+((SUM(D97:D97))-HLOOKUP((SUM(D97:D97)),Priser!$E$342:$H$344,1))*HLOOKUP((SUM(D97:D97)),Priser!$E$342:$H$344,3))*Priser!$P$341)/(SUM(D97:D97)),0)*(1+Genanskaffelsespriser!$D$196),\"Fejl\")","v":0},0,0]
["Pumpestation (inkl. evt. hydrofor)/trykforøger, Mek./EL","m³/h ",{"$f":"+Genanskaffelsespriser!$E$176","v":25},0,{"$f":"IF(COUNTIF(D98:D98,\"<>0\")<=1,IF((SUM(D98:D98))>0,((+HLOOKUP((SUM(D98:D98)),Priser!$E$342:$H$344,2)+((SUM(D98:D98))-HLOOKUP((SUM(D98:D98)),Priser!$E$342:$H$344,1))*HLOOKUP((SUM(D98:D98)),Priser!$E$342:$H$344,3))*Priser!$Q$341)/(SUM(D98:D98)),0)*(1+Genanskaffelsespriser!$D$196),\"Fejl\")","v":0},0,0]
["Pumpestation (inkl. evt. hydrofor)/trykforøger, SRO","m³/h ",{"$f":"+Genanskaffelsespriser!$E$177","v":10},0,{"$f":"IF(COUNTIF(D99:D99,\"<>0\")<=1,IF((SUM(D99:D99))>0,((+HLOOKUP((SUM(D99:D99)),Priser!$E$342:$H$344,2)+((SUM(D99:D99))-HLOOKUP((SUM(D99:D99)),Priser!$E$342:$H$344,1))*HLOOKUP((SUM(D99:D99)),Priser!$E$342:$H$344,3))*Priser!$R$341)/(SUM(D99:D99)),0)*(1+Genanskaffelsespriser!$D$196),\"Fejl\")","v":0},0,0]
["Beholderanlæg - højdebeholder","m³",{"$f":"+Genanskaffelsespriser!$E$178","v":50},0,{"$f":"IF(COUNTIF(D100:D100,\"<>0\")<=1,IF((SUM(D100:D100))>0,(+HLOOKUP((SUM(D100:D100)),Priser!$E$168:$J$170,2)+((SUM(D100:D100))-HLOOKUP((SUM(D100:D100)),Priser!$E$168:$J$170,1))*HLOOKUP((SUM(D100:D100)),Priser!$E$168:$J$170,3))/(SUM(D100:D100)),0)*(1+Genanskaffelsespriser!$D$196),\"Fejl\")","v":0},0,0]
["Beholderanlæg - vandtårn","m³",{"$f":"+Genanskaffelsespriser!$E$179","v":50},0,{"$f":"IF(COUNTIF(D101:D101,\"<>0\")<=1,IF((SUM(D101:D101))>0,(+HLOOKUP((SUM(D101:D101)),Priser!$E$191:$J$193,2)+((SUM(D101:D101))-HLOOKUP((SUM(D101:D101)),Priser!$E$191:$J$193,1))*HLOOKUP((SUM(D101:D101)),Priser!$E$191:$J$193,3))/(SUM(D101:D101)),0)*(1+Genanskaffelsespriser!$D$196),\"Fejl\")","v":0},0,0]
["Pumpestationer, bygværker og bassiner 2"]
["Pumpestation (inkl. evt. hydrofor)/trykforøger, Konstruktioner","m³/h ",{"$f":"+Genanskaffelsespriser!$E$175","v":50},0,{"$f":"IF(COUNTIF(D103:D103,\"<>0\")<=1,IF((SUM(D103:D103))>0,((+HLOOKUP((SUM(D103:D103)),Priser!$E$342:$H$344,2)+((SUM(D103:D103))-HLOOKUP((SUM(D103:D103)),Priser!$E$342:$H$344,1))*HLOOKUP((SUM(D103:D103)),Priser!$E$342:$H$344,3))*Priser!$P$341)/(SUM(D103:D103)),0)*(1+Genanskaffelsespriser!$D$196),\"Fejl\")","v":0},0,0]
["Pumpestation (inkl. evt. hydrofor)/trykforøger, Mek./EL","m³/h ",{"$f":"+Genanskaffelsespriser!$E$176","v":25},0,{"$f":"IF(COUNTIF(D104:D104,\"<>0\")<=1,IF((SUM(D104:D104))>0,((+HLOOKUP((SUM(D104:D104)),Priser!$E$342:$H$344,2)+((SUM(D104:D104))-HLOOKUP((SUM(D104:D104)),Priser!$E$342:$H$344,1))*HLOOKUP((SUM(D104:D104)),Priser!$E$342:$H$344,3))*Priser!$Q$341)/(SUM(D104:D104)),0)*(1+Genanskaffelsespriser!$D$196),\"Fejl\")","v":0},0,0]
["Pumpestation (inkl. evt. hydrofor)/trykforøger, SRO","m³/h ",{"$f":"+Genanskaffelsespriser!$E$177","v":10},0,{"$f":"IF(COUNTIF(D105:D105,\"<>0\")<=1,IF((SUM(D105:D105))>0,((+HLOOKUP((SUM(D105:D105)),Priser!$E$342:$H$344,2)+((SUM(D105:D105))-HLOOKUP((SUM(D105:D105)),Priser!$E$342:$H$344,1))*HLOOKUP((SUM(D105:D105)),Priser!$E$342:$H$344,3))*Priser!$R$341)/(SUM(D105:D105)),0)*(1+Genanskaffelsespriser!$D$196),\"Fejl\")","v":0},0,0]
["Beholderanlæg - højdebeholder","m³",{"$f":"+Genanskaffelsespriser!$E$178","v":50},0,{"$f":"IF(COUNTIF(D106:D106,\"<>0\")<=1,IF((SUM(D106:D106))>0,(+HLOOKUP((SUM(D106:D106)),Priser!$E$168:$J$170,2)+((SUM(D106:D106))-HLOOKUP((SUM(D106:D106)),Priser!$E$168:$J$170,1))*HLOOKUP((SUM(D106:D106)),Priser!$E$168:$J$170,3))/(SUM(D106:D106)),0)*(1+Genanskaffelsespriser!$D$196),\"Fejl\")","v":0},0,0]
["Beholderanlæg - vandtårn","m³",{"$f":"+Genanskaffelsespriser!$E$179","v":50},0,{"$f":"IF(COUNTIF(D107:D107,\"<>0\")<=1,IF((SUM(D107:D107))>0,(+HLOOKUP((SUM(D107:D107)),Priser!$E$191:$J$193,2)+((SUM(D107:D107))-HLOOKUP((SUM(D107:D107)),Priser!$E$191:$J$193,1))*HLOOKUP((SUM(D107:D107)),Priser!$E$191:$J$193,3))/(SUM(D107:D107)),0)*(1+Genanskaffelsespriser!$D$196),\"Fejl\")","v":0},0,0]
["Pumpestationer, bygværker og bassiner 3"]
["Pumpestation (inkl. evt. hydrofor)/trykforøger, Konstruktioner","m³/h ",{"$f":"+Genanskaffelsespriser!$E$175","v":50},0,{"$f":"IF(COUNTIF(D109:D109,\"<>0\")<=1,IF((SUM(D109:D109))>0,((+HLOOKUP((SUM(D109:D109)),Priser!$E$342:$H$344,2)+((SUM(D109:D109))-HLOOKUP((SUM(D109:D109)),Priser!$E$342:$H$344,1))*HLOOKUP((SUM(D109:D109)),Priser!$E$342:$H$344,3))*Priser!$P$341)/(SUM(D109:D109)),0)*(1+Genanskaffelsespriser!$D$196),\"Fejl\")","v":0},{"$f":"D109*E109","v":0},{"$f":"F109/C109","v":0}]
["Pumpestation (inkl. evt. hydrofor)/trykforøger, Mek./EL","m³/h ",{"$f":"+Genanskaffelsespriser!$E$176","v":25},0,{"$f":"IF(COUNTIF(D110:D110,\"<>0\")<=1,IF((SUM(D110:D110))>0,((+HLOOKUP((SUM(D110:D110)),Priser!$E$342:$H$344,2)+((SUM(D110:D110))-HLOOKUP((SUM(D110:D110)),Priser!$E$342:$H$344,1))*HLOOKUP((SUM(D110:D110)),Priser!$E$342:$H$344,3))*Priser!$Q$341)/(SUM(D110:D110)),0)*(1+Genanskaffelsespriser!$D$196),\"Fejl\")","v":0},0,0]
["Pumpestation (inkl. evt. hydrofor)/trykforøger, SRO","m³/h ",{"$f":"+Genanskaffelsespriser!$E$177","v":10},0,{"$f":"IF(COUNTIF(D111:D111,\"<>0\")<=1,IF((SUM(D111:D111))>0,((+HLOOKUP((SUM(D111:D111)),Priser!$E$342:$H$344,2)+((SUM(D111:D111))-HLOOKUP((SUM(D111:D111)),Priser!$E$342:$H$344,1))*HLOOKUP((SUM(D111:D111)),Priser!$E$342:$H$344,3))*Priser!$R$341)/(SUM(D111:D111)),0)*(1+Genanskaffelsespriser!$D$196),\"Fejl\")","v":0},0,0]
["Beholderanlæg - højdebeholder","m³",{"$f":"+Genanskaffelsespriser!$E$178","v":50},0,{"$f":"IF(COUNTIF(D112:D112,\"<>0\")<=1,IF((SUM(D112:D112))>0,(+HLOOKUP((SUM(D112:D112)),Priser!$E$168:$J$170,2)+((SUM(D112:D112))-HLOOKUP((SUM(D112:D112)),Priser!$E$168:$J$170,1))*HLOOKUP((SUM(D112:D112)),Priser!$E$168:$J$170,3))/(SUM(D112:D112)),0)*(1+Genanskaffelsespriser!$D$196),\"Fejl\")","v":0},0,0]
["Beholderanlæg - vandtårn","m³",{"$f":"+Genanskaffelsespriser!$E$179","v":50},0,{"$f":"IF(COUNTIF(D113:D113,\"<>0\")<=1,IF((SUM(D113:D113))>0,(+HLOOKUP((SUM(D113:D113)),Priser!$E$191:$J$193,2)+((SUM(D113:D113))-HLOOKUP((SUM(D113:D113)),Priser!$E$191:$J$193,1))*HLOOKUP((SUM(D113:D113)),Priser!$E$191:$J$193,3))/(SUM(D113:D113)),0)*(1+Genanskaffelsespriser!$D$196),\"Fejl\")","v":0},0,0]
["Pumpestationer, bygværker og bassiner 4"]
["Pumpestation (inkl. evt. hydrofor)/trykforøger, Konstruktioner","m³/h ",{"$f":"+Genanskaffelsespriser!$E$175","v":50},0,{"$f":"IF(COUNTIF(D115:D115,\"<>0\")<=1,IF((SUM(D115:D115))>0,((+HLOOKUP((SUM(D115:D115)),Priser!$E$342:$H$344,2)+((SUM(D115:D115))-HLOOKUP((SUM(D115:D115)),Priser!$E$342:$H$344,1))*HLOOKUP((SUM(D115:D115)),Priser!$E$342:$H$344,3))*Priser!$P$341)/(SUM(D115:D115)),0)*(1+Genanskaffelsespriser!$D$196),\"Fejl\")","v":0},{"$f":"D115*E115","v":0},{"$f":"F115/C115","v":0}]
["Pumpestation (inkl. evt. hydrofor)/trykforøger, Mek./EL","m³/h ",{"$f":"+Genanskaffelsespriser!$E$176","v":25},0,{"$f":"IF(COUNTIF(D116:D116,\"<>0\")<=1,IF((SUM(D116:D116))>0,((+HLOOKUP((SUM(D116:D116)),Priser!$E$342:$H$344,2)+((SUM(D116:D116))-HLOOKUP((SUM(D116:D116)),Priser!$E$342:$H$344,1))*HLOOKUP((SUM(D116:D116)),Priser!$E$342:$H$344,3))*Priser!$Q$341)/(SUM(D116:D116)),0)*(1+Genanskaffelsespriser!$D$196),\"Fejl\")","v":0},0,0]
["Pumpestation (inkl. evt. hydrofor)/trykforøger, SRO","m³/h ",{"$f":"+Genanskaffelsespriser!$E$177","v":10},0,{"$f":"IF(COUNTIF(D117:D117,\"<>0\")<=1,IF((SUM(D117:D117))>0,((+HLOOKUP((SUM(D117:D117)),Priser!$E$342:$H$344,2)+((SUM(D117:D117))-HLOOKUP((SUM(D117:D117)),Priser!$E$342:$H$344,1))*HLOOKUP((SUM(D117:D117)),Priser!$E$342:$H$344,3))*Priser!$R$341)/(SUM(D117:D117)),0)*(1+Genanskaffelsespriser!$D$196),\"Fejl\")","v":0},0,0]
["Beholderanlæg - højdebeholder","m³",{"$f":"+Genanskaffelsespriser!$E$178","v":50},0,{"$f":"IF(COUNTIF(D118:D118,\"<>0\")<=1,IF((SUM(D118:D118))>0,(+HLOOKUP((SUM(D118:D118)),Priser!$E$168:$J$170,2)+((SUM(D118:D118))-HLOOKUP((SUM(D118:D118)),Priser!$E$168:$J$170,1))*HLOOKUP((SUM(D118:D118)),Priser!$E$168:$J$170,3))/(SUM(D118:D118)),0)*(1+Genanskaffelsespriser!$D$196),\"Fejl\")","v":0},0,0]
["Beholderanlæg - vandtårn","m³",{"$f":"+Genanskaffelsespriser!$E$179","v":50},0,{"$f":"IF(COUNTIF(D119:D119,\"<>0\")<=1,IF((SUM(D119:D119))>0,(+HLOOKUP((SUM(D119:D119)),Priser!$E$191:$J$193,2)+((SUM(D119:D119))-HLOOKUP((SUM(D119:D119)),Priser!$E$191:$J$193,1))*HLOOKUP((SUM(D119:D119)),Priser!$E$191:$J$193,3))/(SUM(D119:D119)),0)*(1+Genanskaffelsespriser!$D$196),\"Fejl\")","v":0},0,0]
["Pumpestationer, bygværker og bassiner 5"]
["Pumpestation (inkl. evt. hydrofor)/trykforøger, Konstruktioner","m³/h ",{"$f":"+Genanskaffelsespriser!$E$175","v":50},0,{"$f":"IF(COUNTIF(D121:D121,\"<>0\")<=1,IF((SUM(D121:D121))>0,((+HLOOKUP((SUM(D121:D121)),Priser!$E$342:$H$344,2)+((SUM(D121:D121))-HLOOKUP((SUM(D121:D121)),Priser!$E$342:$H$344,1))*HLOOKUP((SUM(D121:D121)),Priser!$E$342:$H$344,3))*Priser!$P$341)/(SUM(D121:D121)),0)*(1+Genanskaffelsespriser!$D$196),\"Fejl\")","v":0},{"$f":"D121*E121","v":0},{"$f":"F121/C121","v":0}]
["Pumpestation (inkl. evt. hydrofor)/trykforøger, Mek./EL","m³/h ",{"$f":"+Genanskaffelsespriser!$E$176","v":25},0,{"$f":"IF(COUNTIF(D122:D122,\"<>0\")<=1,IF((SUM(D122:D122))>0,((+HLOOKUP((SUM(D122:D122)),Priser!$E$342:$H$344,2)+((SUM(D122:D122))-HLOOKUP((SUM(D122:D122)),Priser!$E$342:$H$344,1))*HLOOKUP((SUM(D122:D122)),Priser!$E$342:$H$344,3))*Priser!$Q$341)/(SUM(D122:D122)),0)*(1+Genanskaffelsespriser!$D$196),\"Fejl\")","v":0},0,0]
["Pumpestation (inkl. evt. hydrofor)/trykforøger, SRO","m³/h ",{"$f":"+Genanskaffelsespriser!$E$177","v":10},0,{"$f":"IF(COUNTIF(D123:D123,\"<>0\")<=1,IF((SUM(D123:D123))>0,((+HLOOKUP((SUM(D123:D123)),Priser!$E$342:$H$344,2)+((SUM(D123:D123))-HLOOKUP((SUM(D123:D123)),Priser!$E$342:$H$344,1))*HLOOKUP((SUM(D123:D123)),Priser!$E$342:$H$344,3))*Priser!$R$341)/(SUM(D123:D123)),0)*(1+Genanskaffelsespriser!$D$196),\"Fejl\")","v":0},0,0]
["Beholderanlæg - højdebeholder","m³",{"$f":"+Genanskaffelsespriser!$E$178","v":50},0,{"$f":"IF(COUNTIF(D124:D124,\"<>0\")<=1,IF((SUM(D124:D124))>0,(+HLOOKUP((SUM(D124:D124)),Priser!$E$168:$J$170,2)+((SUM(D124:D124))-HLOOKUP((SUM(D124:D124)),Priser!$E$168:$J$170,1))*HLOOKUP((SUM(D124:D124)),Priser!$E$168:$J$170,3))/(SUM(D124:D124)),0)*(1+Genanskaffelsespriser!$D$196),\"Fejl\")","v":0},0,0]
["Beholderanlæg - vandtårn","m³",{"$f":"+Genanskaffelsespriser!$E$179","v":50},0,{"$f":"IF(COUNTIF(D125:D125,\"<>0\")<=1,IF((SUM(D125:D125))>0,(+HLOOKUP((SUM(D125:D125)),Priser!$E$191:$J$193,2)+((SUM(D125:D125))-HLOOKUP((SUM(D125:D125)),Priser!$E$191:$J$193,1))*HLOOKUP((SUM(D125:D125)),Priser!$E$191:$J$193,3))/(SUM(D125:D125)),0)*(1+Genanskaffelsespriser!$D$196),\"Fejl\")","v":0},0,0]
["Pumpestationer, bygværker og bassiner 6"]
["Pumpestation (inkl. evt. hydrofor)/trykforøger, Konstruktioner","m³/h ",{"$f":"+Genanskaffelsespriser!$E$175","v":50},0,{"$f":"IF(COUNTIF(D127:D127,\"<>0\")<=1,IF((SUM(D127:D127))>0,((+HLOOKUP((SUM(D127:D127)),Priser!$E$342:$H$344,2)+((SUM(D127:D127))-HLOOKUP((SUM(D127:D127)),Priser!$E$342:$H$344,1))*HLOOKUP((SUM(D127:D127)),Priser!$E$342:$H$344,3))*Priser!$P$341)/(SUM(D127:D127)),0)*(1+Genanskaffelsespriser!$D$196),\"Fejl\")","v":0},{"$f":"D127*E127","v":0},{"$f":"F127/C127","v":0}]
["Pumpestation (inkl. evt. hydrofor)/trykforøger, Mek./EL","m³/h ",{"$f":"+Genanskaffelsespriser!$E$176","v":25},0,{"$f":"IF(COUNTIF(D128:D128,\"<>0\")<=1,IF((SUM(D128:D128))>0,((+HLOOKUP((SUM(D128:D128)),Priser!$E$342:$H$344,2)+((SUM(D128:D128))-HLOOKUP((SUM(D128:D128)),Priser!$E$342:$H$344,1))*HLOOKUP((SUM(D128:D128)),Priser!$E$342:$H$344,3))*Priser!$Q$341)/(SUM(D128:D128)),0)*(1+Genanskaffelsespriser!$D$196),\"Fejl\")","v":0},0,0]
["Pumpestation (inkl. evt. hydrofor)/trykforøger, SRO","m³/h ",{"$f":"+Genanskaffelsespriser!$E$177","v":10},0,{"$f":"IF(COUNTIF(D129:D129,\"<>0\")<=1,IF((SUM(D129:D129))>0,((+HLOOKUP((SUM(D129:D129)),Priser!$E$342:$H$344,2)+((SUM(D129:D129))-HLOOKUP((SUM(D129:D129)),Priser!$E$342:$H$344,1))*HLOOKUP((SUM(D129:D129)),Priser!$E$342:$H$344,3))*Priser!$R$341)/(SUM(D129:D129)),0)*(1+Genanskaffelsespriser!$D$196),\"Fejl\")","v":0},0,0]
["Beholderanlæg - højdebeholder","m³",{"$f":"+Genanskaffelsespriser!$E$178","v":50},0,{"$f":"IF(COUNTIF(D130:D130,\"<>0\")<=1,IF((SUM(D130:D130))>0,(+HLOOKUP((SUM(D130:D130)),Priser!$E$168:$J$170,2)+((SUM(D130:D130))-HLOOKUP((SUM(D130:D130)),Priser!$E$168:$J$170,1))*HLOOKUP((SUM(D130:D130)),Priser!$E$168:$J$170,3))/(SUM(D130:D130)),0)*(1+Genanskaffelsespriser!$D$196),\"Fejl\")","v":0},0,0]
["Beholderanlæg - vandtårn","m³",{"$f":"+Genanskaffelsespriser!$E$179","v":50},0,{"$f":"IF(COUNTIF(D131:D131,\"<>0\")<=1,IF((SUM(D131:D131))>0,(+HLOOKUP((SUM(D131:D131)),Priser!$E$191:$J$193,2)+((SUM(D131:D131))-HLOOKUP((SUM(D131:D131)),Priser!$E$191:$J$193,1))*HLOOKUP((SUM(D131:D131)),Priser!$E$191:$J$193,3))/(SUM(D131:D131)),0)*(1+Genanskaffelsespriser!$D$196),\"Fejl\")","v":0},0,0]
["Pumpestationer, bygværker og bassiner 7"]
["Pumpestation (inkl. evt. hydrofor)/trykforøger, Konstruktioner","m³/h ",{"$f":"+Genanskaffelsespriser!$E$175","v":50},0,{"$f":"IF(COUNTIF(D133:D133,\"<>0\")<=1,IF((SUM(D133:D133))>0,((+HLOOKUP((SUM(D133:D133)),Priser!$E$342:$H$344,2)+((SUM(D133:D133))-HLOOKUP((SUM(D133:D133)),Priser!$E$342:$H$344,1))*HLOOKUP((SUM(D133:D133)),Priser!$E$342:$H$344,3))*Priser!$P$341)/(SUM(D133:D133)),0)*(1+Genanskaffelsespriser!$D$196),\"Fejl\")","v":0},{"$f":"D133*E133","v":0},{"$f":"F133/C133","v":0}]
["Pumpestation (inkl. evt. hydrofor)/trykforøger, Mek./EL","m³/h ",{"$f":"+Genanskaffelsespriser!$E$176","v":25},0,{"$f":"IF(COUNTIF(D134:D134,\"<>0\")<=1,IF((SUM(D134:D134))>0,((+HLOOKUP((SUM(D134:D134)),Priser!$E$342:$H$344,2)+((SUM(D134:D134))-HLOOKUP((SUM(D134:D134)),Priser!$E$342:$H$344,1))*HLOOKUP((SUM(D134:D134)),Priser!$E$342:$H$344,3))*Priser!$Q$341)/(SUM(D134:D134)),0)*(1+Genanskaffelsespriser!$D$196),\"Fejl\")","v":0},0,0]
["Pumpestation (inkl. evt. hydrofor)/trykforøger, SRO","m³/h ",{"$f":"+Genanskaffelsespriser!$E$177","v":10},0,{"$f":"IF(COUNTIF(D135:D135,\"<>0\")<=1,IF((SUM(D135:D135))>0,((+HLOOKUP((SUM(D135:D135)),Priser!$E$342:$H$344,2)+((SUM(D135:D135))-HLOOKUP((SUM(D135:D135)),Priser!$E$342:$H$344,1))*HLOOKUP((SUM(D135:D135)),Priser!$E$342:$H$344,3))*Priser!$R$341)/(SUM(D135:D135)),0)*(1+Genanskaffelsespriser!$D$196),\"Fejl\")","v":0},0,0]
["Beholderanlæg - højdebeholder","m³",{"$f":"+Genanskaffelsespriser!$E$178","v":50},0,{"$f":"IF(COUNTIF(D136:D136,\"<>0\")<=1,IF((SUM(D136:D136))>0,(+HLOOKUP((SUM(D136:D136)),Priser!$E$168:$J$170,2)+((SUM(D136:D136))-HLOOKUP((SUM(D136:D136)),Priser!$E$168:$J$170,1))*HLOOKUP((SUM(D136:D136)),Priser!$E$168:$J$170,3))/(SUM(D136:D136)),0)*(1+Genanskaffelsespriser!$D$196),\"Fejl\")","v":0},0,0]
["Beholderanlæg - vandtårn","m³",{"$f":"+Genanskaffelsespriser!$E$179","v":50},0,{"$f":"IF(COUNTIF(D137:D137,\"<>0\")<=1,IF((SUM(D137:D137))>0,(+HLOOKUP((SUM(D137:D137)),Priser!$E$191:$J$193,2)+((SUM(D137:D137))-HLOOKUP((SUM(D137:D137)),Priser!$E$191:$J$193,1))*HLOOKUP((SUM(D137:D137)),Priser!$E$191:$J$193,3))/(SUM(D137:D137)),0)*(1+Genanskaffelsespriser!$D$196),\"Fejl\")","v":0},0,0]
["Pumpestationer, bygværker og bassiner 8"]
["Pumpestation (inkl. evt. hydrofor)/trykforøger, Konstruktioner","m³/h ",{"$f":"+Genanskaffelsespriser!$E$175","v":50},0,{"$f":"IF(COUNTIF(D139:D139,\"<>0\")<=1,IF((SUM(D139:D139))>0,((+HLOOKUP((SUM(D139:D139)),Priser!$E$342:$H$344,2)+((SUM(D139:D139))-HLOOKUP((SUM(D139:D139)),Priser!$E$342:$H$344,1))*HLOOKUP((SUM(D139:D139)),Priser!$E$342:$H$344,3))*Priser!$P$341)/(SUM(D139:D139)),0)*(1+Genanskaffelsespriser!$D$196),\"Fejl\")","v":0},{"$f":"D139*E139","v":0},{"$f":"F139/C139","v":0}]
["Pumpestation (inkl. evt. hydrofor)/trykforøger, Mek./EL","m³/h ",{"$f":"+Genanskaffelsespriser!$E$176","v":25},0,{"$f":"IF(COUNTIF(D140:D140,\"<>0\")<=1,IF((SUM(D140:D140))>0,((+HLOOKUP((SUM(D140:D140)),Priser!$E$342:$H$344,2)+((SUM(D140:D140))-HLOOKUP((SUM(D140:D140)),Priser!$E$342:$H$344,1))*HLOOKUP((SUM(D140:D140)),Priser!$E$342:$H$344,3))*Priser!$Q$341)/(SUM(D140:D140)),0)*(1+Genanskaffelsespriser!$D$196),\"Fejl\")","v":0},0,0]
["Pumpestation (inkl. evt. hydrofor)/trykforøger, SRO","m³/h ",{"$f":"+Genanskaffelsespriser!$E$177","v":10},0,{"$f":"IF(COUNTIF(D141:D141,\"<>0\")<=1,IF((SUM(D141:D141))>0,((+HLOOKUP((SUM(D141:D141)),Priser!$E$342:$H$344,2)+((SUM(D141:D141))-HLOOKUP((SUM(D141:D141)),Priser!$E$342:$H$344,1))*HLOOKUP((SUM(D141:D141)),Priser!$E$342:$H$344,3))*Priser!$R$341)/(SUM(D141:D141)),0)*(1+Genanskaffelsespriser!$D$196),\"Fejl\")","v":0},0,0]
["Beholderanlæg - højdebeholder","m³",{"$f":"+Genanskaffelsespriser!$E$178","v":50},0,{"$f":"IF(COUNTIF(D142:D142,\"<>0\")<=1,IF((SUM(D142:D142))>0,(+HLOOKUP((SUM(D142:D142)),Priser!$E$168:$J$170,2)+((SUM(D142:D142))-HLOOKUP((SUM(D142:D142)),Priser!$E$168:$J$170,1))*HLOOKUP((SUM(D142:D142)),Priser!$E$168:$J$170,3))/(SUM(D142:D142)),0)*(1+Genanskaffelsespriser!$D$196),\"Fejl\")","v":0},0,0]
["Beholderanlæg - vandtårn","m³",{"$f":"+Genanskaffelsespriser!$E$179","v":50},0,{"$f":"IF(COUNTIF(D143:D143,\"<>0\")<=1,IF((SUM(D143:D143))>0,(+HLOOKUP((SUM(D143:D143)),Priser!$E$191:$J$193,2)+((SUM(D143:D143))-HLOOKUP((SUM(D143:D143)),Priser!$E$191:$J$193,1))*HLOOKUP((SUM(D143:D143)),Priser!$E$191:$J$193,3))/(SUM(D143:D143)),0)*(1+Genanskaffelsespriser!$D$196),\"Fejl\")","v":0},0,0]
["Pumpestationer, bygværker og bassiner 9"]
["Pumpestation (inkl. evt. hydrofor)/trykforøger, Konstruktioner","m³/h ",{"$f":"+Genanskaffelsespriser!$E$175","v":50},0,{"$f":"IF(COUNTIF(D145:D145,\"<>0\")<=1,IF((SUM(D145:D145))>0,((+HLOOKUP((SUM(D145:D145)),Priser!$E$342:$H$344,2)+((SUM(D145:D145))-HLOOKUP((SUM(D145:D145)),Priser!$E$342:$H$344,1))*HLOOKUP((SUM(D145:D145)),Priser!$E$342:$H$344,3))*Priser!$P$341)/(SUM(D145:D145)),0)*(1+Genanskaffelsespriser!$D$196),\"Fejl\")","v":0},{"$f":"D145*E145","v":0},{"$f":"F145/C145","v":0}]
["Pumpestation (inkl. evt. hydrofor)/trykforøger, Mek./EL","m³/h ",{"$f":"+Genanskaffelsespriser!$E$176","v":25},0,{"$f":"IF(COUNTIF(D146:D146,\"<>0\")<=1,IF((SUM(D146:D146))>0,((+HLOOKUP((SUM(D146:D146)),Priser!$E$342:$H$344,2)+((SUM(D146:D146))-HLOOKUP((SUM(D146:D146)),Priser!$E$342:$H$344,1))*HLOOKUP((SUM(D146:D146)),Priser!$E$342:$H$344,3))*Priser!$Q$341)/(SUM(D146:D146)),0)*(1+Genanskaffelsespriser!$D$196),\"Fejl\")","v":0},0,0]
["Pumpestation (inkl. evt. hydrofor)/trykforøger, SRO","m³/h ",{"$f":"+Genanskaffelsespriser!$E$177","v":10},0,{"$f":"IF(COUNTIF(D147:D147,\"<>0\")<=1,IF((SUM(D147:D147))>0,((+HLOOKUP((SUM(D147:D147)),Priser!$E$342:$H$344,2)+((SUM(D147:D147))-HLOOKUP((SUM(D147:D147)),Priser!$E$342:$H$344,1))*HLOOKUP((SUM(D147:D147)),Priser!$E$342:$H$344,3))*Priser!$R$341)/(SUM(D147:D147)),0)*(1+Genanskaffelsespriser!$D$196),\"Fejl\")","v":0},0,0]
["Beholderanlæg - højdebeholder","m³",{"$f":"+Genanskaffelsespriser!$E$178","v":50},0,{"$f":"IF(COUNTIF(D148:D148,\"<>0\")<=1,IF((SUM(D148:D148))>0,(+HLOOKUP((SUM(D148:D148)),Priser!$E$168:$J$170,2)+((SUM(D148:D148))-HLOOKUP((SUM(D148:D148)),Priser!$E$168:$J$170,1))*HLOOKUP((SUM(D148:D148)),Priser!$E$168:$J$170,3))/(SUM(D148:D148)),0)*(1+Genanskaffelsespriser!$D$196),\"Fejl\")","v":0},0,0]
["Beholderanlæg - vandtårn","m³",{"$f":"+Genanskaffelsespriser!$E$179","v":50},0,{"$f":"IF(COUNTIF(D149:D149,\"<>0\")<=1,IF((SUM(D149:D149))>0,(+HLOOKUP((SUM(D149:D149)),Priser!$E$191:$J$193,2)+((SUM(D149:D149))-HLOOKUP((SUM(D149:D149)),Priser!$E$191:$J$193,1))*HLOOKUP((SUM(D149:D149)),Priser!$E$191:$J$193,3))/(SUM(D149:D149)),0)*(1+Genanskaffelsespriser!$D$196),\"Fejl\")","v":0},0,0]
["Pumpestationer, bygværker og bassiner 10"]
["Pumpestation (inkl. evt. hydrofor)/trykforøger, Konstruktioner","m³/h ",{"$f":"+Genanskaffelsespriser!$E$175","v":50},0,{"$f":"IF(COUNTIF(D151:D151,\"<>0\")<=1,IF((SUM(D151:D151))>0,((+HLOOKUP((SUM(D151:D151)),Priser!$E$342:$H$344,2)+((SUM(D151:D151))-HLOOKUP((SUM(D151:D151)),Priser!$E$342:$H$344,1))*HLOOKUP((SUM(D151:D151)),Priser!$E$342:$H$344,3))*Priser!$P$341)/(SUM(D151:D151)),0)*(1+Genanskaffelsespriser!$D$196),\"Fejl\")","v":0},{"$f":"D151*E151","v":0},{"$f":"F151/C151","v":0}]
["Pumpestation (inkl. evt. hydrofor)/trykforøger, Mek./EL","m³/h ",{"$f":"+Genanskaffelsespriser!$E$176","v":25},0,{"$f":"IF(COUNTIF(D152:D152,\"<>0\")<=1,IF((SUM(D152:D152))>0,((+HLOOKUP((SUM(D152:D152)),Priser!$E$342:$H$344,2)+((SUM(D152:D152))-HLOOKUP((SUM(D152:D152)),Priser!$E$342:$H$344,1))*HLOOKUP((SUM(D152:D152)),Priser!$E$342:$H$344,3))*Priser!$Q$341)/(SUM(D152:D152)),0)*(1+Genanskaffelsespriser!$D$196),\"Fejl\")","v":0},0,0]
["Pumpestation (inkl. evt. hydrofor)/trykforøger, SRO","m³/h ",{"$f":"+Genanskaffelsespriser!$E$177","v":10},0,{"$f":"IF(COUNTIF(D153:D153,\"<>0\")<=1,IF((SUM(D153:D153))>0,((+HLOOKUP((SUM(D153:D153)),Priser!$E$342:$H$344,2)+((SUM(D153:D153))-HLOOKUP((SUM(D153:D153)),Priser!$E$342:$H$344,1))*HLOOKUP((SUM(D153:D153)),Priser!$E$342:$H$344,3))*Priser!$R$341)/(SUM(D153:D153)),0)*(1+Genanskaffelsespriser!$D$196),\"Fejl\")","v":0},0,0]
["Beholderanlæg - højdebeholder","m³",{"$f":"+Genanskaffelsespriser!$E$178","v":50},0,{"$f":"IF(COUNTIF(D154:D154,\"<>0\")<=1,IF((SUM(D154:D154))>0,(+HLOOKUP((SUM(D154:D154)),Priser!$E$168:$J$170,2)+((SUM(D154:D154))-HLOOKUP((SUM(D154:D154)),Priser!$E$168:$J$170,1))*HLOOKUP((SUM(D154:D154)),Priser!$E$168:$J$170,3))/(SUM(D154:D154)),0)*(1+Genanskaffelsespriser!$D$196),\"Fejl\")","v":0},0,0]
["Beholderanlæg - vandtårn","m³",{"$f":"+Genanskaffelsespriser!$E$179","v":50},0,{"$f":"IF(COUNTIF(D155:D155,\"<>0\")<=1,IF((SUM(D155:D155))>0,(+HLOOKUP((SUM(D155:D155)),Priser!$E$191:$J$193,2)+((SUM(D155:D155))-HLOOKUP((SUM(D155:D155)),Priser!$E$191:$J$193,1))*HLOOKUP((SUM(D155:D155)),Priser!$E$191:$J$193,3))/(SUM(D155:D155)),0)*(1+Genanskaffelsespriser!$D$196),\"Fejl\")","v":0},0,0]
["Andre"]
["Afregningsmålere, mekaniske, ","stk.",{"$f":"Genanskaffelsespriser!E181","v":8},0,{"$f":"Genanskaffelsespriser!$D181","v":1300},0,0]
["Afregningsmålere, elektroniske ≤ Ø 110mm (Qn 10)","stk.",{"$f":"Genanskaffelsespriser!E182","v":10},0,{"$f":"Genanskaffelsespriser!$D182","v":20000},0,0]
["Afregningsmålere, elektroniske > Ø110 mm","stk.",{"$f":"Genanskaffelsespriser!E183","v":10},0,{"$f":"Genanskaffelsespriser!$D183","v":26000},0,0]
["SRO-brønd/kvarterbrønd/sektionsbrønd, Konstruktioner","stk.",{"$f":"Genanskaffelsespriser!E184","v":50},0,{"$f":"Genanskaffelsespriser!$D184","v":78845},0,0]
["SRO-brønd/kvarterbrønd/sektionsbrønd, Mek./EL","stk.",{"$f":"Genanskaffelsespriser!E185","v":15},0,{"$f":"Genanskaffelsespriser!$D185","v":90108},0,0]
["SRO-brønd/kvarterbrønd/sektionsbrønd, SRO","stk.",{"$f":"Genanskaffelsespriser!E186","v":10},0,{"$f":"Genanskaffelsespriser!$D186","v":56318},0,0]

{"sheet":"Fællesfunktionsanlæg","index":2,"n_rows":6,"n_cols":7,"rows_kept":6,"cut":false,"hidden":false,"merged":[]}
["FÆLLESFUNKTIONSANLÆG","Enhed","Standardlevetid","Mængde","Enhedspris","Samlet værdi","Afskrivning"]
["Andre"]
["Køretøjer, personbil","stk.",{"$f":"Genanskaffelsespriser!E191","v":5},0,{"$f":"Genanskaffelsespriser!$D191","v":225000},{"$f":"E3*D3","v":0},{"$f":"F3/C3","v":0}]
["Køretøjer, små lastvogne (< 3.500 kg.)","stk.",{"$f":"Genanskaffelsespriser!E192","v":5},0,{"$f":"Genanskaffelsespriser!$D192","v":250000},{"$f":"E4*D4","v":0},{"$f":"F4/C4","v":0}]
["Køretøjer, store lastvogne (> 3.500 kg.)","stk.",{"$f":"Genanskaffelsespriser!E193","v":5},0,{"$f":"Genanskaffelsespriser!$D193","v":1300000},0,0]
["Køretøjer, entreprenørmaskiner","stk.",{"$f":"Genanskaffelsespriser!E194","v":5},0,{"$f":"Genanskaffelsespriser!$D194","v":400000},0,0]

{"sheet":"Genanskaffelsespriser","index":3,"n_rows":196,"n_cols":5,"rows_kept":196,"cut":false,"hidden":true,"merged":[[0,4,1,4],[0,3,1,3],[0,1,1,1],[0,2,1,2]]}
[null,"Genanskaffelsespriser","Måleenhed","Vægtet \nenhedspris","Teknisk levetid"]
[]
[null,"Produktionsanlæg:"]
[null,"Boringer:"]
[null,"Boring (inkl. etablering, forerør, filter og prøvepumpning)","kr./m.",{"$f":"2538","v":2538},30]
[null,"Råvandsstationer:"]
[null,"Råvandsstation komplet montering og boringshus/tørbrønd","kr./stk.",{"$f":"57810*(1+D196)","v":57810},30]
[null,"Instrumenter (flowmåler+tryk transducer+alarmer)","kr./stk.",{"$f":"65241*(1+D196)","v":65241},10]
[null,"Pumpe inkl. stigrør og forerørsforsejlinger mv.","kr/m³/h ","Variabel",15]
[null,"Erstatninger (OBS ingen øst-tillæg eller øvrige tillæg) ","kr/stk",{"$f":"44911","v":44911},30]
[null,"Hegn","kr./stk.",{"$f":"85428*(1+D196)","v":85428},15]
[null,"Elanlæg","kr./boring",{"$f":"108657*(1+D196)","v":108657},20]
[null,"SRO anlæg","kr./boring",{"$f":"29256*(1+D196)","v":29256},10]
[null,"Råvandsledninger - Land"]
[null,"Ø 50mm < Ledningsnet ≤ Ø110 mm","kr./m.",{"$f":"354*(1+D196)","v":354},75]
[null,"Ø110 mm < Ledningsnet ≤ Ø 250 mm","kr./m.",{"$f":"1018*(1+D196)","v":1018},75]
[null,"Ø 250 mm < Ledningsnet ≤ Ø 500mm","kr./m.",{"$f":"2335*(1+D196)","v":2335},75]
[null,"Ledningsnet > Ø 500 mm","kr./m.",{"$f":"5029*(1+D196)","v":5029},75]
[null,"Råvandsledninger - By"]
[null,"Ø 50mm < Ledningsnet ≤ Ø110 mm","kr./m.",{"$f":"958*(1+D196)","v":958},75]
[null,"Ø110 mm < Ledningsnet ≤ Ø 250 mm","kr./m.",{"$f":"1684*(1+D196)","v":1684},75]
[null,"Ø 250 mm < Ledningsnet ≤ Ø 500mm","kr./m.",{"$f":"3153*(1+D196)","v":3153},75]
[null,"Ledningsnet > Ø 500 mm","kr./m.",{"$f":"5998*(1+D196)","v":5998},75]
[null,"Råvandsledninger - City"]
[null,"Ø 50mm < Ledningsnet ≤ Ø110 mm","kr./m.",{"$f":"1495*(1+D196)","v":1495},75]
[null,"Ø110 mm < Ledningsnet ≤ Ø 250 mm","kr./m.",{"$f":"2192*(1+D196)","v":2192},75]
[null,"Ø 250 mm < Ledningsnet ≤ Ø 500mm","kr./m.",{"$f":"3773*(1+D196)","v":3773},75]
[null,"Ledningsnet > Ø 500 mm","kr./m.",{"$f":"6732*(1+D196)","v":6732},75]
[null,"Vandværker: Behandling og Udpumpning"]
[null,"Beluftningsanlæg, iltningstrappe, Kontruktioner","kr/m³/h ","Variabel",50]
[null,"Beluftningsanlæg, iltningstrappe, Mek./EL","kr/m³/h ","Variabel",25]
[null,"Beluftningsanlæg, ika-beluftning, Kontruktioner","kr/m³/h ","Variabel",50]
[null,"Beluftningsanlæg, ika-beluftning, Mek./EL","kr/m³/h ","Variabel",25]
[null,"Beluftningsanlæg, bundbeluftbning, Kontruktioner","kr/m³/h ","Variabel",50]
[null,"Beluftningsanlæg, bundbeluftbning, Mek./EL","kr/m³/h ","Variabel",25]
[null,"Beluftningsanlæg, rislebakke, Kontruktioner","kr/m³/h ","Variabel",50]
[null,"Beluftningsanlæg, rislebakke, Mek./EL","kr/m³/h ","Variabel",25]
[null,"Beluftningsanlæg, kompressorbeluftning","kr/m³/h ","Variabel",25]
[null,"Beluftningsanlæg, ren ilt","kr/m³/h ","Variabel",25]
[null,"Behandlingsanlæg, kalk anlæg","kr/m³/h ","Variabel",25]
[null,"Behandlingsanlæg, luddosering","kr/m³/h ","Variabel",25]
[null,"Filteranlæg, åbne filtre, enkelt filtrering, Kontruktioner","kr/m³/h ","Variabel",50]
[null,"Filteranlæg, åbne filtre, enkelt filtrering, Mek./EL","kr/m³/h ","Variabel",25]
[null,"Filteranlæg, åbne filtre, dobbelt filtrering, Kontruktioner","kr/m³/h ","Variabel",50]
[null,"Filteranlæg, åbne filtre, dobbelt filtrering, Mek./EL","kr/m³/h ","Variabel",25]
[null,"Filteranlæg, trykfiltre, enkelt filtrering","kr/m³/h ","Variabel",25]
[null,"Filteranlæg, trykfiltre, dobbelt filtrering","kr/m³/h ","Variabel",25]
[null,"Rentvandsbeholder  insitu støbt","kr/m³","Variabel",50]
[null,"Rentvandsbeholder  element","kr/m³","Variabel",50]
[null,"Udpumpningsanlæg, rentvandspumper på vandværk","kr/m³/h ","Variabel",25]
[null,"Udpumpningsanlæg, Freqvensomformer","kr/kW","Variabel",25]
[null,"Udpumpningsanlæg, Hydrofor","kr/lilter","Variabel",{"$f":"25","v":25}]
[null,"Skyllevand-/slamhåndteringsanlæg - lukkede betonbeholdere","kr/m³","Variabel",50]
[null,"Skyllevand-/slamhåndteringsanl. - åbne med faste sider/bund","kr/m³","Variabel",50]
[null,"Skyllevand-/slamhåndteringsanlæg - jordbassiner","kr/m³","Variabel",50]
[null,"Skyllevandsbehandling, inkl. UV-filter mv., Mek./EL","kr/m³/h ","Variabel",25]
[null,"Skyllevandsbehandling, inkl. UV-filter mv., SRO","kr/m³/h ","Variabel",10]
[null,"Nødstrømsanlæg på vandværk","kr/kW","Variabel",25]
[null,"Elanlæg - vandværk","kr./m³/h","Variabel",25]
[null,"SRO-anlæg, vandværk","kr./m³/h","Variabel",10]
[null,"Bygninger: "]
[null,"Etageareal vandbehandlingsbygning","kr/m²",{"$f":"18108*(1+D196)","v":18108},75]
[null,"Etageareal kontor og mandskabsfaciliteter","kr/m²",{"$f":"19309*(1+D196)","v":19309},75]
[null,"Værksted","kr/m²",{"$f":"14921*(1+D196)","v":14921},75]
[null,"Lager","kr/m²",{"$f":"14921*(1+D196)","v":14921},75]
[null,"Garage og rørlager","kr/m²",{"$f":"10444*(1+D196)","v":10444},75]
[null,"Bygning for trykforøgere","kr/m²",{"$f":"20318*(1+D196)","v":20318},75]
[null,"Laboratorium (bygning, inkl. inventar+udstyr), Kontruktioner","kr/m²",{"$f":"20362*(1+D196)","v":20362},75]
[null,"Laboratorium (bygning, inkl. inventar+udstyr), Mek./EL","kr/m²",{"$f":"13575*(1+D196)","v":13575},10]
[null,"Andre:"]
[null,"Sikring (terror, hærværk), Mek./EL","kr./stk.",{"$f":"6372*(1+D196)","v":6372},25]
[null,"Sikring (terror, hærværk), SRO","kr./stk.",{"$f":"14868*(1+D196)","v":14868},10]
[null,"Sikring, mindre avanceret (hegne, porte), Mek./EL","kr./stk.",{"$f":"26067*(1+D196)","v":26067},25]
[null,"Sikring, mindre avanceret (hegne, porte), SRO","kr./stk.",{"$f":"60823*(1+D196)","v":60823},10]
[null,"Sikring, avanceret (hegne, porte og overvågningssystemer), Mek./EL","kr./stk.",{"$f":"56318*(1+D196)","v":56318},25]
[null,"Sikring, avanceret (hegne, porte og overvågningssystemer), SRO","kr./stk.",{"$f":"225271*(1+D196)","v":225271},10]
[]
[]
[null,"Distributionsanlæg:"]
[75,"Ledningsnet - Land"]
[null,"Ledningsnet ≤ Ø50 mm","kr./m.",{"$f":"529*(1+D196)","v":529},75]
[null,"Ø 50mm < Ledningsnet ≤ Ø110 mm","kr./m.",{"$f":"808*(1+D196)","v":808},{"$f":"75","v":75}]
[null,"Ø110 mm < Ledningsnet ≤ Ø 250 mm","kr./m.",{"$f":"1513*(1+D196)","v":1513},75]
[null,"Ø 250 mm < Ledningsnet ≤ Ø 500mm","kr./m.",{"$f":"2944*(1+D196)","v":2944},75]
[null,"Ledningsnet > Ø 500 mm","kr./m.",{"$f":"5751*(1+D196)","v":5751},75]
[null,"Støbejernsledninger ≤ Ø50 mm","kr./m.",{"$f":"899*(1+D196)","v":899},100]
[null,"Støbejernsledninger Ø 50mm < Ledningsnet ≤ Ø110 mm","kr./m.",{"$f":"1053*(1+D196)","v":1053},100]
[null,"Støbejernsledninger Ø110 mm < Ledningsnet ≤ Ø 250 mm","kr./m.",{"$f":"1490*(1+D196)","v":1490},100]
[null,"Støbejernsledninger Ø 250 mm < Ledningsnet ≤ Ø 500mm","kr./m.",{"$f":"2762*(1+D196)","v":2762},100]
[null,"Støbejernsledninger Ledningsnet > Ø 500 mm","kr./m.",{"$f":"5484*(1+D196)","v":5484},100]
[null,"Eternitledninger ≤ Ø50 mm","kr./m.",{"$f":"655*(1+D196)","v":655},75]
[null,"Eternitledninger Ø 50mm < Ledningsnet ≤ Ø110 mm","kr./m.",{"$f":"885*(1+D196)","v":885},75]
[null,"Eternitledninger Ø110 mm < Ledningsnet ≤ Ø 250 mm","kr./m.",{"$f":"1287*(1+D196)","v":1287},75]
[null,"Eternitledninger Ø 250 mm < Ledningsnet ≤ Ø 500mm","kr./m.",{"$f":"3056*(1+D196)","v":3056},75]
[null,"Eternitledninger Ledningsnet > Ø 500 mm","kr./m.",{"$f":"8477*(1+D196)","v":8477},75]
[null,"Skelbrønd, Konstruktioner","kr./stk.",{"$f":"10415*(1+D196)","v":10415},50]
[null,"Skelbrønd, Mek./EL","kr./stk.",{"$f":"15623*(1+D196)","v":15623},15]
[null,"Inspektionsbrønd, Konstruktioner","kr./stk.",{"$f":"10415*(1+D196)","v":10415},50]
[null,"Inspektionsbrønd, Mek./EL","kr./stk.",{"$f":"13019*(1+D196)","v":13019},15]
[null,"Stik på ledningsnet, Konstruktioner","kr./stk.",{"$f":"4722*(1+D196)","v":4722},75]
[null,"Stik på ledningsnet, Mek./EL","kr./stk.",{"$f":"4722*(1+D196)","v":4722},75]
[null,"Ledningsnet - By"]
[null,"Ledningsnet ≤ Ø50 mm","kr./m.",{"$f":"650*(1+D196)","v":650},75]
[null,"Ø 50mm < Ledningsnet ≤ Ø110 mm","kr./m.",{"$f":"958*(1+D196)","v":958},{"$f":"75","v":75}]
[null,"Ø110 mm < Ledningsnet ≤ Ø 250 mm","kr./m.",{"$f":"1684*(1+D196)","v":1684},{"$f":"75","v":75}]
[null,"Ø 250 mm < Ledningsnet ≤ Ø 500mm","kr./m.",{"$f":"3153*(1+D196)","v":3153},75]
[null,"Ledningsnet > Ø 500 mm","kr./m.",{"$f":"5998*(1+D196)","v":5998},75]
[null,"Støbejernsledninger ≤ Ø50 mm","kr./m.",{"$f":"1020*(1+D196)","v":1020},100]
[null,"Støbejernsledninger Ø 50mm < Ledningsnet ≤ Ø110 mm","kr./m.",{"$f":"1203*(1+D196)","v":1203},100]
[null,"Støbejernsledninger Ø110 mm < Ledningsnet ≤ Ø 250 mm","kr./m.",{"$f":"1661*(1+D196)","v":1661},100]
[null,"Støbejernsledninger Ø 250 mm < Ledningsnet ≤ Ø 500mm","kr./m.",{"$f":"2971*(1+D196)","v":2971},100]
[null,"Støbejernsledninger Ledningsnet > Ø 500 mm","kr./m.",{"$f":"5731*(1+D196)","v":5731},100]
[null,"Eternitledninger ≤ Ø50 mm","kr./m.",{"$f":"776*(1+D196)","v":776},75]
[null,"Eternitledninger Ø 50mm < Ledningsnet ≤ Ø110 mm","kr./m.",{"$f":"1035*(1+D196)","v":1035},75]
[null,"Eternitledninger Ø110 mm < Ledningsnet ≤ Ø 250 mm","kr./m.",{"$f":"1456*(1+D196)","v":1456},75]
[null,"Eternitledninger Ø 250 mm < Ledningsnet ≤ Ø 500mm","kr./m.",{"$f":"3265*(1+D196)","v":3265},75]
[null,"Eternitledninger Ledningsnet > Ø 500 mm","kr./m.",{"$f":"8724*(1+D196)","v":8724},75]
[null,"Skelbrønd, Konstruktioner","kr./stk.",{"$f":"11457*(1+D196)","v":11457},50]
[null,"Skelbrønd, Mek./EL","kr./stk.",{"$f":"17185*(1+D196)","v":17185},15]
[null,"Inspektionsbrønd, Konstruktioner","kr./stk.",{"$f":"11457*(1+D196)","v":11457},50]
[null,"Inspektionsbrønd, Mek./EL","kr./stk.",{"$f":"14321*(1+D196)","v":14321},15]
[null,"Stik på ledningsnet, Konstruktioner","kr./stk.",{"$f":"5666*(1+D196)","v":5666},75]
[null,"Stik på ledningsnet, Mek./EL","kr./stk.",{"$f":"5666*(1+D196)","v":5666},75]
[null,"Ledningsnet - City"]
[null,"Ledningsnet ≤ Ø50 mm","kr./m.",{"$f":"1078*(1+D196)","v":1078},75]
[null,"Ø 50mm < Ledningsnet ≤ Ø110 mm","kr./m.",{"$f":"1495*(1+D196)","v":1495},75]
[null,"Ø110 mm < Ledningsnet ≤ Ø 250 mm","kr./m.",{"$f":"2192*(1+D196)","v":2192},{"$f":"75","v":75}]
[null,"Ø 250 mm < Ledningsnet ≤ Ø 500mm","kr./m.",{"$f":"3773*(1+D196)","v":3773},75]
[null,"Ledningsnet > Ø 500 mm","kr./m.",{"$f":"6732*(1+D196)","v":6732},75]
[null,"Støbejernsledninger ≤ Ø50 mm","kr./m.",{"$f":"1448*(1+D196)","v":1448},100]
[null,"Støbejernsledninger Ø 50mm < Ledningsnet ≤ Ø110 mm","kr./m.",{"$f":"1740*(1+D196)","v":1740},100]
[null,"Støbejernsledninger Ø110 mm < Ledningsnet ≤ Ø 250 mm","kr./m.",{"$f":"2169*(1+D196)","v":2169},100]
[null,"Støbejernsledninger Ø 250 mm < Ledningsnet ≤ Ø 500mm","kr./m.",{"$f":"3591*(1+D196)","v":3591},100]
[null,"Støbejernsledninger Ledningsnet > Ø 500 mm","kr./m.",{"$f":"6465*(1+D196)","v":6465},100]
[null,"Eternitledninger ≤ Ø50 mm","kr./m.",{"$f":"1204*(1+D196)","v":1204},75]
[null,"Eternitledninger Ø 50mm < Ledningsnet ≤ Ø110 mm","kr./m.",{"$f":"1572*(1+D196)","v":1572},75]
[null,"Eternitledninger Ø110 mm < Ledningsnet ≤ Ø 250 mm","kr./m.",{"$f":"1966*(1+D196)","v":1966},75]
[null,"Eternitledninger Ø 250 mm < Ledningsnet ≤ Ø 500mm","kr./m.",{"$f":"3885*(1+D196)","v":3885},75]
[null,"Eternitledninger Ledningsnet > Ø 500 mm","kr./m.",{"$f":"9458*(1+D196)","v":9458},75]
[null,"Skelbrønd, Konstruktioner","kr./stk.",{"$f":"12498*(1+D196)","v":12498},50]
[null,"Skelbrønd, Mek./EL","kr./stk.",{"$f":"18747*(1+D196)","v":18747},15]
[null,"Inspektionsbrønd, Konstruktioner","kr./stk.",{"$f":"12498*(1+D196)","v":12498},50]
[null,"Inspektionsbrønd, Mek./EL","kr./stk.",{"$f":"15623*(1+D196)","v":15623},15]
[null,"Stik på ledningsnet, Konstruktioner","kr./stk.",{"$f":"6139*(1+D196)","v":6139},75]
[null,"Stik på ledningsnet, Mek./EL","kr./stk.",{"$f":"6139*(1+D196)","v":6139},75]
[null,"Ledningsnet - Indre city"]
[null,"Ledningsnet ≤ Ø50 mm","kr./m.",{"$f":"1697*(1+D196)","v":1697},75]
[null,"Ø 50mm < Ledningsnet ≤ Ø110 mm","kr./m.",{"$f":"2268*(1+D196)","v":2268},75]
[null,"Ø110 mm < Ledningsnet ≤ Ø 250 mm","kr./m.",{"$f":"3009*(1+D196)","v":3009},75]
[null,"Ø 250 mm < Ledningsnet ≤ Ø 500mm","kr./m.",{"$f":"4773*(1+D196)","v":4773},75]
[null,"Ledningsnet > Ø 500 mm","kr./m.",{"$f":"7915*(1+D196)","v":7915},75]
[null,"Støbejernsledninger ≤ Ø50 mm","kr./m.",{"$f":"2067*(1+D196)","v":2067},100]
[null,"Støbejernsledninger Ø 50mm < Ledningsnet ≤ Ø110 mm","kr./m.",{"$f":"2513*(1+D196)","v":2513},100]
[null,"Støbejernsledninger Ø110 mm < Ledningsnet ≤ Ø 250 mm","kr./m.",{"$f":"2986*(1+D196)","v":2986},100]
[null,"Støbejernsledninger Ø 250 mm < Ledningsnet ≤ Ø 500mm","kr./m.",{"$f":"4591*(1+D196)","v":4591},100]
[null,"Støbejernsledninger Ledningsnet > Ø 500 mm","kr./m.",{"$f":"7648*(1+D196)","v":7648},100]
[null,"Eternitledninger ≤ Ø50 mm","kr./m.",{"$f":"1823*(1+D196)","v":1823},75]
[null,"Eternitledninger Ø 50mm < Ledningsnet ≤ Ø110 mm","kr./m.",{"$f":"2345*(1+D196)","v":2345},75]
[null,"Eternitledninger Ø110 mm < Ledningsnet ≤ Ø 250 mm","kr./m.",{"$f":"2783*(1+D196)","v":2783},75]
[null,"Eternitledninger Ø 250 mm < Ledningsnet ≤ Ø 500mm","kr./m.",{"$f":"4885*(1+D196)","v":4885},75]
[null,"Eternitledninger Ledningsnet > Ø 500 mm","kr./m.",{"$f":"10641*(1+D196)","v":10641},75]
[null,"Skelbrønd, Konstruktioner","kr./stk.",{"$f":"13540*(1+D196)","v":13540},50]
[null,"Skelbrønd, Mek./EL","kr./stk.",{"$f":"20310*(1+D196)","v":20310},15]
[null,"Inspektionsbrønd, Konstruktioner","kr./stk.",{"$f":"13540*(1+D196)","v":13540},50]
[null,"Inspektionsbrønd, Mek./EL","kr./stk.",{"$f":"16925*(1+D196)","v":16925},15]
[null,"Stik på ledningsnet, Konstruktioner","kr./stk.",{"$f":"7555*(1+D196)","v":7555},75]
[null,"Stik på ledningsnet, Mek./EL","kr./stk.",{"$f":"7555*(1+D196)","v":7555},75]
[null,"Ventiler"]
[null,"Ventiler på ledningsnet ≤ Ø50 mm","kr./stk.",{"$f":"7732*(1+D196)","v":7732},75]
[null,"Ventiler på Ø 50mm < Ledningsnet ≤ Ø110 mm","kr./stk.",{"$f":"8980*(1+D196)","v":8980},75]
[null,"Ventiler på Ø110 mm < Ledningsnet ≤ Ø 250 mm","kr./stk.",{"$f":"21736*(1+D196)","v":21736},75]
[null,"Ventiler på Ø 250 mm < Ledningsnet ≤ Ø 500mm","kr./stk.",{"$f":"78299*(1+D196)","v":78299},75]
[null,"Ventiler på ledningsnet > Ø 500 mm","kr./stk.",{"$f":"223733*(1+D196)","v":223733},75]
[null,"Pumpestationer, bygværker og bassiner"]
[null,"Pumpestation (inkl. evt. hydrofor)/trykforøger, Konstruktioner","kr/m³/h ","Variabel",50]
[null,"Pumpestation (inkl. evt. hydrofor)/trykforøger, Mek./EL","kr/m³/h ","Variabel",25]
[null,"Pumpestation (inkl. evt. hydrofor)/trykforøger, SRO","kr/m³/h ","Variabel",10]
[null,"Beholderanlæg - højdebeholder","kr/m³/h ","Variabel",50]
[null,"Beholderanlæg - vandtårn","kr/m³/h ","Variabel",50]
[null,"Andre: "]
[null,"Afregningsmålere, mekaniske ","kr./stk.",{"$f":"1300*(1+D196)","v":1300},8]
[null,"Afregningsmålere, elektroniske ≤ Ø 110mm (Qn 10)","kr./stk.",{"$f":"20000*(1+D196)","v":20000},10]
[null,"Afregningsmålere, elektroniske > Ø110 mm","kr./stk.",{"$f":"26000*(1+D196)","v":26000},10]
[null,"SRO-brønd/kvarterbrønd/sektionsbrønd, Konstruktioner","kr./stk.",{"$f":"78845*(1+D196)","v":78845},50]
[null,"SRO-brønd/kvarterbrønd/sektionsbrønd, Mek./EL","kr./stk.",{"$f":"90108*(1+D196)","v":90108},15]
[null,"SRO-brønd/kvarterbrønd/sektionsbrønd, SRO","kr./stk.",{"$f":"56318*(1+D196)","v":56318},10]
[]
[]
[null,"Fællesfunktionsanlæg: "]
[null,"Andre:"]
[null,"Køretøjer, personbil","kr./stk.",{"$f":"225000","v":225000},5]
[null,"Køretøjer, små lastvogne (< 3.500 kg.)","kr./stk.",{"$f":"250000","v":250000},5]
[null,"Køretøjer, store lastvogne (> 3.500 kg.)","kr./stk.",{"$f":"1300000","v":1300000},5]
[null,"Køretøjer, entreprenørmaskiner","kr./stk.",{"$f":"400000","v":400000},5]
[]
[null,"Regionstillæg",null,{"$f":"IF(AND(Produktionsanlæg!I2<4720,Produktionsanlæg!I2<>0),0.037,0)","v":0}]

{"sheet":"Priser","index":4,"n_rows":380,"n_cols":23,"rows_kept":380,"cut":false,"hidden":true,"merged":[]}
["Til bestemmelse af diverse tillæg",null,null,null,null,null,"Til bestemmelse af øst-tillæg",null,null,null,"Til bestemmelse af tilæg for beliggenhed af vandværksanlæg"]
["Uforudseelig,",null,0.2,"Kan ændres",null,null,"Øst = Sjælland",1.1000000000000001,"Kan ændres",null,"Land",0.95,"Kan ændres"]
["Projektering,",null,0.15,"Kan ændres",null,null,"Vest = Rest af landet",1,"Kan ændres",null,"By",1]
["Administration,",null,0.06,"Kan ændres",null,null,null,null,null,null,"City",1.05,"Kan ændres"]
["Index factor (1.0 per 01.04.2009)",null,1,"Kan ændres",null,null,2,null,null,null,"Indre City",1.1000000000000001,"Kan ændres"]
["Totalt tillæg ufor + proj + Adm",null,0.46279999999999988,null,null,null,1]
["Øst / vest faktor",null,1]
["Faktor",null,1.4627999999999999]
[]
["Boringer"]
[]
["Der er benyttet priser på luftskylleboring (lufthæveboring)"]
["I Thomson er prisen opdelt i en pris for  de første 10 meter + en anden pris for de efterfølgende meter"]
[null,null,"kr/m","kr/m"]
[null,null,"0 - 10 m","efterfølgende"]
["05-33.01",null,4400,null,null,"ø400 mm Boring"]
["05-33-02",null,null,500,null,"ø400 mm Boring"]
["05-51,01",null,1230,null,null,"Renpumpning fordelt på de første 10 meter"]
["05-41.03",null,900,null,null,"Forudsættes et 10 meter ø 200 mm filter"]
["05-42.03",null,null,550,null,"ø200 mm forerør"]
["Sum ekskl. tillæg",null,6530,1050]
["Sum inkl tillæg",null,9552.0839999999989,1535.94]
[]
["Dybde",null,"Totalpris",null,"Enhedspris"]
[50,"meter",156958.44,"kr",3139.1687999999999,"kr/m"]
[]
[]
["Råvandsstation"]
[]
[]
["05-71.02 ekskl. tillæg",null,25700,"kr/stk"]
["05-71.01 inkl. tillæg",null,57809.855999999992,"kr/stk"]
[]
[]
[]
[]
[]
[]
[]
[]
[]
[]
[]
["Maskin installationer boringer"]
[]
[null,null,null,"Kr/pr Xm³/t","kr/m³"]
[null,null,null,0]
["05-61,01  inkl. tillæg",null,44147.303999999996,10,4414.7303999999995,null,"Pumpe mv 0 10"]
["05-61,03 inkl. tillæg",null,62958.911999999997,20,3147.9456,null,"Pumpe mv 10 -20"]
["05-61,05 inkl. tillæg",null,77148.072,30,2571.6024000000002,null,"Pumpe mv 20 - 30"]
["05-61,07 inkl. tillæg",null,90254.76,45,2005.6613333333332,null,"Pumpe mv 30 - 45 "]
["Skønnet inkl. tillæg",null,292560,300,975.2,null,"Pumpe mv over 45"]
[]
["Udpumpningsanlæg",null,null,null,0,10,20,30,45,300,"m³/time"]
[null,null,null,null,0,44147.303999999996,62958.911999999997,77148.072,90254.76,292560,"kr"]
[null,null,null,null,4414.7303999999995,1881.1608000000001,1418.9160000000004,873.77919999999961,793.35388235294113,793.35388235294113,"kr/m³"]
[]
[]
["Udpumpningsanlæg",null,null,50,"m³/time",94221.529411764699,"kr"]
[]
[]
["Stigrør",null,"Min","Middel","Maks.","Gennemsnit"]
["05-61.04 + 06 + 08",null,42500,75000,85500,103273.68,null,"50 meter stigrør  inkl. tillæg"]
[]
[]
["Extra instrumenter"]
["Skønnet ekskl. tillæg",null,15000,25000,35000,25000,null,"Flowmåler, "]
["Skønnet ekskl. tillæg",null,12000,15000,20000,15400,null,"Tryktransd."]
["Skønnet ekskl. tillæg",null,2000,4000,7000,4200,null,"Alarm"]
["Sum inkl tillæg",null,null,null,null,65240.88]
[]
[]
[]
[]
[]
[]
[]
["Elinstallationer og SRO boringer"]
[null,null,"Min","Middel","Maks.","Gennemsnit"]
["05-80.02 +03+04 ekskl tillæg",null,39000,44500,48900,44280,null,"Inkl. Vlt"]
["Skønnet ekskl. tillæg",null,10000,30000,50000,30000,null,"Fremføring af stærkstrøm / trafo"]
["I alt inkl. strømforsyning inkl. tillæg",null,null,null,null,108656.78399999999]
["SRO"]
["Skønnet ekskl. tillæg",null,10000,20000,30000,20000,null,"SRO"]
["Inkl. tillæg",null,null,null,null,29256]
[]
["Erstatning i f.m. etablering af boring"]
["4.4",null,44911,null,"OBS OBS Ingen tillæg"]
[]
["Hegn "]
["05 - 75.01 ekskl. tillæg",null,80,610,null,48800,null,"80 meter hegn"]
["05 75.02 ekskl. tillæg",null,1,9600,null,9600,null,"Låge"]
["Sum inkl tillæg",null,null,null,null,85427.520000000004]
[]
[null,null,null,null,null,null,null,null,null,null,null,null,null,null,null,null,"Anlæg","Mekn/El"]
["Beluftningsanlæg",null,null,"Kr/pr Xm³/t",0,10,50,100,200,500]
["07-31.01 inkl. tillæg",null,266229.59999999998,50,0,58570.511999999995,266229.59999999998,439278.84,718819.92,1331148,"kr","Iltningstrappe",null,100,"%",null,0.8,0.2]
[null,null,null,null,5857.0511999999999,5191.4771999999994,3460.9847999999988,2795.4108000000015,2041.0935999999999,2041.0935999999999,"kr/m³/t"]
["Skønnet inkl. tillæg",null,399344.4,50,0,87855.767999999982,399344.4,658918.26,1078229.8799999999,1996722,"kr","Ikabelufter",null,150,"% af iltningstrappe",null,0.5,0.5]
[null,null,null,null,8785.5767999999989,7787.2158000000009,5191.4771999999975,4193.1162000000004,3061.6404000000002,3061.6404000000002,"kr/m³/t"]
["Skønnet inkl. tillæg",null,159737.76,50,0,35142.307199999996,159737.76,263567.30399999995,431291.95200000005,798688.8,"kr","Rislebakke",null,60,"% af iltningstrappe"]
[null,null,null,null,3514.2307199999996,3114.8863199999996,2076.5908799999993,1677.2464800000009,1224.65616,1224.65616,"kr/m³/t"]
["Skønnet inkl. tillæg",null,239606.64,50,0,52713.460799999993,239606.64,395350.95599999995,646937.92800000007,1198033.2,"kr","Bundbeluftning",null,90,"% af iltningstrappe",null,0.7,0.3]
[null,null,null,null,5271.3460799999993,4672.3294799999985,3114.8863199999996,2515.8697200000011,1836.9842399999995,1836.9842399999995,"kr/m³/t"]
["Skønnet inkl. tillæg",null,53245.919999999998,50,0,11714.1024,53245.919999999998,87855.767999999982,143763.984,266229.59999999998,"kr","Kompressorbeluftning",null,20,"% af iltningstrappe"]
[null,null,null,null,1171.4102399999999,1038.2954399999999,692.19695999999965,559.08216000000016,408.21871999999991,408.21871999999991,"kr/m³/t"]
["Skønnet inkl. tillæg",null,53245.919999999998,50,0,11714.1024,53245.919999999998,87855.767999999982,143763.984,266229.59999999998,"kr","Rent ilt",null,20,"% af iltningstrappe"]
[null,null,null,null,1171.4102399999999,1038.2954399999999,692.19695999999965,559.08216000000016,408.21871999999991,408.21871999999991,"kr/m³/t"]
["Iltningstrappe",null,500,"m³/time",1331148,"kr"]
["Ikabelufter",null,75,"m³/time",529131.32999999996,"kr"]
["Rislebakke",null,75,"m³/time",211652.53199999995,"kr"]
["Bundbeluftning",null,75,"m³/time",317478.79799999995,"kr",null,null,null,null,null,null,null,null,null,null,null,null,null,null,null,null,317000]
["Kompressorbeluftning",null,75,"m³/time",70550.843999999983,"kr"]
["Rent ilt",null,75,"m³/time",70550.843999999983,"kr"]
[]
[]
[]
["pH Justering",null,null,"Kr/pr Xm³/t",0,50,100,200,500,"m³/time"]
["07-71.01 inkl. tillæg",null,78552.36,50,0,78552.36,133539.01199999999,213662.4192,427324.83840000001,"kr","1000 liter kalkdoseringsanlæg Antagelse: = 50 m³/time"]
["Skønnet",null,235657.08,50,0,235657.08,400617.03599999996,640987.25760000001,1281974.5152,"kr",300,"% af kalkdoseringsanlæg = inkl kalksilo"]
[null,null,null,null,4713.1415999999999,3299.1991199999993,2403.7022160000006,2136.6241920000002,2136.6241920000002,"kr/m³/time"]
["Skønnet",null,0,50,0,39276.18,66769.505999999994,106831.2096,213662.4192,"kr",50,"% af kalkdoseingsanlæg = Luddoseringsanlæg"]
[null,null,null,null,785.52359999999999,549.86651999999992,400.6170360000001,356.10403200000002,356.10403200000002,"kr/m³/time"]
[]
["Kalkdoseringsanlæg inkl kalksilo",null,350,"m³/time",961480.88639999996,"kr"]
["Luddoseringsanlæg",null,100,"m³/time",66769.505999999994,"kr"]
[]
[]
[]
[]
["Behandlingsanlæg"]
["Åbne filtre",null,null,"Kr/pr Xm³/t",0,50,100,200,500,"m³/time"]
["07-41,01 inkl. tillæg",null,544161.6,50,null,544161.6,null,null,null,null,"Åbne filtre 2 for og 2 efter inkl. rør m.v."]
["Skønnet inkl. tillæg",null,292560,50,null,292560,null,null,null,"kr/m³/t","Betonarbejder"]
["Returskylning inkl. tillæg"]
["07-61.01",null,714577.8,50,null,714577.8,null,null,null,null,"Retur skylning for 2 for og 2 efter filtre inkl skyllepumpe og blæser 50 m³/t ??"]
[null,null,1551299.4,null,0,1551299.4,2637208.98,4219534.3679999998,8439068.7359999996,"kr",null,null,null,null,null,null,"Anlæg","Mekn/El"]
[null,null,null,null,31025.987999999998,21718.191600000002,15823.253879999998,14065.11456,14065.11456,"kr/m³/time",null,null,null,null,null,null,0.4,0.6]
[]
[null,null,null,null,0,1085909.58,1846046.2859999998,2953674.0575999999,5907348.1151999999,"kr ",null,null,null,null,null,null,0.4,0.6]
["Skønnet",null,1085909.58,50,21718.191600000002,15202.734119999996,11076.277716000001,9845.5801919999994,9845.5801919999994,"kr/m³/time","Enkelt filtrering ekskl rør mv.",null,70,"% af dobbelt filtrering "]
[]
[]
["Åbne filtre dobbelt filtrering",null,null,100,"m³/time",2637208.98,"kr",null,null,null,null,null,null,null,null,null,null,null,null,null,null,null,1986000]
["Åbne filtre enkelt filtrering",null,null,100,"m³/time",1846046.2859999998,"kr"]
[]
[]
[]
["Behandlingsanlæg"]
["Lukkede filtre",null,null,null,0,30,100,200,500,"m³/t"]
["07-51.03 inkl. tillæg",null,516368.4,null,0,516368.4,1290921,2323657.7999999998,4647315.5999999996,"kr ","Enkelt filtrering inkl..rør mv."]
[null,null,353000,null,17212.28,11065.037142857143,10327.368000000002,7745.5260000000007,7745.5260000000007,"kr/m³/time"]
[]
[null,null,null,null,0,30,100,200,500,"m³/t"]
["Skønnet inkl. tillæg",null,0,null,0,722915.76,1807289.4,3253120.92,6506241.8400000008,"kr","Dobbeltfiltrering ekskl. rør ",null,140,"% af enkeltfiltrering ekskl. rør"]
[null,null,null,null,24097.191999999999,15491.051999999998,14458.315200000005,10843.736400000002,10843.736400000002,"kr/m³/time"]
[]
[]
["Lukkede filtre enkelt filtrering",null,null,100,"m³/time",1290921,"kr"]
["Lukkede filtre dobbelt filtrering",null,null,100,"m³/time",1807289.4,"kr"]
[]
[]
[]
["07-51.02 inkl. tillæg",null,398613]
["Uv mv",null,146280]
["I alt inkl. tillæg",null,544893]
[]
["Rentvandsbeholdere",null,null,null,0,100,500,1000,3000,"m³"]
["12-11.01 inkl. tillæg",null,5207.5679999999993,"kr/m³",0,520756.8,2343405.6,4218130.08,7500000,"kr","In-situ støbt rentvandsbeholder "]
[null,null,"100 m³",null,5207.5679999999993,4556.6219999999994,3749.4489599999988,1640.9349600000005,1640.9349600000005,"kr/m³"]
[]
[null,null,null,null,null,356000,6.5825999999999993,1.8,7500000]
[]
[]
[null,null,null,null,0,120,500,1000,3000,"m³"]
["12-12.01 inkl. tillæg",null,4242.12,"kr/m³",0,509054.4,1883501.28,3390302.304,6600000,"kr","Element beholder "]
[null,null,"120 m³",null,4242.12,3616.9654736842108,3013.6020479999997,1604.8488480000001,1604.8488480000001,"kr/m³"]
[]
[]
[]
[]
["Rentvandsbeholdere Insitustøbte",null,null,1000,"m³/time",4218130.08,"kr",null,null,null,null,null,null,null,null,null,null,null,null,null,null,null,2160000]
["Rentvandsbeholdere Element",null,null,1000,"m³/time",3390302.304,"kr"]
[]
[]
[]
[]
[]
[]
[]
["Vandtårne",null,null,null,0,100,500,1000,3000,"m³/time"]
["Skønnet inkl. tillæg",null,null,null,0,781135.2,3515108.4,6327195.1199999992,11250000,"kr",150,"% af rentvandsbeholder"]
[null,null,null,null,7811.351999999998,6834.9329999999991,5624.1734399999996,2461.4024400000003,2461.4024400000003,"kr/m³"]
[]
[]
[]
[]
[]
["Vandtårne",null,null,1000,"m³/time",6327195.1199999992,"kr"]
[]
[]
[null,null,null,null,null,356000,600000,1400000,2500000]
[]
[null,null,null,null,null,null,1.6853932584269662,2.3333333333333335,1.7857142857142858]
[]
[]
["Skyllevandsbeholdere",null,null,null,0,100,200,500,1000,"m³"]
["08-12.01 inkl. tillæg",null,5207.5679999999993,"kr/m³",0,520756.8,833210.88,1833063.936,3299515.0847999998,"kr ","Lukket skyllevandsbeholder 30 - 80 m³"]
[null,null,3560,null,5207.5679999999993,3124.5407999999998,3332.8435200000004,2932.9022975999997,2932.9022975999997,"kr/m³"]
[]
["12-11.02 inkl. tillæg",null,2516.0159999999996,"kr/m³",0,251601.6,402562.56,885637.6320000001,1594147.7376000001,"kr ","Åbne beholder med faste side / bund"]
[null,null,null,null,2516.0159999999996,1509.6096000000002,1610.2502400000003,1417.0202111999999,1417.0202111999999,"kr/m³"]
[]
["Skønnet inkl. tillæg",null,534,"kr/m³",0,37740.239999999998,60384.384000000005,132845.64480000001,239122.16064000002,"kr ","Jordbassin",15,"% af åbne beholdere"]
[null,null,null,null,377.4024,226.44144000000009,241.53753600000002,212.55303168,212.55303168,"kr/m³"]
[]
[]
[]
["Lukkede skyllevandsbeholdere",null,null,100,"m³",520756.8,null,null,null,null,null,null,null,null,null,null,null,null,null,null,null,null,544000]
["Åbne beholder med faste side / bund",null,null,1000,"m³",1594147.7376000001]
["Jordbassin",null,null,200,"m³",60384.384000000005]
[]
[]
[]
[]
[]
[]
[]
[]
["Udpumpningsanlæg"]
["Pumper",null,null,"Kr/pr Xm³/t"]
["09-11.03 inkl. tillæg",null,39349.32,10,3934.9319999999998,"kr/m³/t"]
["09-11.04 inkl. tillæg",null,51051.72,20,2552.5859999999998,"kr/m³/t"]
["09-11.05 inkl. tillæg",null,59974.8,30,1999.16,"kr/m³/t"]
[]
["Udpumpningsanlæg",null,null,null,0,10,20,30,100,1000,"m³/time"]
[null,null,1999.16,null,0,39349.32,51051.72,59974.8,149937,899622,"kr"]
[null,null,null,null,3934.9319999999998,1170.24,892.30800000000022,1285.1742857142858,832.98333333333335,832.98333333333335,"kr/m³"]
[]
[]
["Udpumpningsanlæg",null,null,180,"m³/time",216575.66666666669,"kr",null,null,null,null,null,null,null,null,null,null,null,null,null,null,null,183000]
[]
[]
[]
[]
[]
[]
[]
[]
["Frekvensomformere inkl. elinstallationer",null,null,"Kr/pr X kW"]
["09-12.01 inkl. tillæg",null,68605.320000000007,2.2000000000000002,46900]
["09-12.02 inkl. tillæg",null,74456.52,4]
["09-12.03 inkl. tillæg",null,77089.56,5.5]
[]
[null,null,null,null,0,2.2000000000000002,4,5.5,"m³/time"]
[null,null,null,null,0,68605.320000000007,74456.52,77089.56,"kr"]
[null,null,null,null,31184.236363636359,3250.6666666666652,1755.3600000000054,1755.3600000000054,"kr/m³"]
[]
[]
[]
["Frekvensomformere",null,null,25,"kW",111319.08,"kr",null,null,null,null,null,null,null,null,null,null,null,null,null,null,null,100000]
[]
[]
[]
[]
[]
[]
[]
["Hydrofor"]
["09-13.01 inkl. tillæg",null,148766.76,"kr / 2,5 m³"]
["09-13.02 inkl. tillæg",null,217957.2,"kr / 5,0 m³"]
[]
["Styring"]
["9-13-03 inkl. tillæg",null,52075.68,"kr/stk"]
[null,null,null,null,0,2500,5000,"m³/time"]
["Hydrofor inkl. styring",null,null,null,0,200842.44,270032.88,"kr"]
[null,null,null,null,80.336975999999993,27.676176000000012,27.676176000000012,"kr/m³"]
[]
[]
["Hydroforanlæg",null,null,4000,"liter",242356.704,"kr"]
[]
[]
[]
[]
[]
[]
[]
[]
["Nødstrømsaggregat"]
["13-11.01 inkl. tillæg",null,null,null,134577.60000000001,"kr",11.5,"kW"]
["13-11.02 inkl. tillæg",null,null,null,155495.64000000001,"kr",16,"kW"]
["13-11.03 inkl. tillæg",null,null,null,174073.2,"kr",22,"kW"]
[]
[null,null,null,null,0,11.5,16,22,50,"kW"]
[null,null,null,null,0,134577.60000000001,155495.64000000001,174073.2,295924.44,"kr"]
[null,null,null,null,11702.4,4648.4533333333347,3096.26,4351.83,4351.83,"kr/m³"]
[]
[]
["Nødstrømsaggregat",null,null,100,"kW",513515.94,"kr"]
[]
[]
[]
[]
[]
[]
[]
[]
[]
["El + SRO Vandværk"]
[]
[null,null,null,null,0,50,200,1000,"m³/time"]
["Eltavle + install inkl. tillæg",null,null,null,0,380328,665574,1663935,"Kr"]
[]
["Sum",null,null,null,null,380328,665574,1663935,"Kr"]
[null,null,null,null,7606.56,1901.64,1247.9512499999998,1247.9512499999998,"kr/m³"]
[]
["SRO inkl. tillæg",null,null,null,0,292560,351072,596822.4,"Kr"]
[null,null,null,null,5851.2,390.08,307.18800000000005,307.18800000000005,"kr/m³"]
[]
[]
[]
[]
[]
[]
[]
[]
[]
[]
[]
[]
["Pumpestation / Trykforøgerstation"]
["Prisgrundlag",null,null,null,null,null,null,null,null,null,"Kr. ekskl","Kr. inkl. "]
["Pris fra Grundfos",null,null,null,null,null,null,null,null,null,"tillæg","tillæg"]
["m³/time","kr",null,null,null,null,null,null,null,null,"kr"]
[30,105000,"Kun pumpeanlæg inkl styring",null,null,"Tillæg for byg, inst., eltilslutning mv ",null,null,50," % ",157500,230391]
[50,135000,"Kun pumpeanlæg inkl styring",null,null,"Tillæg for installation, eltilslutning mv ",null,null,50," % ",202500,296217]
[250,600000,"Pris på komplet installation Aabenraa 2009 ",null,null,null,null,null,null,null,600000,877680]
[]
[]
[null,null,null,null,null,null,null,null,null,null,null,null,null,null,null,"Anlæg","Mekn/El","SRO"]
["Maskinanlæg pumpestation / trykforøger",null,null,null,null,null,null,null,null,null,null,null,null,null,null,0.25,0.65,0.1]
[null,null,null,null,0,30,50,250,"m³/time"]
[null,null,null,null,0,230391,296217,877680,"Kr","Inkl. El og styring"]
[null,null,null,null,7679.7,3291.3,2907.3149999999996,2907.3149999999996,"Kr/m³/time"]
[]
[]
[]
["Eltavle + install",null,null,100,"m³/time",441582.75,4415.8275000000003]
[]
[]
[]
[]
[]
[]
[null,null,null,null,null,null,null,null,null,null,null,null,null,null,null,null,"Anlæg","Mekn/El"]
["Kvarterbrønde",null,null,null,null,null,null,null,null,null,null,null,null,null,null,null,0.4,0.6]
["El + SRO",null,null,null,50000]
["Mekaniske installationer",null,null,null,null,null,null,null,null,null,null,null,null,null,null,null,0.4,0.6]
[null,"Brønd inkl. nedgravning",null,null,20000]
[null,"Flowmåler + andre instrumneter",null,null,20000]
[null,"Rør og ventiler ",null,null,10000]
[null,"Sum",null,null,100000]
[]
[]
[]
[]
["Skyllevandsbehandling"]
[]
[]
["07-51.02 inkl. tillæg",null,398613," 20 m³/time anlæg"]
["Uv mv inkl. tillæg",null,117024]
["I alt inkl. tillæg",null,515637]
[]
[null,null,null,null,null,0,20,40,"m³/t",null,null,null,null,null,null,null,"Mekn/El","SRO"]
[null,null,null,null,null,0,515637,773455.5,"kr",0]
[null,null,null,null,null,25781.85,12890.924999999997,12890.924999999997,"kr/m³/time",null,null,null,null,null,null,null,0.85,0.15]
[]
[]
[]
[null,null,null,15,"m³/time",386727.75]