Workbook
Name A_Marts_Tabel: '5.6 Anlægsprojekter'!$B$8:$H$12
Name A_Marts_Tabel_Værdi: '5.6 Anlægsprojekter'!$B$11
Name A_Marts_Tabel_Værdi_korr: '5.6 Anlægsprojekter'!$B$12
Name BlåBlok_0: Indhold!$A$1:$E$39
Name BlåBlok_1: '1. Økonomisk ramme 2027'!$A$1:$E$25
Name BlåBlok_2: '2. Differencekonto'!$A$1:$E$26
Name BlåBlok_3: '3. Omk. i ØR2026'!$A$1:$E$26
Name BlåBlok_4: '4. Generelle eff. krav'!$A$1:$E$23
Name BlåBlok_5: '5.1. § 10-tillæg'!$A$1:$E$27
Name BlåBlok_51: '5.1.a. § 10-tillæg'!$A$1:$G$23
Name BlåBlok_52: '5.2. Varige tillæg'!$A$1:$G$24
Name BlåBlok_53: '5.3. Engangstillæg'!$A$1:$G$15
Name BlåBlok_54: '5.4. Periodevise driftsomk.'!$A$1:$E$14
Name BlåBlok_55: '5.5. Korr. af ØR2025'!$A$1:$E$18
Name BlåBlok_56: '5.6 Anlægsprojekter'!$A$1:$I$14
Name BlåBlok_6: '6. Bortfald'!$A$1:$G$14
Name BlåBlok_7: '7. Tilknyttet virksomhed'!$A$1:$G$14
Name BlåBlok_8: '8. Nøgletal'!$A$1:$D$27
Name Bort_Tabel: '6. Bortfald'!$B$8:$F$12
Name Bort_Tabel_Værdi: '6. Bortfald'!$B$11
Name Bort_Tabel_Værdi_pkorr: '6. Bortfald'!$B$12
Name DiffKonto_RegulatoriskePct_iÅr: '2. Differencekonto'!$B$24
Name DiffKonto_RegulatoriskePct_SidsteÅr: '2. Differencekonto'!$B$23
Name DiffKonto_Tabel: '2. Differencekonto'!$B$17:$D$19
Name DiffKonto_Tabel_Note: '2. Differencekonto'!$B$20
Name DiffKonto_Tabel_Saldo: '2. Differencekonto'!$B$19
Name DiffKonto_Tabel_Saldo_SidsteÅr: '2. Differencekonto'!$B$18
Name EngTillæg_Tabel: '5.3. Engangstillæg'!$B$8:$F$13
Name EngTillæg_Tabel_Værdi: '5.3. Engangstillæg'!$B$13
Name Fane4_Tabel1: '4. Generelle eff. krav'!$B$8:$D$13
Name Fane4_Tabel2: '4. Generelle eff. krav'!$B$14:$D$19
Name GE_Base_Anlæg: '4. Generelle eff. krav'!$B$15
Name GE_Base_Drift: '4. Generelle eff. krav'!$B$9
Name GE_Tabel: '4. Generelle eff. krav'!$B$8:$D$21
Name GE_Tabel_A: '4. Generelle eff. krav'!$B$19
Name GE_Tabel_D: '4. Generelle eff. krav'!$B$13
Name GE_Tabel_DA: '4. Generelle eff. krav'!$B$20
Name GEA_Tabel: '8. Nøgletal'!$B$13:$C$16
Name GEA_Tabel_År1: '8. Nøgletal'!$B$14
Name GEA_Tabel_År2: '8. Nøgletal'!$B$15
Name GED_Tabel: '8. Nøgletal'!$B$18:$C$20
Name GED_Tabel_Værdi: '8. Nøgletal'!$B$19
Name IE_Tabel: '8. Nøgletal'!$B$22:$C$25
Name IE_Tabel_År1: '8. Nøgletal'!$B$23
Name IE_Tabel_År2: '8. Nøgletal'!$B$24
Name Kontrol_Tabel: '2. Differencekonto'!$B$8:$D$15
Name Kontrol_Tabel_IR: '2. Differencekonto'!$B$9
Name Kontrol_Tabel_MelRes: '2. Differencekonto'!$B$15
Name Korr_Tabel: '5.5. Korr. af ØR2025'!$B$8:$D$16
Name Korr_Tabel_Total: '5.5. Korr. af ØR2025'!$B$16
Name P_Tabel: '8. Nøgletal'!$B$8:$C$11
Name P_Tabel_År1: '8. Nøgletal'!$B$9
Name P_Tabel_År2: '8. Nøgletal'!$B$10
Name PG10Tillæg_DD_Tabel: '5.1.a. § 10-tillæg'!$B$8:$F$20
Name PG10Tillæg_DD_Tabel_Note: '5.1.a. § 10-tillæg'!$B$21
Name PG10Tillæg_K_Korrekt: '5.1. § 10-tillæg'!$B$9:$B$12
Name PG10Tillæg_K_Tabel: '5.1. § 10-tillæg'!$B$8:$D$20
Name PG10Tillæg_K_Tabel_Total: '5.1. § 10-tillæg'!$B$20
Name PG10Tillæg_ØR_Tabel: '5.1. § 10-tillæg'!$B$22:$D$25
Name PG10Tillæg_ØR_Tabel_SletSpild: '5.1. § 10-tillæg'!$B$24:$D$24

Sheet Indhold
C6: Bilag A
C8: Til den økonomisk ramme for 2027
C11: Indholdsfortegnelse
B13: Fane 1 | C13: Økonomisk ramme for 2027
B15: Fane 2 | C15: Opgørelse af differencekonto for 2026
B17: Fane 3 | C17: Videreførte omkostninger fra den økonomiske ramme for 2026
B19: Fane 4 | C19: Generelle effektiviseringskrav
B21: Fane 5.1 | C21: § 10-tillæg
B23: Fane 5.1.a | C23: Fastsættelse af § 10-tillæg, der i forvejen er dækket i ØR25
B25: Fane 5.2 | C25: Varige tillæg
B27: Fane 5.3 | C27: Engangstillæg
B29: Fane 5.4 | C29: Periodevise driftsomkostninger
B31: Fane 5.5 | C31: Korrektion af den økonomiske ramme for 2025
B33: Fane 6 | C33: Bortfald eller nedsættelse af omkostninger
B35: Fane 7 | C35: Tilknyttet virksomhed overført til hovedvirksomheden
B37: Fane 8 | C37: Nøgletal

Sheet 1. Økonomisk ramme 2027
B3: Fane 1: Økonomisk ramme for 2027
B8: Oversigt over den økonomiske ramme
B9: Videreførte omkostninger fra den økonomiske ramme for 2026 | C9: ='3. Omk. i ØR2026'!C17 -> 12087271 | D9: kr.
B10: Nye varige tillæg | C10: ='5.2. Varige tillæg'!C22+'5.2. Varige tillæg'!E22 -> 372580.17 | D10: kr.
B11: Varige tillæg til anlægsprojekter igangsat senest den 1. marts 2016 | C11: ='5.6 Anlægsprojekter'!E12+'5.6 Anlægsprojekter'!C12 -> 0 | D11: kr.
B12: Rettelser af mængder af anlægsaktiver i POLKA | C12: 505134.21 | D12: kr.
B13: Bortfald eller nedsættelse af omkostninger | C13: =-('6. Bortfald'!C12+'6. Bortfald'!E12) -> 0 | D13: kr.
B14: Tidligere tilknyttet virksomhed | C14: ='7. Tilknyttet virksomhed'!C12+'7. Tilknyttet virksomhed'!E12 -> 0 | D14: kr.
B15: Individuelt effektiviseringskrav | C15: =-(SUM(C9:C14)*'8. Nøgletal'!C24) -> 0 | D15: kr.
B16: Generelt effektiviseringskrav | C16: ='4. Generelle eff. krav'!C20 -> -138859.94 | D16: kr.
B17: Prisudvikling | C17: =SUM(C9:C16)*'8. Nøgletal'!C10 -> 165457.02 | D17: kr.
B18: Omkostninger i alt | C18: =SUM(C9:C17) -> 12991583 | D18: kr.
B19: § 10-tillæg til den økonomiske ramme for 2027 | C19: ='5.1. § 10-tillæg'!C25 -> 0 | D19: kr.
B20: Tillæg til periodevise driftsomkostninger efter prisloftbekendtgørelsen | C20: ='5.4. Periodevise driftsomk.'!C12 -> 0 | D20: kr.
B21: Korrektion af den økonomiske ramme for 2025 | C21: ='5.5. Korr. af ØR2025'!C16 -> 0 | D21: kr.
B22: Nedsættelse af økonomisk ramme som følge af skattesagen | C22: -365837 | D22: kr.
B23: Økonomisk ramme for 2027 | C23: =SUM(C18:C22) -> 12625746 | D23: kr.

Sheet 2. Differencekonto
B3: Fane 2: Opgørelse af differencekonto for 2026
B8: Kontrol med overholdelse af den økonomiske ramme for 2025
B9: Økonomisk ramme for 2025 meddelt i 2024 | C9: 17945248 | D9: kr.
B10: Varige tillæg godkendt i 2025 | C10: ='3. Omk. i ØR2026'!C10 -> 419816.21 | D10: kr.
B11: Nye godkendte tillæg (både varige og engangstillæg) | C11: ='5.1. § 10-tillæg'!C20+'5.2. Varige tillæg'!C18+'5.2. Varige tillæg'!E18+'5.3. Engangstillæg'!C13+'5.3. Engangstillæg'!E13 -> 1092901 | D11: kr.
B12: Jeres samlede opkrævningsret i 2025 | C12: =C9+C10+C11 -> 19457965 | D12: kr.
B13: Regulatoriske indtægter i 2025 | C13: 19940002 | D13: kr.
B14: - heraf faktisk eller planlagt genanbringelse af væsentlige indtægter | C14: 0 | D14: kr.
B15: Resultatet af kontrollen for 2025 | C15: =C12-C13 -> -482036.81 | D15: kr.
B17: Differencekonto for 2026
B18: Saldo på differencekonto pr. 1. januar 2025 | C18: -336568 | D18: kr.
B19: Saldo på differencekonto pr. 1. januar 2026 | C19: =C15+C18 -> -818604.81 | D19: kr.
B20: Note: En positiv saldo på differencekontoen angiver, at I (vandselskabet) har takstmidler til gode hos forbrugerne. En negativ saldo angiver omvendt, at forbrugerne har takstmidler til gode hos jer.
B22: De regulatoriske procentandele i 2025 og 2026
B23: Saldo på differencekonto pr. 1. januar 2025 som andel af jeres samlede opkrævningsret i 2024 | C23: =100*-336568/(18699548+724765) -> -1.7327151 | D23: pct.
B24: Saldo på differencekonto pr. 1. januar 2026 som andel af jeres samlede opkrævningsret i 2025 | C24: =C19/C12*100 -> -4.2070422 | D24: pct.
B25: Note: Differencekontoen og jeres økonomiske rammer kan blive reguleret, hvis I gennem flere år enten opkræver mere eller mindre end jeres samlede opkrævningsret. Reguleringen foretages hvert år, men første gang i 2028, hvor vi anvender jeres differencesaldo ajourført pr. 1. januar i hvert af årene 2025-2028. I kan læse mere om dette i årets vejledning "Vandselskabers overholdelse af økonomiske rammer".

Sheet 3. Omk. i ØR2026
B3: Fane 3: Videreførte omkostninger fra den økonomiske ramme for 2026
B8: Oversigt over den økonomiske ramme for 2026
B9: Videreførte omkostninger fra den økonomiske ramme for 2025 | C9: 11048734 | D9: kr.
B10: Nye varige tillæg | C10: 419816.21 | D10: kr.
B11: Anlægsprojekter igangsat senest den 1. marts 2016 | C11: 0 | D11: kr.
B12: Bortfald eller nedsættelse af omkostninger | C12: 0 | D12: kr.
B13: Tidligere tilknyttet virksomhed | C13: 0 | D13: kr.
B14: Individuelt effektiviseringskrav | C14: 0 | D14: kr.
B15: Generelt effektiviseringskrav | C15: -132836.65 | D15: kr.
B16: Prisudvikling | C16: 751557.79 | D16: kr.
B17: Omkostninger i alt | C17: 12087271 | D17: kr.
B18: § 10-tillæg til den økonomiske ramme for 2026 | C18: 0 | D18: kr.
B19: Tillæg til periodevise driftsomkostninger efter prisloftbekendtgørelsen | C19: 0 | D19: kr.
B20: Tidligere udmeldt fradrag til den økonomiske ramme for 2026 | C20: 0 | D20: kr.
... B23: Økonomisk ramme for 2026 | C23: 11721434 | D23: kr.
B24: Note: Denne opgørelse er taget fra jeres økonomiske ramme for 2026. I kan derfor ikke komme med høringssvar til denne opgørelse.

Sheet 4. Generelle eff. krav
B3: Fane 4: Generelle effektiviseringskrav
B8: Generelt effektiviseringskrav til driftsomkostninger til den økonomiske ramme for 2027
B9: Base for driftsomkostninger til den økonomiske rammer for 2026 | C9: 7082186.1 | D9: kr.
B10: Generelt effektiviseringskrav til de økonomiske rammer for 2026 | C10: =-'8. Nøgletal'!C19*C9 -> -141643.72 | D10: kr.
B11: Nye varige driftsomkostninger til de økonomiske rammer for 2027 | C11: =('5.2. Varige tillæg'!C18)*(1+'8. Nøgletal'!C9)*(1-'8. Nøgletal'!C19)+'5.6 Anlægsprojekter'!C12-'6. Bortfald'!C12+'7. Tilknyttet virksomhed'!C12 -> 2454.6439 | D11: kr.
B12: Base for driftsomkostninger til de økonomiske rammer for 2027 | C12: =SUM(C9:C11) -> 6942997.1 | D12: kr.
B13: Generelt effektiviseringskrav til driftsomkostninger i 2026 prisniveau | C13: =-C12*'8. Nøgletal'!C19 -> -138859.94 | D13: kr.
B14: Generelt effektiviseringskrav til anlægsomkostninger til den økonomiske ramme for 2027
B15: Base for anlægsomkostninger til de økonomiske rammer for 2026 | C15: 5152236.8 | D15: kr.
B16: Generelt effektiviseringskrav til de økonomiske rammer for 2026 | C16: ='8. Nøgletal'!C14*SUM('4. Generelle eff. krav'!C15:C15) -> 0 | D16: kr.
B17: Nye varige anlægsomkostninger til de økonomiske rammer for 2027 | C17: =('5.2. Varige tillæg'!E18)*(1+'8. Nøgletal'!C9)*(1-'8. Nøgletal'!C14)+'5.6 Anlægsprojekter'!E12-'6. Bortfald'!E12+'7. Tilknyttet virksomhed'!E12+'1. Økonomisk ramme 2027'!C12 -> 875259.74 | D17: kr.
B18: Base for anlægsomkostninger til de økonomiske rammer for 2027 | C18: =SUM(C15:C17) -> 6027496.6 | D18: kr.
B19: Generelt effektiviseringskrav til anlægsomkostningerne i 2026 prisniveau | C19: =-C18*'8. Nøgletal'!C15 -> 0 | D19: kr.
B20: Generelt effektiviseringskrav til den økonomiske ramme for 2027 i alt | C20: =C13+C19 -> -138859.94 | D20: kr.
B21: Note: Nye varige omkostninger til de økonomiske rammer for 2027 bliver korrigret for effektiviseringskrav og prisudvikling, da I har opkrævningsret til omkostingerne fra og med 2025.

Sheet 5.1. § 10-tillæg
B3: Fane 5.1: § 10-tillæg
B8: § 10-tillæg der indgår i kontrollen af den økonomiske ramme for 2025
B9: Afgift for ledningsført vand | C9: ='5.1.a. § 10-tillæg'!E9 -> 1845.1228 | D9: kr.
B10: Afgift Vandsektortilsynet | C10: ='5.1.a. § 10-tillæg'!E10 -> 4496.986 | D10: kr.
B11: Køb af ydelser og produkter fra andre vandselskaber reguleret af vandsektorloven | C11: ='5.1.a. § 10-tillæg'!E11 -> 64313.22 | D11: kr.
B12: Ejendomsskatter | C12: ='5.1.a. § 10-tillæg'!E12 -> 26703.63 | D12: kr.
B13: Erstatninger | C13: 12033.67 | D13: kr.
D14: kr.
D15: kr.
D16: kr.
D17: kr.
D18: kr.
D19: kr.
B20: I alt | C20: =SUM(C9:C19) -> 109392.63 | D20: kr.
B22: § 10-tillæg til den økonomiske ramme for 2027
B23: Tillæg til tilbagebetaling af bidrag og takster, som er periodiseret | C23: 0 | D23: kr.
B24: Tillæg til pålagte eller frivillige aftaler om dyrkningspraksis eller andre restriktioner i arealanvendelsen, som er periodiseret | C24: 0 | D24: kr.
B25: I alt | C25: =SUM(C23:C24) -> 0 | D25: kr.

Sheet 5.1.a. § 10-tillæg
B3: Fane 5.1.a: Fastsættelse af § 10-tillæg for omkostningstyper, der i forvejen er dækket af tillæg i den økonomiske ramme for 2025
B8: Beskrivelse | C8: Omkostning allerede indeholdt i ØR2025 | D8: Omkostning Afholdt i 2025 | E8: Nyt tillæg til ØR2025
B9: Afgift for ledningsført vand | C9: 7034015.9 | D9: 7035861 | E9: =MAX(D9-C9,0) -> 1845.1228 | F9: kr.
B10: Afgift Vandsektortilsynet | C10: 68056.014 | D10: 72553 | E10: =MAX(D10-C10,0) -> 4496.986 | F10: kr.
B11: Køb af ydelser og produkter fra andre vandselskaber reguleret af vandsektorloven | C11: 107537.78 | D11: 171851 | E11: =MAX(D11-C11,0) -> 64313.22 | F11: kr.
B12: Ejendomsskatter | C12: 32902.37 | D12: 59606 | E12: =MAX(D12-C12,0) -> 26703.63 | F12: kr.
E13: =MAX(D13-C13,0) -> 0 | F13: kr.
E14: =MAX(D14-C14,0) -> 0 | F14: kr.
E15: =MAX(D15-C15,0) -> 0 | F15: kr.
E16: =MAX(D16-C16,0) -> 0 | F16: kr.
E17: =MAX(D17-C17,0) -> 0 | F17: kr.
E18: =MAX(D18-C18,0) -> 0 | F18: kr.
E19: =MAX(D19-C19,0) -> 0 | F19: kr.
B21: Note: For omkostnignstyperne på denne fane har vi fastsat størrelsen på jeres tillæg til et mindre beløb, end I har indberettet i år. Det skyldes, at der for disse omkostninger allerede er hel eller delvis dækning for den specifikke omkostning i jeres økonomiske ramme for 2025.

Sheet 5.2. Varige tillæg
B3: Fane 5.2: Varige tillæg
B8: Nye varige tillæg
B9: Beskrivelse af tillæg | C9: Driftsomkostninger | E9: Anlægsomkostninger
B10: Fjernaflæste målere | C10: 0 | D10: kr. | E10: 277718 | F10: kr.
B11: NIS2 | C11: 0 | D11: kr. | E11: 69394 | F11: kr.
B12: Nye kunder 2025 | C12: 2349 | D12: kr. | E12: 0 | F12: kr.
D13: kr. | F13: kr.
D14: kr. | F14: kr.
D15: kr. | F15: kr.
D16: kr. | F16: kr.
D17: kr. | F17: kr.
B18: Nye tillæg i alt i 2025-prisniveau | C18: =SUM(C10:C17) -> 2349 | D18: kr. | E18: =SUM(E10:E17) -> 347112 | F18: kr.
B19: Individuelt effektiviseringskrav | C19: =-C18*'8. Nøgletal'!C23 -> 0 | D19: kr. | E19: =-E18*'8. Nøgletal'!C23 -> 0 | F19: kr.
B20: Generelt effektiviseringskrav | C20: =-C18*'8. Nøgletal'!C19 -> -46.98 | D20: kr. | E20: =-E18*'8. Nøgletal'!C14 -> 0 | F20: kr.
B21: Prisudvikling | C21: =SUM(C18:C20)*'8. Nøgletal'!C9 -> 152.62393 | D21: kr. | E21: =SUM(E18:E20)*'8. Nøgletal'!C9 -> 23013.526 | F21: kr.
B22: Nye tillæg i alt i 2026-prisniveau og korrigeret for effektiviseringskrav i 2026 | C22: =SUM(C18:C21) -> 2454.6439 | D22: kr. | E22: =SUM(E18:E21) -> 370125.53 | F22: kr.

Sheet 5.3. Engangstillæg
B3: Fane 5.3: Engangstillæg
B8: Engangstillæg
B9: Beskrivelse af tillæg | C9: Driftsomkostninger | E9: Anlægsomkostninger
B10: Grundvandsparker | C10: 597991.35 | D10: kr. | E10: 0 | F10: kr.
B11: Nye kunder 2025 | C11: 36056 | D11: kr. | E11: 0 | F11: kr.
D12: kr. | F12: kr.
B13: Engangstillæg i alt i 2025-prisniveau | C13: =SUM(C10:C12) -> 634047.35 | D13: kr. | E13: =SUM(E10:E12) -> 0 | F13: kr.

Sheet 5.4. Periodevise driftsomk.
B3: Fane 5.4: Periodevise driftsomkostninger givet under prisloftsbekendtgørelsen
B8: Periodevise driftsomkostninger til de økonomiske rammer for 2027
B9: Tillæg til periodevise driftsomkostninger i alt i 2025 prisniveau | D9: kr.
B10: Individuelt effektiviseringskrav | C10: =-C9*'8. Nøgletal'!C24 -> 0 | D10: kr.
B11: Generelt effektiviseringskrav - Drift | C11: =-C9*'8. Nøgletal'!C19 -> 0 | D11: kr.
B12: Tillæg til periodevise driftsomkostninger i alt i 2027-prisniveau og korrigeret for effektiviseringskrav i 2027 | C12: =SUM(C9:C11)*(1+'8. Nøgletal'!C9)*(1+'8. Nøgletal'!C10) -> 0 | D12: kr.

Sheet 5.5. Korr. af ØR2025
B3: Fane 5.5: Korrektioner af den økonomiske ramme for 2025
B8: Korrektion af periodevise driftsomkostninger
B9: Tidligere givet tillæg til planlagte oprensninger i 2025, jf. indmeldte oprensningplan | D9: kr.
B10: Faktisk periodevis driftsomkostning i 2025 | D10: kr.
B11: Difference (Korrektion) | C11: =C10-C9 -> 0 | D11: kr.
B12: Korrektion af tidligere godkendte omkostninger til medfinansieringsprojekter
B13: Tillæg til medfinansieringsprojekter indregnet i den økonomiske ramme for 2025 på baggrund af budgetterede omkostninger | D13: kr.
B14: Faktisk omkostning til medfinansiering af klimatilpasningsprojekter i 2025 | D14: kr.
B15: Difference (Korrektion) | C15: =C14-C13 -> 0 | D15: kr.
B16: Korrektioner i alt | C16: =C11+C15 -> 0 | D16: kr.

Sheet 5.6 Anlægsprojekter
B3: Fane 10: Anlægsprojekter igangsat senest den 1. marts 2016
B8: Anlægsprojekter igangsat senest den 1. marts 2016
B9: Beskrivelse af investeringen | C9: Drifts-omkostninger | E9: Anlægs-omkostninger | G9: Engangs-omkostninger
B10: Ingen anlægsprojekter | D10: kr. | F10: kr. | H10: kr.
B11: Omkostninger til anlægsprojekter i alt - 2025 prisniveau | C11: =SUM(C10:C10) -> 0 | D11: kr. | E11: =SUM(E10:E10) -> 0 | F11: kr. | G11: =SUM(G10:G10) -> 0 | H11: kr.
B12: Omkostninger til anlægsprojekter i alt - 2026 prisniveau | C12: =C11*(1+'8. Nøgletal'!C9) -> 0 | D12: kr. | E12: =E11*(1+'8. Nøgletal'!C9) -> 0 | F12: kr. | G12: =G11*(1+'8. Nøgletal'!C9) -> 0 | H12: kr.

Sheet 6. Bortfald
B3: Fane 6: Bortfald eller nedsættelse af omkostninger
B8: Bortfald eller nedsættelse af omkostninger fra og med de økonomiske rammer for 2027
B9: Beskrivelse af bortfald eller nedsættelse | C9: Driftsomkostninger | E9: Anlægsomkostninger
B10: Ingen bortfald eller nedsættelse | C10: 0 | D10: kr. | E10: 0 | F10: kr.
B11: Bortfald eller nedsættelse i alt i 2025-prisniveau | C11: =SUM(C10:C10) -> 0 | D11: kr. | E11: =SUM(E10:E10) -> 0 | F11: kr.
B12: Bortfald eller nedsættelse i alt i 2026-prisniveau | C12: =C11*(1+'8. Nøgletal'!C9) -> 0 | D12: kr. | E12: =E11*(1+'8. Nøgletal'!C9) -> 0 | F12: kr.

Sheet 7. Tilknyttet virksomhed
B3: Fane 7: Tilknyttet virksomhed overført til hovedvirksomheden
B8: Tilknyttet virksomhed overført til hovedvirksomheden
B9: Beskrivelse af tilknyttet virksomhed | C9: Driftsomkostninger | E9: Anlægsomkostninger
B10: Ingen indberettet tilknyttet virksomhed overføt til hovedvirksomheden | D10: kr. | F10: kr.
B11: Tilknyttet virksomhed overført til hovedvirksomheden i 2025-prisniveau | C11: =SUM(C10:C10) -> 0 | D11: kr. | E11: =SUM(E10:E10) -> 0 | F11: kr.
B12: Tilknyttet virksomhed overført til hovedvirksomheden i 2026-prisniveau | C12: =C11*(1+'8. Nøgletal'!C9) -> 0 | D12: kr. | E12: =E11*(1+'8. Nøgletal'!C9) -> 0 | F12: kr.

Sheet 8. Nøgletal
B3: Fane 8: Nøgletal
B8: Prisudvikling
B9: Prisudvikling til brug for ØR2026 | C9: 0.0663
B10: Prisudvikling til brug for ØR2027 | C10: 0.0129
B13: Generelt effektiviseringskrav til anlægsomkostningerne
B14: Generelt effektiviseringskrav til brug for anlægsomkostninger i ØR2026 | C14: 0
B15: Generelt effektiviseringskrav til brug for anlægsomkostninger i ØR2027 | C15: 0
B18: Generelt effektiviseringskrav til driftsomkostningerne
B19: Generelt effektiviseringskrav til brug for driftsomkostninger | C19: 0.02
B22: Individuelt effektiviseringskrav
B23: Individuelt effektiviseringskrav til de økonomiske rammer for 2026 | C23: 0
B24: Individuelt effektiviseringskrav til de økonomiske rammer for 2027 | C24: 0
