{"text_format":"1","workbook":"xlsx","n_sheets":5,"sheets":["Produktionsanlæg","Distributionsanlæg","Fællesfunktionsanlæg","Genanskaffelsespriser","Variable priser"],"not_rendered":{"charts":0,"images":3,"macros":1,"external_links":0,"defined_names":8,"comments":1,"pivot_tables":0},"unopened":[],"bounds":{"document_bytes":16777216,"sheet_cells":100000,"rows_first":2000,"rows_last":500,"rows_between":2000,"halvings":0,"cell_chars":16384,"cell_head_chars":4096},"cells_cut":0,"cells_raw":0,"read":"row_number_cap","date_system":"1900"}

{"sheet":"Produktionsanlæg","index":0,"n_rows":597,"n_cols":21,"rows_kept":597,"cut":false,"hidden":false,"merged":[]}
["Produktionsanlæg","Enhed","Standard-levetid","Samlet mængde per 31/12-2023","Samlet mængde per 31/12-2024","Samlet mængde per 31/12-2025","Afvigelse\n2023-2024","Afvigelse\n2024-2025","Bemærkninger","Enhedspris\n2024","Enhedspris\n2025","Netvolumenbidrag\n2024","Netvolumenbidrag\n2025","Ejerandel\n2024 (%)","Ejerandel\n2025 (%)",null,"Postnr.","Selskabsnavn","CAPEX Netvolumenmål\n2024","CAPEX Netvolumenmål\n2025","Gennemsnitligt\nCAPEX Netvolumenmål"]
["Boringer",null,null,null,null,null,null,null,null,null,null,null,null,null,null,null,2300,"Hofor Vand København",{"$f":"SUMIFS(L:L,L:L,\">0\") + SUMIFS(Distributionsanlæg!L:L,Distributionsanlæg!L:L,\">0\") + SUMIFS(Fællesfunktionsanlæg!L:L,Fællesfunktionsanlæg!L:L,\">0\")","v":144897742.46717864},{"$f":"SUMIFS(M:M,M:M,\">0\") + SUMIFS(Distributionsanlæg!M:M,Distributionsanlæg!M:M,\">0\") + SUMIFS(Fællesfunktionsanlæg!M:M,Fællesfunktionsanlæg!M:M,\">0\")","v":146420188.89236519},{"$f":"AVERAGE(S2:T2)","v":145658965.6797719}]
["Boring (inkl. etablering, forerør, filter og prøvepumpning)","dybdemeter",{"$f":"Genanskaffelsespriser!E5","v":30},39119,39291.11,39507,{"$f":"IF($D3=\"\",IF($E3>0,\"Ny data\",IF($E3=\"\",\"\",0)),IF($D3=0,IF($E3=0,0,\"Ny data\"),($E3-$D3)/$D3))","v":4.3996523428513146E-3},{"$f":"IF($E3=\"\",IF($F3>0,\"Ny data\",IF($F3=\"\",\"\",0)),IF($E3=0,IF($F3=0,0,\"Ny data\"),($F3-$E3)/$E3))","v":5.4946271561174889E-3},"ny optælling",{"$f":"Genanskaffelsespriser!$D5","v":2538},{"$f":"J3","v":2538},{"$f":"IF(ISNUMBER(E3),((J3*E3)/C3)*N3,\"\")","v":3324027.9060000004},{"$f":"IF(ISNUMBER(F3),((K3*F3)/C3)*O3,\"\")","v":3342292.2},1,1]
["Råvandsstationer"]
["Råvandsstation komplet montering og boringshus/tørbrønd","stk.",{"$f":"Genanskaffelsespriser!E7","v":30},409,406,406,{"$f":"IF($D5=\"\",IF($E5>0,\"Ny data\",IF($E5=\"\",\"\",0)),IF($D5=0,IF($E5=0,0,\"Ny data\"),($E5-$D5)/$D5))","v":-7.3349633251833741E-3},{"$f":"IF($E5=\"\",IF($F5>0,\"Ny data\",IF($F5=\"\",\"\",0)),IF($E5=0,IF($F5=0,0,\"Ny data\"),($F5-$E5)/$E5))","v":0},"ny optælling",{"$f":"Genanskaffelsespriser!$D7","v":59948.969999999994},{"$f":"J5","v":59948.969999999994},{"$f":"IF(ISNUMBER(E5),((J5*E5)/C5)*N5,\"\")","v":811309.39399999985},{"$f":"IF(ISNUMBER(F5),((K5*F5)/C5)*O5,\"\")","v":811309.39399999985},1,1]
["Instrumenter (flowmåler+tryk transducer+alarmer)","stk.",{"$f":"Genanskaffelsespriser!E8","v":10},510,522,521,2.3529411764705882E-2,-1.9157088122605363E-3,"ny optælling",{"$f":"Genanskaffelsespriser!$D8","v":67654.917000000001},{"$f":"J6","v":67654.917000000001},3531586.6674000002,3524821.1757,1,1]
["Pumpe inkl. stigrør og forerørsforsejlinger mv. 1","m³/h ",{"$f":"Genanskaffelsespriser!E9","v":15},30,30,30,0,0,null,{"$f":"IF(E7=0,\"Variabel pris\",IFERROR(((HLOOKUP(E7,'Variable priser'!$C$2:$H$4,2)+(E7-HLOOKUP(E7,'Variable priser'!$C$2:$H$4,1))*HLOOKUP(E7,'Variable priser'!$C$2:$H$4,3))/E7*(1+Genanskaffelsespriser!$D$203)),\"Fejl\"))","v":2666.7516888},{"$f":"IF(F7=0,\"Variabel pris\",IFERROR(((HLOOKUP(F7,'Variable priser'!$C$2:$H$4,2)+(F7-HLOOKUP(F7,'Variable priser'!$C$2:$H$4,1))*HLOOKUP(F7,'Variable priser'!$C$2:$H$4,3))/F7*(1+Genanskaffelsespriser!$D$203)),\"Fejl\"))","v":2666.7516888},{"$f":"IF(ISBLANK(E7),\"\",IF(E7=0,\"\",IF(ISNUMBER(E7),((J7*E7)/C7)*N7,\"\")))","v":5333.5033776},{"$f":"IF(ISBLANK(F7),\"\",IF(F7=0,\"\",IF(ISNUMBER(F7),((K7*F7)/C7)*N7,\"\")))","v":5333.5033776},1,1]
["Pumpe inkl. stigrør og forerørsforsejlinger mv. 2","m³/h ",{"$f":"Genanskaffelsespriser!E9","v":15},30,30,30,0,0,null,{"$f":"IF(E8=0,\"Variabel pris\",IFERROR(((HLOOKUP(E8,'Variable priser'!$C$2:$H$4,2)+(E8-HLOOKUP(E8,'Variable priser'!$C$2:$H$4,1))*HLOOKUP(E8,'Variable priser'!$C$2:$H$4,3))/E8*(1+Genanskaffelsespriser!$D$203)),\"Fejl\"))","v":2666.7516888},{"$f":"IF(F8=0,\"Variabel pris\",IFERROR(((HLOOKUP(F8,'Variable priser'!$C$2:$H$4,2)+(F8-HLOOKUP(F8,'Variable priser'!$C$2:$H$4,1))*HLOOKUP(F8,'Variable priser'!$C$2:$H$4,3))/F8*(1+Genanskaffelsespriser!$D$203)),\"Fejl\"))","v":2666.7516888},{"$f":"IF(ISBLANK(E8),\"\",IF(E8=0,\"\",IF(ISNUMBER(E8),((J8*E8)/C8)*N8,\"\")))","v":5333.5033776},{"$f":"IF(ISBLANK(F8),\"\",IF(F8=0,\"\",IF(ISNUMBER(F8),((K8*F8)/C8)*N8,\"\")))","v":5333.5033776},1,1]
["Pumpe inkl. stigrør og forerørsforsejlinger mv. 3","m³/h ",{"$f":"Genanskaffelsespriser!E9","v":15},30,30,30,0,0,null,{"$f":"IF(E9=0,\"Variabel pris\",IFERROR(((HLOOKUP(E9,'Variable priser'!$C$2:$H$4,2)+(E9-HLOOKUP(E9,'Variable priser'!$C$2:$H$4,1))*HLOOKUP(E9,'Variable priser'!$C$2:$H$4,3))/E9*(1+Genanskaffelsespriser!$D$203)),\"Fejl\"))","v":2666.7516888},{"$f":"IF(F9=0,\"Variabel pris\",IFERROR(((HLOOKUP(F9,'Variable priser'!$C$2:$H$4,2)+(F9-HLOOKUP(F9,'Variable priser'!$C$2:$H$4,1))*HLOOKUP(F9,'Variable priser'!$C$2:$H$4,3))/F9*(1+Genanskaffelsespriser!$D$203)),\"Fejl\"))","v":2666.7516888},5333.5033776,5333.5033776,1,1]
["Pumpe inkl. stigrør og forerørsforsejlinger mv. 4","m³/h ",{"$f":"Genanskaffelsespriser!E9","v":15},30,30,30,0,0,null,{"$f":"IF(E10=0,\"Variabel pris\",IFERROR(((HLOOKUP(E10,'Variable priser'!$C$2:$H$4,2)+(E10-HLOOKUP(E10,'Variable priser'!$C$2:$H$4,1))*HLOOKUP(E10,'Variable priser'!$C$2:$H$4,3))/E10*(1+Genanskaffelsespriser!$D$203)),\"Fejl\"))","v":2666.7516888},{"$f":"IF(F10=0,\"Variabel pris\",IFERROR(((HLOOKUP(F10,'Variable priser'!$C$2:$H$4,2)+(F10-HLOOKUP(F10,'Variable priser'!$C$2:$H$4,1))*HLOOKUP(F10,'Variable priser'!$C$2:$H$4,3))/F10*(1+Genanskaffelsespriser!$D$203)),\"Fejl\"))","v":2666.7516888},5333.5033776,5333.5033776,1,1]
["Pumpe inkl. stigrør og forerørsforsejlinger mv. 5","m³/h ",{"$f":"Genanskaffelsespriser!E9","v":15},30,30,30,0,0,null,{"$f":"IF(E11=0,\"Variabel pris\",IFERROR(((HLOOKUP(E11,'Variable priser'!$C$2:$H$4,2)+(E11-HLOOKUP(E11,'Variable priser'!$C$2:$H$4,1))*HLOOKUP(E11,'Variable priser'!$C$2:$H$4,3))/E11*(1+Genanskaffelsespriser!$D$203)),\"Fejl\"))","v":2666.7516888},{"$f":"IF(F11=0,\"Variabel pris\",IFERROR(((HLOOKUP(F11,'Variable priser'!$C$2:$H$4,2)+(F11-HLOOKUP(F11,'Variable priser'!$C$2:$H$4,1))*HLOOKUP(F11,'Variable priser'!$C$2:$H$4,3))/F11*(1+Genanskaffelsespriser!$D$203)),\"Fejl\"))","v":2666.7516888},5333.5033776,5333.5033776,1,1]
["Pumpe inkl. stigrør og forerørsforsejlinger mv. 6","m³/h ",{"$f":"Genanskaffelsespriser!E9","v":15},30,30,30,0,0,null,{"$f":"IF(E12=0,\"Variabel pris\",IFERROR(((HLOOKUP(E12,'Variable priser'!$C$2:$H$4,2)+(E12-HLOOKUP(E12,'Variable priser'!$C$2:$H$4,1))*HLOOKUP(E12,'Variable priser'!$C$2:$H$4,3))/E12*(1+Genanskaffelsespriser!$D$203)),\"Fejl\"))","v":2666.7516888},{"$f":"IF(F12=0,\"Variabel pris\",IFERROR(((HLOOKUP(F12,'Variable priser'!$C$2:$H$4,2)+(F12-HLOOKUP(F12,'Variable priser'!$C$2:$H$4,1))*HLOOKUP(F12,'Variable priser'!$C$2:$H$4,3))/F12*(1+Genanskaffelsespriser!$D$203)),\"Fejl\"))","v":2666.7516888},5333.5033776,5333.5033776,1,1]
["Pumpe inkl. stigrør og forerørsforsejlinger mv. 7","m³/h ",{"$f":"Genanskaffelsespriser!E9","v":15},9,9,9,0,0,null,{"$f":"IF(E13=0,\"Variabel pris\",IFERROR(((HLOOKUP(E13,'Variable priser'!$C$2:$H$4,2)+(E13-HLOOKUP(E13,'Variable priser'!$C$2:$H$4,1))*HLOOKUP(E13,'Variable priser'!$C$2:$H$4,3))/E13*(1+Genanskaffelsespriser!$D$203)),\"Fejl\"))","v":4578.0754247999994},{"$f":"IF(F13=0,\"Variabel pris\",IFERROR(((HLOOKUP(F13,'Variable priser'!$C$2:$H$4,2)+(F13-HLOOKUP(F13,'Variable priser'!$C$2:$H$4,1))*HLOOKUP(F13,'Variable priser'!$C$2:$H$4,3))/F13*(1+Genanskaffelsespriser!$D$203)),\"Fejl\"))","v":4578.0754247999994},2746.8452548799996,2746.8452548799996,1,1]
["Pumpe inkl. stigrør og forerørsforsejlinger mv. 8","m³/h ",{"$f":"Genanskaffelsespriser!E9","v":15},9,9,9,0,0,null,{"$f":"IF(E14=0,\"Variabel pris\",IFERROR(((HLOOKUP(E14,'Variable priser'!$C$2:$H$4,2)+(E14-HLOOKUP(E14,'Variable priser'!$C$2:$H$4,1))*HLOOKUP(E14,'Variable priser'!$C$2:$H$4,3))/E14*(1+Genanskaffelsespriser!$D$203)),\"Fejl\"))","v":4578.0754247999994},{"$f":"IF(F14=0,\"Variabel pris\",IFERROR(((HLOOKUP(F14,'Variable priser'!$C$2:$H$4,2)+(F14-HLOOKUP(F14,'Variable priser'!$C$2:$H$4,1))*HLOOKUP(F14,'Variable priser'!$C$2:$H$4,3))/F14*(1+Genanskaffelsespriser!$D$203)),\"Fejl\"))","v":4578.0754247999994},2746.8452548799996,2746.8452548799996,1,1]
["Pumpe inkl. stigrør og forerørsforsejlinger mv. 9","m³/h ",{"$f":"Genanskaffelsespriser!E9","v":15},11,11,11,0,0,null,{"$f":"IF(E15=0,\"Variabel pris\",IFERROR(((HLOOKUP(E15,'Variable priser'!$C$2:$H$4,2)+(E15-HLOOKUP(E15,'Variable priser'!$C$2:$H$4,1))*HLOOKUP(E15,'Variable priser'!$C$2:$H$4,3))/E15*(1+Genanskaffelsespriser!$D$203)),\"Fejl\"))","v":4339.2289088727257},{"$f":"IF(F15=0,\"Variabel pris\",IFERROR(((HLOOKUP(F15,'Variable priser'!$C$2:$H$4,2)+(F15-HLOOKUP(F15,'Variable priser'!$C$2:$H$4,1))*HLOOKUP(F15,'Variable priser'!$C$2:$H$4,3))/F15*(1+Genanskaffelsespriser!$D$203)),\"Fejl\"))","v":4339.2289088727257},3182.101199839999,3182.101199839999,1,1]
["Pumpe inkl. stigrør og forerørsforsejlinger mv. 10","m³/h ",15,11,11,11,0,0,null,{"$f":"IF(E16=0,\"Variabel pris\",IFERROR(((HLOOKUP(E16,'Variable priser'!$C$2:$H$4,2)+(E16-HLOOKUP(E16,'Variable priser'!$C$2:$H$4,1))*HLOOKUP(E16,'Variable priser'!$C$2:$H$4,3))/E16*(1+Genanskaffelsespriser!$D$203)),\"Fejl\"))","v":4339.2289088727257},{"$f":"IF(F16=0,\"Variabel pris\",IFERROR(((HLOOKUP(F16,'Variable priser'!$C$2:$H$4,2)+(F16-HLOOKUP(F16,'Variable priser'!$C$2:$H$4,1))*HLOOKUP(F16,'Variable priser'!$C$2:$H$4,3))/F16*(1+Genanskaffelsespriser!$D$203)),\"Fejl\"))","v":4339.2289088727257},3182.101199839999,3182.101199839999,1,1]
["Pumpe inkl. stigrør og forerørsforsejlinger mv. 11","m³/h ",15,11,11,11,0,0,null,{"$f":"IF(E17=0,\"Variabel pris\",IFERROR(((HLOOKUP(E17,'Variable priser'!$C$2:$H$4,2)+(E17-HLOOKUP(E17,'Variable priser'!$C$2:$H$4,1))*HLOOKUP(E17,'Variable priser'!$C$2:$H$4,3))/E17*(1+Genanskaffelsespriser!$D$203)),\"Fejl\"))","v":4339.2289088727257},{"$f":"IF(F17=0,\"Variabel pris\",IFERROR(((HLOOKUP(F17,'Variable priser'!$C$2:$H$4,2)+(F17-HLOOKUP(F17,'Variable priser'!$C$2:$H$4,1))*HLOOKUP(F17,'Variable priser'!$C$2:$H$4,3))/F17*(1+Genanskaffelsespriser!$D$203)),\"Fejl\"))","v":4339.2289088727257},{"$f":"IF(ISBLANK(E17),\"\",IF(E17=0,\"\",IF(ISNUMBER(E17),((J17*E17)/C17)*N17,\"\")))","v":3182.101199839999},{"$f":"IF(ISBLANK(F17),\"\",IF(F17=0,\"\",IF(ISNUMBER(F17),((K17*F17)/C17)*N17,\"\")))","v":3182.101199839999},1,1]
["Pumpe inkl. stigrør og forerørsforsejlinger mv. 12","m³/h ",15,14,14,14,0,0,null,{"$f":"IF(E18=0,\"Variabel pris\",IFERROR(((HLOOKUP(E18,'Variable priser'!$C$2:$H$4,2)+(E18-HLOOKUP(E18,'Variable priser'!$C$2:$H$4,1))*HLOOKUP(E18,'Variable priser'!$C$2:$H$4,3))/E18*(1+Genanskaffelsespriser!$D$203)),\"Fejl\"))","v":3827.4149461714278},{"$f":"IF(F18=0,\"Variabel pris\",IFERROR(((HLOOKUP(F18,'Variable priser'!$C$2:$H$4,2)+(F18-HLOOKUP(F18,'Variable priser'!$C$2:$H$4,1))*HLOOKUP(F18,'Variable priser'!$C$2:$H$4,3))/F18*(1+Genanskaffelsespriser!$D$203)),\"Fejl\"))","v":3827.4149461714278},3572.2539497599996,3572.2539497599996,1,1]
["Pumpe inkl. stigrør og forerørsforsejlinger mv. 13","m³/h ",15,14,14,14,0,0,null,{"$f":"IF(E19=0,\"Variabel pris\",IFERROR(((HLOOKUP(E19,'Variable priser'!$C$2:$H$4,2)+(E19-HLOOKUP(E19,'Variable priser'!$C$2:$H$4,1))*HLOOKUP(E19,'Variable priser'!$C$2:$H$4,3))/E19*(1+Genanskaffelsespriser!$D$203)),\"Fejl\"))","v":3827.4149461714278},{"$f":"IF(F19=0,\"Variabel pris\",IFERROR(((HLOOKUP(F19,'Variable priser'!$C$2:$H$4,2)+(F19-HLOOKUP(F19,'Variable priser'!$C$2:$H$4,1))*HLOOKUP(F19,'Variable priser'!$C$2:$H$4,3))/F19*(1+Genanskaffelsespriser!$D$203)),\"Fejl\"))","v":3827.4149461714278},3572.2539497599996,3572.2539497599996,1,1]
["Pumpe inkl. stigrør og forerørsforsejlinger mv. 14","m³/h ",15,14,14,14,0,0,null,{"$f":"IF(E20=0,\"Variabel pris\",IFERROR(((HLOOKUP(E20,'Variable priser'!$C$2:$H$4,2)+(E20-HLOOKUP(E20,'Variable priser'!$C$2:$H$4,1))*HLOOKUP(E20,'Variable priser'!$C$2:$H$4,3))/E20*(1+Genanskaffelsespriser!$D$203)),\"Fejl\"))","v":3827.4149461714278},{"$f":"IF(F20=0,\"Variabel pris\",IFERROR(((HLOOKUP(F20,'Variable priser'!$C$2:$H$4,2)+(F20-HLOOKUP(F20,'Variable priser'!$C$2:$H$4,1))*HLOOKUP(F20,'Variable priser'!$C$2:$H$4,3))/F20*(1+Genanskaffelsespriser!$D$203)),\"Fejl\"))","v":3827.4149461714278},3572.2539497599996,3572.2539497599996,1,1]
["Pumpe inkl. stigrør og forerørsforsejlinger mv. 15","m³/h ",15,46,46,46,0,0,null,{"$f":"IF(E21=0,\"Variabel pris\",IFERROR(((HLOOKUP(E21,'Variable priser'!$C$2:$H$4,2)+(E21-HLOOKUP(E21,'Variable priser'!$C$2:$H$4,1))*HLOOKUP(E21,'Variable priser'!$C$2:$H$4,3))/E21*(1+Genanskaffelsespriser!$D$203)),\"Fejl\"))","v":2052.5411759999997},{"$f":"IF(F21=0,\"Variabel pris\",IFERROR(((HLOOKUP(F21,'Variable priser'!$C$2:$H$4,2)+(F21-HLOOKUP(F21,'Variable priser'!$C$2:$H$4,1))*HLOOKUP(F21,'Variable priser'!$C$2:$H$4,3))/F21*(1+Genanskaffelsespriser!$D$203)),\"Fejl\"))","v":2052.5411759999997},6294.4596063999988,6294.4596063999988,1,1]
["Pumpe inkl. stigrør og forerørsforsejlinger mv. 16","m³/h ",15,30,30,30,0,0,null,{"$f":"IF(E22=0,\"Variabel pris\",IFERROR(((HLOOKUP(E22,'Variable priser'!$C$2:$H$4,2)+(E22-HLOOKUP(E22,'Variable priser'!$C$2:$H$4,1))*HLOOKUP(E22,'Variable priser'!$C$2:$H$4,3))/E22*(1+Genanskaffelsespriser!$D$203)),\"Fejl\"))","v":2666.7516888},{"$f":"IF(F22=0,\"Variabel pris\",IFERROR(((HLOOKUP(F22,'Variable priser'!$C$2:$H$4,2)+(F22-HLOOKUP(F22,'Variable priser'!$C$2:$H$4,1))*HLOOKUP(F22,'Variable priser'!$C$2:$H$4,3))/F22*(1+Genanskaffelsespriser!$D$203)),\"Fejl\"))","v":2666.7516888},5333.5033776,5333.5033776,1,1]
["Pumpe inkl. stigrør og forerørsforsejlinger mv. 17","m³/h ",15,30,30,30,0,0,null,{"$f":"IF(E23=0,\"Variabel pris\",IFERROR(((HLOOKUP(E23,'Variable priser'!$C$2:$H$4,2)+(E23-HLOOKUP(E23,'Variable priser'!$C$2:$H$4,1))*HLOOKUP(E23,'Variable priser'!$C$2:$H$4,3))/E23*(1+Genanskaffelsespriser!$D$203)),\"Fejl\"))","v":2666.7516888},{"$f":"IF(F23=0,\"Variabel pris\",IFERROR(((HLOOKUP(F23,'Variable priser'!$C$2:$H$4,2)+(F23-HLOOKUP(F23,'Variable priser'!$C$2:$H$4,1))*HLOOKUP(F23,'Variable priser'!$C$2:$H$4,3))/F23*(1+Genanskaffelsespriser!$D$203)),\"Fejl\"))","v":2666.7516888},5333.5033776,5333.5033776,1,1]
["Pumpe inkl. stigrør og forerørsforsejlinger mv. 18","m³/h ",15,17,17,17,0,0,null,{"$f":"IF(E24=0,\"Variabel pris\",IFERROR(((HLOOKUP(E24,'Variable priser'!$C$2:$H$4,2)+(E24-HLOOKUP(E24,'Variable priser'!$C$2:$H$4,1))*HLOOKUP(E24,'Variable priser'!$C$2:$H$4,3))/E24*(1+Genanskaffelsespriser!$D$203)),\"Fejl\"))","v":3496.2412055999994},{"$f":"IF(F24=0,\"Variabel pris\",IFERROR(((HLOOKUP(F24,'Variable priser'!$C$2:$H$4,2)+(F24-HLOOKUP(F24,'Variable priser'!$C$2:$H$4,1))*HLOOKUP(F24,'Variable priser'!$C$2:$H$4,3))/F24*(1+Genanskaffelsespriser!$D$203)),\"Fejl\"))","v":3496.2412055999994},3962.4066996799997,3962.4066996799997,1,1]
["Pumpe inkl. stigrør og forerørsforsejlinger mv. 19","m³/h ",15,17,17,17,0,0,null,{"$f":"IF(E25=0,\"Variabel pris\",IFERROR(((HLOOKUP(E25,'Variable priser'!$C$2:$H$4,2)+(E25-HLOOKUP(E25,'Variable priser'!$C$2:$H$4,1))*HLOOKUP(E25,'Variable priser'!$C$2:$H$4,3))/E25*(1+Genanskaffelsespriser!$D$203)),\"Fejl\"))","v":3496.2412055999994},{"$f":"IF(F25=0,\"Variabel pris\",IFERROR(((HLOOKUP(F25,'Variable priser'!$C$2:$H$4,2)+(F25-HLOOKUP(F25,'Variable priser'!$C$2:$H$4,1))*HLOOKUP(F25,'Variable priser'!$C$2:$H$4,3))/F25*(1+Genanskaffelsespriser!$D$203)),\"Fejl\"))","v":3496.2412055999994},3962.4066996799997,3962.4066996799997,1,1]
["Pumpe inkl. stigrør og forerørsforsejlinger mv. 20","m³/h ",15,17,17,17,0,0,null,{"$f":"IF(E26=0,\"Variabel pris\",IFERROR(((HLOOKUP(E26,'Variable priser'!$C$2:$H$4,2)+(E26-HLOOKUP(E26,'Variable priser'!$C$2:$H$4,1))*HLOOKUP(E26,'Variable priser'!$C$2:$H$4,3))/E26*(1+Genanskaffelsespriser!$D$203)),\"Fejl\"))","v":3496.2412055999994},{"$f":"IF(F26=0,\"Variabel pris\",IFERROR(((HLOOKUP(F26,'Variable priser'!$C$2:$H$4,2)+(F26-HLOOKUP(F26,'Variable priser'!$C$2:$H$4,1))*HLOOKUP(F26,'Variable priser'!$C$2:$H$4,3))/F26*(1+Genanskaffelsespriser!$D$203)),\"Fejl\"))","v":3496.2412055999994},3962.4066996799997,3962.4066996799997,1,1]
["Pumpe inkl. stigrør og forerørsforsejlinger mv. 21","m³/h ",15,17,17,17,0,0,null,{"$f":"IF(E27=0,\"Variabel pris\",IFERROR(((HLOOKUP(E27,'Variable priser'!$C$2:$H$4,2)+(E27-HLOOKUP(E27,'Variable priser'!$C$2:$H$4,1))*HLOOKUP(E27,'Variable priser'!$C$2:$H$4,3))/E27*(1+Genanskaffelsespriser!$D$203)),\"Fejl\"))","v":3496.2412055999994},{"$f":"IF(F27=0,\"Variabel pris\",IFERROR(((HLOOKUP(F27,'Variable priser'!$C$2:$H$4,2)+(F27-HLOOKUP(F27,'Variable priser'!$C$2:$H$4,1))*HLOOKUP(F27,'Variable priser'!$C$2:$H$4,3))/F27*(1+Genanskaffelsespriser!$D$203)),\"Fejl\"))","v":3496.2412055999994},3962.4066996799997,3962.4066996799997,1,1]
["Pumpe inkl. stigrør og forerørsforsejlinger mv. 22","m³/h ",15,17,17,17,0,0,null,{"$f":"IF(E28=0,\"Variabel pris\",IFERROR(((HLOOKUP(E28,'Variable priser'!$C$2:$H$4,2)+(E28-HLOOKUP(E28,'Variable priser'!$C$2:$H$4,1))*HLOOKUP(E28,'Variable priser'!$C$2:$H$4,3))/E28*(1+Genanskaffelsespriser!$D$203)),\"Fejl\"))","v":3496.2412055999994},{"$f":"IF(F28=0,\"Variabel pris\",IFERROR(((HLOOKUP(F28,'Variable priser'!$C$2:$H$4,2)+(F28-HLOOKUP(F28,'Variable priser'!$C$2:$H$4,1))*HLOOKUP(F28,'Variable priser'!$C$2:$H$4,3))/F28*(1+Genanskaffelsespriser!$D$203)),\"Fejl\"))","v":3496.2412055999994},3962.4066996799997,3962.4066996799997,1,1]
["Pumpe inkl. stigrør og forerørsforsejlinger mv. 23","m³/h ",15,17,17,17,0,0,null,{"$f":"IF(E29=0,\"Variabel pris\",IFERROR(((HLOOKUP(E29,'Variable priser'!$C$2:$H$4,2)+(E29-HLOOKUP(E29,'Variable priser'!$C$2:$H$4,1))*HLOOKUP(E29,'Variable priser'!$C$2:$H$4,3))/E29*(1+Genanskaffelsespriser!$D$203)),\"Fejl\"))","v":3496.2412055999994},{"$f":"IF(F29=0,\"Variabel pris\",IFERROR(((HLOOKUP(F29,'Variable priser'!$C$2:$H$4,2)+(F29-HLOOKUP(F29,'Variable priser'!$C$2:$H$4,1))*HLOOKUP(F29,'Variable priser'!$C$2:$H$4,3))/F29*(1+Genanskaffelsespriser!$D$203)),\"Fejl\"))","v":3496.2412055999994},3962.4066996799997,3962.4066996799997,1,1]
["Pumpe inkl. stigrør og forerørsforsejlinger mv. 24","m³/h ",15,17,17,17,0,0,null,{"$f":"IF(E30=0,\"Variabel pris\",IFERROR(((HLOOKUP(E30,'Variable priser'!$C$2:$H$4,2)+(E30-HLOOKUP(E30,'Variable priser'!$C$2:$H$4,1))*HLOOKUP(E30,'Variable priser'!$C$2:$H$4,3))/E30*(1+Genanskaffelsespriser!$D$203)),\"Fejl\"))","v":3496.2412055999994},{"$f":"IF(F30=0,\"Variabel pris\",IFERROR(((HLOOKUP(F30,'Variable priser'!$C$2:$H$4,2)+(F30-HLOOKUP(F30,'Variable priser'!$C$2:$H$4,1))*HLOOKUP(F30,'Variable priser'!$C$2:$H$4,3))/F30*(1+Genanskaffelsespriser!$D$203)),\"Fejl\"))","v":3496.2412055999994},3962.4066996799997,3962.4066996799997,1,1]
["Pumpe inkl. stigrør og forerørsforsejlinger mv. 25","m³/h ",15,17,17,17,0,0,null,{"$f":"IF(E31=0,\"Variabel pris\",IFERROR(((HLOOKUP(E31,'Variable priser'!$C$2:$H$4,2)+(E31-HLOOKUP(E31,'Variable priser'!$C$2:$H$4,1))*HLOOKUP(E31,'Variable priser'!$C$2:$H$4,3))/E31*(1+Genanskaffelsespriser!$D$203)),\"Fejl\"))","v":3496.2412055999994},{"$f":"IF(F31=0,\"Variabel pris\",IFERROR(((HLOOKUP(F31,'Variable priser'!$C$2:$H$4,2)+(F31-HLOOKUP(F31,'Variable priser'!$C$2:$H$4,1))*HLOOKUP(F31,'Variable priser'!$C$2:$H$4,3))/F31*(1+Genanskaffelsespriser!$D$203)),\"Fejl\"))","v":3496.2412055999994},3962.4066996799997,3962.4066996799997,1,1]
["Pumpe inkl. stigrør og forerørsforsejlinger mv. 26","m³/h ",15,17,17,17,0,0,null,{"$f":"IF(E32=0,\"Variabel pris\",IFERROR(((HLOOKUP(E32,'Variable priser'!$C$2:$H$4,2)+(E32-HLOOKUP(E32,'Variable priser'!$C$2:$H$4,1))*HLOOKUP(E32,'Variable priser'!$C$2:$H$4,3))/E32*(1+Genanskaffelsespriser!$D$203)),\"Fejl\"))","v":3496.2412055999994},{"$f":"IF(F32=0,\"Variabel pris\",IFERROR(((HLOOKUP(F32,'Variable priser'!$C$2:$H$4,2)+(F32-HLOOKUP(F32,'Variable priser'!$C$2:$H$4,1))*HLOOKUP(F32,'Variable priser'!$C$2:$H$4,3))/F32*(1+Genanskaffelsespriser!$D$203)),\"Fejl\"))","v":3496.2412055999994},3962.4066996799997,3962.4066996799997,1,1]
["Pumpe inkl. stigrør og forerørsforsejlinger mv. 27","m³/h ",15,17,17,17,0,0,null,{"$f":"IF(E33=0,\"Variabel pris\",IFERROR(((HLOOKUP(E33,'Variable priser'!$C$2:$H$4,2)+(E33-HLOOKUP(E33,'Variable priser'!$C$2:$H$4,1))*HLOOKUP(E33,'Variable priser'!$C$2:$H$4,3))/E33*(1+Genanskaffelsespriser!$D$203)),\"Fejl\"))","v":3496.2412055999994},{"$f":"IF(F33=0,\"Variabel pris\",IFERROR(((HLOOKUP(F33,'Variable priser'!$C$2:$H$4,2)+(F33-HLOOKUP(F33,'Variable priser'!$C$2:$H$4,1))*HLOOKUP(F33,'Variable priser'!$C$2:$H$4,3))/F33*(1+Genanskaffelsespriser!$D$203)),\"Fejl\"))","v":3496.2412055999994},3962.4066996799997,3962.4066996799997,1,1]
["Pumpe inkl. stigrør og forerørsforsejlinger mv. 28","m³/h ",15,17,17,17,0,0,null,{"$f":"IF(E34=0,\"Variabel pris\",IFERROR(((HLOOKUP(E34,'Variable priser'!$C$2:$H$4,2)+(E34-HLOOKUP(E34,'Variable priser'!$C$2:$H$4,1))*HLOOKUP(E34,'Variable priser'!$C$2:$H$4,3))/E34*(1+Genanskaffelsespriser!$D$203)),\"Fejl\"))","v":3496.2412055999994},{"$f":"IF(F34=0,\"Variabel pris\",IFERROR(((HLOOKUP(F34,'Variable priser'!$C$2:$H$4,2)+(F34-HLOOKUP(F34,'Variable priser'!$C$2:$H$4,1))*HLOOKUP(F34,'Variable priser'!$C$2:$H$4,3))/F34*(1+Genanskaffelsespriser!$D$203)),\"Fejl\"))","v":3496.2412055999994},3962.4066996799997,3962.4066996799997,1,1]
["Pumpe inkl. stigrør og forerørsforsejlinger mv. 29","m³/h ",15,17,17,17,0,0,null,{"$f":"IF(E35=0,\"Variabel pris\",IFERROR(((HLOOKUP(E35,'Variable priser'!$C$2:$H$4,2)+(E35-HLOOKUP(E35,'Variable priser'!$C$2:$H$4,1))*HLOOKUP(E35,'Variable priser'!$C$2:$H$4,3))/E35*(1+Genanskaffelsespriser!$D$203)),\"Fejl\"))","v":3496.2412055999994},{"$f":"IF(F35=0,\"Variabel pris\",IFERROR(((HLOOKUP(F35,'Variable priser'!$C$2:$H$4,2)+(F35-HLOOKUP(F35,'Variable priser'!$C$2:$H$4,1))*HLOOKUP(F35,'Variable priser'!$C$2:$H$4,3))/F35*(1+Genanskaffelsespriser!$D$203)),\"Fejl\"))","v":3496.2412055999994},3962.4066996799997,3962.4066996799997,1,1]
["Pumpe inkl. stigrør og forerørsforsejlinger mv. 30","m³/h ",15,17,17,17,0,0,null,{"$f":"IF(E36=0,\"Variabel pris\",IFERROR(((HLOOKUP(E36,'Variable priser'!$C$2:$H$4,2)+(E36-HLOOKUP(E36,'Variable priser'!$C$2:$H$4,1))*HLOOKUP(E36,'Variable priser'!$C$2:$H$4,3))/E36*(1+Genanskaffelsespriser!$D$203)),\"Fejl\"))","v":3496.2412055999994},{"$f":"IF(F36=0,\"Variabel pris\",IFERROR(((HLOOKUP(F36,'Variable priser'!$C$2:$H$4,2)+(F36-HLOOKUP(F36,'Variable priser'!$C$2:$H$4,1))*HLOOKUP(F36,'Variable priser'!$C$2:$H$4,3))/F36*(1+Genanskaffelsespriser!$D$203)),\"Fejl\"))","v":3496.2412055999994},3962.4066996799997,3962.4066996799997,1,1]
["Pumpe inkl. stigrør og forerørsforsejlinger mv. 31","m³/h ",15,17,17,17,0,0,null,{"$f":"IF(E37=0,\"Variabel pris\",IFERROR(((HLOOKUP(E37,'Variable priser'!$C$2:$H$4,2)+(E37-HLOOKUP(E37,'Variable priser'!$C$2:$H$4,1))*HLOOKUP(E37,'Variable priser'!$C$2:$H$4,3))/E37*(1+Genanskaffelsespriser!$D$203)),\"Fejl\"))","v":3496.2412055999994},{"$f":"IF(F37=0,\"Variabel pris\",IFERROR(((HLOOKUP(F37,'Variable priser'!$C$2:$H$4,2)+(F37-HLOOKUP(F37,'Variable priser'!$C$2:$H$4,1))*HLOOKUP(F37,'Variable priser'!$C$2:$H$4,3))/F37*(1+Genanskaffelsespriser!$D$203)),\"Fejl\"))","v":3496.2412055999994},3962.4066996799997,3962.4066996799997,1,1]
["Pumpe inkl. stigrør og forerørsforsejlinger mv. 32","m³/h ",15,17,17,17,0,0,null,{"$f":"IF(E38=0,\"Variabel pris\",IFERROR(((HLOOKUP(E38,'Variable priser'!$C$2:$H$4,2)+(E38-HLOOKUP(E38,'Variable priser'!$C$2:$H$4,1))*HLOOKUP(E38,'Variable priser'!$C$2:$H$4,3))/E38*(1+Genanskaffelsespriser!$D$203)),\"Fejl\"))","v":3496.2412055999994},{"$f":"IF(F38=0,\"Variabel pris\",IFERROR(((HLOOKUP(F38,'Variable priser'!$C$2:$H$4,2)+(F38-HLOOKUP(F38,'Variable priser'!$C$2:$H$4,1))*HLOOKUP(F38,'Variable priser'!$C$2:$H$4,3))/F38*(1+Genanskaffelsespriser!$D$203)),\"Fejl\"))","v":3496.2412055999994},3962.4066996799997,3962.4066996799997,1,1]
["Pumpe inkl. stigrør og forerørsforsejlinger mv. 33","m³/h ",15,17,17,17,0,0,null,{"$f":"IF(E39=0,\"Variabel pris\",IFERROR(((HLOOKUP(E39,'Variable priser'!$C$2:$H$4,2)+(E39-HLOOKUP(E39,'Variable priser'!$C$2:$H$4,1))*HLOOKUP(E39,'Variable priser'!$C$2:$H$4,3))/E39*(1+Genanskaffelsespriser!$D$203)),\"Fejl\"))","v":3496.2412055999994},{"$f":"IF(F39=0,\"Variabel pris\",IFERROR(((HLOOKUP(F39,'Variable priser'!$C$2:$H$4,2)+(F39-HLOOKUP(F39,'Variable priser'!$C$2:$H$4,1))*HLOOKUP(F39,'Variable priser'!$C$2:$H$4,3))/F39*(1+Genanskaffelsespriser!$D$203)),\"Fejl\"))","v":3496.2412055999994},3962.4066996799997,3962.4066996799997,1,1]
["Pumpe inkl. stigrør og forerørsforsejlinger mv. 34","m³/h ",15,14,14,14,0,0,null,{"$f":"IF(E40=0,\"Variabel pris\",IFERROR(((HLOOKUP(E40,'Variable priser'!$C$2:$H$4,2)+(E40-HLOOKUP(E40,'Variable priser'!$C$2:$H$4,1))*HLOOKUP(E40,'Variable priser'!$C$2:$H$4,3))/E40*(1+Genanskaffelsespriser!$D$203)),\"Fejl\"))","v":3827.4149461714278},{"$f":"IF(F40=0,\"Variabel pris\",IFERROR(((HLOOKUP(F40,'Variable priser'!$C$2:$H$4,2)+(F40-HLOOKUP(F40,'Variable priser'!$C$2:$H$4,1))*HLOOKUP(F40,'Variable priser'!$C$2:$H$4,3))/F40*(1+Genanskaffelsespriser!$D$203)),\"Fejl\"))","v":3827.4149461714278},3572.2539497599996,3572.2539497599996,1,1]
["Pumpe inkl. stigrør og forerørsforsejlinger mv. 35","m³/h ",15,30,30,30,0,0,null,{"$f":"IF(E41=0,\"Variabel pris\",IFERROR(((HLOOKUP(E41,'Variable priser'!$C$2:$H$4,2)+(E41-HLOOKUP(E41,'Variable priser'!$C$2:$H$4,1))*HLOOKUP(E41,'Variable priser'!$C$2:$H$4,3))/E41*(1+Genanskaffelsespriser!$D$203)),\"Fejl\"))","v":2666.7516888},{"$f":"IF(F41=0,\"Variabel pris\",IFERROR(((HLOOKUP(F41,'Variable priser'!$C$2:$H$4,2)+(F41-HLOOKUP(F41,'Variable priser'!$C$2:$H$4,1))*HLOOKUP(F41,'Variable priser'!$C$2:$H$4,3))/F41*(1+Genanskaffelsespriser!$D$203)),\"Fejl\"))","v":2666.7516888},5333.5033776,5333.5033776,1,1]
["Pumpe inkl. stigrør og forerørsforsejlinger mv. 36","m³/h ",15,30,30,30,0,0,null,{"$f":"IF(E42=0,\"Variabel pris\",IFERROR(((HLOOKUP(E42,'Variable priser'!$C$2:$H$4,2)+(E42-HLOOKUP(E42,'Variable priser'!$C$2:$H$4,1))*HLOOKUP(E42,'Variable priser'!$C$2:$H$4,3))/E42*(1+Genanskaffelsespriser!$D$203)),\"Fejl\"))","v":2666.7516888},{"$f":"IF(F42=0,\"Variabel pris\",IFERROR(((HLOOKUP(F42,'Variable priser'!$C$2:$H$4,2)+(F42-HLOOKUP(F42,'Variable priser'!$C$2:$H$4,1))*HLOOKUP(F42,'Variable priser'!$C$2:$H$4,3))/F42*(1+Genanskaffelsespriser!$D$203)),\"Fejl\"))","v":2666.7516888},5333.5033776,5333.5033776,1,1]
["Pumpe inkl. stigrør og forerørsforsejlinger mv. 37","m³/h ",15,30,30,30,0,0,null,{"$f":"IF(E43=0,\"Variabel pris\",IFERROR(((HLOOKUP(E43,'Variable priser'!$C$2:$H$4,2)+(E43-HLOOKUP(E43,'Variable priser'!$C$2:$H$4,1))*HLOOKUP(E43,'Variable priser'!$C$2:$H$4,3))/E43*(1+Genanskaffelsespriser!$D$203)),\"Fejl\"))","v":2666.7516888},{"$f":"IF(F43=0,\"Variabel pris\",IFERROR(((HLOOKUP(F43,'Variable priser'!$C$2:$H$4,2)+(F43-HLOOKUP(F43,'Variable priser'!$C$2:$H$4,1))*HLOOKUP(F43,'Variable priser'!$C$2:$H$4,3))/F43*(1+Genanskaffelsespriser!$D$203)),\"Fejl\"))","v":2666.7516888},5333.5033776,5333.5033776,1,1]
["Pumpe inkl. stigrør og forerørsforsejlinger mv. 38","m³/h ",15,30,30,30,0,0,null,{"$f":"IF(E44=0,\"Variabel pris\",IFERROR(((HLOOKUP(E44,'Variable priser'!$C$2:$H$4,2)+(E44-HLOOKUP(E44,'Variable priser'!$C$2:$H$4,1))*HLOOKUP(E44,'Variable priser'!$C$2:$H$4,3))/E44*(1+Genanskaffelsespriser!$D$203)),\"Fejl\"))","v":2666.7516888},{"$f":"IF(F44=0,\"Variabel pris\",IFERROR(((HLOOKUP(F44,'Variable priser'!$C$2:$H$4,2)+(F44-HLOOKUP(F44,'Variable priser'!$C$2:$H$4,1))*HLOOKUP(F44,'Variable priser'!$C$2:$H$4,3))/F44*(1+Genanskaffelsespriser!$D$203)),\"Fejl\"))","v":2666.7516888},5333.5033776,5333.5033776,1,1]
["Pumpe inkl. stigrør og forerørsforsejlinger mv. 39","m³/h ",15,30,30,30,0,0,null,{"$f":"IF(E45=0,\"Variabel pris\",IFERROR(((HLOOKUP(E45,'Variable priser'!$C$2:$H$4,2)+(E45-HLOOKUP(E45,'Variable priser'!$C$2:$H$4,1))*HLOOKUP(E45,'Variable priser'!$C$2:$H$4,3))/E45*(1+Genanskaffelsespriser!$D$203)),\"Fejl\"))","v":2666.7516888},{"$f":"IF(F45=0,\"Variabel pris\",IFERROR(((HLOOKUP(F45,'Variable priser'!$C$2:$H$4,2)+(F45-HLOOKUP(F45,'Variable priser'!$C$2:$H$4,1))*HLOOKUP(F45,'Variable priser'!$C$2:$H$4,3))/F45*(1+Genanskaffelsespriser!$D$203)),\"Fejl\"))","v":2666.7516888},5333.5033776,5333.5033776,1,1]
["Pumpe inkl. stigrør og forerørsforsejlinger mv. 40","m³/h ",15,30,30,30,0,0,null,{"$f":"IF(E46=0,\"Variabel pris\",IFERROR(((HLOOKUP(E46,'Variable priser'!$C$2:$H$4,2)+(E46-HLOOKUP(E46,'Variable priser'!$C$2:$H$4,1))*HLOOKUP(E46,'Variable priser'!$C$2:$H$4,3))/E46*(1+Genanskaffelsespriser!$D$203)),\"Fejl\"))","v":2666.7516888},{"$f":"IF(F46=0,\"Variabel pris\",IFERROR(((HLOOKUP(F46,'Variable priser'!$C$2:$H$4,2)+(F46-HLOOKUP(F46,'Variable priser'!$C$2:$H$4,1))*HLOOKUP(F46,'Variable priser'!$C$2:$H$4,3))/F46*(1+Genanskaffelsespriser!$D$203)),\"Fejl\"))","v":2666.7516888},5333.5033776,5333.5033776,1,1]
["Pumpe inkl. stigrør og forerørsforsejlinger mv. 41","m³/h ",15,30,30,30,0,0,null,{"$f":"IF(E47=0,\"Variabel pris\",IFERROR(((HLOOKUP(E47,'Variable priser'!$C$2:$H$4,2)+(E47-HLOOKUP(E47,'Variable priser'!$C$2:$H$4,1))*HLOOKUP(E47,'Variable priser'!$C$2:$H$4,3))/E47*(1+Genanskaffelsespriser!$D$203)),\"Fejl\"))","v":2666.7516888},{"$f":"IF(F47=0,\"Variabel pris\",IFERROR(((HLOOKUP(F47,'Variable priser'!$C$2:$H$4,2)+(F47-HLOOKUP(F47,'Variable priser'!$C$2:$H$4,1))*HLOOKUP(F47,'Variable priser'!$C$2:$H$4,3))/F47*(1+Genanskaffelsespriser!$D$203)),\"Fejl\"))","v":2666.7516888},5333.5033776,5333.5033776,1,1]
["Pumpe inkl. stigrør og forerørsforsejlinger mv. 42","m³/h ",15,30,30,30,0,0,null,{"$f":"IF(E48=0,\"Variabel pris\",IFERROR(((HLOOKUP(E48,'Variable priser'!$C$2:$H$4,2)+(E48-HLOOKUP(E48,'Variable priser'!$C$2:$H$4,1))*HLOOKUP(E48,'Variable priser'!$C$2:$H$4,3))/E48*(1+Genanskaffelsespriser!$D$203)),\"Fejl\"))","v":2666.7516888},{"$f":"IF(F48=0,\"Variabel pris\",IFERROR(((HLOOKUP(F48,'Variable priser'!$C$2:$H$4,2)+(F48-HLOOKUP(F48,'Variable priser'!$C$2:$H$4,1))*HLOOKUP(F48,'Variable priser'!$C$2:$H$4,3))/F48*(1+Genanskaffelsespriser!$D$203)),\"Fejl\"))","v":2666.7516888},5333.5033776,5333.5033776,1,1]
["Pumpe inkl. stigrør og forerørsforsejlinger mv. 43","m³/h ",15,30,30,30,0,0,null,{"$f":"IF(E49=0,\"Variabel pris\",IFERROR(((HLOOKUP(E49,'Variable priser'!$C$2:$H$4,2)+(E49-HLOOKUP(E49,'Variable priser'!$C$2:$H$4,1))*HLOOKUP(E49,'Variable priser'!$C$2:$H$4,3))/E49*(1+Genanskaffelsespriser!$D$203)),\"Fejl\"))","v":2666.7516888},{"$f":"IF(F49=0,\"Variabel pris\",IFERROR(((HLOOKUP(F49,'Variable priser'!$C$2:$H$4,2)+(F49-HLOOKUP(F49,'Variable priser'!$C$2:$H$4,1))*HLOOKUP(F49,'Variable priser'!$C$2:$H$4,3))/F49*(1+Genanskaffelsespriser!$D$203)),\"Fejl\"))","v":2666.7516888},5333.5033776,5333.5033776,1,1]
["Pumpe inkl. stigrør og forerørsforsejlinger mv. 44","m³/h ",15,30,30,30,0,0,null,{"$f":"IF(E50=0,\"Variabel pris\",IFERROR(((HLOOKUP(E50,'Variable priser'!$C$2:$H$4,2)+(E50-HLOOKUP(E50,'Variable priser'!$C$2:$H$4,1))*HLOOKUP(E50,'Variable priser'!$C$2:$H$4,3))/E50*(1+Genanskaffelsespriser!$D$203)),\"Fejl\"))","v":2666.7516888},{"$f":"IF(F50=0,\"Variabel pris\",IFERROR(((HLOOKUP(F50,'Variable priser'!$C$2:$H$4,2)+(F50-HLOOKUP(F50,'Variable priser'!$C$2:$H$4,1))*HLOOKUP(F50,'Variable priser'!$C$2:$H$4,3))/F50*(1+Genanskaffelsespriser!$D$203)),\"Fejl\"))","v":2666.7516888},5333.5033776,5333.5033776,1,1]
["Pumpe inkl. stigrør og forerørsforsejlinger mv. 45","m³/h ",15,30,30,30,0,0,null,{"$f":"IF(E51=0,\"Variabel pris\",IFERROR(((HLOOKUP(E51,'Variable priser'!$C$2:$H$4,2)+(E51-HLOOKUP(E51,'Variable priser'!$C$2:$H$4,1))*HLOOKUP(E51,'Variable priser'!$C$2:$H$4,3))/E51*(1+Genanskaffelsespriser!$D$203)),\"Fejl\"))","v":2666.7516888},{"$f":"IF(F51=0,\"Variabel pris\",IFERROR(((HLOOKUP(F51,'Variable priser'!$C$2:$H$4,2)+(F51-HLOOKUP(F51,'Variable priser'!$C$2:$H$4,1))*HLOOKUP(F51,'Variable priser'!$C$2:$H$4,3))/F51*(1+Genanskaffelsespriser!$D$203)),\"Fejl\"))","v":2666.7516888},5333.5033776,5333.5033776,1,1]
["Pumpe inkl. stigrør og forerørsforsejlinger mv. 46","m³/h ",15,30,30,30,0,0,null,{"$f":"IF(E52=0,\"Variabel pris\",IFERROR(((HLOOKUP(E52,'Variable priser'!$C$2:$H$4,2)+(E52-HLOOKUP(E52,'Variable priser'!$C$2:$H$4,1))*HLOOKUP(E52,'Variable priser'!$C$2:$H$4,3))/E52*(1+Genanskaffelsespriser!$D$203)),\"Fejl\"))","v":2666.7516888},{"$f":"IF(F52=0,\"Variabel pris\",IFERROR(((HLOOKUP(F52,'Variable priser'!$C$2:$H$4,2)+(F52-HLOOKUP(F52,'Variable priser'!$C$2:$H$4,1))*HLOOKUP(F52,'Variable priser'!$C$2:$H$4,3))/F52*(1+Genanskaffelsespriser!$D$203)),\"Fejl\"))","v":2666.7516888},5333.5033776,5333.5033776,1,1]
["Pumpe inkl. stigrør og forerørsforsejlinger mv. 47","m³/h ",15,60,60,60,0,0,null,{"$f":"IF(E53=0,\"Variabel pris\",IFERROR(((HLOOKUP(E53,'Variable priser'!$C$2:$H$4,2)+(E53-HLOOKUP(E53,'Variable priser'!$C$2:$H$4,1))*HLOOKUP(E53,'Variable priser'!$C$2:$H$4,3))/E53*(1+Genanskaffelsespriser!$D$203)),\"Fejl\"))","v":1765.5800959999997},{"$f":"IF(F53=0,\"Variabel pris\",IFERROR(((HLOOKUP(F53,'Variable priser'!$C$2:$H$4,2)+(F53-HLOOKUP(F53,'Variable priser'!$C$2:$H$4,1))*HLOOKUP(F53,'Variable priser'!$C$2:$H$4,3))/F53*(1+Genanskaffelsespriser!$D$203)),\"Fejl\"))","v":1765.5800959999997},7062.3203839999996,7062.3203839999996,1,1]
["Pumpe inkl. stigrør og forerørsforsejlinger mv. 48","m³/h ",15,30,30,30,0,0,null,{"$f":"IF(E54=0,\"Variabel pris\",IFERROR(((HLOOKUP(E54,'Variable priser'!$C$2:$H$4,2)+(E54-HLOOKUP(E54,'Variable priser'!$C$2:$H$4,1))*HLOOKUP(E54,'Variable priser'!$C$2:$H$4,3))/E54*(1+Genanskaffelsespriser!$D$203)),\"Fejl\"))","v":2666.7516888},{"$f":"IF(F54=0,\"Variabel pris\",IFERROR(((HLOOKUP(F54,'Variable priser'!$C$2:$H$4,2)+(F54-HLOOKUP(F54,'Variable priser'!$C$2:$H$4,1))*HLOOKUP(F54,'Variable priser'!$C$2:$H$4,3))/F54*(1+Genanskaffelsespriser!$D$203)),\"Fejl\"))","v":2666.7516888},5333.5033776,5333.5033776,1,1]
["Pumpe inkl. stigrør og forerørsforsejlinger mv. 49","m³/h ",15,17,17,17,0,0,null,{"$f":"IF(E55=0,\"Variabel pris\",IFERROR(((HLOOKUP(E55,'Variable priser'!$C$2:$H$4,2)+(E55-HLOOKUP(E55,'Variable priser'!$C$2:$H$4,1))*HLOOKUP(E55,'Variable priser'!$C$2:$H$4,3))/E55*(1+Genanskaffelsespriser!$D$203)),\"Fejl\"))","v":3496.2412055999994},{"$f":"IF(F55=0,\"Variabel pris\",IFERROR(((HLOOKUP(F55,'Variable priser'!$C$2:$H$4,2)+(F55-HLOOKUP(F55,'Variable priser'!$C$2:$H$4,1))*HLOOKUP(F55,'Variable priser'!$C$2:$H$4,3))/F55*(1+Genanskaffelsespriser!$D$203)),\"Fejl\"))","v":3496.2412055999994},3962.4066996799997,3962.4066996799997,1,1]
["Pumpe inkl. stigrør og forerørsforsejlinger mv. 50","m³/h ",15,30,30,30,0,0,null,{"$f":"IF(E56=0,\"Variabel pris\",IFERROR(((HLOOKUP(E56,'Variable priser'!$C$2:$H$4,2)+(E56-HLOOKUP(E56,'Variable priser'!$C$2:$H$4,1))*HLOOKUP(E56,'Variable priser'!$C$2:$H$4,3))/E56*(1+Genanskaffelsespriser!$D$203)),\"Fejl\"))","v":2666.7516888},{"$f":"IF(F56=0,\"Variabel pris\",IFERROR(((HLOOKUP(F56,'Variable priser'!$C$2:$H$4,2)+(F56-HLOOKUP(F56,'Variable priser'!$C$2:$H$4,1))*HLOOKUP(F56,'Variable priser'!$C$2:$H$4,3))/F56*(1+Genanskaffelsespriser!$D$203)),\"Fejl\"))","v":2666.7516888},5333.5033776,5333.5033776,1,1]
["Pumpe inkl. stigrør og forerørsforsejlinger mv. 51","m³/h ",15,30,30,30,0,0,null,{"$f":"IF(E57=0,\"Variabel pris\",IFERROR(((HLOOKUP(E57,'Variable priser'!$C$2:$H$4,2)+(E57-HLOOKUP(E57,'Variable priser'!$C$2:$H$4,1))*HLOOKUP(E57,'Variable priser'!$C$2:$H$4,3))/E57*(1+Genanskaffelsespriser!$D$203)),\"Fejl\"))","v":2666.7516888},{"$f":"IF(F57=0,\"Variabel pris\",IFERROR(((HLOOKUP(F57,'Variable priser'!$C$2:$H$4,2)+(F57-HLOOKUP(F57,'Variable priser'!$C$2:$H$4,1))*HLOOKUP(F57,'Variable priser'!$C$2:$H$4,3))/F57*(1+Genanskaffelsespriser!$D$203)),\"Fejl\"))","v":2666.7516888},5333.5033776,5333.5033776,1,1]
["Pumpe inkl. stigrør og forerørsforsejlinger mv. 52","m³/h ",15,46,46,46,0,0,null,{"$f":"IF(E58=0,\"Variabel pris\",IFERROR(((HLOOKUP(E58,'Variable priser'!$C$2:$H$4,2)+(E58-HLOOKUP(E58,'Variable priser'!$C$2:$H$4,1))*HLOOKUP(E58,'Variable priser'!$C$2:$H$4,3))/E58*(1+Genanskaffelsespriser!$D$203)),\"Fejl\"))","v":2052.5411759999997},{"$f":"IF(F58=0,\"Variabel pris\",IFERROR(((HLOOKUP(F58,'Variable priser'!$C$2:$H$4,2)+(F58-HLOOKUP(F58,'Variable priser'!$C$2:$H$4,1))*HLOOKUP(F58,'Variable priser'!$C$2:$H$4,3))/F58*(1+Genanskaffelsespriser!$D$203)),\"Fejl\"))","v":2052.5411759999997},6294.4596063999988,6294.4596063999988,1,1]
["Pumpe inkl. stigrør og forerørsforsejlinger mv. 53","m³/h ",15,77,77,77,0,0,null,{"$f":"IF(E59=0,\"Variabel pris\",IFERROR(((HLOOKUP(E59,'Variable priser'!$C$2:$H$4,2)+(E59-HLOOKUP(E59,'Variable priser'!$C$2:$H$4,1))*HLOOKUP(E59,'Variable priser'!$C$2:$H$4,3))/E59*(1+Genanskaffelsespriser!$D$203)),\"Fejl\"))","v":1557.4135240519479},{"$f":"IF(F59=0,\"Variabel pris\",IFERROR(((HLOOKUP(F59,'Variable priser'!$C$2:$H$4,2)+(F59-HLOOKUP(F59,'Variable priser'!$C$2:$H$4,1))*HLOOKUP(F59,'Variable priser'!$C$2:$H$4,3))/F59*(1+Genanskaffelsespriser!$D$203)),\"Fejl\"))","v":1557.4135240519479},7994.7227567999989,7994.7227567999989,1,1]
["Pumpe inkl. stigrør og forerørsforsejlinger mv. 54","m³/h ",15,77,77,77,0,0,null,{"$f":"IF(E60=0,\"Variabel pris\",IFERROR(((HLOOKUP(E60,'Variable priser'!$C$2:$H$4,2)+(E60-HLOOKUP(E60,'Variable priser'!$C$2:$H$4,1))*HLOOKUP(E60,'Variable priser'!$C$2:$H$4,3))/E60*(1+Genanskaffelsespriser!$D$203)),\"Fejl\"))","v":1557.4135240519479},{"$f":"IF(F60=0,\"Variabel pris\",IFERROR(((HLOOKUP(F60,'Variable priser'!$C$2:$H$4,2)+(F60-HLOOKUP(F60,'Variable priser'!$C$2:$H$4,1))*HLOOKUP(F60,'Variable priser'!$C$2:$H$4,3))/F60*(1+Genanskaffelsespriser!$D$203)),\"Fejl\"))","v":1557.4135240519479},7994.7227567999989,7994.7227567999989,1,1]
["Pumpe inkl. stigrør og forerørsforsejlinger mv. 55","m³/h ",15,77,77,77,0,0,null,{"$f":"IF(E61=0,\"Variabel pris\",IFERROR(((HLOOKUP(E61,'Variable priser'!$C$2:$H$4,2)+(E61-HLOOKUP(E61,'Variable priser'!$C$2:$H$4,1))*HLOOKUP(E61,'Variable priser'!$C$2:$H$4,3))/E61*(1+Genanskaffelsespriser!$D$203)),\"Fejl\"))","v":1557.4135240519479},{"$f":"IF(F61=0,\"Variabel pris\",IFERROR(((HLOOKUP(F61,'Variable priser'!$C$2:$H$4,2)+(F61-HLOOKUP(F61,'Variable priser'!$C$2:$H$4,1))*HLOOKUP(F61,'Variable priser'!$C$2:$H$4,3))/F61*(1+Genanskaffelsespriser!$D$203)),\"Fejl\"))","v":1557.4135240519479},7994.7227567999989,7994.7227567999989,1,1]
["Pumpe inkl. stigrør og forerørsforsejlinger mv. 56","m³/h ",15,30,30,30,0,0,null,{"$f":"IF(E62=0,\"Variabel pris\",IFERROR(((HLOOKUP(E62,'Variable priser'!$C$2:$H$4,2)+(E62-HLOOKUP(E62,'Variable priser'!$C$2:$H$4,1))*HLOOKUP(E62,'Variable priser'!$C$2:$H$4,3))/E62*(1+Genanskaffelsespriser!$D$203)),\"Fejl\"))","v":2666.7516888},{"$f":"IF(F62=0,\"Variabel pris\",IFERROR(((HLOOKUP(F62,'Variable priser'!$C$2:$H$4,2)+(F62-HLOOKUP(F62,'Variable priser'!$C$2:$H$4,1))*HLOOKUP(F62,'Variable priser'!$C$2:$H$4,3))/F62*(1+Genanskaffelsespriser!$D$203)),\"Fejl\"))","v":2666.7516888},5333.5033776,5333.5033776,1,1]
["Pumpe inkl. stigrør og forerørsforsejlinger mv. 57","m³/h ",15,30,30,30,0,0,null,{"$f":"IF(E63=0,\"Variabel pris\",IFERROR(((HLOOKUP(E63,'Variable priser'!$C$2:$H$4,2)+(E63-HLOOKUP(E63,'Variable priser'!$C$2:$H$4,1))*HLOOKUP(E63,'Variable priser'!$C$2:$H$4,3))/E63*(1+Genanskaffelsespriser!$D$203)),\"Fejl\"))","v":2666.7516888},{"$f":"IF(F63=0,\"Variabel pris\",IFERROR(((HLOOKUP(F63,'Variable priser'!$C$2:$H$4,2)+(F63-HLOOKUP(F63,'Variable priser'!$C$2:$H$4,1))*HLOOKUP(F63,'Variable priser'!$C$2:$H$4,3))/F63*(1+Genanskaffelsespriser!$D$203)),\"Fejl\"))","v":2666.7516888},5333.5033776,5333.5033776,1,1]
["Pumpe inkl. stigrør og forerørsforsejlinger mv. 58","m³/h ",15,17,17,17,0,0,null,{"$f":"IF(E64=0,\"Variabel pris\",IFERROR(((HLOOKUP(E64,'Variable priser'!$C$2:$H$4,2)+(E64-HLOOKUP(E64,'Variable priser'!$C$2:$H$4,1))*HLOOKUP(E64,'Variable priser'!$C$2:$H$4,3))/E64*(1+Genanskaffelsespriser!$D$203)),\"Fejl\"))","v":3496.2412055999994},{"$f":"IF(F64=0,\"Variabel pris\",IFERROR(((HLOOKUP(F64,'Variable priser'!$C$2:$H$4,2)+(F64-HLOOKUP(F64,'Variable priser'!$C$2:$H$4,1))*HLOOKUP(F64,'Variable priser'!$C$2:$H$4,3))/F64*(1+Genanskaffelsespriser!$D$203)),\"Fejl\"))","v":3496.2412055999994},3962.4066996799997,3962.4066996799997,1,1]
["Pumpe inkl. stigrør og forerørsforsejlinger mv. 59","m³/h ",15,17,17,17,0,0,null,{"$f":"IF(E65=0,\"Variabel pris\",IFERROR(((HLOOKUP(E65,'Variable priser'!$C$2:$H$4,2)+(E65-HLOOKUP(E65,'Variable priser'!$C$2:$H$4,1))*HLOOKUP(E65,'Variable priser'!$C$2:$H$4,3))/E65*(1+Genanskaffelsespriser!$D$203)),\"Fejl\"))","v":3496.2412055999994},{"$f":"IF(F65=0,\"Variabel pris\",IFERROR(((HLOOKUP(F65,'Variable priser'!$C$2:$H$4,2)+(F65-HLOOKUP(F65,'Variable priser'!$C$2:$H$4,1))*HLOOKUP(F65,'Variable priser'!$C$2:$H$4,3))/F65*(1+Genanskaffelsespriser!$D$203)),\"Fejl\"))","v":3496.2412055999994},3962.4066996799997,3962.4066996799997,1,1]
["Pumpe inkl. stigrør og forerørsforsejlinger mv. 60","m³/h ",15,17,17,17,0,0,null,{"$f":"IF(E66=0,\"Variabel pris\",IFERROR(((HLOOKUP(E66,'Variable priser'!$C$2:$H$4,2)+(E66-HLOOKUP(E66,'Variable priser'!$C$2:$H$4,1))*HLOOKUP(E66,'Variable priser'!$C$2:$H$4,3))/E66*(1+Genanskaffelsespriser!$D$203)),\"Fejl\"))","v":3496.2412055999994},{"$f":"IF(F66=0,\"Variabel pris\",IFERROR(((HLOOKUP(F66,'Variable priser'!$C$2:$H$4,2)+(F66-HLOOKUP(F66,'Variable priser'!$C$2:$H$4,1))*HLOOKUP(F66,'Variable priser'!$C$2:$H$4,3))/F66*(1+Genanskaffelsespriser!$D$203)),\"Fejl\"))","v":3496.2412055999994},3962.4066996799997,3962.4066996799997,1,1]
["Pumpe inkl. stigrør og forerørsforsejlinger mv. 61","m³/h ",15,17,17,17,0,0,null,{"$f":"IF(E67=0,\"Variabel pris\",IFERROR(((HLOOKUP(E67,'Variable priser'!$C$2:$H$4,2)+(E67-HLOOKUP(E67,'Variable priser'!$C$2:$H$4,1))*HLOOKUP(E67,'Variable priser'!$C$2:$H$4,3))/E67*(1+Genanskaffelsespriser!$D$203)),\"Fejl\"))","v":3496.2412055999994},{"$f":"IF(F67=0,\"Variabel pris\",IFERROR(((HLOOKUP(F67,'Variable priser'!$C$2:$H$4,2)+(F67-HLOOKUP(F67,'Variable priser'!$C$2:$H$4,1))*HLOOKUP(F67,'Variable priser'!$C$2:$H$4,3))/F67*(1+Genanskaffelsespriser!$D$203)),\"Fejl\"))","v":3496.2412055999994},3962.4066996799997,3962.4066996799997,1,1]
["Pumpe inkl. stigrør og forerørsforsejlinger mv. 62","m³/h ",15,17,17,17,0,0,null,{"$f":"IF(E68=0,\"Variabel pris\",IFERROR(((HLOOKUP(E68,'Variable priser'!$C$2:$H$4,2)+(E68-HLOOKUP(E68,'Variable priser'!$C$2:$H$4,1))*HLOOKUP(E68,'Variable priser'!$C$2:$H$4,3))/E68*(1+Genanskaffelsespriser!$D$203)),\"Fejl\"))","v":3496.2412055999994},{"$f":"IF(F68=0,\"Variabel pris\",IFERROR(((HLOOKUP(F68,'Variable priser'!$C$2:$H$4,2)+(F68-HLOOKUP(F68,'Variable priser'!$C$2:$H$4,1))*HLOOKUP(F68,'Variable priser'!$C$2:$H$4,3))/F68*(1+Genanskaffelsespriser!$D$203)),\"Fejl\"))","v":3496.2412055999994},3962.4066996799997,3962.4066996799997,1,1]
["Pumpe inkl. stigrør og forerørsforsejlinger mv. 63","m³/h ",15,17,17,17,0,0,null,{"$f":"IF(E69=0,\"Variabel pris\",IFERROR(((HLOOKUP(E69,'Variable priser'!$C$2:$H$4,2)+(E69-HLOOKUP(E69,'Variable priser'!$C$2:$H$4,1))*HLOOKUP(E69,'Variable priser'!$C$2:$H$4,3))/E69*(1+Genanskaffelsespriser!$D$203)),\"Fejl\"))","v":3496.2412055999994},{"$f":"IF(F69=0,\"Variabel pris\",IFERROR(((HLOOKUP(F69,'Variable priser'!$C$2:$H$4,2)+(F69-HLOOKUP(F69,'Variable priser'!$C$2:$H$4,1))*HLOOKUP(F69,'Variable priser'!$C$2:$H$4,3))/F69*(1+Genanskaffelsespriser!$D$203)),\"Fejl\"))","v":3496.2412055999994},3962.4066996799997,3962.4066996799997,1,1]
["Pumpe inkl. stigrør og forerørsforsejlinger mv. 64","m³/h ",15,17,17,17,0,0,null,{"$f":"IF(E70=0,\"Variabel pris\",IFERROR(((HLOOKUP(E70,'Variable priser'!$C$2:$H$4,2)+(E70-HLOOKUP(E70,'Variable priser'!$C$2:$H$4,1))*HLOOKUP(E70,'Variable priser'!$C$2:$H$4,3))/E70*(1+Genanskaffelsespriser!$D$203)),\"Fejl\"))","v":3496.2412055999994},{"$f":"IF(F70=0,\"Variabel pris\",IFERROR(((HLOOKUP(F70,'Variable priser'!$C$2:$H$4,2)+(F70-HLOOKUP(F70,'Variable priser'!$C$2:$H$4,1))*HLOOKUP(F70,'Variable priser'!$C$2:$H$4,3))/F70*(1+Genanskaffelsespriser!$D$203)),\"Fejl\"))","v":3496.2412055999994},3962.4066996799997,3962.4066996799997,1,1]
["Pumpe inkl. stigrør og forerørsforsejlinger mv. 65","m³/h ",15,46,46,46,0,0,null,{"$f":"IF(E71=0,\"Variabel pris\",IFERROR(((HLOOKUP(E71,'Variable priser'!$C$2:$H$4,2)+(E71-HLOOKUP(E71,'Variable priser'!$C$2:$H$4,1))*HLOOKUP(E71,'Variable priser'!$C$2:$H$4,3))/E71*(1+Genanskaffelsespriser!$D$203)),\"Fejl\"))","v":2052.5411759999997},{"$f":"IF(F71=0,\"Variabel pris\",IFERROR(((HLOOKUP(F71,'Variable priser'!$C$2:$H$4,2)+(F71-HLOOKUP(F71,'Variable priser'!$C$2:$H$4,1))*HLOOKUP(F71,'Variable priser'!$C$2:$H$4,3))/F71*(1+Genanskaffelsespriser!$D$203)),\"Fejl\"))","v":2052.5411759999997},6294.4596063999988,6294.4596063999988,1,1]
["Pumpe inkl. stigrør og forerørsforsejlinger mv. 66","m³/h ",15,17,17,17,0,0,null,{"$f":"IF(E72=0,\"Variabel pris\",IFERROR(((HLOOKUP(E72,'Variable priser'!$C$2:$H$4,2)+(E72-HLOOKUP(E72,'Variable priser'!$C$2:$H$4,1))*HLOOKUP(E72,'Variable priser'!$C$2:$H$4,3))/E72*(1+Genanskaffelsespriser!$D$203)),\"Fejl\"))","v":3496.2412055999994},{"$f":"IF(F72=0,\"Variabel pris\",IFERROR(((HLOOKUP(F72,'Variable priser'!$C$2:$H$4,2)+(F72-HLOOKUP(F72,'Variable priser'!$C$2:$H$4,1))*HLOOKUP(F72,'Variable priser'!$C$2:$H$4,3))/F72*(1+Genanskaffelsespriser!$D$203)),\"Fejl\"))","v":3496.2412055999994},3962.4066996799997,3962.4066996799997,1,1]
["Pumpe inkl. stigrør og forerørsforsejlinger mv. 67","m³/h ",15,17,17,17,0,0,null,{"$f":"IF(E73=0,\"Variabel pris\",IFERROR(((HLOOKUP(E73,'Variable priser'!$C$2:$H$4,2)+(E73-HLOOKUP(E73,'Variable priser'!$C$2:$H$4,1))*HLOOKUP(E73,'Variable priser'!$C$2:$H$4,3))/E73*(1+Genanskaffelsespriser!$D$203)),\"Fejl\"))","v":3496.2412055999994},{"$f":"IF(F73=0,\"Variabel pris\",IFERROR(((HLOOKUP(F73,'Variable priser'!$C$2:$H$4,2)+(F73-HLOOKUP(F73,'Variable priser'!$C$2:$H$4,1))*HLOOKUP(F73,'Variable priser'!$C$2:$H$4,3))/F73*(1+Genanskaffelsespriser!$D$203)),\"Fejl\"))","v":3496.2412055999994},3962.4066996799997,3962.4066996799997,1,1]
["Pumpe inkl. stigrør og forerørsforsejlinger mv. 68","m³/h ",15,5,5,5,0,0,null,{"$f":"IF(E74=0,\"Variabel pris\",IFERROR(((HLOOKUP(E74,'Variable priser'!$C$2:$H$4,2)+(E74-HLOOKUP(E74,'Variable priser'!$C$2:$H$4,1))*HLOOKUP(E74,'Variable priser'!$C$2:$H$4,3))/E74*(1+Genanskaffelsespriser!$D$203)),\"Fejl\"))","v":4578.0754247999994},{"$f":"IF(F74=0,\"Variabel pris\",IFERROR(((HLOOKUP(F74,'Variable priser'!$C$2:$H$4,2)+(F74-HLOOKUP(F74,'Variable priser'!$C$2:$H$4,1))*HLOOKUP(F74,'Variable priser'!$C$2:$H$4,3))/F74*(1+Genanskaffelsespriser!$D$203)),\"Fejl\"))","v":4578.0754247999994},1526.0251415999999,1526.0251415999999,1,1]
["Pumpe inkl. stigrør og forerørsforsejlinger mv. 69","m³/h ",15,5,5,5,0,0,null,{"$f":"IF(E75=0,\"Variabel pris\",IFERROR(((HLOOKUP(E75,'Variable priser'!$C$2:$H$4,2)+(E75-HLOOKUP(E75,'Variable priser'!$C$2:$H$4,1))*HLOOKUP(E75,'Variable priser'!$C$2:$H$4,3))/E75*(1+Genanskaffelsespriser!$D$203)),\"Fejl\"))","v":4578.0754247999994},{"$f":"IF(F75=0,\"Variabel pris\",IFERROR(((HLOOKUP(F75,'Variable priser'!$C$2:$H$4,2)+(F75-HLOOKUP(F75,'Variable priser'!$C$2:$H$4,1))*HLOOKUP(F75,'Variable priser'!$C$2:$H$4,3))/F75*(1+Genanskaffelsespriser!$D$203)),\"Fejl\"))","v":4578.0754247999994},1526.0251415999999,1526.0251415999999,1,1]
["Pumpe inkl. stigrør og forerørsforsejlinger mv. 70","m³/h ",15,30,30,30,0,0,null,{"$f":"IF(E76=0,\"Variabel pris\",IFERROR(((HLOOKUP(E76,'Variable priser'!$C$2:$H$4,2)+(E76-HLOOKUP(E76,'Variable priser'!$C$2:$H$4,1))*HLOOKUP(E76,'Variable priser'!$C$2:$H$4,3))/E76*(1+Genanskaffelsespriser!$D$203)),\"Fejl\"))","v":2666.7516888},{"$f":"IF(F76=0,\"Variabel pris\",IFERROR(((HLOOKUP(F76,'Variable priser'!$C$2:$H$4,2)+(F76-HLOOKUP(F76,'Variable priser'!$C$2:$H$4,1))*HLOOKUP(F76,'Variable priser'!$C$2:$H$4,3))/F76*(1+Genanskaffelsespriser!$D$203)),\"Fejl\"))","v":2666.7516888},5333.5033776,5333.5033776,1,1]
["Pumpe inkl. stigrør og forerørsforsejlinger mv. 71","m³/h ",15,17,17,17,0,0,null,{"$f":"IF(E77=0,\"Variabel pris\",IFERROR(((HLOOKUP(E77,'Variable priser'!$C$2:$H$4,2)+(E77-HLOOKUP(E77,'Variable priser'!$C$2:$H$4,1))*HLOOKUP(E77,'Variable priser'!$C$2:$H$4,3))/E77*(1+Genanskaffelsespriser!$D$203)),\"Fejl\"))","v":3496.2412055999994},{"$f":"IF(F77=0,\"Variabel pris\",IFERROR(((HLOOKUP(F77,'Variable priser'!$C$2:$H$4,2)+(F77-HLOOKUP(F77,'Variable priser'!$C$2:$H$4,1))*HLOOKUP(F77,'Variable priser'!$C$2:$H$4,3))/F77*(1+Genanskaffelsespriser!$D$203)),\"Fejl\"))","v":3496.2412055999994},3962.4066996799997,3962.4066996799997,1,1]
["Pumpe inkl. stigrør og forerørsforsejlinger mv. 72","m³/h ",15,30,30,30,0,0,null,{"$f":"IF(E78=0,\"Variabel pris\",IFERROR(((HLOOKUP(E78,'Variable priser'!$C$2:$H$4,2)+(E78-HLOOKUP(E78,'Variable priser'!$C$2:$H$4,1))*HLOOKUP(E78,'Variable priser'!$C$2:$H$4,3))/E78*(1+Genanskaffelsespriser!$D$203)),\"Fejl\"))","v":2666.7516888},{"$f":"IF(F78=0,\"Variabel pris\",IFERROR(((HLOOKUP(F78,'Variable priser'!$C$2:$H$4,2)+(F78-HLOOKUP(F78,'Variable priser'!$C$2:$H$4,1))*HLOOKUP(F78,'Variable priser'!$C$2:$H$4,3))/F78*(1+Genanskaffelsespriser!$D$203)),\"Fejl\"))","v":2666.7516888},5333.5033776,5333.5033776,1,1]
["Pumpe inkl. stigrør og forerørsforsejlinger mv. 73","m³/h ",15,30,30,30,0,0,null,{"$f":"IF(E79=0,\"Variabel pris\",IFERROR(((HLOOKUP(E79,'Variable priser'!$C$2:$H$4,2)+(E79-HLOOKUP(E79,'Variable priser'!$C$2:$H$4,1))*HLOOKUP(E79,'Variable priser'!$C$2:$H$4,3))/E79*(1+Genanskaffelsespriser!$D$203)),\"Fejl\"))","v":2666.7516888},{"$f":"IF(F79=0,\"Variabel pris\",IFERROR(((HLOOKUP(F79,'Variable priser'!$C$2:$H$4,2)+(F79-HLOOKUP(F79,'Variable priser'!$C$2:$H$4,1))*HLOOKUP(F79,'Variable priser'!$C$2:$H$4,3))/F79*(1+Genanskaffelsespriser!$D$203)),\"Fejl\"))","v":2666.7516888},5333.5033776,5333.5033776,1,1]
["Pumpe inkl. stigrør og forerørsforsejlinger mv. 74","m³/h ",15,30,30,30,0,0,null,{"$f":"IF(E80=0,\"Variabel pris\",IFERROR(((HLOOKUP(E80,'Variable priser'!$C$2:$H$4,2)+(E80-HLOOKUP(E80,'Variable priser'!$C$2:$H$4,1))*HLOOKUP(E80,'Variable priser'!$C$2:$H$4,3))/E80*(1+Genanskaffelsespriser!$D$203)),\"Fejl\"))","v":2666.7516888},{"$f":"IF(F80=0,\"Variabel pris\",IFERROR(((HLOOKUP(F80,'Variable priser'!$C$2:$H$4,2)+(F80-HLOOKUP(F80,'Variable priser'!$C$2:$H$4,1))*HLOOKUP(F80,'Variable priser'!$C$2:$H$4,3))/F80*(1+Genanskaffelsespriser!$D$203)),\"Fejl\"))","v":2666.7516888},5333.5033776,5333.5033776,1,1]
["Pumpe inkl. stigrør og forerørsforsejlinger mv. 75","m³/h ",15,9,9,9,0,0,null,{"$f":"IF(E81=0,\"Variabel pris\",IFERROR(((HLOOKUP(E81,'Variable priser'!$C$2:$H$4,2)+(E81-HLOOKUP(E81,'Variable priser'!$C$2:$H$4,1))*HLOOKUP(E81,'Variable priser'!$C$2:$H$4,3))/E81*(1+Genanskaffelsespriser!$D$203)),\"Fejl\"))","v":4578.0754247999994},{"$f":"IF(F81=0,\"Variabel pris\",IFERROR(((HLOOKUP(F81,'Variable priser'!$C$2:$H$4,2)+(F81-HLOOKUP(F81,'Variable priser'!$C$2:$H$4,1))*HLOOKUP(F81,'Variable priser'!$C$2:$H$4,3))/F81*(1+Genanskaffelsespriser!$D$203)),\"Fejl\"))","v":4578.0754247999994},{"$f":"IF(ISBLANK(E81),\"\",IF(E81=0,\"\",IF(ISNUMBER(E81),((J81*E81)/C81)*N81,\"\")))","v":2746.8452548799996},{"$f":"IF(ISBLANK(F81),\"\",IF(F81=0,\"\",IF(ISNUMBER(F81),((K81*F81)/C81)*N81,\"\")))","v":2746.8452548799996},1,1]
["Pumpe inkl. stigrør og forerørsforsejlinger mv. 76","m³/h ",15,9,9,9,0,0,null,{"$f":"IF(E82=0,\"Variabel pris\",IFERROR(((HLOOKUP(E82,'Variable priser'!$C$2:$H$4,2)+(E82-HLOOKUP(E82,'Variable priser'!$C$2:$H$4,1))*HLOOKUP(E82,'Variable priser'!$C$2:$H$4,3))/E82*(1+Genanskaffelsespriser!$D$203)),\"Fejl\"))","v":4578.0754247999994},{"$f":"IF(F82=0,\"Variabel pris\",IFERROR(((HLOOKUP(F82,'Variable priser'!$C$2:$H$4,2)+(F82-HLOOKUP(F82,'Variable priser'!$C$2:$H$4,1))*HLOOKUP(F82,'Variable priser'!$C$2:$H$4,3))/F82*(1+Genanskaffelsespriser!$D$203)),\"Fejl\"))","v":4578.0754247999994},2746.8452548799996,2746.8452548799996,1,1]
["Pumpe inkl. stigrør og forerørsforsejlinger mv. 77","m³/h ",15,9,9,9,0,0,null,{"$f":"IF(E83=0,\"Variabel pris\",IFERROR(((HLOOKUP(E83,'Variable priser'!$C$2:$H$4,2)+(E83-HLOOKUP(E83,'Variable priser'!$C$2:$H$4,1))*HLOOKUP(E83,'Variable priser'!$C$2:$H$4,3))/E83*(1+Genanskaffelsespriser!$D$203)),\"Fejl\"))","v":4578.0754247999994},{"$f":"IF(F83=0,\"Variabel pris\",IFERROR(((HLOOKUP(F83,'Variable priser'!$C$2:$H$4,2)+(F83-HLOOKUP(F83,'Variable priser'!$C$2:$H$4,1))*HLOOKUP(F83,'Variable priser'!$C$2:$H$4,3))/F83*(1+Genanskaffelsespriser!$D$203)),\"Fejl\"))","v":4578.0754247999994},2746.8452548799996,2746.8452548799996,1,1]
["Pumpe inkl. stigrør og forerørsforsejlinger mv. 78","m³/h ",15,9,9,9,0,0,null,{"$f":"IF(E84=0,\"Variabel pris\",IFERROR(((HLOOKUP(E84,'Variable priser'!$C$2:$H$4,2)+(E84-HLOOKUP(E84,'Variable priser'!$C$2:$H$4,1))*HLOOKUP(E84,'Variable priser'!$C$2:$H$4,3))/E84*(1+Genanskaffelsespriser!$D$203)),\"Fejl\"))","v":4578.0754247999994},{"$f":"IF(F84=0,\"Variabel pris\",IFERROR(((HLOOKUP(F84,'Variable priser'!$C$2:$H$4,2)+(F84-HLOOKUP(F84,'Variable priser'!$C$2:$H$4,1))*HLOOKUP(F84,'Variable priser'!$C$2:$H$4,3))/F84*(1+Genanskaffelsespriser!$D$203)),\"Fejl\"))","v":4578.0754247999994},2746.8452548799996,2746.8452548799996,1,1]
["Pumpe inkl. stigrør og forerørsforsejlinger mv. 79","m³/h ",15,9,9,9,0,0,null,{"$f":"IF(E85=0,\"Variabel pris\",IFERROR(((HLOOKUP(E85,'Variable priser'!$C$2:$H$4,2)+(E85-HLOOKUP(E85,'Variable priser'!$C$2:$H$4,1))*HLOOKUP(E85,'Variable priser'!$C$2:$H$4,3))/E85*(1+Genanskaffelsespriser!$D$203)),\"Fejl\"))","v":4578.0754247999994},{"$f":"IF(F85=0,\"Variabel pris\",IFERROR(((HLOOKUP(F85,'Variable priser'!$C$2:$H$4,2)+(F85-HLOOKUP(F85,'Variable priser'!$C$2:$H$4,1))*HLOOKUP(F85,'Variable priser'!$C$2:$H$4,3))/F85*(1+Genanskaffelsespriser!$D$203)),\"Fejl\"))","v":4578.0754247999994},2746.8452548799996,2746.8452548799996,1,1]
["Pumpe inkl. stigrør og forerørsforsejlinger mv. 80","m³/h ",15,30,30,30,0,0,null,{"$f":"IF(E86=0,\"Variabel pris\",IFERROR(((HLOOKUP(E86,'Variable priser'!$C$2:$H$4,2)+(E86-HLOOKUP(E86,'Variable priser'!$C$2:$H$4,1))*HLOOKUP(E86,'Variable priser'!$C$2:$H$4,3))/E86*(1+Genanskaffelsespriser!$D$203)),\"Fejl\"))","v":2666.7516888},{"$f":"IF(F86=0,\"Variabel pris\",IFERROR(((HLOOKUP(F86,'Variable priser'!$C$2:$H$4,2)+(F86-HLOOKUP(F86,'Variable priser'!$C$2:$H$4,1))*HLOOKUP(F86,'Variable priser'!$C$2:$H$4,3))/F86*(1+Genanskaffelsespriser!$D$203)),\"Fejl\"))","v":2666.7516888},5333.5033776,5333.5033776,1,1]
["Pumpe inkl. stigrør og forerørsforsejlinger mv. 81","m³/h ",15,30,30,30,0,0,null,{"$f":"IF(E87=0,\"Variabel pris\",IFERROR(((HLOOKUP(E87,'Variable priser'!$C$2:$H$4,2)+(E87-HLOOKUP(E87,'Variable priser'!$C$2:$H$4,1))*HLOOKUP(E87,'Variable priser'!$C$2:$H$4,3))/E87*(1+Genanskaffelsespriser!$D$203)),\"Fejl\"))","v":2666.7516888},{"$f":"IF(F87=0,\"Variabel pris\",IFERROR(((HLOOKUP(F87,'Variable priser'!$C$2:$H$4,2)+(F87-HLOOKUP(F87,'Variable priser'!$C$2:$H$4,1))*HLOOKUP(F87,'Variable priser'!$C$2:$H$4,3))/F87*(1+Genanskaffelsespriser!$D$203)),\"Fejl\"))","v":2666.7516888},5333.5033776,5333.5033776,1,1]
["Pumpe inkl. stigrør og forerørsforsejlinger mv. 82","m³/h ",15,30,30,30,0,0,null,{"$f":"IF(E88=0,\"Variabel pris\",IFERROR(((HLOOKUP(E88,'Variable priser'!$C$2:$H$4,2)+(E88-HLOOKUP(E88,'Variable priser'!$C$2:$H$4,1))*HLOOKUP(E88,'Variable priser'!$C$2:$H$4,3))/E88*(1+Genanskaffelsespriser!$D$203)),\"Fejl\"))","v":2666.7516888},{"$f":"IF(F88=0,\"Variabel pris\",IFERROR(((HLOOKUP(F88,'Variable priser'!$C$2:$H$4,2)+(F88-HLOOKUP(F88,'Variable priser'!$C$2:$H$4,1))*HLOOKUP(F88,'Variable priser'!$C$2:$H$4,3))/F88*(1+Genanskaffelsespriser!$D$203)),\"Fejl\"))","v":2666.7516888},5333.5033776,5333.5033776,1,1]
["Pumpe inkl. stigrør og forerørsforsejlinger mv. 83","m³/h ",15,30,30,30,0,0,null,{"$f":"IF(E89=0,\"Variabel pris\",IFERROR(((HLOOKUP(E89,'Variable priser'!$C$2:$H$4,2)+(E89-HLOOKUP(E89,'Variable priser'!$C$2:$H$4,1))*HLOOKUP(E89,'Variable priser'!$C$2:$H$4,3))/E89*(1+Genanskaffelsespriser!$D$203)),\"Fejl\"))","v":2666.7516888},{"$f":"IF(F89=0,\"Variabel pris\",IFERROR(((HLOOKUP(F89,'Variable priser'!$C$2:$H$4,2)+(F89-HLOOKUP(F89,'Variable priser'!$C$2:$H$4,1))*HLOOKUP(F89,'Variable priser'!$C$2:$H$4,3))/F89*(1+Genanskaffelsespriser!$D$203)),\"Fejl\"))","v":2666.7516888},5333.5033776,5333.5033776,1,1]
["Pumpe inkl. stigrør og forerørsforsejlinger mv. 84","m³/h ",15,17,17,17,0,0,null,{"$f":"IF(E90=0,\"Variabel pris\",IFERROR(((HLOOKUP(E90,'Variable priser'!$C$2:$H$4,2)+(E90-HLOOKUP(E90,'Variable priser'!$C$2:$H$4,1))*HLOOKUP(E90,'Variable priser'!$C$2:$H$4,3))/E90*(1+Genanskaffelsespriser!$D$203)),\"Fejl\"))","v":3496.2412055999994},{"$f":"IF(F90=0,\"Variabel pris\",IFERROR(((HLOOKUP(F90,'Variable priser'!$C$2:$H$4,2)+(F90-HLOOKUP(F90,'Variable priser'!$C$2:$H$4,1))*HLOOKUP(F90,'Variable priser'!$C$2:$H$4,3))/F90*(1+Genanskaffelsespriser!$D$203)),\"Fejl\"))","v":3496.2412055999994},3962.4066996799997,3962.4066996799997,1,1]
["Pumpe inkl. stigrør og forerørsforsejlinger mv. 85","m³/h ",15,17,17,17,0,0,null,{"$f":"IF(E91=0,\"Variabel pris\",IFERROR(((HLOOKUP(E91,'Variable priser'!$C$2:$H$4,2)+(E91-HLOOKUP(E91,'Variable priser'!$C$2:$H$4,1))*HLOOKUP(E91,'Variable priser'!$C$2:$H$4,3))/E91*(1+Genanskaffelsespriser!$D$203)),\"Fejl\"))","v":3496.2412055999994},{"$f":"IF(F91=0,\"Variabel pris\",IFERROR(((HLOOKUP(F91,'Variable priser'!$C$2:$H$4,2)+(F91-HLOOKUP(F91,'Variable priser'!$C$2:$H$4,1))*HLOOKUP(F91,'Variable priser'!$C$2:$H$4,3))/F91*(1+Genanskaffelsespriser!$D$203)),\"Fejl\"))","v":3496.2412055999994},3962.4066996799997,3962.4066996799997,1,1]
["Pumpe inkl. stigrør og forerørsforsejlinger mv. 86","m³/h ",15,17,17,17,0,0,null,{"$f":"IF(E92=0,\"Variabel pris\",IFERROR(((HLOOKUP(E92,'Variable priser'!$C$2:$H$4,2)+(E92-HLOOKUP(E92,'Variable priser'!$C$2:$H$4,1))*HLOOKUP(E92,'Variable priser'!$C$2:$H$4,3))/E92*(1+Genanskaffelsespriser!$D$203)),\"Fejl\"))","v":3496.2412055999994},{"$f":"IF(F92=0,\"Variabel pris\",IFERROR(((HLOOKUP(F92,'Variable priser'!$C$2:$H$4,2)+(F92-HLOOKUP(F92,'Variable priser'!$C$2:$H$4,1))*HLOOKUP(F92,'Variable priser'!$C$2:$H$4,3))/F92*(1+Genanskaffelsespriser!$D$203)),\"Fejl\"))","v":3496.2412055999994},3962.4066996799997,3962.4066996799997,1,1]
["Pumpe inkl. stigrør og forerørsforsejlinger mv. 87","m³/h ",15,17,17,17,0,0,null,{"$f":"IF(E93=0,\"Variabel pris\",IFERROR(((HLOOKUP(E93,'Variable priser'!$C$2:$H$4,2)+(E93-HLOOKUP(E93,'Variable priser'!$C$2:$H$4,1))*HLOOKUP(E93,'Variable priser'!$C$2:$H$4,3))/E93*(1+Genanskaffelsespriser!$D$203)),\"Fejl\"))","v":3496.2412055999994},{"$f":"IF(F93=0,\"Variabel pris\",IFERROR(((HLOOKUP(F93,'Variable priser'!$C$2:$H$4,2)+(F93-HLOOKUP(F93,'Variable priser'!$C$2:$H$4,1))*HLOOKUP(F93,'Variable priser'!$C$2:$H$4,3))/F93*(1+Genanskaffelsespriser!$D$203)),\"Fejl\"))","v":3496.2412055999994},3962.4066996799997,3962.4066996799997,1,1]
["Pumpe inkl. stigrør og forerørsforsejlinger mv. 88","m³/h ",15,14,14,14,0,0,null,{"$f":"IF(E94=0,\"Variabel pris\",IFERROR(((HLOOKUP(E94,'Variable priser'!$C$2:$H$4,2)+(E94-HLOOKUP(E94,'Variable priser'!$C$2:$H$4,1))*HLOOKUP(E94,'Variable priser'!$C$2:$H$4,3))/E94*(1+Genanskaffelsespriser!$D$203)),\"Fejl\"))","v":3827.4149461714278},{"$f":"IF(F94=0,\"Variabel pris\",IFERROR(((HLOOKUP(F94,'Variable priser'!$C$2:$H$4,2)+(F94-HLOOKUP(F94,'Variable priser'!$C$2:$H$4,1))*HLOOKUP(F94,'Variable priser'!$C$2:$H$4,3))/F94*(1+Genanskaffelsespriser!$D$203)),\"Fejl\"))","v":3827.4149461714278},3572.2539497599996,3572.2539497599996,1,1]
["Pumpe inkl. stigrør og forerørsforsejlinger mv. 89","m³/h ",15,14,14,14,0,0,null,{"$f":"IF(E95=0,\"Variabel pris\",IFERROR(((HLOOKUP(E95,'Variable priser'!$C$2:$H$4,2)+(E95-HLOOKUP(E95,'Variable priser'!$C$2:$H$4,1))*HLOOKUP(E95,'Variable priser'!$C$2:$H$4,3))/E95*(1+Genanskaffelsespriser!$D$203)),\"Fejl\"))","v":3827.4149461714278},{"$f":"IF(F95=0,\"Variabel pris\",IFERROR(((HLOOKUP(F95,'Variable priser'!$C$2:$H$4,2)+(F95-HLOOKUP(F95,'Variable priser'!$C$2:$H$4,1))*HLOOKUP(F95,'Variable priser'!$C$2:$H$4,3))/F95*(1+Genanskaffelsespriser!$D$203)),\"Fejl\"))","v":3827.4149461714278},3572.2539497599996,3572.2539497599996,1,1]
["Pumpe inkl. stigrør og forerørsforsejlinger mv. 90","m³/h ",15,14,14,14,0,0,null,{"$f":"IF(E96=0,\"Variabel pris\",IFERROR(((HLOOKUP(E96,'Variable priser'!$C$2:$H$4,2)+(E96-HLOOKUP(E96,'Variable priser'!$C$2:$H$4,1))*HLOOKUP(E96,'Variable priser'!$C$2:$H$4,3))/E96*(1+Genanskaffelsespriser!$D$203)),\"Fejl\"))","v":3827.4149461714278},{"$f":"IF(F96=0,\"Variabel pris\",IFERROR(((HLOOKUP(F96,'Variable priser'!$C$2:$H$4,2)+(F96-HLOOKUP(F96,'Variable priser'!$C$2:$H$4,1))*HLOOKUP(F96,'Variable priser'!$C$2:$H$4,3))/F96*(1+Genanskaffelsespriser!$D$203)),\"Fejl\"))","v":3827.4149461714278},3572.2539497599996,3572.2539497599996,1,1]
["Pumpe inkl. stigrør og forerørsforsejlinger mv. 91","m³/h ",15,14,14,14,0,0,null,{"$f":"IF(E97=0,\"Variabel pris\",IFERROR(((HLOOKUP(E97,'Variable priser'!$C$2:$H$4,2)+(E97-HLOOKUP(E97,'Variable priser'!$C$2:$H$4,1))*HLOOKUP(E97,'Variable priser'!$C$2:$H$4,3))/E97*(1+Genanskaffelsespriser!$D$203)),\"Fejl\"))","v":3827.4149461714278},{"$f":"IF(F97=0,\"Variabel pris\",IFERROR(((HLOOKUP(F97,'Variable priser'!$C$2:$H$4,2)+(F97-HLOOKUP(F97,'Variable priser'!$C$2:$H$4,1))*HLOOKUP(F97,'Variable priser'!$C$2:$H$4,3))/F97*(1+Genanskaffelsespriser!$D$203)),\"Fejl\"))","v":3827.4149461714278},3572.2539497599996,3572.2539497599996,1,1]
["Pumpe inkl. stigrør og forerørsforsejlinger mv. 92","m³/h ",15,14,14,14,0,0,null,{"$f":"IF(E98=0,\"Variabel pris\",IFERROR(((HLOOKUP(E98,'Variable priser'!$C$2:$H$4,2)+(E98-HLOOKUP(E98,'Variable priser'!$C$2:$H$4,1))*HLOOKUP(E98,'Variable priser'!$C$2:$H$4,3))/E98*(1+Genanskaffelsespriser!$D$203)),\"Fejl\"))","v":3827.4149461714278},{"$f":"IF(F98=0,\"Variabel pris\",IFERROR(((HLOOKUP(F98,'Variable priser'!$C$2:$H$4,2)+(F98-HLOOKUP(F98,'Variable priser'!$C$2:$H$4,1))*HLOOKUP(F98,'Variable priser'!$C$2:$H$4,3))/F98*(1+Genanskaffelsespriser!$D$203)),\"Fejl\"))","v":3827.4149461714278},3572.2539497599996,3572.2539497599996,1,1]
["Pumpe inkl. stigrør og forerørsforsejlinger mv. 93","m³/h ",15,30,30,30,0,0,null,{"$f":"IF(E99=0,\"Variabel pris\",IFERROR(((HLOOKUP(E99,'Variable priser'!$C$2:$H$4,2)+(E99-HLOOKUP(E99,'Variable priser'!$C$2:$H$4,1))*HLOOKUP(E99,'Variable priser'!$C$2:$H$4,3))/E99*(1+Genanskaffelsespriser!$D$203)),\"Fejl\"))","v":2666.7516888},{"$f":"IF(F99=0,\"Variabel pris\",IFERROR(((HLOOKUP(F99,'Variable priser'!$C$2:$H$4,2)+(F99-HLOOKUP(F99,'Variable priser'!$C$2:$H$4,1))*HLOOKUP(F99,'Variable priser'!$C$2:$H$4,3))/F99*(1+Genanskaffelsespriser!$D$203)),\"Fejl\"))","v":2666.7516888},5333.5033776,5333.5033776,1,1]
["Pumpe inkl. stigrør og forerørsforsejlinger mv. 94","m³/h ",15,30,30,30,0,0,null,{"$f":"IF(E100=0,\"Variabel pris\",IFERROR(((HLOOKUP(E100,'Variable priser'!$C$2:$H$4,2)+(E100-HLOOKUP(E100,'Variable priser'!$C$2:$H$4,1))*HLOOKUP(E100,'Variable priser'!$C$2:$H$4,3))/E100*(1+Genanskaffelsespriser!$D$203)),\"Fejl\"))","v":2666.7516888},{"$f":"IF(F100=0,\"Variabel pris\",IFERROR(((HLOOKUP(F100,'Variable priser'!$C$2:$H$4,2)+(F100-HLOOKUP(F100,'Variable priser'!$C$2:$H$4,1))*HLOOKUP(F100,'Variable priser'!$C$2:$H$4,3))/F100*(1+Genanskaffelsespriser!$D$203)),\"Fejl\"))","v":2666.7516888},5333.5033776,5333.5033776,1,1]
["Pumpe inkl. stigrør og forerørsforsejlinger mv. 95","m³/h ",15,30,30,30,0,0,null,{"$f":"IF(E101=0,\"Variabel pris\",IFERROR(((HLOOKUP(E101,'Variable priser'!$C$2:$H$4,2)+(E101-HLOOKUP(E101,'Variable priser'!$C$2:$H$4,1))*HLOOKUP(E101,'Variable priser'!$C$2:$H$4,3))/E101*(1+Genanskaffelsespriser!$D$203)),\"Fejl\"))","v":2666.7516888},{"$f":"IF(F101=0,\"Variabel pris\",IFERROR(((HLOOKUP(F101,'Variable priser'!$C$2:$H$4,2)+(F101-HLOOKUP(F101,'Variable priser'!$C$2:$H$4,1))*HLOOKUP(F101,'Variable priser'!$C$2:$H$4,3))/F101*(1+Genanskaffelsespriser!$D$203)),\"Fejl\"))","v":2666.7516888},5333.5033776,5333.5033776,1,1]
["Pumpe inkl. stigrør og forerørsforsejlinger mv. 96","m³/h ",15,160,160,160,0,0,null,{"$f":"IF(E102=0,\"Variabel pris\",IFERROR(((HLOOKUP(E102,'Variable priser'!$C$2:$H$4,2)+(E102-HLOOKUP(E102,'Variable priser'!$C$2:$H$4,1))*HLOOKUP(E102,'Variable priser'!$C$2:$H$4,3))/E102*(1+Genanskaffelsespriser!$D$203)),\"Fejl\"))","v":1176.2850209999997},{"$f":"IF(F102=0,\"Variabel pris\",IFERROR(((HLOOKUP(F102,'Variable priser'!$C$2:$H$4,2)+(F102-HLOOKUP(F102,'Variable priser'!$C$2:$H$4,1))*HLOOKUP(F102,'Variable priser'!$C$2:$H$4,3))/F102*(1+Genanskaffelsespriser!$D$203)),\"Fejl\"))","v":1176.2850209999997},12547.040223999997,12547.040223999997,1,1]
["Pumpe inkl. stigrør og forerørsforsejlinger mv. 97","m³/h ",15,5,5,5,0,0,null,{"$f":"IF(E103=0,\"Variabel pris\",IFERROR(((HLOOKUP(E103,'Variable priser'!$C$2:$H$4,2)+(E103-HLOOKUP(E103,'Variable priser'!$C$2:$H$4,1))*HLOOKUP(E103,'Variable priser'!$C$2:$H$4,3))/E103*(1+Genanskaffelsespriser!$D$203)),\"Fejl\"))","v":4578.0754247999994},{"$f":"IF(F103=0,\"Variabel pris\",IFERROR(((HLOOKUP(F103,'Variable priser'!$C$2:$H$4,2)+(F103-HLOOKUP(F103,'Variable priser'!$C$2:$H$4,1))*HLOOKUP(F103,'Variable priser'!$C$2:$H$4,3))/F103*(1+Genanskaffelsespriser!$D$203)),\"Fejl\"))","v":4578.0754247999994},1526.0251415999999,1526.0251415999999,1,1]
["Pumpe inkl. stigrør og forerørsforsejlinger mv. 98","m³/h ",15,17,17,17,0,0,null,{"$f":"IF(E104=0,\"Variabel pris\",IFERROR(((HLOOKUP(E104,'Variable priser'!$C$2:$H$4,2)+(E104-HLOOKUP(E104,'Variable priser'!$C$2:$H$4,1))*HLOOKUP(E104,'Variable priser'!$C$2:$H$4,3))/E104*(1+Genanskaffelsespriser!$D$203)),\"Fejl\"))","v":3496.2412055999994},{"$f":"IF(F104=0,\"Variabel pris\",IFERROR(((HLOOKUP(F104,'Variable priser'!$C$2:$H$4,2)+(F104-HLOOKUP(F104,'Variable priser'!$C$2:$H$4,1))*HLOOKUP(F104,'Variable priser'!$C$2:$H$4,3))/F104*(1+Genanskaffelsespriser!$D$203)),\"Fejl\"))","v":3496.2412055999994},3962.4066996799997,3962.4066996799997,1,1]
["Pumpe inkl. stigrør og forerørsforsejlinger mv. 99","m³/h ",15,17,17,17,0,0,null,{"$f":"IF(E105=0,\"Variabel pris\",IFERROR(((HLOOKUP(E105,'Variable priser'!$C$2:$H$4,2)+(E105-HLOOKUP(E105,'Variable priser'!$C$2:$H$4,1))*HLOOKUP(E105,'Variable priser'!$C$2:$H$4,3))/E105*(1+Genanskaffelsespriser!$D$203)),\"Fejl\"))","v":3496.2412055999994},{"$f":"IF(F105=0,\"Variabel pris\",IFERROR(((HLOOKUP(F105,'Variable priser'!$C$2:$H$4,2)+(F105-HLOOKUP(F105,'Variable priser'!$C$2:$H$4,1))*HLOOKUP(F105,'Variable priser'!$C$2:$H$4,3))/F105*(1+Genanskaffelsespriser!$D$203)),\"Fejl\"))","v":3496.2412055999994},3962.4066996799997,3962.4066996799997,1,1]
["Pumpe inkl. stigrør og forerørsforsejlinger mv. 100","m³/h ",15,17,17,17,0,0,null,{"$f":"IF(E106=0,\"Variabel pris\",IFERROR(((HLOOKUP(E106,'Variable priser'!$C$2:$H$4,2)+(E106-HLOOKUP(E106,'Variable priser'!$C$2:$H$4,1))*HLOOKUP(E106,'Variable priser'!$C$2:$H$4,3))/E106*(1+Genanskaffelsespriser!$D$203)),\"Fejl\"))","v":3496.2412055999994},{"$f":"IF(F106=0,\"Variabel pris\",IFERROR(((HLOOKUP(F106,'Variable priser'!$C$2:$H$4,2)+(F106-HLOOKUP(F106,'Variable priser'!$C$2:$H$4,1))*HLOOKUP(F106,'Variable priser'!$C$2:$H$4,3))/F106*(1+Genanskaffelsespriser!$D$203)),\"Fejl\"))","v":3496.2412055999994},3962.4066996799997,3962.4066996799997,1,1]
["Pumpe inkl. stigrør og forerørsforsejlinger mv. 101","m³/h ",15,17,17,17,0,0,null,{"$f":"IF(E107=0,\"Variabel pris\",IFERROR(((HLOOKUP(E107,'Variable priser'!$C$2:$H$4,2)+(E107-HLOOKUP(E107,'Variable priser'!$C$2:$H$4,1))*HLOOKUP(E107,'Variable priser'!$C$2:$H$4,3))/E107*(1+Genanskaffelsespriser!$D$203)),\"Fejl\"))","v":3496.2412055999994},{"$f":"IF(F107=0,\"Variabel pris\",IFERROR(((HLOOKUP(F107,'Variable priser'!$C$2:$H$4,2)+(F107-HLOOKUP(F107,'Variable priser'!$C$2:$H$4,1))*HLOOKUP(F107,'Variable priser'!$C$2:$H$4,3))/F107*(1+Genanskaffelsespriser!$D$203)),\"Fejl\"))","v":3496.2412055999994},3962.4066996799997,3962.4066996799997,1,1]
["Pumpe inkl. stigrør og forerørsforsejlinger mv. 102","m³/h ",15,17,17,17,0,0,null,{"$f":"IF(E108=0,\"Variabel pris\",IFERROR(((HLOOKUP(E108,'Variable priser'!$C$2:$H$4,2)+(E108-HLOOKUP(E108,'Variable priser'!$C$2:$H$4,1))*HLOOKUP(E108,'Variable priser'!$C$2:$H$4,3))/E108*(1+Genanskaffelsespriser!$D$203)),\"Fejl\"))","v":3496.2412055999994},{"$f":"IF(F108=0,\"Variabel pris\",IFERROR(((HLOOKUP(F108,'Variable priser'!$C$2:$H$4,2)+(F108-HLOOKUP(F108,'Variable priser'!$C$2:$H$4,1))*HLOOKUP(F108,'Variable priser'!$C$2:$H$4,3))/F108*(1+Genanskaffelsespriser!$D$203)),\"Fejl\"))","v":3496.2412055999994},3962.4066996799997,3962.4066996799997,1,1]
["Pumpe inkl. stigrør og forerørsforsejlinger mv. 103","m³/h ",15,30,30,30,0,0,null,{"$f":"IF(E109=0,\"Variabel pris\",IFERROR(((HLOOKUP(E109,'Variable priser'!$C$2:$H$4,2)+(E109-HLOOKUP(E109,'Variable priser'!$C$2:$H$4,1))*HLOOKUP(E109,'Variable priser'!$C$2:$H$4,3))/E109*(1+Genanskaffelsespriser!$D$203)),\"Fejl\"))","v":2666.7516888},{"$f":"IF(F109=0,\"Variabel pris\",IFERROR(((HLOOKUP(F109,'Variable priser'!$C$2:$H$4,2)+(F109-HLOOKUP(F109,'Variable priser'!$C$2:$H$4,1))*HLOOKUP(F109,'Variable priser'!$C$2:$H$4,3))/F109*(1+Genanskaffelsespriser!$D$203)),\"Fejl\"))","v":2666.7516888},5333.5033776,5333.5033776,1,1]
["Pumpe inkl. stigrør og forerørsforsejlinger mv. 104","m³/h ",15,27,27,27,0,0,null,{"$f":"IF(E110=0,\"Variabel pris\",IFERROR(((HLOOKUP(E110,'Variable priser'!$C$2:$H$4,2)+(E110-HLOOKUP(E110,'Variable priser'!$C$2:$H$4,1))*HLOOKUP(E110,'Variable priser'!$C$2:$H$4,3))/E110*(1+Genanskaffelsespriser!$D$203)),\"Fejl\"))","v":2799.5667773333325},{"$f":"IF(F110=0,\"Variabel pris\",IFERROR(((HLOOKUP(F110,'Variable priser'!$C$2:$H$4,2)+(F110-HLOOKUP(F110,'Variable priser'!$C$2:$H$4,1))*HLOOKUP(F110,'Variable priser'!$C$2:$H$4,3))/F110*(1+Genanskaffelsespriser!$D$203)),\"Fejl\"))","v":2799.5667773333325},5039.2201991999991,5039.2201991999991,1,1]
["Pumpe inkl. stigrør og forerørsforsejlinger mv. 105","m³/h ",15,60,60,60,0,0,null,{"$f":"IF(E111=0,\"Variabel pris\",IFERROR(((HLOOKUP(E111,'Variable priser'!$C$2:$H$4,2)+(E111-HLOOKUP(E111,'Variable priser'!$C$2:$H$4,1))*HLOOKUP(E111,'Variable priser'!$C$2:$H$4,3))/E111*(1+Genanskaffelsespriser!$D$203)),\"Fejl\"))","v":1765.5800959999997},{"$f":"IF(F111=0,\"Variabel pris\",IFERROR(((HLOOKUP(F111,'Variable priser'!$C$2:$H$4,2)+(F111-HLOOKUP(F111,'Variable priser'!$C$2:$H$4,1))*HLOOKUP(F111,'Variable priser'!$C$2:$H$4,3))/F111*(1+Genanskaffelsespriser!$D$203)),\"Fejl\"))","v":1765.5800959999997},7062.3203839999996,7062.3203839999996,1,1]
["Pumpe inkl. stigrør og forerørsforsejlinger mv. 106","m³/h ",15,46,46,46,0,0,null,{"$f":"IF(E112=0,\"Variabel pris\",IFERROR(((HLOOKUP(E112,'Variable priser'!$C$2:$H$4,2)+(E112-HLOOKUP(E112,'Variable priser'!$C$2:$H$4,1))*HLOOKUP(E112,'Variable priser'!$C$2:$H$4,3))/E112*(1+Genanskaffelsespriser!$D$203)),\"Fejl\"))","v":2052.5411759999997},{"$f":"IF(F112=0,\"Variabel pris\",IFERROR(((HLOOKUP(F112,'Variable priser'!$C$2:$H$4,2)+(F112-HLOOKUP(F112,'Variable priser'!$C$2:$H$4,1))*HLOOKUP(F112,'Variable priser'!$C$2:$H$4,3))/F112*(1+Genanskaffelsespriser!$D$203)),\"Fejl\"))","v":2052.5411759999997},6294.4596063999988,6294.4596063999988,1,1]
["Pumpe inkl. stigrør og forerørsforsejlinger mv. 107","m³/h ",15,27,27,27,0,0,null,{"$f":"IF(E113=0,\"Variabel pris\",IFERROR(((HLOOKUP(E113,'Variable priser'!$C$2:$H$4,2)+(E113-HLOOKUP(E113,'Variable priser'!$C$2:$H$4,1))*HLOOKUP(E113,'Variable priser'!$C$2:$H$4,3))/E113*(1+Genanskaffelsespriser!$D$203)),\"Fejl\"))","v":2799.5667773333325},{"$f":"IF(F113=0,\"Variabel pris\",IFERROR(((HLOOKUP(F113,'Variable priser'!$C$2:$H$4,2)+(F113-HLOOKUP(F113,'Variable priser'!$C$2:$H$4,1))*HLOOKUP(F113,'Variable priser'!$C$2:$H$4,3))/F113*(1+Genanskaffelsespriser!$D$203)),\"Fejl\"))","v":2799.5667773333325},5039.2201991999991,5039.2201991999991,1,1]
["Pumpe inkl. stigrør og forerørsforsejlinger mv. 108","m³/h ",15,46,46,46,0,0,null,{"$f":"IF(E114=0,\"Variabel pris\",IFERROR(((HLOOKUP(E114,'Variable priser'!$C$2:$H$4,2)+(E114-HLOOKUP(E114,'Variable priser'!$C$2:$H$4,1))*HLOOKUP(E114,'Variable priser'!$C$2:$H$4,3))/E114*(1+Genanskaffelsespriser!$D$203)),\"Fejl\"))","v":2052.5411759999997},{"$f":"IF(F114=0,\"Variabel pris\",IFERROR(((HLOOKUP(F114,'Variable priser'!$C$2:$H$4,2)+(F114-HLOOKUP(F114,'Variable priser'!$C$2:$H$4,1))*HLOOKUP(F114,'Variable priser'!$C$2:$H$4,3))/F114*(1+Genanskaffelsespriser!$D$203)),\"Fejl\"))","v":2052.5411759999997},6294.4596063999988,6294.4596063999988,1,1]
["Pumpe inkl. stigrør og forerørsforsejlinger mv. 109","m³/h ",15,60,60,60,0,0,null,{"$f":"IF(E115=0,\"Variabel pris\",IFERROR(((HLOOKUP(E115,'Variable priser'!$C$2:$H$4,2)+(E115-HLOOKUP(E115,'Variable priser'!$C$2:$H$4,1))*HLOOKUP(E115,'Variable priser'!$C$2:$H$4,3))/E115*(1+Genanskaffelsespriser!$D$203)),\"Fejl\"))","v":1765.5800959999997},{"$f":"IF(F115=0,\"Variabel pris\",IFERROR(((HLOOKUP(F115,'Variable priser'!$C$2:$H$4,2)+(F115-HLOOKUP(F115,'Variable priser'!$C$2:$H$4,1))*HLOOKUP(F115,'Variable priser'!$C$2:$H$4,3))/F115*(1+Genanskaffelsespriser!$D$203)),\"Fejl\"))","v":1765.5800959999997},7062.3203839999996,7062.3203839999996,1,1]
["Pumpe inkl. stigrør og forerørsforsejlinger mv. 110","m³/h ",15,46,46,46,0,0,null,{"$f":"IF(E116=0,\"Variabel pris\",IFERROR(((HLOOKUP(E116,'Variable priser'!$C$2:$H$4,2)+(E116-HLOOKUP(E116,'Variable priser'!$C$2:$H$4,1))*HLOOKUP(E116,'Variable priser'!$C$2:$H$4,3))/E116*(1+Genanskaffelsespriser!$D$203)),\"Fejl\"))","v":2052.5411759999997},{"$f":"IF(F116=0,\"Variabel pris\",IFERROR(((HLOOKUP(F116,'Variable priser'!$C$2:$H$4,2)+(F116-HLOOKUP(F116,'Variable priser'!$C$2:$H$4,1))*HLOOKUP(F116,'Variable priser'!$C$2:$H$4,3))/F116*(1+Genanskaffelsespriser!$D$203)),\"Fejl\"))","v":2052.5411759999997},6294.4596063999988,6294.4596063999988,1,1]
["Pumpe inkl. stigrør og forerørsforsejlinger mv. 111","m³/h ",15,46,46,46,0,0,null,{"$f":"IF(E117=0,\"Variabel pris\",IFERROR(((HLOOKUP(E117,'Variable priser'!$C$2:$H$4,2)+(E117-HLOOKUP(E117,'Variable priser'!$C$2:$H$4,1))*HLOOKUP(E117,'Variable priser'!$C$2:$H$4,3))/E117*(1+Genanskaffelsespriser!$D$203)),\"Fejl\"))","v":2052.5411759999997},{"$f":"IF(F117=0,\"Variabel pris\",IFERROR(((HLOOKUP(F117,'Variable priser'!$C$2:$H$4,2)+(F117-HLOOKUP(F117,'Variable priser'!$C$2:$H$4,1))*HLOOKUP(F117,'Variable priser'!$C$2:$H$4,3))/F117*(1+Genanskaffelsespriser!$D$203)),\"Fejl\"))","v":2052.5411759999997},6294.4596063999988,6294.4596063999988,1,1]
["Pumpe inkl. stigrør og forerørsforsejlinger mv. 112","m³/h ",15,17,17,17,0,0,null,{"$f":"IF(E118=0,\"Variabel pris\",IFERROR(((HLOOKUP(E118,'Variable priser'!$C$2:$H$4,2)+(E118-HLOOKUP(E118,'Variable priser'!$C$2:$H$4,1))*HLOOKUP(E118,'Variable priser'!$C$2:$H$4,3))/E118*(1+Genanskaffelsespriser!$D$203)),\"Fejl\"))","v":3496.2412055999994},{"$f":"IF(F118=0,\"Variabel pris\",IFERROR(((HLOOKUP(F118,'Variable priser'!$C$2:$H$4,2)+(F118-HLOOKUP(F118,'Variable priser'!$C$2:$H$4,1))*HLOOKUP(F118,'Variable priser'!$C$2:$H$4,3))/F118*(1+Genanskaffelsespriser!$D$203)),\"Fejl\"))","v":3496.2412055999994},3962.4066996799997,3962.4066996799997,1,1]
["Pumpe inkl. stigrør og forerørsforsejlinger mv. 113","m³/h ",15,17,17,17,0,0,null,{"$f":"IF(E119=0,\"Variabel pris\",IFERROR(((HLOOKUP(E119,'Variable priser'!$C$2:$H$4,2)+(E119-HLOOKUP(E119,'Variable priser'!$C$2:$H$4,1))*HLOOKUP(E119,'Variable priser'!$C$2:$H$4,3))/E119*(1+Genanskaffelsespriser!$D$203)),\"Fejl\"))","v":3496.2412055999994},{"$f":"IF(F119=0,\"Variabel pris\",IFERROR(((HLOOKUP(F119,'Variable priser'!$C$2:$H$4,2)+(F119-HLOOKUP(F119,'Variable priser'!$C$2:$H$4,1))*HLOOKUP(F119,'Variable priser'!$C$2:$H$4,3))/F119*(1+Genanskaffelsespriser!$D$203)),\"Fejl\"))","v":3496.2412055999994},3962.4066996799997,3962.4066996799997,1,1]
["Pumpe inkl. stigrør og forerørsforsejlinger mv. 114","m³/h ",15,17,17,17,0,0,null,{"$f":"IF(E120=0,\"Variabel pris\",IFERROR(((HLOOKUP(E120,'Variable priser'!$C$2:$H$4,2)+(E120-HLOOKUP(E120,'Variable priser'!$C$2:$H$4,1))*HLOOKUP(E120,'Variable priser'!$C$2:$H$4,3))/E120*(1+Genanskaffelsespriser!$D$203)),\"Fejl\"))","v":3496.2412055999994},{"$f":"IF(F120=0,\"Variabel pris\",IFERROR(((HLOOKUP(F120,'Variable priser'!$C$2:$H$4,2)+(F120-HLOOKUP(F120,'Variable priser'!$C$2:$H$4,1))*HLOOKUP(F120,'Variable priser'!$C$2:$H$4,3))/F120*(1+Genanskaffelsespriser!$D$203)),\"Fejl\"))","v":3496.2412055999994},3962.4066996799997,3962.4066996799997,1,1]
["Pumpe inkl. stigrør og forerørsforsejlinger mv. 115","m³/h ",15,17,17,17,0,0,null,{"$f":"IF(E121=0,\"Variabel pris\",IFERROR(((HLOOKUP(E121,'Variable priser'!$C$2:$H$4,2)+(E121-HLOOKUP(E121,'Variable priser'!$C$2:$H$4,1))*HLOOKUP(E121,'Variable priser'!$C$2:$H$4,3))/E121*(1+Genanskaffelsespriser!$D$203)),\"Fejl\"))","v":3496.2412055999994},{"$f":"IF(F121=0,\"Variabel pris\",IFERROR(((HLOOKUP(F121,'Variable priser'!$C$2:$H$4,2)+(F121-HLOOKUP(F121,'Variable priser'!$C$2:$H$4,1))*HLOOKUP(F121,'Variable priser'!$C$2:$H$4,3))/F121*(1+Genanskaffelsespriser!$D$203)),\"Fejl\"))","v":3496.2412055999994},3962.4066996799997,3962.4066996799997,1,1]
["Pumpe inkl. stigrør og forerørsforsejlinger mv. 116","m³/h ",15,17,17,17,0,0,null,{"$f":"IF(E122=0,\"Variabel pris\",IFERROR(((HLOOKUP(E122,'Variable priser'!$C$2:$H$4,2)+(E122-HLOOKUP(E122,'Variable priser'!$C$2:$H$4,1))*HLOOKUP(E122,'Variable priser'!$C$2:$H$4,3))/E122*(1+Genanskaffelsespriser!$D$203)),\"Fejl\"))","v":3496.2412055999994},{"$f":"IF(F122=0,\"Variabel pris\",IFERROR(((HLOOKUP(F122,'Variable priser'!$C$2:$H$4,2)+(F122-HLOOKUP(F122,'Variable priser'!$C$2:$H$4,1))*HLOOKUP(F122,'Variable priser'!$C$2:$H$4,3))/F122*(1+Genanskaffelsespriser!$D$203)),\"Fejl\"))","v":3496.2412055999994},3962.4066996799997,3962.4066996799997,1,1]
["Pumpe inkl. stigrør og forerørsforsejlinger mv. 117","m³/h ",15,17,17,17,0,0,null,{"$f":"IF(E123=0,\"Variabel pris\",IFERROR(((HLOOKUP(E123,'Variable priser'!$C$2:$H$4,2)+(E123-HLOOKUP(E123,'Variable priser'!$C$2:$H$4,1))*HLOOKUP(E123,'Variable priser'!$C$2:$H$4,3))/E123*(1+Genanskaffelsespriser!$D$203)),\"Fejl\"))","v":3496.2412055999994},{"$f":"IF(F123=0,\"Variabel pris\",IFERROR(((HLOOKUP(F123,'Variable priser'!$C$2:$H$4,2)+(F123-HLOOKUP(F123,'Variable priser'!$C$2:$H$4,1))*HLOOKUP(F123,'Variable priser'!$C$2:$H$4,3))/F123*(1+Genanskaffelsespriser!$D$203)),\"Fejl\"))","v":3496.2412055999994},3962.4066996799997,3962.4066996799997,1,1]
["Pumpe inkl. stigrør og forerørsforsejlinger mv. 118","m³/h ",15,17,17,17,0,0,null,{"$f":"IF(E124=0,\"Variabel pris\",IFERROR(((HLOOKUP(E124,'Variable priser'!$C$2:$H$4,2)+(E124-HLOOKUP(E124,'Variable priser'!$C$2:$H$4,1))*HLOOKUP(E124,'Variable priser'!$C$2:$H$4,3))/E124*(1+Genanskaffelsespriser!$D$203)),\"Fejl\"))","v":3496.2412055999994},{"$f":"IF(F124=0,\"Variabel pris\",IFERROR(((HLOOKUP(F124,'Variable priser'!$C$2:$H$4,2)+(F124-HLOOKUP(F124,'Variable priser'!$C$2:$H$4,1))*HLOOKUP(F124,'Variable priser'!$C$2:$H$4,3))/F124*(1+Genanskaffelsespriser!$D$203)),\"Fejl\"))","v":3496.2412055999994},3962.4066996799997,3962.4066996799997,1,1]
["Pumpe inkl. stigrør og forerørsforsejlinger mv. 119","m³/h ",15,17,17,17,0,0,null,{"$f":"IF(E125=0,\"Variabel pris\",IFERROR(((HLOOKUP(E125,'Variable priser'!$C$2:$H$4,2)+(E125-HLOOKUP(E125,'Variable priser'!$C$2:$H$4,1))*HLOOKUP(E125,'Variable priser'!$C$2:$H$4,3))/E125*(1+Genanskaffelsespriser!$D$203)),\"Fejl\"))","v":3496.2412055999994},{"$f":"IF(F125=0,\"Variabel pris\",IFERROR(((HLOOKUP(F125,'Variable priser'!$C$2:$H$4,2)+(F125-HLOOKUP(F125,'Variable priser'!$C$2:$H$4,1))*HLOOKUP(F125,'Variable priser'!$C$2:$H$4,3))/F125*(1+Genanskaffelsespriser!$D$203)),\"Fejl\"))","v":3496.2412055999994},3962.4066996799997,3962.4066996799997,1,1]
["Pumpe inkl. stigrør og forerørsforsejlinger mv. 120","m³/h ",15,17,17,17,0,0,null,{"$f":"IF(E126=0,\"Variabel pris\",IFERROR(((HLOOKUP(E126,'Variable priser'!$C$2:$H$4,2)+(E126-HLOOKUP(E126,'Variable priser'!$C$2:$H$4,1))*HLOOKUP(E126,'Variable priser'!$C$2:$H$4,3))/E126*(1+Genanskaffelsespriser!$D$203)),\"Fejl\"))","v":3496.2412055999994},{"$f":"IF(F126=0,\"Variabel pris\",IFERROR(((HLOOKUP(F126,'Variable priser'!$C$2:$H$4,2)+(F126-HLOOKUP(F126,'Variable priser'!$C$2:$H$4,1))*HLOOKUP(F126,'Variable priser'!$C$2:$H$4,3))/F126*(1+Genanskaffelsespriser!$D$203)),\"Fejl\"))","v":3496.2412055999994},3962.4066996799997,3962.4066996799997,1,1]
["Pumpe inkl. stigrør og forerørsforsejlinger mv. 121","m³/h ",15,60,60,60,0,0,null,{"$f":"IF(E127=0,\"Variabel pris\",IFERROR(((HLOOKUP(E127,'Variable priser'!$C$2:$H$4,2)+(E127-HLOOKUP(E127,'Variable priser'!$C$2:$H$4,1))*HLOOKUP(E127,'Variable priser'!$C$2:$H$4,3))/E127*(1+Genanskaffelsespriser!$D$203)),\"Fejl\"))","v":1765.5800959999997},{"$f":"IF(F127=0,\"Variabel pris\",IFERROR(((HLOOKUP(F127,'Variable priser'!$C$2:$H$4,2)+(F127-HLOOKUP(F127,'Variable priser'!$C$2:$H$4,1))*HLOOKUP(F127,'Variable priser'!$C$2:$H$4,3))/F127*(1+Genanskaffelsespriser!$D$203)),\"Fejl\"))","v":1765.5800959999997},7062.3203839999996,7062.3203839999996,1,1]
["Pumpe inkl. stigrør og forerørsforsejlinger mv. 122","m³/h ",15,30,30,30,0,0,null,{"$f":"IF(E128=0,\"Variabel pris\",IFERROR(((HLOOKUP(E128,'Variable priser'!$C$2:$H$4,2)+(E128-HLOOKUP(E128,'Variable priser'!$C$2:$H$4,1))*HLOOKUP(E128,'Variable priser'!$C$2:$H$4,3))/E128*(1+Genanskaffelsespriser!$D$203)),\"Fejl\"))","v":2666.7516888},{"$f":"IF(F128=0,\"Variabel pris\",IFERROR(((HLOOKUP(F128,'Variable priser'!$C$2:$H$4,2)+(F128-HLOOKUP(F128,'Variable priser'!$C$2:$H$4,1))*HLOOKUP(F128,'Variable priser'!$C$2:$H$4,3))/F128*(1+Genanskaffelsespriser!$D$203)),\"Fejl\"))","v":2666.7516888},5333.5033776,5333.5033776,1,1]
["Pumpe inkl. stigrør og forerørsforsejlinger mv. 123","m³/h ",15,30,30,30,0,0,null,{"$f":"IF(E129=0,\"Variabel pris\",IFERROR(((HLOOKUP(E129,'Variable priser'!$C$2:$H$4,2)+(E129-HLOOKUP(E129,'Variable priser'!$C$2:$H$4,1))*HLOOKUP(E129,'Variable priser'!$C$2:$H$4,3))/E129*(1+Genanskaffelsespriser!$D$203)),\"Fejl\"))","v":2666.7516888},{"$f":"IF(F129=0,\"Variabel pris\",IFERROR(((HLOOKUP(F129,'Variable priser'!$C$2:$H$4,2)+(F129-HLOOKUP(F129,'Variable priser'!$C$2:$H$4,1))*HLOOKUP(F129,'Variable priser'!$C$2:$H$4,3))/F129*(1+Genanskaffelsespriser!$D$203)),\"Fejl\"))","v":2666.7516888},5333.5033776,5333.5033776,1,1]
["Pumpe inkl. stigrør og forerørsforsejlinger mv. 124","m³/h ",15,30,30,30,0,0,null,{"$f":"IF(E130=0,\"Variabel pris\",IFERROR(((HLOOKUP(E130,'Variable priser'!$C$2:$H$4,2)+(E130-HLOOKUP(E130,'Variable priser'!$C$2:$H$4,1))*HLOOKUP(E130,'Variable priser'!$C$2:$H$4,3))/E130*(1+Genanskaffelsespriser!$D$203)),\"Fejl\"))","v":2666.7516888},{"$f":"IF(F130=0,\"Variabel pris\",IFERROR(((HLOOKUP(F130,'Variable priser'!$C$2:$H$4,2)+(F130-HLOOKUP(F130,'Variable priser'!$C$2:$H$4,1))*HLOOKUP(F130,'Variable priser'!$C$2:$H$4,3))/F130*(1+Genanskaffelsespriser!$D$203)),\"Fejl\"))","v":2666.7516888},5333.5033776,5333.5033776,1,1]
["Pumpe inkl. stigrør og forerørsforsejlinger mv. 125","m³/h ",15,46,46,46,0,0,null,{"$f":"IF(E131=0,\"Variabel pris\",IFERROR(((HLOOKUP(E131,'Variable priser'!$C$2:$H$4,2)+(E131-HLOOKUP(E131,'Variable priser'!$C$2:$H$4,1))*HLOOKUP(E131,'Variable priser'!$C$2:$H$4,3))/E131*(1+Genanskaffelsespriser!$D$203)),\"Fejl\"))","v":2052.5411759999997},{"$f":"IF(F131=0,\"Variabel pris\",IFERROR(((HLOOKUP(F131,'Variable priser'!$C$2:$H$4,2)+(F131-HLOOKUP(F131,'Variable priser'!$C$2:$H$4,1))*HLOOKUP(F131,'Variable priser'!$C$2:$H$4,3))/F131*(1+Genanskaffelsespriser!$D$203)),\"Fejl\"))","v":2052.5411759999997},6294.4596063999988,6294.4596063999988,1,1]
["Pumpe inkl. stigrør og forerørsforsejlinger mv. 126","m³/h ",15,46,46,46,0,0,null,{"$f":"IF(E132=0,\"Variabel pris\",IFERROR(((HLOOKUP(E132,'Variable priser'!$C$2:$H$4,2)+(E132-HLOOKUP(E132,'Variable priser'!$C$2:$H$4,1))*HLOOKUP(E132,'Variable priser'!$C$2:$H$4,3))/E132*(1+Genanskaffelsespriser!$D$203)),\"Fejl\"))","v":2052.5411759999997},{"$f":"IF(F132=0,\"Variabel pris\",IFERROR(((HLOOKUP(F132,'Variable priser'!$C$2:$H$4,2)+(F132-HLOOKUP(F132,'Variable priser'!$C$2:$H$4,1))*HLOOKUP(F132,'Variable priser'!$C$2:$H$4,3))/F132*(1+Genanskaffelsespriser!$D$203)),\"Fejl\"))","v":2052.5411759999997},6294.4596063999988,6294.4596063999988,1,1]
["Pumpe inkl. stigrør og forerørsforsejlinger mv. 127","m³/h ",15,27,27,27,0,0,null,{"$f":"IF(E133=0,\"Variabel pris\",IFERROR(((HLOOKUP(E133,'Variable priser'!$C$2:$H$4,2)+(E133-HLOOKUP(E133,'Variable priser'!$C$2:$H$4,1))*HLOOKUP(E133,'Variable priser'!$C$2:$H$4,3))/E133*(1+Genanskaffelsespriser!$D$203)),\"Fejl\"))","v":2799.5667773333325},{"$f":"IF(F133=0,\"Variabel pris\",IFERROR(((HLOOKUP(F133,'Variable priser'!$C$2:$H$4,2)+(F133-HLOOKUP(F133,'Variable priser'!$C$2:$H$4,1))*HLOOKUP(F133,'Variable priser'!$C$2:$H$4,3))/F133*(1+Genanskaffelsespriser!$D$203)),\"Fejl\"))","v":2799.5667773333325},5039.2201991999991,5039.2201991999991,1,1]
["Pumpe inkl. stigrør og forerørsforsejlinger mv. 128","m³/h ",15,46,46,46,0,0,null,{"$f":"IF(E134=0,\"Variabel pris\",IFERROR(((HLOOKUP(E134,'Variable priser'!$C$2:$H$4,2)+(E134-HLOOKUP(E134,'Variable priser'!$C$2:$H$4,1))*HLOOKUP(E134,'Variable priser'!$C$2:$H$4,3))/E134*(1+Genanskaffelsespriser!$D$203)),\"Fejl\"))","v":2052.5411759999997},{"$f":"IF(F134=0,\"Variabel pris\",IFERROR(((HLOOKUP(F134,'Variable priser'!$C$2:$H$4,2)+(F134-HLOOKUP(F134,'Variable priser'!$C$2:$H$4,1))*HLOOKUP(F134,'Variable priser'!$C$2:$H$4,3))/F134*(1+Genanskaffelsespriser!$D$203)),\"Fejl\"))","v":2052.5411759999997},6294.4596063999988,6294.4596063999988,1,1]
["Pumpe inkl. stigrør og forerørsforsejlinger mv. 129","m³/h ",15,30,30,30,0,0,null,{"$f":"IF(E135=0,\"Variabel pris\",IFERROR(((HLOOKUP(E135,'Variable priser'!$C$2:$H$4,2)+(E135-HLOOKUP(E135,'Variable priser'!$C$2:$H$4,1))*HLOOKUP(E135,'Variable priser'!$C$2:$H$4,3))/E135*(1+Genanskaffelsespriser!$D$203)),\"Fejl\"))","v":2666.7516888},{"$f":"IF(F135=0,\"Variabel pris\",IFERROR(((HLOOKUP(F135,'Variable priser'!$C$2:$H$4,2)+(F135-HLOOKUP(F135,'Variable priser'!$C$2:$H$4,1))*HLOOKUP(F135,'Variable priser'!$C$2:$H$4,3))/F135*(1+Genanskaffelsespriser!$D$203)),\"Fejl\"))","v":2666.7516888},5333.5033776,5333.5033776,1,1]
["Pumpe inkl. stigrør og forerørsforsejlinger mv. 130","m³/h ",15,30,30,30,0,0,null,{"$f":"IF(E136=0,\"Variabel pris\",IFERROR(((HLOOKUP(E136,'Variable priser'!$C$2:$H$4,2)+(E136-HLOOKUP(E136,'Variable priser'!$C$2:$H$4,1))*HLOOKUP(E136,'Variable priser'!$C$2:$H$4,3))/E136*(1+Genanskaffelsespriser!$D$203)),\"Fejl\"))","v":2666.7516888},{"$f":"IF(F136=0,\"Variabel pris\",IFERROR(((HLOOKUP(F136,'Variable priser'!$C$2:$H$4,2)+(F136-HLOOKUP(F136,'Variable priser'!$C$2:$H$4,1))*HLOOKUP(F136,'Variable priser'!$C$2:$H$4,3))/F136*(1+Genanskaffelsespriser!$D$203)),\"Fejl\"))","v":2666.7516888},5333.5033776,5333.5033776,1,1]
["Pumpe inkl. stigrør og forerørsforsejlinger mv. 131","m³/h ",15,30,30,30,0,0,null,{"$f":"IF(E137=0,\"Variabel pris\",IFERROR(((HLOOKUP(E137,'Variable priser'!$C$2:$H$4,2)+(E137-HLOOKUP(E137,'Variable priser'!$C$2:$H$4,1))*HLOOKUP(E137,'Variable priser'!$C$2:$H$4,3))/E137*(1+Genanskaffelsespriser!$D$203)),\"Fejl\"))","v":2666.7516888},{"$f":"IF(F137=0,\"Variabel pris\",IFERROR(((HLOOKUP(F137,'Variable priser'!$C$2:$H$4,2)+(F137-HLOOKUP(F137,'Variable priser'!$C$2:$H$4,1))*HLOOKUP(F137,'Variable priser'!$C$2:$H$4,3))/F137*(1+Genanskaffelsespriser!$D$203)),\"Fejl\"))","v":2666.7516888},5333.5033776,5333.5033776,1,1]
["Pumpe inkl. stigrør og forerørsforsejlinger mv. 132","m³/h ",15,46,46,46,0,0,null,{"$f":"IF(E138=0,\"Variabel pris\",IFERROR(((HLOOKUP(E138,'Variable priser'!$C$2:$H$4,2)+(E138-HLOOKUP(E138,'Variable priser'!$C$2:$H$4,1))*HLOOKUP(E138,'Variable priser'!$C$2:$H$4,3))/E138*(1+Genanskaffelsespriser!$D$203)),\"Fejl\"))","v":2052.5411759999997},{"$f":"IF(F138=0,\"Variabel pris\",IFERROR(((HLOOKUP(F138,'Variable priser'!$C$2:$H$4,2)+(F138-HLOOKUP(F138,'Variable priser'!$C$2:$H$4,1))*HLOOKUP(F138,'Variable priser'!$C$2:$H$4,3))/F138*(1+Genanskaffelsespriser!$D$203)),\"Fejl\"))","v":2052.5411759999997},6294.4596063999988,6294.4596063999988,1,1]
["Pumpe inkl. stigrør og forerørsforsejlinger mv. 133","m³/h ",15,46,46,46,0,0,null,{"$f":"IF(E139=0,\"Variabel pris\",IFERROR(((HLOOKUP(E139,'Variable priser'!$C$2:$H$4,2)+(E139-HLOOKUP(E139,'Variable priser'!$C$2:$H$4,1))*HLOOKUP(E139,'Variable priser'!$C$2:$H$4,3))/E139*(1+Genanskaffelsespriser!$D$203)),\"Fejl\"))","v":2052.5411759999997},{"$f":"IF(F139=0,\"Variabel pris\",IFERROR(((HLOOKUP(F139,'Variable priser'!$C$2:$H$4,2)+(F139-HLOOKUP(F139,'Variable priser'!$C$2:$H$4,1))*HLOOKUP(F139,'Variable priser'!$C$2:$H$4,3))/F139*(1+Genanskaffelsespriser!$D$203)),\"Fejl\"))","v":2052.5411759999997},6294.4596063999988,6294.4596063999988,1,1]
["Pumpe inkl. stigrør og forerørsforsejlinger mv. 134","m³/h ",15,17,17,17,0,0,null,{"$f":"IF(E140=0,\"Variabel pris\",IFERROR(((HLOOKUP(E140,'Variable priser'!$C$2:$H$4,2)+(E140-HLOOKUP(E140,'Variable priser'!$C$2:$H$4,1))*HLOOKUP(E140,'Variable priser'!$C$2:$H$4,3))/E140*(1+Genanskaffelsespriser!$D$203)),\"Fejl\"))","v":3496.2412055999994},{"$f":"IF(F140=0,\"Variabel pris\",IFERROR(((HLOOKUP(F140,'Variable priser'!$C$2:$H$4,2)+(F140-HLOOKUP(F140,'Variable priser'!$C$2:$H$4,1))*HLOOKUP(F140,'Variable priser'!$C$2:$H$4,3))/F140*(1+Genanskaffelsespriser!$D$203)),\"Fejl\"))","v":3496.2412055999994},3962.4066996799997,3962.4066996799997,1,1]
["Pumpe inkl. stigrør og forerørsforsejlinger mv. 135","m³/h ",15,17,17,17,0,0,null,{"$f":"IF(E141=0,\"Variabel pris\",IFERROR(((HLOOKUP(E141,'Variable priser'!$C$2:$H$4,2)+(E141-HLOOKUP(E141,'Variable priser'!$C$2:$H$4,1))*HLOOKUP(E141,'Variable priser'!$C$2:$H$4,3))/E141*(1+Genanskaffelsespriser!$D$203)),\"Fejl\"))","v":3496.2412055999994},{"$f":"IF(F141=0,\"Variabel pris\",IFERROR(((HLOOKUP(F141,'Variable priser'!$C$2:$H$4,2)+(F141-HLOOKUP(F141,'Variable priser'!$C$2:$H$4,1))*HLOOKUP(F141,'Variable priser'!$C$2:$H$4,3))/F141*(1+Genanskaffelsespriser!$D$203)),\"Fejl\"))","v":3496.2412055999994},3962.4066996799997,3962.4066996799997,1,1]
["Pumpe inkl. stigrør og forerørsforsejlinger mv. 136","m³/h ",15,30,30,30,0,0,null,{"$f":"IF(E142=0,\"Variabel pris\",IFERROR(((HLOOKUP(E142,'Variable priser'!$C$2:$H$4,2)+(E142-HLOOKUP(E142,'Variable priser'!$C$2:$H$4,1))*HLOOKUP(E142,'Variable priser'!$C$2:$H$4,3))/E142*(1+Genanskaffelsespriser!$D$203)),\"Fejl\"))","v":2666.7516888},{"$f":"IF(F142=0,\"Variabel pris\",IFERROR(((HLOOKUP(F142,'Variable priser'!$C$2:$H$4,2)+(F142-HLOOKUP(F142,'Variable priser'!$C$2:$H$4,1))*HLOOKUP(F142,'Variable priser'!$C$2:$H$4,3))/F142*(1+Genanskaffelsespriser!$D$203)),\"Fejl\"))","v":2666.7516888},5333.5033776,5333.5033776,1,1]
["Pumpe inkl. stigrør og forerørsforsejlinger mv. 137","m³/h ",15,30,30,30,0,0,null,{"$f":"IF(E143=0,\"Variabel pris\",IFERROR(((HLOOKUP(E143,'Variable priser'!$C$2:$H$4,2)+(E143-HLOOKUP(E143,'Variable priser'!$C$2:$H$4,1))*HLOOKUP(E143,'Variable priser'!$C$2:$H$4,3))/E143*(1+Genanskaffelsespriser!$D$203)),\"Fejl\"))","v":2666.7516888},{"$f":"IF(F143=0,\"Variabel pris\",IFERROR(((HLOOKUP(F143,'Variable priser'!$C$2:$H$4,2)+(F143-HLOOKUP(F143,'Variable priser'!$C$2:$H$4,1))*HLOOKUP(F143,'Variable priser'!$C$2:$H$4,3))/F143*(1+Genanskaffelsespriser!$D$203)),\"Fejl\"))","v":2666.7516888},5333.5033776,5333.5033776,1,1]
["Pumpe inkl. stigrør og forerørsforsejlinger mv. 138","m³/h ",15,30,30,30,0,0,null,{"$f":"IF(E144=0,\"Variabel pris\",IFERROR(((HLOOKUP(E144,'Variable priser'!$C$2:$H$4,2)+(E144-HLOOKUP(E144,'Variable priser'!$C$2:$H$4,1))*HLOOKUP(E144,'Variable priser'!$C$2:$H$4,3))/E144*(1+Genanskaffelsespriser!$D$203)),\"Fejl\"))","v":2666.7516888},{"$f":"IF(F144=0,\"Variabel pris\",IFERROR(((HLOOKUP(F144,'Variable priser'!$C$2:$H$4,2)+(F144-HLOOKUP(F144,'Variable priser'!$C$2:$H$4,1))*HLOOKUP(F144,'Variable priser'!$C$2:$H$4,3))/F144*(1+Genanskaffelsespriser!$D$203)),\"Fejl\"))","v":2666.7516888},5333.5033776,5333.5033776,1,1]
["Pumpe inkl. stigrør og forerørsforsejlinger mv. 139","m³/h ",15,60,60,60,0,0,null,{"$f":"IF(E145=0,\"Variabel pris\",IFERROR(((HLOOKUP(E145,'Variable priser'!$C$2:$H$4,2)+(E145-HLOOKUP(E145,'Variable priser'!$C$2:$H$4,1))*HLOOKUP(E145,'Variable priser'!$C$2:$H$4,3))/E145*(1+Genanskaffelsespriser!$D$203)),\"Fejl\"))","v":1765.5800959999997},{"$f":"IF(F145=0,\"Variabel pris\",IFERROR(((HLOOKUP(F145,'Variable priser'!$C$2:$H$4,2)+(F145-HLOOKUP(F145,'Variable priser'!$C$2:$H$4,1))*HLOOKUP(F145,'Variable priser'!$C$2:$H$4,3))/F145*(1+Genanskaffelsespriser!$D$203)),\"Fejl\"))","v":1765.5800959999997},{"$f":"IF(ISBLANK(E145),\"\",IF(E145=0,\"\",IF(ISNUMBER(E145),((J145*E145)/C145)*N145,\"\")))","v":7062.3203839999996},{"$f":"IF(ISBLANK(F145),\"\",IF(F145=0,\"\",IF(ISNUMBER(F145),((K145*F145)/C145)*N145,\"\")))","v":7062.3203839999996},1,1]
["Pumpe inkl. stigrør og forerørsforsejlinger mv. 140","m³/h ",15,60,60,60,0,0,null,{"$f":"IF(E146=0,\"Variabel pris\",IFERROR(((HLOOKUP(E146,'Variable priser'!$C$2:$H$4,2)+(E146-HLOOKUP(E146,'Variable priser'!$C$2:$H$4,1))*HLOOKUP(E146,'Variable priser'!$C$2:$H$4,3))/E146*(1+Genanskaffelsespriser!$D$203)),\"Fejl\"))","v":1765.5800959999997},{"$f":"IF(F146=0,\"Variabel pris\",IFERROR(((HLOOKUP(F146,'Variable priser'!$C$2:$H$4,2)+(F146-HLOOKUP(F146,'Variable priser'!$C$2:$H$4,1))*HLOOKUP(F146,'Variable priser'!$C$2:$H$4,3))/F146*(1+Genanskaffelsespriser!$D$203)),\"Fejl\"))","v":1765.5800959999997},7062.3203839999996,7062.3203839999996,1,1]
["Pumpe inkl. stigrør og forerørsforsejlinger mv. 141","m³/h ",15,60,60,60,0,0,null,{"$f":"IF(E147=0,\"Variabel pris\",IFERROR(((HLOOKUP(E147,'Variable priser'!$C$2:$H$4,2)+(E147-HLOOKUP(E147,'Variable priser'!$C$2:$H$4,1))*HLOOKUP(E147,'Variable priser'!$C$2:$H$4,3))/E147*(1+Genanskaffelsespriser!$D$203)),\"Fejl\"))","v":1765.5800959999997},{"$f":"IF(F147=0,\"Variabel pris\",IFERROR(((HLOOKUP(F147,'Variable priser'!$C$2:$H$4,2)+(F147-HLOOKUP(F147,'Variable priser'!$C$2:$H$4,1))*HLOOKUP(F147,'Variable priser'!$C$2:$H$4,3))/F147*(1+Genanskaffelsespriser!$D$203)),\"Fejl\"))","v":1765.5800959999997},7062.3203839999996,7062.3203839999996,1,1]
["Pumpe inkl. stigrør og forerørsforsejlinger mv. 142","m³/h ",15,95,95,95,0,0,null,{"$f":"IF(E148=0,\"Variabel pris\",IFERROR(((HLOOKUP(E148,'Variable priser'!$C$2:$H$4,2)+(E148-HLOOKUP(E148,'Variable priser'!$C$2:$H$4,1))*HLOOKUP(E148,'Variable priser'!$C$2:$H$4,3))/E148*(1+Genanskaffelsespriser!$D$203)),\"Fejl\"))","v":1418.2061570526314},{"$f":"IF(F148=0,\"Variabel pris\",IFERROR(((HLOOKUP(F148,'Variable priser'!$C$2:$H$4,2)+(F148-HLOOKUP(F148,'Variable priser'!$C$2:$H$4,1))*HLOOKUP(F148,'Variable priser'!$C$2:$H$4,3))/F148*(1+Genanskaffelsespriser!$D$203)),\"Fejl\"))","v":1418.2061570526314},8981.9723279999998,8981.9723279999998,1,1]
["Pumpe inkl. stigrør og forerørsforsejlinger mv. 143","m³/h ",15,60,60,60,0,0,null,{"$f":"IF(E149=0,\"Variabel pris\",IFERROR(((HLOOKUP(E149,'Variable priser'!$C$2:$H$4,2)+(E149-HLOOKUP(E149,'Variable priser'!$C$2:$H$4,1))*HLOOKUP(E149,'Variable priser'!$C$2:$H$4,3))/E149*(1+Genanskaffelsespriser!$D$203)),\"Fejl\"))","v":1765.5800959999997},{"$f":"IF(F149=0,\"Variabel pris\",IFERROR(((HLOOKUP(F149,'Variable priser'!$C$2:$H$4,2)+(F149-HLOOKUP(F149,'Variable priser'!$C$2:$H$4,1))*HLOOKUP(F149,'Variable priser'!$C$2:$H$4,3))/F149*(1+Genanskaffelsespriser!$D$203)),\"Fejl\"))","v":1765.5800959999997},7062.3203839999996,7062.3203839999996,1,1]
["Pumpe inkl. stigrør og forerørsforsejlinger mv. 144","m³/h ",15,75,75,75,0,0,null,{"$f":"IF(E150=0,\"Variabel pris\",IFERROR(((HLOOKUP(E150,'Variable priser'!$C$2:$H$4,2)+(E150-HLOOKUP(E150,'Variable priser'!$C$2:$H$4,1))*HLOOKUP(E150,'Variable priser'!$C$2:$H$4,3))/E150*(1+Genanskaffelsespriser!$D$203)),\"Fejl\"))","v":1577.005672},{"$f":"IF(F150=0,\"Variabel pris\",IFERROR(((HLOOKUP(F150,'Variable priser'!$C$2:$H$4,2)+(F150-HLOOKUP(F150,'Variable priser'!$C$2:$H$4,1))*HLOOKUP(F150,'Variable priser'!$C$2:$H$4,3))/F150*(1+Genanskaffelsespriser!$D$203)),\"Fejl\"))","v":1577.005672},7885.0283600000002,7885.0283600000002,1,1]
["Pumpe inkl. stigrør og forerørsforsejlinger mv. 145","m³/h ",15,77,77,77,0,0,null,{"$f":"IF(E151=0,\"Variabel pris\",IFERROR(((HLOOKUP(E151,'Variable priser'!$C$2:$H$4,2)+(E151-HLOOKUP(E151,'Variable priser'!$C$2:$H$4,1))*HLOOKUP(E151,'Variable priser'!$C$2:$H$4,3))/E151*(1+Genanskaffelsespriser!$D$203)),\"Fejl\"))","v":1557.4135240519479},{"$f":"IF(F151=0,\"Variabel pris\",IFERROR(((HLOOKUP(F151,'Variable priser'!$C$2:$H$4,2)+(F151-HLOOKUP(F151,'Variable priser'!$C$2:$H$4,1))*HLOOKUP(F151,'Variable priser'!$C$2:$H$4,3))/F151*(1+Genanskaffelsespriser!$D$203)),\"Fejl\"))","v":1557.4135240519479},7994.7227567999989,7994.7227567999989,1,1]
["Pumpe inkl. stigrør og forerørsforsejlinger mv. 146","m³/h ",15,30,30,30,0,0,null,{"$f":"IF(E152=0,\"Variabel pris\",IFERROR(((HLOOKUP(E152,'Variable priser'!$C$2:$H$4,2)+(E152-HLOOKUP(E152,'Variable priser'!$C$2:$H$4,1))*HLOOKUP(E152,'Variable priser'!$C$2:$H$4,3))/E152*(1+Genanskaffelsespriser!$D$203)),\"Fejl\"))","v":2666.7516888},{"$f":"IF(F152=0,\"Variabel pris\",IFERROR(((HLOOKUP(F152,'Variable priser'!$C$2:$H$4,2)+(F152-HLOOKUP(F152,'Variable priser'!$C$2:$H$4,1))*HLOOKUP(F152,'Variable priser'!$C$2:$H$4,3))/F152*(1+Genanskaffelsespriser!$D$203)),\"Fejl\"))","v":2666.7516888},5333.5033776,5333.5033776,1,1]
["Pumpe inkl. stigrør og forerørsforsejlinger mv. 147","m³/h ",15,27,27,27,0,0,null,{"$f":"IF(E153=0,\"Variabel pris\",IFERROR(((HLOOKUP(E153,'Variable priser'!$C$2:$H$4,2)+(E153-HLOOKUP(E153,'Variable priser'!$C$2:$H$4,1))*HLOOKUP(E153,'Variable priser'!$C$2:$H$4,3))/E153*(1+Genanskaffelsespriser!$D$203)),\"Fejl\"))","v":2799.5667773333325},{"$f":"IF(F153=0,\"Variabel pris\",IFERROR(((HLOOKUP(F153,'Variable priser'!$C$2:$H$4,2)+(F153-HLOOKUP(F153,'Variable priser'!$C$2:$H$4,1))*HLOOKUP(F153,'Variable priser'!$C$2:$H$4,3))/F153*(1+Genanskaffelsespriser!$D$203)),\"Fejl\"))","v":2799.5667773333325},5039.2201991999991,5039.2201991999991,1,1]
["Pumpe inkl. stigrør og forerørsforsejlinger mv. 148","m³/h ",15,32,32,32,0,0,null,{"$f":"IF(E154=0,\"Variabel pris\",IFERROR(((HLOOKUP(E154,'Variable priser'!$C$2:$H$4,2)+(E154-HLOOKUP(E154,'Variable priser'!$C$2:$H$4,1))*HLOOKUP(E154,'Variable priser'!$C$2:$H$4,3))/E154*(1+Genanskaffelsespriser!$D$203)),\"Fejl\"))","v":2556.7115226499996},{"$f":"IF(F154=0,\"Variabel pris\",IFERROR(((HLOOKUP(F154,'Variable priser'!$C$2:$H$4,2)+(F154-HLOOKUP(F154,'Variable priser'!$C$2:$H$4,1))*HLOOKUP(F154,'Variable priser'!$C$2:$H$4,3))/F154*(1+Genanskaffelsespriser!$D$203)),\"Fejl\"))","v":2556.7115226499996},5454.3179149866655,5454.3179149866655,1,1]
["Pumpe inkl. stigrør og forerørsforsejlinger mv. 149","m³/h ",15,77,77,77,0,0,null,{"$f":"IF(E155=0,\"Variabel pris\",IFERROR(((HLOOKUP(E155,'Variable priser'!$C$2:$H$4,2)+(E155-HLOOKUP(E155,'Variable priser'!$C$2:$H$4,1))*HLOOKUP(E155,'Variable priser'!$C$2:$H$4,3))/E155*(1+Genanskaffelsespriser!$D$203)),\"Fejl\"))","v":1557.4135240519479},{"$f":"IF(F155=0,\"Variabel pris\",IFERROR(((HLOOKUP(F155,'Variable priser'!$C$2:$H$4,2)+(F155-HLOOKUP(F155,'Variable priser'!$C$2:$H$4,1))*HLOOKUP(F155,'Variable priser'!$C$2:$H$4,3))/F155*(1+Genanskaffelsespriser!$D$203)),\"Fejl\"))","v":1557.4135240519479},7994.7227567999989,7994.7227567999989,1,1]
["Pumpe inkl. stigrør og forerørsforsejlinger mv. 150","m³/h ",15,77,77,77,0,0,null,{"$f":"IF(E156=0,\"Variabel pris\",IFERROR(((HLOOKUP(E156,'Variable priser'!$C$2:$H$4,2)+(E156-HLOOKUP(E156,'Variable priser'!$C$2:$H$4,1))*HLOOKUP(E156,'Variable priser'!$C$2:$H$4,3))/E156*(1+Genanskaffelsespriser!$D$203)),\"Fejl\"))","v":1557.4135240519479},{"$f":"IF(F156=0,\"Variabel pris\",IFERROR(((HLOOKUP(F156,'Variable priser'!$C$2:$H$4,2)+(F156-HLOOKUP(F156,'Variable priser'!$C$2:$H$4,1))*HLOOKUP(F156,'Variable priser'!$C$2:$H$4,3))/F156*(1+Genanskaffelsespriser!$D$203)),\"Fejl\"))","v":1557.4135240519479},7994.7227567999989,7994.7227567999989,1,1]
["Pumpe inkl. stigrør og forerørsforsejlinger mv. 151","m³/h ",15,77,77,77,0,0,null,{"$f":"IF(E157=0,\"Variabel pris\",IFERROR(((HLOOKUP(E157,'Variable priser'!$C$2:$H$4,2)+(E157-HLOOKUP(E157,'Variable priser'!$C$2:$H$4,1))*HLOOKUP(E157,'Variable priser'!$C$2:$H$4,3))/E157*(1+Genanskaffelsespriser!$D$203)),\"Fejl\"))","v":1557.4135240519479},{"$f":"IF(F157=0,\"Variabel pris\",IFERROR(((HLOOKUP(F157,'Variable priser'!$C$2:$H$4,2)+(F157-HLOOKUP(F157,'Variable priser'!$C$2:$H$4,1))*HLOOKUP(F157,'Variable priser'!$C$2:$H$4,3))/F157*(1+Genanskaffelsespriser!$D$203)),\"Fejl\"))","v":1557.4135240519479},7994.7227567999989,7994.7227567999989,1,1]
["Pumpe inkl. stigrør og forerørsforsejlinger mv. 152","m³/h ",15,46,46,46,0,0,null,{"$f":"IF(E158=0,\"Variabel pris\",IFERROR(((HLOOKUP(E158,'Variable priser'!$C$2:$H$4,2)+(E158-HLOOKUP(E158,'Variable priser'!$C$2:$H$4,1))*HLOOKUP(E158,'Variable priser'!$C$2:$H$4,3))/E158*(1+Genanskaffelsespriser!$D$203)),\"Fejl\"))","v":2052.5411759999997},{"$f":"IF(F158=0,\"Variabel pris\",IFERROR(((HLOOKUP(F158,'Variable priser'!$C$2:$H$4,2)+(F158-HLOOKUP(F158,'Variable priser'!$C$2:$H$4,1))*HLOOKUP(F158,'Variable priser'!$C$2:$H$4,3))/F158*(1+Genanskaffelsespriser!$D$203)),\"Fejl\"))","v":2052.5411759999997},6294.4596063999988,6294.4596063999988,1,1]
["Pumpe inkl. stigrør og forerørsforsejlinger mv. 153","m³/h ",15,95,95,95,0,0,null,{"$f":"IF(E159=0,\"Variabel pris\",IFERROR(((HLOOKUP(E159,'Variable priser'!$C$2:$H$4,2)+(E159-HLOOKUP(E159,'Variable priser'!$C$2:$H$4,1))*HLOOKUP(E159,'Variable priser'!$C$2:$H$4,3))/E159*(1+Genanskaffelsespriser!$D$203)),\"Fejl\"))","v":1418.2061570526314},{"$f":"IF(F159=0,\"Variabel pris\",IFERROR(((HLOOKUP(F159,'Variable priser'!$C$2:$H$4,2)+(F159-HLOOKUP(F159,'Variable priser'!$C$2:$H$4,1))*HLOOKUP(F159,'Variable priser'!$C$2:$H$4,3))/F159*(1+Genanskaffelsespriser!$D$203)),\"Fejl\"))","v":1418.2061570526314},8981.9723279999998,8981.9723279999998,1,1]
["Pumpe inkl. stigrør og forerørsforsejlinger mv. 154","m³/h ",15,46,46,46,0,0,null,{"$f":"IF(E160=0,\"Variabel pris\",IFERROR(((HLOOKUP(E160,'Variable priser'!$C$2:$H$4,2)+(E160-HLOOKUP(E160,'Variable priser'!$C$2:$H$4,1))*HLOOKUP(E160,'Variable priser'!$C$2:$H$4,3))/E160*(1+Genanskaffelsespriser!$D$203)),\"Fejl\"))","v":2052.5411759999997},{"$f":"IF(F160=0,\"Variabel pris\",IFERROR(((HLOOKUP(F160,'Variable priser'!$C$2:$H$4,2)+(F160-HLOOKUP(F160,'Variable priser'!$C$2:$H$4,1))*HLOOKUP(F160,'Variable priser'!$C$2:$H$4,3))/F160*(1+Genanskaffelsespriser!$D$203)),\"Fejl\"))","v":2052.5411759999997},6294.4596063999988,6294.4596063999988,1,1]
["Pumpe inkl. stigrør og forerørsforsejlinger mv. 155","m³/h ",15,46,46,46,0,0,null,{"$f":"IF(E161=0,\"Variabel pris\",IFERROR(((HLOOKUP(E161,'Variable priser'!$C$2:$H$4,2)+(E161-HLOOKUP(E161,'Variable priser'!$C$2:$H$4,1))*HLOOKUP(E161,'Variable priser'!$C$2:$H$4,3))/E161*(1+Genanskaffelsespriser!$D$203)),\"Fejl\"))","v":2052.5411759999997},{"$f":"IF(F161=0,\"Variabel pris\",IFERROR(((HLOOKUP(F161,'Variable priser'!$C$2:$H$4,2)+(F161-HLOOKUP(F161,'Variable priser'!$C$2:$H$4,1))*HLOOKUP(F161,'Variable priser'!$C$2:$H$4,3))/F161*(1+Genanskaffelsespriser!$D$203)),\"Fejl\"))","v":2052.5411759999997},6294.4596063999988,6294.4596063999988,1,1]
["Pumpe inkl. stigrør og forerørsforsejlinger mv. 156","m³/h ",15,46,46,46,0,0,null,{"$f":"IF(E162=0,\"Variabel pris\",IFERROR(((HLOOKUP(E162,'Variable priser'!$C$2:$H$4,2)+(E162-HLOOKUP(E162,'Variable priser'!$C$2:$H$4,1))*HLOOKUP(E162,'Variable priser'!$C$2:$H$4,3))/E162*(1+Genanskaffelsespriser!$D$203)),\"Fejl\"))","v":2052.5411759999997},{"$f":"IF(F162=0,\"Variabel pris\",IFERROR(((HLOOKUP(F162,'Variable priser'!$C$2:$H$4,2)+(F162-HLOOKUP(F162,'Variable priser'!$C$2:$H$4,1))*HLOOKUP(F162,'Variable priser'!$C$2:$H$4,3))/F162*(1+Genanskaffelsespriser!$D$203)),\"Fejl\"))","v":2052.5411759999997},6294.4596063999988,6294.4596063999988,1,1]
["Pumpe inkl. stigrør og forerørsforsejlinger mv. 157","m³/h ",15,46,46,46,0,0,null,{"$f":"IF(E163=0,\"Variabel pris\",IFERROR(((HLOOKUP(E163,'Variable priser'!$C$2:$H$4,2)+(E163-HLOOKUP(E163,'Variable priser'!$C$2:$H$4,1))*HLOOKUP(E163,'Variable priser'!$C$2:$H$4,3))/E163*(1+Genanskaffelsespriser!$D$203)),\"Fejl\"))","v":2052.5411759999997},{"$f":"IF(F163=0,\"Variabel pris\",IFERROR(((HLOOKUP(F163,'Variable priser'!$C$2:$H$4,2)+(F163-HLOOKUP(F163,'Variable priser'!$C$2:$H$4,1))*HLOOKUP(F163,'Variable priser'!$C$2:$H$4,3))/F163*(1+Genanskaffelsespriser!$D$203)),\"Fejl\"))","v":2052.5411759999997},6294.4596063999988,6294.4596063999988,1,1]
["Pumpe inkl. stigrør og forerørsforsejlinger mv. 158","m³/h ",15,46,46,46,0,0,null,{"$f":"IF(E164=0,\"Variabel pris\",IFERROR(((HLOOKUP(E164,'Variable priser'!$C$2:$H$4,2)+(E164-HLOOKUP(E164,'Variable priser'!$C$2:$H$4,1))*HLOOKUP(E164,'Variable priser'!$C$2:$H$4,3))/E164*(1+Genanskaffelsespriser!$D$203)),\"Fejl\"))","v":2052.5411759999997},{"$f":"IF(F164=0,\"Variabel pris\",IFERROR(((HLOOKUP(F164,'Variable priser'!$C$2:$H$4,2)+(F164-HLOOKUP(F164,'Variable priser'!$C$2:$H$4,1))*HLOOKUP(F164,'Variable priser'!$C$2:$H$4,3))/F164*(1+Genanskaffelsespriser!$D$203)),\"Fejl\"))","v":2052.5411759999997},6294.4596063999988,6294.4596063999988,1,1]
["Pumpe inkl. stigrør og forerørsforsejlinger mv. 159","m³/h ",15,46,46,46,0,0,null,{"$f":"IF(E165=0,\"Variabel pris\",IFERROR(((HLOOKUP(E165,'Variable priser'!$C$2:$H$4,2)+(E165-HLOOKUP(E165,'Variable priser'!$C$2:$H$4,1))*HLOOKUP(E165,'Variable priser'!$C$2:$H$4,3))/E165*(1+Genanskaffelsespriser!$D$203)),\"Fejl\"))","v":2052.5411759999997},{"$f":"IF(F165=0,\"Variabel pris\",IFERROR(((HLOOKUP(F165,'Variable priser'!$C$2:$H$4,2)+(F165-HLOOKUP(F165,'Variable priser'!$C$2:$H$4,1))*HLOOKUP(F165,'Variable priser'!$C$2:$H$4,3))/F165*(1+Genanskaffelsespriser!$D$203)),\"Fejl\"))","v":2052.5411759999997},6294.4596063999988,6294.4596063999988,1,1]
["Pumpe inkl. stigrør og forerørsforsejlinger mv. 160","m³/h ",15,46,46,46,0,0,null,{"$f":"IF(E166=0,\"Variabel pris\",IFERROR(((HLOOKUP(E166,'Variable priser'!$C$2:$H$4,2)+(E166-HLOOKUP(E166,'Variable priser'!$C$2:$H$4,1))*HLOOKUP(E166,'Variable priser'!$C$2:$H$4,3))/E166*(1+Genanskaffelsespriser!$D$203)),\"Fejl\"))","v":2052.5411759999997},{"$f":"IF(F166=0,\"Variabel pris\",IFERROR(((HLOOKUP(F166,'Variable priser'!$C$2:$H$4,2)+(F166-HLOOKUP(F166,'Variable priser'!$C$2:$H$4,1))*HLOOKUP(F166,'Variable priser'!$C$2:$H$4,3))/F166*(1+Genanskaffelsespriser!$D$203)),\"Fejl\"))","v":2052.5411759999997},6294.4596063999988,6294.4596063999988,1,1]
["Pumpe inkl. stigrør og forerørsforsejlinger mv. 161","m³/h ",15,46,46,46,0,0,null,{"$f":"IF(E167=0,\"Variabel pris\",IFERROR(((HLOOKUP(E167,'Variable priser'!$C$2:$H$4,2)+(E167-HLOOKUP(E167,'Variable priser'!$C$2:$H$4,1))*HLOOKUP(E167,'Variable priser'!$C$2:$H$4,3))/E167*(1+Genanskaffelsespriser!$D$203)),\"Fejl\"))","v":2052.5411759999997},{"$f":"IF(F167=0,\"Variabel pris\",IFERROR(((HLOOKUP(F167,'Variable priser'!$C$2:$H$4,2)+(F167-HLOOKUP(F167,'Variable priser'!$C$2:$H$4,1))*HLOOKUP(F167,'Variable priser'!$C$2:$H$4,3))/F167*(1+Genanskaffelsespriser!$D$203)),\"Fejl\"))","v":2052.5411759999997},6294.4596063999988,6294.4596063999988,1,1]
["Pumpe inkl. stigrør og forerørsforsejlinger mv. 162","m³/h ",15,30,30,30,0,0,null,{"$f":"IF(E168=0,\"Variabel pris\",IFERROR(((HLOOKUP(E168,'Variable priser'!$C$2:$H$4,2)+(E168-HLOOKUP(E168,'Variable priser'!$C$2:$H$4,1))*HLOOKUP(E168,'Variable priser'!$C$2:$H$4,3))/E168*(1+Genanskaffelsespriser!$D$203)),\"Fejl\"))","v":2666.7516888},{"$f":"IF(F168=0,\"Variabel pris\",IFERROR(((HLOOKUP(F168,'Variable priser'!$C$2:$H$4,2)+(F168-HLOOKUP(F168,'Variable priser'!$C$2:$H$4,1))*HLOOKUP(F168,'Variable priser'!$C$2:$H$4,3))/F168*(1+Genanskaffelsespriser!$D$203)),\"Fejl\"))","v":2666.7516888},5333.5033776,5333.5033776,1,1]
["Pumpe inkl. stigrør og forerørsforsejlinger mv. 163","m³/h ",15,30,30,30,0,0,null,{"$f":"IF(E169=0,\"Variabel pris\",IFERROR(((HLOOKUP(E169,'Variable priser'!$C$2:$H$4,2)+(E169-HLOOKUP(E169,'Variable priser'!$C$2:$H$4,1))*HLOOKUP(E169,'Variable priser'!$C$2:$H$4,3))/E169*(1+Genanskaffelsespriser!$D$203)),\"Fejl\"))","v":2666.7516888},{"$f":"IF(F169=0,\"Variabel pris\",IFERROR(((HLOOKUP(F169,'Variable priser'!$C$2:$H$4,2)+(F169-HLOOKUP(F169,'Variable priser'!$C$2:$H$4,1))*HLOOKUP(F169,'Variable priser'!$C$2:$H$4,3))/F169*(1+Genanskaffelsespriser!$D$203)),\"Fejl\"))","v":2666.7516888},5333.5033776,5333.5033776,1,1]
["Pumpe inkl. stigrør og forerørsforsejlinger mv. 164","m³/h ",15,30,30,30,0,0,null,{"$f":"IF(E170=0,\"Variabel pris\",IFERROR(((HLOOKUP(E170,'Variable priser'!$C$2:$H$4,2)+(E170-HLOOKUP(E170,'Variable priser'!$C$2:$H$4,1))*HLOOKUP(E170,'Variable priser'!$C$2:$H$4,3))/E170*(1+Genanskaffelsespriser!$D$203)),\"Fejl\"))","v":2666.7516888},{"$f":"IF(F170=0,\"Variabel pris\",IFERROR(((HLOOKUP(F170,'Variable priser'!$C$2:$H$4,2)+(F170-HLOOKUP(F170,'Variable priser'!$C$2:$H$4,1))*HLOOKUP(F170,'Variable priser'!$C$2:$H$4,3))/F170*(1+Genanskaffelsespriser!$D$203)),\"Fejl\"))","v":2666.7516888},5333.5033776,5333.5033776,1,1]
["Pumpe inkl. stigrør og forerørsforsejlinger mv. 165","m³/h ",15,30,30,30,0,0,null,{"$f":"IF(E171=0,\"Variabel pris\",IFERROR(((HLOOKUP(E171,'Variable priser'!$C$2:$H$4,2)+(E171-HLOOKUP(E171,'Variable priser'!$C$2:$H$4,1))*HLOOKUP(E171,'Variable priser'!$C$2:$H$4,3))/E171*(1+Genanskaffelsespriser!$D$203)),\"Fejl\"))","v":2666.7516888},{"$f":"IF(F171=0,\"Variabel pris\",IFERROR(((HLOOKUP(F171,'Variable priser'!$C$2:$H$4,2)+(F171-HLOOKUP(F171,'Variable priser'!$C$2:$H$4,1))*HLOOKUP(F171,'Variable priser'!$C$2:$H$4,3))/F171*(1+Genanskaffelsespriser!$D$203)),\"Fejl\"))","v":2666.7516888},5333.5033776,5333.5033776,1,1]
["Pumpe inkl. stigrør og forerørsforsejlinger mv. 166","m³/h ",15,8,8,8,0,0,null,{"$f":"IF(E172=0,\"Variabel pris\",IFERROR(((HLOOKUP(E172,'Variable priser'!$C$2:$H$4,2)+(E172-HLOOKUP(E172,'Variable priser'!$C$2:$H$4,1))*HLOOKUP(E172,'Variable priser'!$C$2:$H$4,3))/E172*(1+Genanskaffelsespriser!$D$203)),\"Fejl\"))","v":4578.0754247999994},{"$f":"IF(F172=0,\"Variabel pris\",IFERROR(((HLOOKUP(F172,'Variable priser'!$C$2:$H$4,2)+(F172-HLOOKUP(F172,'Variable priser'!$C$2:$H$4,1))*HLOOKUP(F172,'Variable priser'!$C$2:$H$4,3))/F172*(1+Genanskaffelsespriser!$D$203)),\"Fejl\"))","v":4578.0754247999994},2441.6402265599995,2441.6402265599995,1,1]
["Pumpe inkl. stigrør og forerørsforsejlinger mv. 167","m³/h ",15,8,8,8,0,0,null,{"$f":"IF(E173=0,\"Variabel pris\",IFERROR(((HLOOKUP(E173,'Variable priser'!$C$2:$H$4,2)+(E173-HLOOKUP(E173,'Variable priser'!$C$2:$H$4,1))*HLOOKUP(E173,'Variable priser'!$C$2:$H$4,3))/E173*(1+Genanskaffelsespriser!$D$203)),\"Fejl\"))","v":4578.0754247999994},{"$f":"IF(F173=0,\"Variabel pris\",IFERROR(((HLOOKUP(F173,'Variable priser'!$C$2:$H$4,2)+(F173-HLOOKUP(F173,'Variable priser'!$C$2:$H$4,1))*HLOOKUP(F173,'Variable priser'!$C$2:$H$4,3))/F173*(1+Genanskaffelsespriser!$D$203)),\"Fejl\"))","v":4578.0754247999994},2441.6402265599995,2441.6402265599995,1,1]
["Pumpe inkl. stigrør og forerørsforsejlinger mv. 168","m³/h ",15,8,8,8,0,0,null,{"$f":"IF(E174=0,\"Variabel pris\",IFERROR(((HLOOKUP(E174,'Variable priser'!$C$2:$H$4,2)+(E174-HLOOKUP(E174,'Variable priser'!$C$2:$H$4,1))*HLOOKUP(E174,'Variable priser'!$C$2:$H$4,3))/E174*(1+Genanskaffelsespriser!$D$203)),\"Fejl\"))","v":4578.0754247999994},{"$f":"IF(F174=0,\"Variabel pris\",IFERROR(((HLOOKUP(F174,'Variable priser'!$C$2:$H$4,2)+(F174-HLOOKUP(F174,'Variable priser'!$C$2:$H$4,1))*HLOOKUP(F174,'Variable priser'!$C$2:$H$4,3))/F174*(1+Genanskaffelsespriser!$D$203)),\"Fejl\"))","v":4578.0754247999994},2441.6402265599995,2441.6402265599995,1,1]
["Pumpe inkl. stigrør og forerørsforsejlinger mv. 169","m³/h ",15,8,8,8,0,0,null,{"$f":"IF(E175=0,\"Variabel pris\",IFERROR(((HLOOKUP(E175,'Variable priser'!$C$2:$H$4,2)+(E175-HLOOKUP(E175,'Variable priser'!$C$2:$H$4,1))*HLOOKUP(E175,'Variable priser'!$C$2:$H$4,3))/E175*(1+Genanskaffelsespriser!$D$203)),\"Fejl\"))","v":4578.0754247999994},{"$f":"IF(F175=0,\"Variabel pris\",IFERROR(((HLOOKUP(F175,'Variable priser'!$C$2:$H$4,2)+(F175-HLOOKUP(F175,'Variable priser'!$C$2:$H$4,1))*HLOOKUP(F175,'Variable priser'!$C$2:$H$4,3))/F175*(1+Genanskaffelsespriser!$D$203)),\"Fejl\"))","v":4578.0754247999994},2441.6402265599995,2441.6402265599995,1,1]
["Pumpe inkl. stigrør og forerørsforsejlinger mv. 170","m³/h ",15,17,17,17,0,0,null,{"$f":"IF(E176=0,\"Variabel pris\",IFERROR(((HLOOKUP(E176,'Variable priser'!$C$2:$H$4,2)+(E176-HLOOKUP(E176,'Variable priser'!$C$2:$H$4,1))*HLOOKUP(E176,'Variable priser'!$C$2:$H$4,3))/E176*(1+Genanskaffelsespriser!$D$203)),\"Fejl\"))","v":3496.2412055999994},{"$f":"IF(F176=0,\"Variabel pris\",IFERROR(((HLOOKUP(F176,'Variable priser'!$C$2:$H$4,2)+(F176-HLOOKUP(F176,'Variable priser'!$C$2:$H$4,1))*HLOOKUP(F176,'Variable priser'!$C$2:$H$4,3))/F176*(1+Genanskaffelsespriser!$D$203)),\"Fejl\"))","v":3496.2412055999994},3962.4066996799997,3962.4066996799997,1,1]
["Pumpe inkl. stigrør og forerørsforsejlinger mv. 171","m³/h ",15,9,9,9,0,0,null,{"$f":"IF(E177=0,\"Variabel pris\",IFERROR(((HLOOKUP(E177,'Variable priser'!$C$2:$H$4,2)+(E177-HLOOKUP(E177,'Variable priser'!$C$2:$H$4,1))*HLOOKUP(E177,'Variable priser'!$C$2:$H$4,3))/E177*(1+Genanskaffelsespriser!$D$203)),\"Fejl\"))","v":4578.0754247999994},{"$f":"IF(F177=0,\"Variabel pris\",IFERROR(((HLOOKUP(F177,'Variable priser'!$C$2:$H$4,2)+(F177-HLOOKUP(F177,'Variable priser'!$C$2:$H$4,1))*HLOOKUP(F177,'Variable priser'!$C$2:$H$4,3))/F177*(1+Genanskaffelsespriser!$D$203)),\"Fejl\"))","v":4578.0754247999994},2746.8452548799996,2746.8452548799996,1,1]
["Pumpe inkl. stigrør og forerørsforsejlinger mv. 172","m³/h ",15,9,9,9,0,0,null,{"$f":"IF(E178=0,\"Variabel pris\",IFERROR(((HLOOKUP(E178,'Variable priser'!$C$2:$H$4,2)+(E178-HLOOKUP(E178,'Variable priser'!$C$2:$H$4,1))*HLOOKUP(E178,'Variable priser'!$C$2:$H$4,3))/E178*(1+Genanskaffelsespriser!$D$203)),\"Fejl\"))","v":4578.0754247999994},{"$f":"IF(F178=0,\"Variabel pris\",IFERROR(((HLOOKUP(F178,'Variable priser'!$C$2:$H$4,2)+(F178-HLOOKUP(F178,'Variable priser'!$C$2:$H$4,1))*HLOOKUP(F178,'Variable priser'!$C$2:$H$4,3))/F178*(1+Genanskaffelsespriser!$D$203)),\"Fejl\"))","v":4578.0754247999994},2746.8452548799996,2746.8452548799996,1,1]
["Pumpe inkl. stigrør og forerørsforsejlinger mv. 173","m³/h ",15,17,17,17,0,0,null,{"$f":"IF(E179=0,\"Variabel pris\",IFERROR(((HLOOKUP(E179,'Variable priser'!$C$2:$H$4,2)+(E179-HLOOKUP(E179,'Variable priser'!$C$2:$H$4,1))*HLOOKUP(E179,'Variable priser'!$C$2:$H$4,3))/E179*(1+Genanskaffelsespriser!$D$203)),\"Fejl\"))","v":3496.2412055999994},{"$f":"IF(F179=0,\"Variabel pris\",IFERROR(((HLOOKUP(F179,'Variable priser'!$C$2:$H$4,2)+(F179-HLOOKUP(F179,'Variable priser'!$C$2:$H$4,1))*HLOOKUP(F179,'Variable priser'!$C$2:$H$4,3))/F179*(1+Genanskaffelsespriser!$D$203)),\"Fejl\"))","v":3496.2412055999994},3962.4066996799997,3962.4066996799997,1,1]
["Pumpe inkl. stigrør og forerørsforsejlinger mv. 174","m³/h ",15,125,125,125,0,0,null,{"$f":"IF(E180=0,\"Variabel pris\",IFERROR(((HLOOKUP(E180,'Variable priser'!$C$2:$H$4,2)+(E180-HLOOKUP(E180,'Variable priser'!$C$2:$H$4,1))*HLOOKUP(E180,'Variable priser'!$C$2:$H$4,3))/E180*(1+Genanskaffelsespriser!$D$203)),\"Fejl\"))","v":1275.2865935999998},{"$f":"IF(F180=0,\"Variabel pris\",IFERROR(((HLOOKUP(F180,'Variable priser'!$C$2:$H$4,2)+(F180-HLOOKUP(F180,'Variable priser'!$C$2:$H$4,1))*HLOOKUP(F180,'Variable priser'!$C$2:$H$4,3))/F180*(1+Genanskaffelsespriser!$D$203)),\"Fejl\"))","v":1275.2865935999998},10627.388279999997,10627.388279999997,1,1]
["Pumpe inkl. stigrør og forerørsforsejlinger mv. 175","m³/h ",15,125,125,125,0,0,null,{"$f":"IF(E181=0,\"Variabel pris\",IFERROR(((HLOOKUP(E181,'Variable priser'!$C$2:$H$4,2)+(E181-HLOOKUP(E181,'Variable priser'!$C$2:$H$4,1))*HLOOKUP(E181,'Variable priser'!$C$2:$H$4,3))/E181*(1+Genanskaffelsespriser!$D$203)),\"Fejl\"))","v":1275.2865935999998},{"$f":"IF(F181=0,\"Variabel pris\",IFERROR(((HLOOKUP(F181,'Variable priser'!$C$2:$H$4,2)+(F181-HLOOKUP(F181,'Variable priser'!$C$2:$H$4,1))*HLOOKUP(F181,'Variable priser'!$C$2:$H$4,3))/F181*(1+Genanskaffelsespriser!$D$203)),\"Fejl\"))","v":1275.2865935999998},10627.388279999997,10627.388279999997,1,1]
["Pumpe inkl. stigrør og forerørsforsejlinger mv. 176","m³/h ",15,70,70,70,0,0,null,{"$f":"IF(E182=0,\"Variabel pris\",IFERROR(((HLOOKUP(E182,'Variable priser'!$C$2:$H$4,2)+(E182-HLOOKUP(E182,'Variable priser'!$C$2:$H$4,1))*HLOOKUP(E182,'Variable priser'!$C$2:$H$4,3))/E182*(1+Genanskaffelsespriser!$D$203)),\"Fejl\"))","v":1630.8840788571424},{"$f":"IF(F182=0,\"Variabel pris\",IFERROR(((HLOOKUP(F182,'Variable priser'!$C$2:$H$4,2)+(F182-HLOOKUP(F182,'Variable priser'!$C$2:$H$4,1))*HLOOKUP(F182,'Variable priser'!$C$2:$H$4,3))/F182*(1+Genanskaffelsespriser!$D$203)),\"Fejl\"))","v":1630.8840788571424},7610.7923679999976,7610.7923679999976,1,1]
["Pumpe inkl. stigrør og forerørsforsejlinger mv. 177","m³/h ",15,125,125,125,0,0,null,{"$f":"IF(E183=0,\"Variabel pris\",IFERROR(((HLOOKUP(E183,'Variable priser'!$C$2:$H$4,2)+(E183-HLOOKUP(E183,'Variable priser'!$C$2:$H$4,1))*HLOOKUP(E183,'Variable priser'!$C$2:$H$4,3))/E183*(1+Genanskaffelsespriser!$D$203)),\"Fejl\"))","v":1275.2865935999998},{"$f":"IF(F183=0,\"Variabel pris\",IFERROR(((HLOOKUP(F183,'Variable priser'!$C$2:$H$4,2)+(F183-HLOOKUP(F183,'Variable priser'!$C$2:$H$4,1))*HLOOKUP(F183,'Variable priser'!$C$2:$H$4,3))/F183*(1+Genanskaffelsespriser!$D$203)),\"Fejl\"))","v":1275.2865935999998},10627.388279999997,10627.388279999997,1,1]
["Pumpe inkl. stigrør og forerørsforsejlinger mv. 178","m³/h ",15,125,125,125,0,0,null,{"$f":"IF(E184=0,\"Variabel pris\",IFERROR(((HLOOKUP(E184,'Variable priser'!$C$2:$H$4,2)+(E184-HLOOKUP(E184,'Variable priser'!$C$2:$H$4,1))*HLOOKUP(E184,'Variable priser'!$C$2:$H$4,3))/E184*(1+Genanskaffelsespriser!$D$203)),\"Fejl\"))","v":1275.2865935999998},{"$f":"IF(F184=0,\"Variabel pris\",IFERROR(((HLOOKUP(F184,'Variable priser'!$C$2:$H$4,2)+(F184-HLOOKUP(F184,'Variable priser'!$C$2:$H$4,1))*HLOOKUP(F184,'Variable priser'!$C$2:$H$4,3))/F184*(1+Genanskaffelsespriser!$D$203)),\"Fejl\"))","v":1275.2865935999998},10627.388279999997,10627.388279999997,1,1]
["Pumpe inkl. stigrør og forerørsforsejlinger mv. 179","m³/h ",15,125,125,125,0,0,null,{"$f":"IF(E185=0,\"Variabel pris\",IFERROR(((HLOOKUP(E185,'Variable priser'!$C$2:$H$4,2)+(E185-HLOOKUP(E185,'Variable priser'!$C$2:$H$4,1))*HLOOKUP(E185,'Variable priser'!$C$2:$H$4,3))/E185*(1+Genanskaffelsespriser!$D$203)),\"Fejl\"))","v":1275.2865935999998},{"$f":"IF(F185=0,\"Variabel pris\",IFERROR(((HLOOKUP(F185,'Variable priser'!$C$2:$H$4,2)+(F185-HLOOKUP(F185,'Variable priser'!$C$2:$H$4,1))*HLOOKUP(F185,'Variable priser'!$C$2:$H$4,3))/F185*(1+Genanskaffelsespriser!$D$203)),\"Fejl\"))","v":1275.2865935999998},10627.388279999997,10627.388279999997,1,1]
["Pumpe inkl. stigrør og forerørsforsejlinger mv. 180","m³/h ",15,125,125,125,0,0,null,{"$f":"IF(E186=0,\"Variabel pris\",IFERROR(((HLOOKUP(E186,'Variable priser'!$C$2:$H$4,2)+(E186-HLOOKUP(E186,'Variable priser'!$C$2:$H$4,1))*HLOOKUP(E186,'Variable priser'!$C$2:$H$4,3))/E186*(1+Genanskaffelsespriser!$D$203)),\"Fejl\"))","v":1275.2865935999998},{"$f":"IF(F186=0,\"Variabel pris\",IFERROR(((HLOOKUP(F186,'Variable priser'!$C$2:$H$4,2)+(F186-HLOOKUP(F186,'Variable priser'!$C$2:$H$4,1))*HLOOKUP(F186,'Variable priser'!$C$2:$H$4,3))/F186*(1+Genanskaffelsespriser!$D$203)),\"Fejl\"))","v":1275.2865935999998},10627.388279999997,10627.388279999997,1,1]
["Pumpe inkl. stigrør og forerørsforsejlinger mv. 181","m³/h ",15,125,125,125,0,0,null,{"$f":"IF(E187=0,\"Variabel pris\",IFERROR(((HLOOKUP(E187,'Variable priser'!$C$2:$H$4,2)+(E187-HLOOKUP(E187,'Variable priser'!$C$2:$H$4,1))*HLOOKUP(E187,'Variable priser'!$C$2:$H$4,3))/E187*(1+Genanskaffelsespriser!$D$203)),\"Fejl\"))","v":1275.2865935999998},{"$f":"IF(F187=0,\"Variabel pris\",IFERROR(((HLOOKUP(F187,'Variable priser'!$C$2:$H$4,2)+(F187-HLOOKUP(F187,'Variable priser'!$C$2:$H$4,1))*HLOOKUP(F187,'Variable priser'!$C$2:$H$4,3))/F187*(1+Genanskaffelsespriser!$D$203)),\"Fejl\"))","v":1275.2865935999998},10627.388279999997,10627.388279999997,1,1]
["Pumpe inkl. stigrør og forerørsforsejlinger mv. 182","m³/h ",15,30,30,30,0,0,null,{"$f":"IF(E188=0,\"Variabel pris\",IFERROR(((HLOOKUP(E188,'Variable priser'!$C$2:$H$4,2)+(E188-HLOOKUP(E188,'Variable priser'!$C$2:$H$4,1))*HLOOKUP(E188,'Variable priser'!$C$2:$H$4,3))/E188*(1+Genanskaffelsespriser!$D$203)),\"Fejl\"))","v":2666.7516888},{"$f":"IF(F188=0,\"Variabel pris\",IFERROR(((HLOOKUP(F188,'Variable priser'!$C$2:$H$4,2)+(F188-HLOOKUP(F188,'Variable priser'!$C$2:$H$4,1))*HLOOKUP(F188,'Variable priser'!$C$2:$H$4,3))/F188*(1+Genanskaffelsespriser!$D$203)),\"Fejl\"))","v":2666.7516888},5333.5033776,5333.5033776,1,1]
["Pumpe inkl. stigrør og forerørsforsejlinger mv. 183","m³/h ",15,30,30,30,0,0,null,{"$f":"IF(E189=0,\"Variabel pris\",IFERROR(((HLOOKUP(E189,'Variable priser'!$C$2:$H$4,2)+(E189-HLOOKUP(E189,'Variable priser'!$C$2:$H$4,1))*HLOOKUP(E189,'Variable priser'!$C$2:$H$4,3))/E189*(1+Genanskaffelsespriser!$D$203)),\"Fejl\"))","v":2666.7516888},{"$f":"IF(F189=0,\"Variabel pris\",IFERROR(((HLOOKUP(F189,'Variable priser'!$C$2:$H$4,2)+(F189-HLOOKUP(F189,'Variable priser'!$C$2:$H$4,1))*HLOOKUP(F189,'Variable priser'!$C$2:$H$4,3))/F189*(1+Genanskaffelsespriser!$D$203)),\"Fejl\"))","v":2666.7516888},5333.5033776,5333.5033776,1,1]
["Pumpe inkl. stigrør og forerørsforsejlinger mv. 184","m³/h ",15,30,30,30,0,0,null,{"$f":"IF(E190=0,\"Variabel pris\",IFERROR(((HLOOKUP(E190,'Variable priser'!$C$2:$H$4,2)+(E190-HLOOKUP(E190,'Variable priser'!$C$2:$H$4,1))*HLOOKUP(E190,'Variable priser'!$C$2:$H$4,3))/E190*(1+Genanskaffelsespriser!$D$203)),\"Fejl\"))","v":2666.7516888},{"$f":"IF(F190=0,\"Variabel pris\",IFERROR(((HLOOKUP(F190,'Variable priser'!$C$2:$H$4,2)+(F190-HLOOKUP(F190,'Variable priser'!$C$2:$H$4,1))*HLOOKUP(F190,'Variable priser'!$C$2:$H$4,3))/F190*(1+Genanskaffelsespriser!$D$203)),\"Fejl\"))","v":2666.7516888},5333.5033776,5333.5033776,1,1]
["Pumpe inkl. stigrør og forerørsforsejlinger mv. 185","m³/h ",15,30,30,30,0,0,null,{"$f":"IF(E191=0,\"Variabel pris\",IFERROR(((HLOOKUP(E191,'Variable priser'!$C$2:$H$4,2)+(E191-HLOOKUP(E191,'Variable priser'!$C$2:$H$4,1))*HLOOKUP(E191,'Variable priser'!$C$2:$H$4,3))/E191*(1+Genanskaffelsespriser!$D$203)),\"Fejl\"))","v":2666.7516888},{"$f":"IF(F191=0,\"Variabel pris\",IFERROR(((HLOOKUP(F191,'Variable priser'!$C$2:$H$4,2)+(F191-HLOOKUP(F191,'Variable priser'!$C$2:$H$4,1))*HLOOKUP(F191,'Variable priser'!$C$2:$H$4,3))/F191*(1+Genanskaffelsespriser!$D$203)),\"Fejl\"))","v":2666.7516888},5333.5033776,5333.5033776,1,1]
["Pumpe inkl. stigrør og forerørsforsejlinger mv. 186","m³/h ",15,30,30,30,0,0,null,{"$f":"IF(E192=0,\"Variabel pris\",IFERROR(((HLOOKUP(E192,'Variable priser'!$C$2:$H$4,2)+(E192-HLOOKUP(E192,'Variable priser'!$C$2:$H$4,1))*HLOOKUP(E192,'Variable priser'!$C$2:$H$4,3))/E192*(1+Genanskaffelsespriser!$D$203)),\"Fejl\"))","v":2666.7516888},{"$f":"IF(F192=0,\"Variabel pris\",IFERROR(((HLOOKUP(F192,'Variable priser'!$C$2:$H$4,2)+(F192-HLOOKUP(F192,'Variable priser'!$C$2:$H$4,1))*HLOOKUP(F192,'Variable priser'!$C$2:$H$4,3))/F192*(1+Genanskaffelsespriser!$D$203)),\"Fejl\"))","v":2666.7516888},5333.5033776,5333.5033776,1,1]
["Pumpe inkl. stigrør og forerørsforsejlinger mv. 187","m³/h ",15,30,30,30,0,0,null,{"$f":"IF(E193=0,\"Variabel pris\",IFERROR(((HLOOKUP(E193,'Variable priser'!$C$2:$H$4,2)+(E193-HLOOKUP(E193,'Variable priser'!$C$2:$H$4,1))*HLOOKUP(E193,'Variable priser'!$C$2:$H$4,3))/E193*(1+Genanskaffelsespriser!$D$203)),\"Fejl\"))","v":2666.7516888},{"$f":"IF(F193=0,\"Variabel pris\",IFERROR(((HLOOKUP(F193,'Variable priser'!$C$2:$H$4,2)+(F193-HLOOKUP(F193,'Variable priser'!$C$2:$H$4,1))*HLOOKUP(F193,'Variable priser'!$C$2:$H$4,3))/F193*(1+Genanskaffelsespriser!$D$203)),\"Fejl\"))","v":2666.7516888},5333.5033776,5333.5033776,1,1]
["Pumpe inkl. stigrør og forerørsforsejlinger mv. 188","m³/h ",15,30,30,30,0,0,null,{"$f":"IF(E194=0,\"Variabel pris\",IFERROR(((HLOOKUP(E194,'Variable priser'!$C$2:$H$4,2)+(E194-HLOOKUP(E194,'Variable priser'!$C$2:$H$4,1))*HLOOKUP(E194,'Variable priser'!$C$2:$H$4,3))/E194*(1+Genanskaffelsespriser!$D$203)),\"Fejl\"))","v":2666.7516888},{"$f":"IF(F194=0,\"Variabel pris\",IFERROR(((HLOOKUP(F194,'Variable priser'!$C$2:$H$4,2)+(F194-HLOOKUP(F194,'Variable priser'!$C$2:$H$4,1))*HLOOKUP(F194,'Variable priser'!$C$2:$H$4,3))/F194*(1+Genanskaffelsespriser!$D$203)),\"Fejl\"))","v":2666.7516888},5333.5033776,5333.5033776,1,1]
["Pumpe inkl. stigrør og forerørsforsejlinger mv. 189","m³/h ",15,null,null,null,"","",null,{"$f":"IF(E195=0,\"Variabel pris\",IFERROR(((HLOOKUP(E195,'Variable priser'!$C$2:$H$4,2)+(E195-HLOOKUP(E195,'Variable priser'!$C$2:$H$4,1))*HLOOKUP(E195,'Variable priser'!$C$2:$H$4,3))/E195*(1+Genanskaffelsespriser!$D$203)),\"Fejl\"))","v":"Variabel pris"},{"$f":"IF(F195=0,\"Variabel pris\",IFERROR(((HLOOKUP(F195,'Variable priser'!$C$2:$H$4,2)+(F195-HLOOKUP(F195,'Variable priser'!$C$2:$H$4,1))*HLOOKUP(F195,'Variable priser'!$C$2:$H$4,3))/F195*(1+Genanskaffelsespriser!$D$203)),\"Fejl\"))","v":"Variabel pris"},"","",1,1]
["Pumpe inkl. stigrør og forerørsforsejlinger mv. 190","m³/h ",15,null,null,null,"","",null,{"$f":"IF(E196=0,\"Variabel pris\",IFERROR(((HLOOKUP(E196,'Variable priser'!$C$2:$H$4,2)+(E196-HLOOKUP(E196,'Variable priser'!$C$2:$H$4,1))*HLOOKUP(E196,'Variable priser'!$C$2:$H$4,3))/E196*(1+Genanskaffelsespriser!$D$203)),\"Fejl\"))","v":"Variabel pris"},{"$f":"IF(F196=0,\"Variabel pris\",IFERROR(((HLOOKUP(F196,'Variable priser'!$C$2:$H$4,2)+(F196-HLOOKUP(F196,'Variable priser'!$C$2:$H$4,1))*HLOOKUP(F196,'Variable priser'!$C$2:$H$4,3))/F196*(1+Genanskaffelsespriser!$D$203)),\"Fejl\"))","v":"Variabel pris"},"","",1,1]
["Pumpe inkl. stigrør og forerørsforsejlinger mv. 191","m³/h ",15,null,null,null,"","",null,{"$f":"IF(E197=0,\"Variabel pris\",IFERROR(((HLOOKUP(E197,'Variable priser'!$C$2:$H$4,2)+(E197-HLOOKUP(E197,'Variable priser'!$C$2:$H$4,1))*HLOOKUP(E197,'Variable priser'!$C$2:$H$4,3))/E197*(1+Genanskaffelsespriser!$D$203)),\"Fejl\"))","v":"Variabel pris"},{"$f":"IF(F197=0,\"Variabel pris\",IFERROR(((HLOOKUP(F197,'Variable priser'!$C$2:$H$4,2)+(F197-HLOOKUP(F197,'Variable priser'!$C$2:$H$4,1))*HLOOKUP(F197,'Variable priser'!$C$2:$H$4,3))/F197*(1+Genanskaffelsespriser!$D$203)),\"Fejl\"))","v":"Variabel pris"},"","",1,1]
["Pumpe inkl. stigrør og forerørsforsejlinger mv. 192","m³/h ",15,null,null,null,"","",null,{"$f":"IF(E198=0,\"Variabel pris\",IFERROR(((HLOOKUP(E198,'Variable priser'!$C$2:$H$4,2)+(E198-HLOOKUP(E198,'Variable priser'!$C$2:$H$4,1))*HLOOKUP(E198,'Variable priser'!$C$2:$H$4,3))/E198*(1+Genanskaffelsespriser!$D$203)),\"Fejl\"))","v":"Variabel pris"},{"$f":"IF(F198=0,\"Variabel pris\",IFERROR(((HLOOKUP(F198,'Variable priser'!$C$2:$H$4,2)+(F198-HLOOKUP(F198,'Variable priser'!$C$2:$H$4,1))*HLOOKUP(F198,'Variable priser'!$C$2:$H$4,3))/F198*(1+Genanskaffelsespriser!$D$203)),\"Fejl\"))","v":"Variabel pris"},"","",1,1]
["Pumpe inkl. stigrør og forerørsforsejlinger mv. 193","m³/h ",15,null,null,null,"","",null,{"$f":"IF(E199=0,\"Variabel pris\",IFERROR(((HLOOKUP(E199,'Variable priser'!$C$2:$H$4,2)+(E199-HLOOKUP(E199,'Variable priser'!$C$2:$H$4,1))*HLOOKUP(E199,'Variable priser'!$C$2:$H$4,3))/E199*(1+Genanskaffelsespriser!$D$203)),\"Fejl\"))","v":"Variabel pris"},{"$f":"IF(F199=0,\"Variabel pris\",IFERROR(((HLOOKUP(F199,'Variable priser'!$C$2:$H$4,2)+(F199-HLOOKUP(F199,'Variable priser'!$C$2:$H$4,1))*HLOOKUP(F199,'Variable priser'!$C$2:$H$4,3))/F199*(1+Genanskaffelsespriser!$D$203)),\"Fejl\"))","v":"Variabel pris"},"","",1,1]
["Pumpe inkl. stigrør og forerørsforsejlinger mv. 194","m³/h ",15,null,null,null,"","",null,{"$f":"IF(E200=0,\"Variabel pris\",IFERROR(((HLOOKUP(E200,'Variable priser'!$C$2:$H$4,2)+(E200-HLOOKUP(E200,'Variable priser'!$C$2:$H$4,1))*HLOOKUP(E200,'Variable priser'!$C$2:$H$4,3))/E200*(1+Genanskaffelsespriser!$D$203)),\"Fejl\"))","v":"Variabel pris"},{"$f":"IF(F200=0,\"Variabel pris\",IFERROR(((HLOOKUP(F200,'Variable priser'!$C$2:$H$4,2)+(F200-HLOOKUP(F200,'Variable priser'!$C$2:$H$4,1))*HLOOKUP(F200,'Variable priser'!$C$2:$H$4,3))/F200*(1+Genanskaffelsespriser!$D$203)),\"Fejl\"))","v":"Variabel pris"},"","",1,1]
["Pumpe inkl. stigrør og forerørsforsejlinger mv. 195","m³/h ",15,null,null,null,"","",null,{"$f":"IF(E201=0,\"Variabel pris\",IFERROR(((HLOOKUP(E201,'Variable priser'!$C$2:$H$4,2)+(E201-HLOOKUP(E201,'Variable priser'!$C$2:$H$4,1))*HLOOKUP(E201,'Variable priser'!$C$2:$H$4,3))/E201*(1+Genanskaffelsespriser!$D$203)),\"Fejl\"))","v":"Variabel pris"},{"$f":"IF(F201=0,\"Variabel pris\",IFERROR(((HLOOKUP(F201,'Variable priser'!$C$2:$H$4,2)+(F201-HLOOKUP(F201,'Variable priser'!$C$2:$H$4,1))*HLOOKUP(F201,'Variable priser'!$C$2:$H$4,3))/F201*(1+Genanskaffelsespriser!$D$203)),\"Fejl\"))","v":"Variabel pris"},"","",1,1]
["Pumpe inkl. stigrør og forerørsforsejlinger mv. 196","m³/h ",15,null,null,null,"","",null,{"$f":"IF(E202=0,\"Variabel pris\",IFERROR(((HLOOKUP(E202,'Variable priser'!$C$2:$H$4,2)+(E202-HLOOKUP(E202,'Variable priser'!$C$2:$H$4,1))*HLOOKUP(E202,'Variable priser'!$C$2:$H$4,3))/E202*(1+Genanskaffelsespriser!$D$203)),\"Fejl\"))","v":"Variabel pris"},{"$f":"IF(F202=0,\"Variabel pris\",IFERROR(((HLOOKUP(F202,'Variable priser'!$C$2:$H$4,2)+(F202-HLOOKUP(F202,'Variable priser'!$C$2:$H$4,1))*HLOOKUP(F202,'Variable priser'!$C$2:$H$4,3))/F202*(1+Genanskaffelsespriser!$D$203)),\"Fejl\"))","v":"Variabel pris"},"","",1,1]
["Pumpe inkl. stigrør og forerørsforsejlinger mv. 197","m³/h ",15,null,null,null,"","",null,{"$f":"IF(E203=0,\"Variabel pris\",IFERROR(((HLOOKUP(E203,'Variable priser'!$C$2:$H$4,2)+(E203-HLOOKUP(E203,'Variable priser'!$C$2:$H$4,1))*HLOOKUP(E203,'Variable priser'!$C$2:$H$4,3))/E203*(1+Genanskaffelsespriser!$D$203)),\"Fejl\"))","v":"Variabel pris"},{"$f":"IF(F203=0,\"Variabel pris\",IFERROR(((HLOOKUP(F203,'Variable priser'!$C$2:$H$4,2)+(F203-HLOOKUP(F203,'Variable priser'!$C$2:$H$4,1))*HLOOKUP(F203,'Variable priser'!$C$2:$H$4,3))/F203*(1+Genanskaffelsespriser!$D$203)),\"Fejl\"))","v":"Variabel pris"},"","",1,1]
["Pumpe inkl. stigrør og forerørsforsejlinger mv. 198","m³/h ",15,null,null,null,"","",null,{"$f":"IF(E204=0,\"Variabel pris\",IFERROR(((HLOOKUP(E204,'Variable priser'!$C$2:$H$4,2)+(E204-HLOOKUP(E204,'Variable priser'!$C$2:$H$4,1))*HLOOKUP(E204,'Variable priser'!$C$2:$H$4,3))/E204*(1+Genanskaffelsespriser!$D$203)),\"Fejl\"))","v":"Variabel pris"},{"$f":"IF(F204=0,\"Variabel pris\",IFERROR(((HLOOKUP(F204,'Variable priser'!$C$2:$H$4,2)+(F204-HLOOKUP(F204,'Variable priser'!$C$2:$H$4,1))*HLOOKUP(F204,'Variable priser'!$C$2:$H$4,3))/F204*(1+Genanskaffelsespriser!$D$203)),\"Fejl\"))","v":"Variabel pris"},"","",1,1]
["Pumpe inkl. stigrør og forerørsforsejlinger mv. 199","m³/h ",15,null,null,null,"","",null,{"$f":"IF(E205=0,\"Variabel pris\",IFERROR(((HLOOKUP(E205,'Variable priser'!$C$2:$H$4,2)+(E205-HLOOKUP(E205,'Variable priser'!$C$2:$H$4,1))*HLOOKUP(E205,'Variable priser'!$C$2:$H$4,3))/E205*(1+Genanskaffelsespriser!$D$203)),\"Fejl\"))","v":"Variabel pris"},{"$f":"IF(F205=0,\"Variabel pris\",IFERROR(((HLOOKUP(F205,'Variable priser'!$C$2:$H$4,2)+(F205-HLOOKUP(F205,'Variable priser'!$C$2:$H$4,1))*HLOOKUP(F205,'Variable priser'!$C$2:$H$4,3))/F205*(1+Genanskaffelsespriser!$D$203)),\"Fejl\"))","v":"Variabel pris"},"","",1,1]
["Pumpe inkl. stigrør og forerørsforsejlinger mv. 200","m³/h ",15,null,null,null,"","",null,{"$f":"IF(E206=0,\"Variabel pris\",IFERROR(((HLOOKUP(E206,'Variable priser'!$C$2:$H$4,2)+(E206-HLOOKUP(E206,'Variable priser'!$C$2:$H$4,1))*HLOOKUP(E206,'Variable priser'!$C$2:$H$4,3))/E206*(1+Genanskaffelsespriser!$D$203)),\"Fejl\"))","v":"Variabel pris"},{"$f":"IF(F206=0,\"Variabel pris\",IFERROR(((HLOOKUP(F206,'Variable priser'!$C$2:$H$4,2)+(F206-HLOOKUP(F206,'Variable priser'!$C$2:$H$4,1))*HLOOKUP(F206,'Variable priser'!$C$2:$H$4,3))/F206*(1+Genanskaffelsespriser!$D$203)),\"Fejl\"))","v":"Variabel pris"},"","",1,1]
["Pumpe inkl. stigrør og forerørsforsejlinger mv. 201","m³/h ",15,null,null,null,"","",null,{"$f":"IF(E207=0,\"Variabel pris\",IFERROR(((HLOOKUP(E207,'Variable priser'!$C$2:$H$4,2)+(E207-HLOOKUP(E207,'Variable priser'!$C$2:$H$4,1))*HLOOKUP(E207,'Variable priser'!$C$2:$H$4,3))/E207*(1+Genanskaffelsespriser!$D$203)),\"Fejl\"))","v":"Variabel pris"},{"$f":"IF(F207=0,\"Variabel pris\",IFERROR(((HLOOKUP(F207,'Variable priser'!$C$2:$H$4,2)+(F207-HLOOKUP(F207,'Variable priser'!$C$2:$H$4,1))*HLOOKUP(F207,'Variable priser'!$C$2:$H$4,3))/F207*(1+Genanskaffelsespriser!$D$203)),\"Fejl\"))","v":"Variabel pris"},"","",1,1]
["Pumpe inkl. stigrør og forerørsforsejlinger mv. 202","m³/h ",15,null,null,null,"","",null,{"$f":"IF(E208=0,\"Variabel pris\",IFERROR(((HLOOKUP(E208,'Variable priser'!$C$2:$H$4,2)+(E208-HLOOKUP(E208,'Variable priser'!$C$2:$H$4,1))*HLOOKUP(E208,'Variable priser'!$C$2:$H$4,3))/E208*(1+Genanskaffelsespriser!$D$203)),\"Fejl\"))","v":"Variabel pris"},{"$f":"IF(F208=0,\"Variabel pris\",IFERROR(((HLOOKUP(F208,'Variable priser'!$C$2:$H$4,2)+(F208-HLOOKUP(F208,'Variable priser'!$C$2:$H$4,1))*HLOOKUP(F208,'Variable priser'!$C$2:$H$4,3))/F208*(1+Genanskaffelsespriser!$D$203)),\"Fejl\"))","v":"Variabel pris"},"","",1,1]
["Pumpe inkl. stigrør og forerørsforsejlinger mv. 203","m³/h ",15,null,null,null,"","",null,{"$f":"IF(E209=0,\"Variabel pris\",IFERROR(((HLOOKUP(E209,'Variable priser'!$C$2:$H$4,2)+(E209-HLOOKUP(E209,'Variable priser'!$C$2:$H$4,1))*HLOOKUP(E209,'Variable priser'!$C$2:$H$4,3))/E209*(1+Genanskaffelsespriser!$D$203)),\"Fejl\"))","v":"Variabel pris"},{"$f":"IF(F209=0,\"Variabel pris\",IFERROR(((HLOOKUP(F209,'Variable priser'!$C$2:$H$4,2)+(F209-HLOOKUP(F209,'Variable priser'!$C$2:$H$4,1))*HLOOKUP(F209,'Variable priser'!$C$2:$H$4,3))/F209*(1+Genanskaffelsespriser!$D$203)),\"Fejl\"))","v":"Variabel pris"},{"$f":"IF(ISBLANK(E209),\"\",IF(E209=0,\"\",IF(ISNUMBER(E209),((J209*E209)/C209)*N209,\"\")))","v":""},{"$f":"IF(ISBLANK(F209),\"\",IF(F209=0,\"\",IF(ISNUMBER(F209),((K209*F209)/C209)*N209,\"\")))","v":""},1,1]
["Pumpe inkl. stigrør og forerørsforsejlinger mv. 204","m³/h ",15,null,null,null,"","",null,{"$f":"IF(E210=0,\"Variabel pris\",IFERROR(((HLOOKUP(E210,'Variable priser'!$C$2:$H$4,2)+(E210-HLOOKUP(E210,'Variable priser'!$C$2:$H$4,1))*HLOOKUP(E210,'Variable priser'!$C$2:$H$4,3))/E210*(1+Genanskaffelsespriser!$D$203)),\"Fejl\"))","v":"Variabel pris"},{"$f":"IF(F210=0,\"Variabel pris\",IFERROR(((HLOOKUP(F210,'Variable priser'!$C$2:$H$4,2)+(F210-HLOOKUP(F210,'Variable priser'!$C$2:$H$4,1))*HLOOKUP(F210,'Variable priser'!$C$2:$H$4,3))/F210*(1+Genanskaffelsespriser!$D$203)),\"Fejl\"))","v":"Variabel pris"},"","",1,1]
["Pumpe inkl. stigrør og forerørsforsejlinger mv. 205","m³/h ",15,null,null,null,"","",null,{"$f":"IF(E211=0,\"Variabel pris\",IFERROR(((HLOOKUP(E211,'Variable priser'!$C$2:$H$4,2)+(E211-HLOOKUP(E211,'Variable priser'!$C$2:$H$4,1))*HLOOKUP(E211,'Variable priser'!$C$2:$H$4,3))/E211*(1+Genanskaffelsespriser!$D$203)),\"Fejl\"))","v":"Variabel pris"},{"$f":"IF(F211=0,\"Variabel pris\",IFERROR(((HLOOKUP(F211,'Variable priser'!$C$2:$H$4,2)+(F211-HLOOKUP(F211,'Variable priser'!$C$2:$H$4,1))*HLOOKUP(F211,'Variable priser'!$C$2:$H$4,3))/F211*(1+Genanskaffelsespriser!$D$203)),\"Fejl\"))","v":"Variabel pris"},"","",1,1]
["Hegn","stk.",{"$f":"Genanskaffelsespriser!E11","v":15},434,432,432,-4.608294930875576E-3,0,"ny optælling",{"$f":"Genanskaffelsespriser!$D11","v":88588.835999999996},{"$f":"J212","v":88588.835999999996},2551358.4767999998,2551358.4767999998,1,1]
["Elanlæg","boring",{"$f":"Genanskaffelsespriser!E12","v":20},510,522,521,2.3529411764705882E-2,-1.9157088122605363E-3,"ny optælling",{"$f":"Genanskaffelsespriser!$D12","v":112677.30899999999},{"$f":"J213","v":112677.30899999999},2940877.7648999998,2935243.8994499999,1,1]
["SRO anlæg","boring",{"$f":"Genanskaffelsespriser!E13","v":10},410,399,399,-2.6829268292682926E-2,0,"ny optælling",{"$f":"Genanskaffelsespriser!$D13","v":30338.471999999998},30338.471999999998,1210505.0327999999,1210505.0327999999,1,1]
["Råvandsledninger - Land"]
["Ø 50mm < Ledningsnet ≤ Ø110 mm","meter",{"$f":"Genanskaffelsespriser!E15","v":75},124,133.33637519524504,133.8778578214789,7.5293348348750316E-2,4.0610270486276722E-3,"GIS opdatering",{"$f":"Genanskaffelsespriser!$D15","v":367.09799999999996},{"$f":"J216","v":367.09799999999996},652.63355548565414,655.28391800732345,1,1]
["Ø110 mm < Ledningsnet ≤ Ø 250 mm","meter",{"$f":"Genanskaffelsespriser!E16","v":75},31244.872054991301,30261.123494537613,37283.907902867009,-3.1485120461440232E-2,0.23207282471178139,"GIS opdatering",{"$f":"Genanskaffelsespriser!$D16","v":1055.6659999999999},{"$f":"J217","v":1055.6659999999999},425941.85593312723,524791.38560250669,1,1]
["Ø 250 mm < Ledningsnet ≤ Ø 500mm","meter",{"$f":"Genanskaffelsespriser!E17","v":75},109451.91985482207,99530.349036865708,105796.51504124055,-9.0647755024456572E-2,6.2957339796466255E-2,"GIS opdatering",{"$f":"Genanskaffelsespriser!$D17","v":2421.395},2421.395,3213363.8600816191,3415668.7005104623,1,1]
["Ledningsnet > Ø 500 mm","meter",{"$f":"Genanskaffelsespriser!E18","v":75},42496.627079982551,42330.771464394769,42335.159732846019,-3.9027948094710169E-3,1.0366615819749705E-4,"GIS opdatering",{"$f":"Genanskaffelsespriser!$D18","v":5215.0729999999994},5215.0729999999994,2943440.8444418083,2943745.9796460327,1,1]
["Råvandsledninger - By"]
["Ø 50mm < Ledningsnet ≤ Ø110 mm","meter",{"$f":"Genanskaffelsespriser!E20","v":75},130,18.272807537660285,23.986350110241879,-0.85943994201799778,0.31268006083936334,"GIS opdatering",{"$f":"Genanskaffelsespriser!$D20","v":993.44599999999991},{"$f":"J221","v":993.44599999999991},242.04063409411276,317.72191428825801,1,1]
["Ø110 mm < Ledningsnet ≤ Ø 250 mm","meter",{"$f":"Genanskaffelsespriser!E21","v":75},4536.1051762830693,4203.6883543972544,4203.6883543972544,-7.328243260845213E-2,0,"GIS opdatering",{"$f":"Genanskaffelsespriser!$D21","v":1746.3079999999998},{"$f":"J222","v":1746.3079999999998},97879.128037210132,97879.128037210132,1,1]
["Ø 250 mm < Ledningsnet ≤ Ø 500mm","meter",{"$f":"Genanskaffelsespriser!E22","v":75},8485.3948074723939,6590.1328494422605,6590.1328494422605,-0.22335577790218211,0,"GIS opdatering",{"$f":"Genanskaffelsespriser!$D22","v":3269.6609999999996},3269.6609999999996,287300.00483520306,287300.00483520306,1,1]
["Ledningsnet > Ø 500 mm","meter",{"$f":"Genanskaffelsespriser!E23","v":75},2456.8495727105333,2456.8495727105324,2456.8495727105324,-3.7018737812650168E-16,0,null,{"$f":"Genanskaffelsespriser!$D23","v":6219.9259999999995},6219.9259999999995,203752.30047188172,203752.30047188172,1,1]
["Råvandsledninger - City"]
["Ø 50mm < Ledningsnet ≤ Ø110 mm","meter",{"$f":"Genanskaffelsespriser!E25","v":75},null,null,null,"","",null,{"$f":"Genanskaffelsespriser!$D25","v":1550.3149999999998},{"$f":"J226","v":1550.3149999999998},"","",1,1]
["Ø110 mm < Ledningsnet ≤ Ø 250 mm","meter",{"$f":"Genanskaffelsespriser!E26","v":75},132.0698914833655,76,76,-0.42454711557348124,0,"GIS opdatering",{"$f":"Genanskaffelsespriser!$D26","v":2273.1039999999998},{"$f":"J227","v":2273.1039999999998},2303.412053333333,2303.412053333333,1,1]
["Ø 250 mm < Ledningsnet ≤ Ø 500mm","meter",{"$f":"Genanskaffelsespriser!E27","v":75},676.4313538022509,676,676,-6.376904320390199E-4,0,null,{"$f":"Genanskaffelsespriser!$D27","v":3912.6009999999997},3912.6009999999997,35265.577013333328,35265.577013333328,1,1]
["Ledningsnet > Ø 500 mm","meter",{"$f":"Genanskaffelsespriser!E28","v":75},104.78467753089105,104.78467753089105,105,0,2.0549041537630984E-3,null,{"$f":"Genanskaffelsespriser!$D28","v":6981.0839999999998},6981.0839999999998,9753.4751434141726,9773.5175999999992,1,1]
["Vandværk 1"]
["Beluftningsanlæg, iltningstrappe, Konstruktioner","m³/h ",{"$f":"Genanskaffelsespriser!$E$30","v":50},1041,1041,1041,0,0,null,{"$f":"IF(E231=0,\"Variabel pris\",IFERROR((HLOOKUP(E231,'Variable priser'!$C$6:$H$16,2)+(E231-HLOOKUP(E231,'Variable priser'!$C$6:$H$16,1))*HLOOKUP(E231,'Variable priser'!$C$6:$H$16,3))/E231*'Variable priser'!$K$7*(1+Genanskaffelsespriser!$D$203),\"Fejl\"))","v":1940.8174326157157},{"$f":"IF(F231=0,\"Variabel pris\",IFERROR((HLOOKUP(F231,'Variable priser'!$C$6:$H$16,2)+(F231-HLOOKUP(F231,'Variable priser'!$C$6:$H$16,1))*HLOOKUP(F231,'Variable priser'!$C$6:$H$16,3))/F231*'Variable priser'!$K$7*(1+Genanskaffelsespriser!$D$203),\"Fejl\"))","v":1940.8174326157157},{"$f":"IF(ISBLANK(E231),\"\",IF(E231=0,\"\",IF(ISNUMBER(E231),((J231*E231)/C231)*N231,\"\")))","v":40407.818947059197},{"$f":"IF(ISBLANK(F231),\"\",IF(F231=0,\"\",IF(ISNUMBER(F231),((K231*F231)/C231)*N231,\"\")))","v":40407.818947059197},1,1]
["Beluftningsanlæg, iltningstrappe, Mek./EL","m³/h ",{"$f":"Genanskaffelsespriser!$E$31","v":25},1041,1041,1041,0,0,null,{"$f":"IF(E232=0,\"Variabel pris\",IFERROR((HLOOKUP(E232,'Variable priser'!$C$6:$H$16,2)+(E232-HLOOKUP(E232,'Variable priser'!$C$6:$H$16,1))*HLOOKUP(E232,'Variable priser'!$C$6:$H$16,3))/E232*'Variable priser'!$L$7*(1+Genanskaffelsespriser!$D$203),\"Fejl\"))","v":485.20435815392892},{"$f":"IF(F232=0,\"Variabel pris\",IFERROR((HLOOKUP(F232,'Variable priser'!$C$6:$H$16,2)+(F232-HLOOKUP(F232,'Variable priser'!$C$6:$H$16,1))*HLOOKUP(F232,'Variable priser'!$C$6:$H$16,3))/F232*'Variable priser'!$L$7*(1+Genanskaffelsespriser!$D$203),\"Fejl\"))","v":485.20435815392892},{"$f":"IF(ISBLANK(E232),\"\",IF(E232=0,\"\",IF(ISNUMBER(E232),((J232*E232)/C232)*N232,\"\")))","v":20203.909473529598},{"$f":"IF(ISBLANK(F232),\"\",IF(F232=0,\"\",IF(ISNUMBER(F232),((K232*F232)/C232)*N232,\"\")))","v":20203.909473529598},1,1]
["Beluftningsanlæg, ika-beluftning, Konstruktioner","m³/h ",{"$f":"Genanskaffelsespriser!$E$32","v":50},0,0,0,0,0,null,{"$f":"IF(E233=0,\"Variabel pris\",IFERROR((HLOOKUP(E233,'Variable priser'!$C$6:$H$16,4)+(E233-HLOOKUP(E233,'Variable priser'!$C$6:$H$16,1))*HLOOKUP(E233,'Variable priser'!$C$6:$H$16,5))/E233*'Variable priser'!$K$9*(1+Genanskaffelsespriser!$D$203),\"Fejl\"))","v":"Variabel pris"},{"$f":"IF(F233=0,\"Variabel pris\",IFERROR((HLOOKUP(F233,'Variable priser'!$C$6:$H$16,4)+(F233-HLOOKUP(F233,'Variable priser'!$C$6:$H$16,1))*HLOOKUP(F233,'Variable priser'!$C$6:$H$16,5))/F233*'Variable priser'!$K$9*(1+Genanskaffelsespriser!$D$203),\"Fejl\"))","v":"Variabel pris"},"","",1,1]
["Beluftningsanlæg, ika-beluftning, Mek./EL","m³/h ",{"$f":"Genanskaffelsespriser!$E$33","v":25},0,0,0,0,0,null,{"$f":"IF(E234=0,\"Variabel pris\",IFERROR((HLOOKUP(E234,'Variable priser'!$C$6:$H$16,4)+(E234-HLOOKUP(E234,'Variable priser'!$C$6:$H$16,1))*HLOOKUP(E234,'Variable priser'!$C$6:$H$16,5))/E234*'Variable priser'!$L$9*(1+Genanskaffelsespriser!$D$203),\"Fejl\"))","v":"Variabel pris"},{"$f":"IF(F234=0,\"Variabel pris\",IFERROR((HLOOKUP(F234,'Variable priser'!$C$6:$H$16,4)+(F234-HLOOKUP(F234,'Variable priser'!$C$6:$H$16,1))*HLOOKUP(F234,'Variable priser'!$C$6:$H$16,5))/F234*'Variable priser'!$L$9*(1+Genanskaffelsespriser!$D$203),\"Fejl\"))","v":"Variabel pris"},"","",1,1]
["Beluftningsanlæg, bundbeluftbning, Konstruktioner","m³/h ",{"$f":"Genanskaffelsespriser!$E$34","v":50},0,0,0,0,0,null,{"$f":"IF(E235=0,\"Variabel pris\",IFERROR((HLOOKUP(E235,'Variable priser'!$C$6:$H$16,6)+(E235-HLOOKUP(E235,'Variable priser'!$C$6:$H$16,1))*HLOOKUP(E235,'Variable priser'!$C$6:$H$16,7))/E235*'Variable priser'!$K$17*(1+Genanskaffelsespriser!$D$203),\"Fejl\"))","v":"Variabel pris"},{"$f":"IF(F235=0,\"Variabel pris\",IFERROR((HLOOKUP(F235,'Variable priser'!$C$6:$H$16,6)+(F235-HLOOKUP(F235,'Variable priser'!$C$6:$H$16,1))*HLOOKUP(F235,'Variable priser'!$C$6:$H$16,7))/F235*'Variable priser'!$K$17*(1+Genanskaffelsespriser!$D$203),\"Fejl\"))","v":"Variabel pris"},"","",1,1]
["Beluftningsanlæg, bundbeluftbning, Mek./EL","m³/h ",{"$f":"Genanskaffelsespriser!$E$35","v":25},0,0,0,0,0,null,{"$f":"IF(E236=0,\"Variabel pris\",IFERROR((HLOOKUP(E236,'Variable priser'!$C$6:$H$16,6)+(E236-HLOOKUP(E236,'Variable priser'!$C$6:$H$16,1))*HLOOKUP(E236,'Variable priser'!$C$6:$H$16,7))/E236*'Variable priser'!$L$17*(1+Genanskaffelsespriser!$D$203),\"Fejl\"))","v":"Variabel pris"},{"$f":"IF(F236=0,\"Variabel pris\",IFERROR((HLOOKUP(F236,'Variable priser'!$C$6:$H$16,6)+(F236-HLOOKUP(F236,'Variable priser'!$C$6:$H$16,1))*HLOOKUP(F236,'Variable priser'!$C$6:$H$16,7))/F236*'Variable priser'!$L$17*(1+Genanskaffelsespriser!$D$203),\"Fejl\"))","v":"Variabel pris"},"","",1,1]
["Beluftningsanlæg, rislebakke, Konstruktioner","m³/h ",{"$f":"Genanskaffelsespriser!$E$36","v":50},0,0,0,0,0,null,{"$f":"IF(E237=0,\"Variabel pris\",IFERROR((HLOOKUP(E237,'Variable priser'!$C$6:$H$18,12)+(E237-HLOOKUP(E237,'Variable priser'!$C$6:$H$18,1))*HLOOKUP(E237,'Variable priser'!$C$6:$H$18,13))/E237*'Variable priser'!$K$17*(1+Genanskaffelsespriser!$D$203),\"Fejl\"))","v":"Variabel pris"},{"$f":"IF(F237=0,\"Variabel pris\",IFERROR((HLOOKUP(F237,'Variable priser'!$C$6:$H$18,12)+(F237-HLOOKUP(F237,'Variable priser'!$C$6:$H$18,1))*HLOOKUP(F237,'Variable priser'!$C$6:$H$18,13))/F237*'Variable priser'!$K$17*(1+Genanskaffelsespriser!$D$203),\"Fejl\"))","v":"Variabel pris"},"","",1,1]
["Beluftningsanlæg, rislebakke, Mek./EL","m³/h ",{"$f":"Genanskaffelsespriser!$E$37","v":25},0,0,0,0,0,null,{"$f":"IF(E238=0,\"Variabel pris\",IFERROR((HLOOKUP(E238,'Variable priser'!$C$6:$H$18,12)+(E238-HLOOKUP(E238,'Variable priser'!$C$6:$H$18,1))*HLOOKUP(E238,'Variable priser'!$C$6:$H$18,13))/E238*'Variable priser'!$L$17*(1+Genanskaffelsespriser!$D$203),\"Fejl\"))","v":"Variabel pris"},{"$f":"IF(F238=0,\"Variabel pris\",IFERROR((HLOOKUP(F238,'Variable priser'!$C$6:$H$18,12)+(F238-HLOOKUP(F238,'Variable priser'!$C$6:$H$18,1))*HLOOKUP(F238,'Variable priser'!$C$6:$H$18,13))/F238*'Variable priser'!$L$17*(1+Genanskaffelsespriser!$D$203),\"Fejl\"))","v":"Variabel pris"},"","",1,1]
["Beluftningsanlæg, kompressorbeluftning","m³/h ",{"$f":"Genanskaffelsespriser!$E$38","v":25},0,0,0,0,0,null,{"$f":"IF(E239=0,\"Variabel pris\",IFERROR((HLOOKUP(E239,'Variable priser'!$C$6:$H$16,8)+(E239-HLOOKUP(E239,'Variable priser'!$C$6:$H$16,1))*HLOOKUP(E239,'Variable priser'!$C$6:$H$16,9))/E239*(1+Genanskaffelsespriser!$D$203),\"Fejl\"))","v":"Variabel pris"},{"$f":"IF(F239=0,\"Variabel pris\",IFERROR((HLOOKUP(F239,'Variable priser'!$C$6:$H$16,8)+(F239-HLOOKUP(F239,'Variable priser'!$C$6:$H$16,1))*HLOOKUP(F239,'Variable priser'!$C$6:$H$16,9))/F239*(1+Genanskaffelsespriser!$D$203),\"Fejl\"))","v":"Variabel pris"},"","",1,1]
["Beluftningsanlæg, ren ilt","m³/h ",{"$f":"Genanskaffelsespriser!$E$39","v":25},0,0,0,0,0,null,{"$f":"IF(E240=0,\"Variabel pris\",IFERROR((HLOOKUP(E240,'Variable priser'!$C$6:$H$16,10)+(E240-HLOOKUP(E240,'Variable priser'!$C$6:$H$16,1))*HLOOKUP(E240,'Variable priser'!$C$6:$H$16,11))/E240*(1+Genanskaffelsespriser!$D$203),\"Fejl\"))","v":"Variabel pris"},{"$f":"IF(F240=0,\"Variabel pris\",IFERROR((HLOOKUP(F240,'Variable priser'!$C$6:$H$16,10)+(F240-HLOOKUP(F240,'Variable priser'!$C$6:$H$16,1))*HLOOKUP(F240,'Variable priser'!$C$6:$H$16,11))/F240*(1+Genanskaffelsespriser!$D$203),\"Fejl\"))","v":"Variabel pris"},"","",1,1]
["Behandlingsanlæg, kalk anlæg","m³/h ",{"$f":"Genanskaffelsespriser!$E$40","v":25},0,0,0,0,0,null,{"$f":"IF(E241=0,\"Variabel pris\",IFERROR((HLOOKUP(E241,'Variable priser'!$C$20:$G$24,3)+(E241-HLOOKUP(E241,'Variable priser'!$C$20:$G$24,1))*HLOOKUP(E241,'Variable priser'!$C$20:$G$24,4))/E241*(1+Genanskaffelsespriser!$D$203),\"Fejl\"))","v":"Variabel pris"},{"$f":"IF(F241=0,\"Variabel pris\",IFERROR((HLOOKUP(F241,'Variable priser'!$C$20:$G$24,3)+(F241-HLOOKUP(F241,'Variable priser'!$C$20:$G$24,1))*HLOOKUP(F241,'Variable priser'!$C$20:$G$24,4))/F241*(1+Genanskaffelsespriser!$D$203),\"Fejl\"))","v":"Variabel pris"},"","",1,1]
["Behandlingsanlæg, luddosering","m³/h ",{"$f":"Genanskaffelsespriser!$E$41","v":25},0,0,0,0,0,null,{"$f":"IF(E242=0,\"Variabel pris\",IFERROR((HLOOKUP(E242,'Variable priser'!$C$20:$G$25,5)+(E242-HLOOKUP(E242,'Variable priser'!$C$20:$G$25,1))*HLOOKUP(E242,'Variable priser'!$C$20:$G$25,6))/E242*(1+Genanskaffelsespriser!$D$203),\"Fejl\"))","v":"Variabel pris"},{"$f":"IF(F242=0,\"Variabel pris\",IFERROR((HLOOKUP(F242,'Variable priser'!$C$20:$G$25,5)+(F242-HLOOKUP(F242,'Variable priser'!$C$20:$G$25,1))*HLOOKUP(F242,'Variable priser'!$C$20:$G$25,6))/F242*(1+Genanskaffelsespriser!$D$203),\"Fejl\"))","v":"Variabel pris"},"","",1,1]
["Filteranlæg, åbne filtre, enkelt filtrering, Konstruktioner","m³/h ",{"$f":"Genanskaffelsespriser!$E$42","v":50},0,0,0,0,0,null,{"$f":"IF(E243=0,\"Variabel pris\",IFERROR((HLOOKUP(E243,'Variable priser'!$C$28:$G$38,9)+(E243-HLOOKUP(E243,'Variable priser'!$C$28:$G$38,1))*HLOOKUP(E243,'Variable priser'!$C$28:$G$38,10))/E243*'Variable priser'!$K$31*(1+Genanskaffelsespriser!$D$203),\"Fejl\"))","v":"Variabel pris"},{"$f":"IF(F243=0,\"Variabel pris\",IFERROR((HLOOKUP(F243,'Variable priser'!$C$28:$G$38,9)+(F243-HLOOKUP(F243,'Variable priser'!$C$28:$G$38,1))*HLOOKUP(F243,'Variable priser'!$C$28:$G$38,10))/F243*'Variable priser'!$K$31*(1+Genanskaffelsespriser!$D$203),\"Fejl\"))","v":"Variabel pris"},"","",1,1]
["Filteranlæg, åbne filtre, enkelt filtrering, Mek./EL","m³/h ",{"$f":"Genanskaffelsespriser!$E$43","v":25},0,0,0,0,0,null,{"$f":"IF(E244=0,\"Variabel pris\",IFERROR((HLOOKUP(E244,'Variable priser'!$C$28:$G$38,9)+(E244-HLOOKUP(E244,'Variable priser'!$C$28:$G$38,1))*HLOOKUP(E244,'Variable priser'!$C$28:$G$38,10))/E244*'Variable priser'!$L$31*(1+Genanskaffelsespriser!$D$203),\"Fejl\"))","v":"Variabel pris"},{"$f":"IF(F244=0,\"Variabel pris\",IFERROR((HLOOKUP(F244,'Variable priser'!$C$28:$G$38,9)+(F244-HLOOKUP(F244,'Variable priser'!$C$28:$G$38,1))*HLOOKUP(F244,'Variable priser'!$C$28:$G$38,10))/F244*'Variable priser'!$L$31*(1+Genanskaffelsespriser!$D$203),\"Fejl\"))","v":"Variabel pris"},"","",1,1]
["Filteranlæg, åbne filtre, dobbelt filtrering, Konstruktioner","m³/h ",{"$f":"Genanskaffelsespriser!$E$44","v":50},1041,1041,1041,0,0,null,{"$f":"IF(E245=0,\"Variabel pris\",IFERROR((HLOOKUP(E245,'Variable priser'!$C$28:$G$38,6)+(E245-HLOOKUP(E245,'Variable priser'!$C$28:$G$38,1))*HLOOKUP(E245,'Variable priser'!$C$28:$G$38,7))/E245*'Variable priser'!$K$31*(1+Genanskaffelsespriser!$D$203),\"Fejl\"))","v":6394.6523167490941},{"$f":"IF(F245=0,\"Variabel pris\",IFERROR((HLOOKUP(F245,'Variable priser'!$C$28:$G$38,6)+(F245-HLOOKUP(F245,'Variable priser'!$C$28:$G$38,1))*HLOOKUP(F245,'Variable priser'!$C$28:$G$38,7))/F245*'Variable priser'!$K$31*(1+Genanskaffelsespriser!$D$203),\"Fejl\"))","v":6394.6523167490941},133136.66123471613,133136.66123471613,1,1]
["Filteranlæg, åbne filtre, dobbelt filtrering, Mek./EL","m³/h ",{"$f":"Genanskaffelsespriser!$E$45","v":25},1041,1041,1041,0,0,null,{"$f":"IF(E246=0,\"Variabel pris\",IFERROR((HLOOKUP(E246,'Variable priser'!$C$28:$G$38,6)+(E246-HLOOKUP(E246,'Variable priser'!$C$28:$G$38,1))*HLOOKUP(E246,'Variable priser'!$C$28:$G$38,7))/E246*'Variable priser'!$L$31*(1+Genanskaffelsespriser!$D$203),\"Fejl\"))","v":9591.9784751236402},{"$f":"IF(F246=0,\"Variabel pris\",IFERROR((HLOOKUP(F246,'Variable priser'!$C$28:$G$38,6)+(F246-HLOOKUP(F246,'Variable priser'!$C$28:$G$38,1))*HLOOKUP(F246,'Variable priser'!$C$28:$G$38,7))/F246*'Variable priser'!$L$31*(1+Genanskaffelsespriser!$D$203),\"Fejl\"))","v":9591.9784751236402},399409.98370414838,399409.98370414838,1,1]
["Filteranlæg, trykfiltre, enkelt filtrering","m³/h ",{"$f":"Genanskaffelsespriser!$E$46","v":25},0,0,0,0,0,null,{"$f":"IF(E247=0,\"Variabel pris\",IFERROR((HLOOKUP(E247,'Variable priser'!$C$40:$H$42,2)+(E247-HLOOKUP(E247,'Variable priser'!$C$40:$H$42,1))*HLOOKUP(E247,'Variable priser'!$C$40:$H$42,3))/E247*(1+Genanskaffelsespriser!$D$203),\"Fejl\"))","v":"Variabel pris"},{"$f":"IF(F247=0,\"Variabel pris\",IFERROR((HLOOKUP(F247,'Variable priser'!$C$40:$H$42,2)+(F247-HLOOKUP(F247,'Variable priser'!$C$40:$H$42,1))*HLOOKUP(F247,'Variable priser'!$C$40:$H$42,3))/F247*(1+Genanskaffelsespriser!$D$203),\"Fejl\"))","v":"Variabel pris"},"","",1,1]
["Filteranlæg, trykfiltre, dobbelt filtrering","m³/h ",{"$f":"Genanskaffelsespriser!$E$47","v":25},0,0,0,0,0,null,{"$f":"IF(E248=0,\"Variabel pris\",IFERROR((HLOOKUP(E248,'Variable priser'!$C$44:$H$46,2)+(E248-HLOOKUP(E248,'Variable priser'!$C$44:$H$46,1))*HLOOKUP(E248,'Variable priser'!$C$44:$H$46,3))/E248*(1+Genanskaffelsespriser!$D$203),\"Fejl\"))","v":"Variabel pris"},{"$f":"IF(F248=0,\"Variabel pris\",IFERROR((HLOOKUP(F248,'Variable priser'!$C$44:$H$46,2)+(F248-HLOOKUP(F248,'Variable priser'!$C$44:$H$46,1))*HLOOKUP(F248,'Variable priser'!$C$44:$H$46,3))/F248*(1+Genanskaffelsespriser!$D$203),\"Fejl\"))","v":"Variabel pris"},"","",1,1]
["Rentvandsbeholder  insitu støbt","m³",{"$f":"Genanskaffelsespriser!$E$48","v":50},10000,10000,10000,{"$f":"IF($D249=\"\",IF($E249>0,\"Ny data\",IF($E249=\"\",\"\",0)),IF($D249=0,IF($E249=0,0,\"Ny data\"),($E249-$D249)/$D249))","v":0},0,null,{"$f":"IF(E249=0,\"Variabel pris\",IFERROR((HLOOKUP(E249,'Variable priser'!$C$48:$H$50,2)+(E249-HLOOKUP(E249,'Variable priser'!$C$48:$H$50,1))*HLOOKUP(E249,'Variable priser'!$C$48:$H$50,3))/E249*(1+Genanskaffelsespriser!$D$203),\"Fejl\"))","v":1968.9046874640005},{"$f":"IF(F249=0,\"Variabel pris\",IFERROR((HLOOKUP(F249,'Variable priser'!$C$48:$H$50,2)+(F249-HLOOKUP(F249,'Variable priser'!$C$48:$H$50,1))*HLOOKUP(F249,'Variable priser'!$C$48:$H$50,3))/F249*(1+Genanskaffelsespriser!$D$203),\"Fejl\"))","v":1968.9046874640005},393780.93749280012,393780.93749280012,1,1]
["Rentvandsbeholder  element","m³",{"$f":"Genanskaffelsespriser!$E$49","v":50},0,0,0,0,0,null,{"$f":"IF(E250=0,\"Variabel pris\",IFERROR((HLOOKUP(E250,'Variable priser'!$C$52:$H$54,2)+(E250-HLOOKUP(E250,'Variable priser'!$C$52:$H$54,1))*HLOOKUP(E250,'Variable priser'!$C$52:$H$54,3))/E250*(1+Genanskaffelsespriser!$D$203),\"Fejl\"))","v":"Variabel pris"},{"$f":"IF(F250=0,\"Variabel pris\",IFERROR((HLOOKUP(F250,'Variable priser'!$C$52:$H$54,2)+(F250-HLOOKUP(F250,'Variable priser'!$C$52:$H$54,1))*HLOOKUP(F250,'Variable priser'!$C$52:$H$54,3))/F250*(1+Genanskaffelsespriser!$D$203),\"Fejl\"))","v":"Variabel pris"},"","",1,1]
["Udpumpningsanlæg, rentvandspumper på vandværk","m³/h ",{"$f":"Genanskaffelsespriser!$E$50","v":25},0,0,0,0,0,null,{"$f":"IF(E251=0,\"Variabel pris\",IFERROR((HLOOKUP(E251,'Variable priser'!$C$71:$H$73,2)+(E251-HLOOKUP(E251,'Variable priser'!$C$71:$H$73,1))*HLOOKUP(E251,'Variable priser'!$C$71:$H$73,3))/E251*(1+Genanskaffelsespriser!$D$203),\"Fejl\"))","v":"Variabel pris"},{"$f":"IF(F251=0,\"Variabel pris\",IFERROR((HLOOKUP(F251,'Variable priser'!$C$71:$H$73,2)+(F251-HLOOKUP(F251,'Variable priser'!$C$71:$H$73,1))*HLOOKUP(F251,'Variable priser'!$C$71:$H$73,3))/F251*(1+Genanskaffelsespriser!$D$203),\"Fejl\"))","v":"Variabel pris"},"","",1,1]
["Udpumpningsanlæg, frekvensomformer","kW",{"$f":"Genanskaffelsespriser!$E$51","v":25},2550,2550,2550,0,0,null,{"$f":"IF(E252=0,\"Variabel pris\",IFERROR((HLOOKUP(E252,'Variable priser'!$C$76:$J$78,2)+(E252-HLOOKUP(E252,'Variable priser'!$C$76:$J$78,1))*HLOOKUP(E252,'Variable priser'!$C$76:$J$78,3))/E252*(1+Genanskaffelsespriser!$D$203),\"Fejl\"))","v":1847.7319192000052},{"$f":"IF(F252=0,\"Variabel pris\",IFERROR((HLOOKUP(F252,'Variable priser'!$C$76:$J$78,2)+(F252-HLOOKUP(F252,'Variable priser'!$C$76:$J$78,1))*HLOOKUP(F252,'Variable priser'!$C$76:$J$78,3))/F252*(1+Genanskaffelsespriser!$D$203),\"Fejl\"))","v":1847.7319192000052},188468.65575840053,188468.65575840053,1,1]
["Udpumpningsanlæg, Hydrofor","liter",{"$f":"Genanskaffelsespriser!$E$52","v":25},0,0,0,0,0,null,{"$f":"IF(E253=0,\"Variabel pris\",IFERROR((HLOOKUP(E253,'Variable priser'!$C$81:$J$83,2)+(E253-HLOOKUP(E253,'Variable priser'!$C$81:$J$83,1))*HLOOKUP(E253,'Variable priser'!$C$81:$J$83,3))/E253*(1+Genanskaffelsespriser!$D$203),\"Fejl\"))","v":"Variabel pris"},{"$f":"IF(F253=0,\"Variabel pris\",IFERROR((HLOOKUP(F253,'Variable priser'!$C$81:$J$83,2)+(F253-HLOOKUP(F253,'Variable priser'!$C$81:$J$83,1))*HLOOKUP(F253,'Variable priser'!$C$81:$J$83,3))/F253*(1+Genanskaffelsespriser!$D$203),\"Fejl\"))","v":"Variabel pris"},"","",1,1]
["Skyllevand-/slamhåndteringsanlæg - lukkede betonbeholdere","m³",{"$f":"Genanskaffelsespriser!$E$53","v":50},950,950,950,0,0,null,{"$f":"IF(E254=0,\"Variabel pris\",IFERROR((HLOOKUP(E254,'Variable priser'!$C$59:$H$61,2)+(E254-HLOOKUP(E254,'Variable priser'!$C$59:$H$61,1))*HLOOKUP(E254,'Variable priser'!$C$59:$H$61,3))/E254*(1+Genanskaffelsespriser!$D$203),\"Fejl\"))","v":3441.606482954779},{"$f":"IF(F254=0,\"Variabel pris\",IFERROR((HLOOKUP(F254,'Variable priser'!$C$59:$H$61,2)+(F254-HLOOKUP(F254,'Variable priser'!$C$59:$H$61,1))*HLOOKUP(F254,'Variable priser'!$C$59:$H$61,3))/F254*(1+Genanskaffelsespriser!$D$203),\"Fejl\"))","v":3441.606482954779},65390.523176140807,65390.523176140807,1,1]
["Skyllevand-/slamhåndteringsanl. - åbne med faste sider/bund","m³",{"$f":"Genanskaffelsespriser!$E$54","v":50},0,0,0,0,0,null,{"$f":"IF(E255=0,\"Variabel pris\",IFERROR((HLOOKUP(E255,'Variable priser'!$C$59:$H$64,5)+(E255-HLOOKUP(E255,'Variable priser'!$C$59:$H$64,1))*HLOOKUP(E255,'Variable priser'!$C$59:$H$64,6))/E255*(1+Genanskaffelsespriser!$D$203),\"Fejl\"))","v":"Variabel pris"},{"$f":"IF(F255=0,\"Variabel pris\",IFERROR((HLOOKUP(F255,'Variable priser'!$C$59:$H$64,5)+(F255-HLOOKUP(F255,'Variable priser'!$C$59:$H$64,1))*HLOOKUP(F255,'Variable priser'!$C$59:$H$64,6))/F255*(1+Genanskaffelsespriser!$D$203),\"Fejl\"))","v":"Variabel pris"},"","",1,1]
["Skyllevand-/slamhåndteringsanlæg - jordbassiner","m³",{"$f":"Genanskaffelsespriser!$E$55","v":50},0,0,0,0,0,null,{"$f":"IF(E256=0,\"Variabel pris\",IFERROR((HLOOKUP(E256,'Variable priser'!$C$59:$H$67,8)+(E256-HLOOKUP(E256,'Variable priser'!$C$59:$H$67,1))*HLOOKUP(E256,'Variable priser'!$C$59:$H$67,9))/E256*(1+Genanskaffelsespriser!$D$203),\"Fejl\"))","v":"Variabel pris"},{"$f":"IF(F256=0,\"Variabel pris\",IFERROR((HLOOKUP(F256,'Variable priser'!$C$59:$H$67,8)+(F256-HLOOKUP(F256,'Variable priser'!$C$59:$H$67,1))*HLOOKUP(F256,'Variable priser'!$C$59:$H$67,9))/F256*(1+Genanskaffelsespriser!$D$203),\"Fejl\"))","v":"Variabel pris"},"","",1,1]
["Skyllevandsbehandling, inkl. UV-filter mv., Mek./EL","m³/h.",{"$f":"Genanskaffelsespriser!$E$56","v":25},10,10,10,0,0,null,{"$f":"IF(E257=0,\"Variabel pris\",IFERROR((HLOOKUP(E257,'Variable priser'!$C$108:$E$110,2)+(E257-HLOOKUP(E257,'Variable priser'!$C$108:$E$110,1))*HLOOKUP(E257,'Variable priser'!$C$108:$E$110,3))/E257*'Variable priser'!$H$109*(1+Genanskaffelsespriser!$D$203),\"Fejl\"))","v":22725.411682499998},{"$f":"IF(F257=0,\"Variabel pris\",IFERROR((HLOOKUP(F257,'Variable priser'!$C$108:$E$110,2)+(F257-HLOOKUP(F257,'Variable priser'!$C$108:$E$110,1))*HLOOKUP(F257,'Variable priser'!$C$108:$E$110,3))/F257*'Variable priser'!$H$109*(1+Genanskaffelsespriser!$D$203),\"Fejl\"))","v":22725.411682499998},9090.1646729999993,9090.1646729999993,1,1]
["Skyllevandsbehandling, inkl. UV-filter mv., SRO","m³/h.",{"$f":"Genanskaffelsespriser!$E$57","v":10},10,10,10,0,0,null,{"$f":"IF(E258=0,\"Variabel pris\",IFERROR((HLOOKUP(E258,'Variable priser'!$C$108:$E$110,2)+(E258-HLOOKUP(E258,'Variable priser'!$C$108:$E$110,1))*HLOOKUP(E258,'Variable priser'!$C$108:$E$110,3))/E258*'Variable priser'!$I$109*(1+Genanskaffelsespriser!$D$203),\"Fejl\"))","v":4010.3667674999992},{"$f":"IF(F258=0,\"Variabel pris\",IFERROR((HLOOKUP(F258,'Variable priser'!$C$108:$E$110,2)+(F258-HLOOKUP(F258,'Variable priser'!$C$108:$E$110,1))*HLOOKUP(F258,'Variable priser'!$C$108:$E$110,3))/F258*'Variable priser'!$I$109*(1+Genanskaffelsespriser!$D$203),\"Fejl\"))","v":4010.3667674999992},4010.3667674999988,4010.3667674999988,1,1]
["Nødstrømsanlæg på vandværk","kW",{"$f":"Genanskaffelsespriser!$E$58","v":25},800,800,800,0,0,null,{"$f":"IF(E259=0,\"Variabel pris\",IFERROR((HLOOKUP(E259,'Variable priser'!$C$86:$H$88,2)+(E259-HLOOKUP(E259,'Variable priser'!$C$86:$H$88,1))*HLOOKUP(E259,'Variable priser'!$C$86:$H$88,3))/E259*(1+Genanskaffelsespriser!$D$203),\"Fejl\"))","v":4614.3867834749999},{"$f":"IF(F259=0,\"Variabel pris\",IFERROR((HLOOKUP(F259,'Variable priser'!$C$86:$H$88,2)+(F259-HLOOKUP(F259,'Variable priser'!$C$86:$H$88,1))*HLOOKUP(F259,'Variable priser'!$C$86:$H$88,3))/F259*(1+Genanskaffelsespriser!$D$203),\"Fejl\"))","v":4614.3867834749999},147660.3770712,147660.3770712,1,1]
["Elanlæg og SRO-anlæg - vandværk, Elanlæg","m³/h.",{"$f":"Genanskaffelsespriser!$E$59","v":25},1041,1041,1041,0,0,null,{"$f":"IF(E260=0,\"Variabel pris\",IFERROR((HLOOKUP(E260,'Variable priser'!$C$91:$J$95,4)+(E260-HLOOKUP(E260,'Variable priser'!$C$91:$J$95,1))*HLOOKUP(E260,'Variable priser'!$C$91:$J$95,5))/E260*(1+Genanskaffelsespriser!$D$203),\"Fejl\"))","v":1708.510795673631},{"$f":"IF(F260=0,\"Variabel pris\",IFERROR((HLOOKUP(F260,'Variable priser'!$C$91:$J$95,4)+(F260-HLOOKUP(F260,'Variable priser'!$C$91:$J$95,1))*HLOOKUP(F260,'Variable priser'!$C$91:$J$95,5))/F260*(1+Genanskaffelsespriser!$D$203),\"Fejl\"))","v":1708.510795673631},71142.38953185,71142.38953185,1,1]
["Elanlæg og SRO-anlæg - vandværk, SRO","m³/h.",{"$f":"Genanskaffelsespriser!$E$60","v":10},1041,1041,1041,0,0,null,{"$f":"IF(E261=0,\"Variabel pris\",IFERROR((HLOOKUP(E261,'Variable priser'!$C$91:$J$98,7)+(E261-HLOOKUP(E261,'Variable priser'!$C$91:$J$98,1))*HLOOKUP(E261,'Variable priser'!$C$91:$J$98,8))/E261*(1+Genanskaffelsespriser!$D$203),\"Fejl\"))","v":607.07544764265128},{"$f":"IF(F261=0,\"Variabel pris\",IFERROR((HLOOKUP(F261,'Variable priser'!$C$91:$J$98,7)+(F261-HLOOKUP(F261,'Variable priser'!$C$91:$J$98,1))*HLOOKUP(F261,'Variable priser'!$C$91:$J$98,8))/F261*(1+Genanskaffelsespriser!$D$203),\"Fejl\"))","v":607.07544764265128},63196.554099599991,63196.554099599991,1,1]
["Vandværk 2"]
["Beluftningsanlæg, iltningstrappe, Konstruktioner","m³/h ",{"$f":"Genanskaffelsespriser!$E$30","v":50},2125,2125,2125,0,{"$f":"IF($E263=\"\",IF($F263>0,\"Ny data\",IF($F263=\"\",\"\",0)),IF($E263=0,IF($F263=0,0,\"Ny data\"),($F263-$E263)/$E263))","v":0},null,{"$f":"IF(E263=0,\"Variabel pris\",IFERROR((HLOOKUP(E263,'Variable priser'!$C$6:$H$16,2)+(E263-HLOOKUP(E263,'Variable priser'!$C$6:$H$16,1))*HLOOKUP(E263,'Variable priser'!$C$6:$H$16,3))/E263*'Variable priser'!$K$7*(1+Genanskaffelsespriser!$D$203),\"Fejl\"))","v":1814.5499590399997},{"$f":"IF(F263=0,\"Variabel pris\",IFERROR((HLOOKUP(F263,'Variable priser'!$C$6:$H$16,2)+(F263-HLOOKUP(F263,'Variable priser'!$C$6:$H$16,1))*HLOOKUP(F263,'Variable priser'!$C$6:$H$16,3))/F263*'Variable priser'!$K$7*(1+Genanskaffelsespriser!$D$203),\"Fejl\"))","v":1814.5499590399997},{"$f":"IF(ISBLANK(E263),\"\",IF(E263=0,\"\",IF(ISNUMBER(E263),((J263*E263)/C263)*N263,\"\")))","v":77118.373259199987},{"$f":"IF(ISBLANK(F263),\"\",IF(F263=0,\"\",IF(ISNUMBER(F263),((K263*F263)/C263)*N263,\"\")))","v":77118.373259199987},1,1]
["Beluftningsanlæg, iltningstrappe, Mek./EL","m³/h ",{"$f":"Genanskaffelsespriser!$E$31","v":25},2125,2125,2125,0,0,null,{"$f":"IF(E264=0,\"Variabel pris\",IFERROR((HLOOKUP(E264,'Variable priser'!$C$6:$H$16,2)+(E264-HLOOKUP(E264,'Variable priser'!$C$6:$H$16,1))*HLOOKUP(E264,'Variable priser'!$C$6:$H$16,3))/E264*'Variable priser'!$L$7*(1+Genanskaffelsespriser!$D$203),\"Fejl\"))","v":453.63748975999994},{"$f":"IF(F264=0,\"Variabel pris\",IFERROR((HLOOKUP(F264,'Variable priser'!$C$6:$H$16,2)+(F264-HLOOKUP(F264,'Variable priser'!$C$6:$H$16,1))*HLOOKUP(F264,'Variable priser'!$C$6:$H$16,3))/F264*'Variable priser'!$L$7*(1+Genanskaffelsespriser!$D$203),\"Fejl\"))","v":453.63748975999994},{"$f":"IF(ISBLANK(E264),\"\",IF(E264=0,\"\",IF(ISNUMBER(E264),((J264*E264)/C264)*N264,\"\")))","v":38559.186629599993},{"$f":"IF(ISBLANK(F264),\"\",IF(F264=0,\"\",IF(ISNUMBER(F264),((K264*F264)/C264)*N264,\"\")))","v":38559.186629599993},1,1]
["Beluftningsanlæg, ika-beluftning, Konstruktioner","m³/h ",{"$f":"Genanskaffelsespriser!$E$32","v":50},0,0,0,0,0,null,{"$f":"IF(E265=0,\"Variabel pris\",IFERROR((HLOOKUP(E265,'Variable priser'!$C$6:$H$16,4)+(E265-HLOOKUP(E265,'Variable priser'!$C$6:$H$16,1))*HLOOKUP(E265,'Variable priser'!$C$6:$H$16,5))/E265*'Variable priser'!$K$9*(1+Genanskaffelsespriser!$D$203),\"Fejl\"))","v":"Variabel pris"},{"$f":"IF(F265=0,\"Variabel pris\",IFERROR((HLOOKUP(F265,'Variable priser'!$C$6:$H$16,4)+(F265-HLOOKUP(F265,'Variable priser'!$C$6:$H$16,1))*HLOOKUP(F265,'Variable priser'!$C$6:$H$16,5))/F265*'Variable priser'!$K$9*(1+Genanskaffelsespriser!$D$203),\"Fejl\"))","v":"Variabel pris"},"","",1,1]
["Beluftningsanlæg, ika-beluftning, Mek./EL","m³/h ",{"$f":"Genanskaffelsespriser!$E$33","v":25},0,0,0,0,0,null,{"$f":"IF(E266=0,\"Variabel pris\",IFERROR((HLOOKUP(E266,'Variable priser'!$C$6:$H$16,4)+(E266-HLOOKUP(E266,'Variable priser'!$C$6:$H$16,1))*HLOOKUP(E266,'Variable priser'!$C$6:$H$16,5))/E266*'Variable priser'!$L$9*(1+Genanskaffelsespriser!$D$203),\"Fejl\"))","v":"Variabel pris"},{"$f":"IF(F266=0,\"Variabel pris\",IFERROR((HLOOKUP(F266,'Variable priser'!$C$6:$H$16,4)+(F266-HLOOKUP(F266,'Variable priser'!$C$6:$H$16,1))*HLOOKUP(F266,'Variable priser'!$C$6:$H$16,5))/F266*'Variable priser'!$L$9*(1+Genanskaffelsespriser!$D$203),\"Fejl\"))","v":"Variabel pris"},"","",1,1]
["Beluftningsanlæg, bundbeluftbning, Konstruktioner","m³/h ",{"$f":"Genanskaffelsespriser!$E$34","v":50},0,0,0,0,0,null,{"$f":"IF(E267=0,\"Variabel pris\",IFERROR((HLOOKUP(E267,'Variable priser'!$C$6:$H$16,6)+(E267-HLOOKUP(E267,'Variable priser'!$C$6:$H$16,1))*HLOOKUP(E267,'Variable priser'!$C$6:$H$16,7))/E267*'Variable priser'!$K$17*(1+Genanskaffelsespriser!$D$203),\"Fejl\"))","v":"Variabel pris"},{"$f":"IF(F267=0,\"Variabel pris\",IFERROR((HLOOKUP(F267,'Variable priser'!$C$6:$H$16,6)+(F267-HLOOKUP(F267,'Variable priser'!$C$6:$H$16,1))*HLOOKUP(F267,'Variable priser'!$C$6:$H$16,7))/F267*'Variable priser'!$K$17*(1+Genanskaffelsespriser!$D$203),\"Fejl\"))","v":"Variabel pris"},"","",1,1]
["Beluftningsanlæg, bundbeluftbning, Mek./EL","m³/h ",{"$f":"Genanskaffelsespriser!$E$35","v":25},0,0,0,0,0,null,{"$f":"IF(E268=0,\"Variabel pris\",IFERROR((HLOOKUP(E268,'Variable priser'!$C$6:$H$16,6)+(E268-HLOOKUP(E268,'Variable priser'!$C$6:$H$16,1))*HLOOKUP(E268,'Variable priser'!$C$6:$H$16,7))/E268*'Variable priser'!$L$17*(1+Genanskaffelsespriser!$D$203),\"Fejl\"))","v":"Variabel pris"},{"$f":"IF(F268=0,\"Variabel pris\",IFERROR((HLOOKUP(F268,'Variable priser'!$C$6:$H$16,6)+(F268-HLOOKUP(F268,'Variable priser'!$C$6:$H$16,1))*HLOOKUP(F268,'Variable priser'!$C$6:$H$16,7))/F268*'Variable priser'!$L$17*(1+Genanskaffelsespriser!$D$203),\"Fejl\"))","v":"Variabel pris"},"","",1,1]
["Beluftningsanlæg, rislebakke, Konstruktioner","m³/h ",{"$f":"Genanskaffelsespriser!$E$36","v":50},0,0,0,0,0,null,{"$f":"IF(E269=0,\"Variabel pris\",IFERROR((HLOOKUP(E269,'Variable priser'!$C$6:$H$18,12)+(E269-HLOOKUP(E269,'Variable priser'!$C$6:$H$18,1))*HLOOKUP(E269,'Variable priser'!$C$6:$H$18,13))/E269*'Variable priser'!$K$17*(1+Genanskaffelsespriser!$D$203),\"Fejl\"))","v":"Variabel pris"},{"$f":"IF(F269=0,\"Variabel pris\",IFERROR((HLOOKUP(F269,'Variable priser'!$C$6:$H$18,12)+(F269-HLOOKUP(F269,'Variable priser'!$C$6:$H$18,1))*HLOOKUP(F269,'Variable priser'!$C$6:$H$18,13))/F269*'Variable priser'!$K$17*(1+Genanskaffelsespriser!$D$203),\"Fejl\"))","v":"Variabel pris"},"","",1,1]
["Beluftningsanlæg, rislebakke, Mek./EL","m³/h ",{"$f":"Genanskaffelsespriser!$E$37","v":25},0,0,0,0,0,null,{"$f":"IF(E270=0,\"Variabel pris\",IFERROR((HLOOKUP(E270,'Variable priser'!$C$6:$H$18,12)+(E270-HLOOKUP(E270,'Variable priser'!$C$6:$H$18,1))*HLOOKUP(E270,'Variable priser'!$C$6:$H$18,13))/E270*'Variable priser'!$L$17*(1+Genanskaffelsespriser!$D$203),\"Fejl\"))","v":"Variabel pris"},{"$f":"IF(F270=0,\"Variabel pris\",IFERROR((HLOOKUP(F270,'Variable priser'!$C$6:$H$18,12)+(F270-HLOOKUP(F270,'Variable priser'!$C$6:$H$18,1))*HLOOKUP(F270,'Variable priser'!$C$6:$H$18,13))/F270*'Variable priser'!$L$17*(1+Genanskaffelsespriser!$D$203),\"Fejl\"))","v":"Variabel pris"},"","",1,1]
["Beluftningsanlæg, kompressorbeluftning","m³/h ",{"$f":"Genanskaffelsespriser!$E$38","v":25},0,0,0,0,0,null,{"$f":"IF(E271=0,\"Variabel pris\",IFERROR((HLOOKUP(E271,'Variable priser'!$C$6:$H$16,8)+(E271-HLOOKUP(E271,'Variable priser'!$C$6:$H$16,1))*HLOOKUP(E271,'Variable priser'!$C$6:$H$16,9))/E271*(1+Genanskaffelsespriser!$D$203),\"Fejl\"))","v":"Variabel pris"},{"$f":"IF(F271=0,\"Variabel pris\",IFERROR((HLOOKUP(F271,'Variable priser'!$C$6:$H$16,8)+(F271-HLOOKUP(F271,'Variable priser'!$C$6:$H$16,1))*HLOOKUP(F271,'Variable priser'!$C$6:$H$16,9))/F271*(1+Genanskaffelsespriser!$D$203),\"Fejl\"))","v":"Variabel pris"},"","",1,1]
["Beluftningsanlæg, ren ilt","m³/h ",{"$f":"Genanskaffelsespriser!$E$39","v":25},0,0,0,0,0,null,{"$f":"IF(E272=0,\"Variabel pris\",IFERROR((HLOOKUP(E272,'Variable priser'!$C$6:$H$16,10)+(E272-HLOOKUP(E272,'Variable priser'!$C$6:$H$16,1))*HLOOKUP(E272,'Variable priser'!$C$6:$H$16,11))/E272*(1+Genanskaffelsespriser!$D$203),\"Fejl\"))","v":"Variabel pris"},{"$f":"IF(F272=0,\"Variabel pris\",IFERROR((HLOOKUP(F272,'Variable priser'!$C$6:$H$16,10)+(F272-HLOOKUP(F272,'Variable priser'!$C$6:$H$16,1))*HLOOKUP(F272,'Variable priser'!$C$6:$H$16,11))/F272*(1+Genanskaffelsespriser!$D$203),\"Fejl\"))","v":"Variabel pris"},"","",1,1]
["Behandlingsanlæg, kalk anlæg","m³/h ",{"$f":"Genanskaffelsespriser!$E$40","v":25},0,0,0,0,0,null,{"$f":"IF(E273=0,\"Variabel pris\",IFERROR((HLOOKUP(E273,'Variable priser'!$C$20:$G$24,3)+(E273-HLOOKUP(E273,'Variable priser'!$C$20:$G$24,1))*HLOOKUP(E273,'Variable priser'!$C$20:$G$24,4))/E273*(1+Genanskaffelsespriser!$D$203),\"Fejl\"))","v":"Variabel pris"},{"$f":"IF(F273=0,\"Variabel pris\",IFERROR((HLOOKUP(F273,'Variable priser'!$C$20:$G$24,3)+(F273-HLOOKUP(F273,'Variable priser'!$C$20:$G$24,1))*HLOOKUP(F273,'Variable priser'!$C$20:$G$24,4))/F273*(1+Genanskaffelsespriser!$D$203),\"Fejl\"))","v":"Variabel pris"},"","",1,1]
["Behandlingsanlæg, luddosering","m³/h ",{"$f":"Genanskaffelsespriser!$E$41","v":25},0,0,0,0,0,null,{"$f":"IF(E274=0,\"Variabel pris\",IFERROR((HLOOKUP(E274,'Variable priser'!$C$20:$G$25,5)+(E274-HLOOKUP(E274,'Variable priser'!$C$20:$G$25,1))*HLOOKUP(E274,'Variable priser'!$C$20:$G$25,6))/E274*(1+Genanskaffelsespriser!$D$203),\"Fejl\"))","v":"Variabel pris"},{"$f":"IF(F274=0,\"Variabel pris\",IFERROR((HLOOKUP(F274,'Variable priser'!$C$20:$G$25,5)+(F274-HLOOKUP(F274,'Variable priser'!$C$20:$G$25,1))*HLOOKUP(F274,'Variable priser'!$C$20:$G$25,6))/F274*(1+Genanskaffelsespriser!$D$203),\"Fejl\"))","v":"Variabel pris"},"","",1,1]
["Filteranlæg, åbne filtre, enkelt filtrering, Konstruktioner","m³/h ",{"$f":"Genanskaffelsespriser!$E$42","v":50},0,0,0,0,0,null,{"$f":"IF(E275=0,\"Variabel pris\",IFERROR((HLOOKUP(E275,'Variable priser'!$C$28:$G$38,9)+(E275-HLOOKUP(E275,'Variable priser'!$C$28:$G$38,1))*HLOOKUP(E275,'Variable priser'!$C$28:$G$38,10))/E275*'Variable priser'!$K$31*(1+Genanskaffelsespriser!$D$203),\"Fejl\"))","v":"Variabel pris"},{"$f":"IF(F275=0,\"Variabel pris\",IFERROR((HLOOKUP(F275,'Variable priser'!$C$28:$G$38,9)+(F275-HLOOKUP(F275,'Variable priser'!$C$28:$G$38,1))*HLOOKUP(F275,'Variable priser'!$C$28:$G$38,10))/F275*'Variable priser'!$K$31*(1+Genanskaffelsespriser!$D$203),\"Fejl\"))","v":"Variabel pris"},"","",1,1]
["Filteranlæg, åbne filtre, enkelt filtrering, Mek./EL","m³/h ",{"$f":"Genanskaffelsespriser!$E$43","v":25},0,0,0,0,0,null,{"$f":"IF(E276=0,\"Variabel pris\",IFERROR((HLOOKUP(E276,'Variable priser'!$C$28:$G$38,9)+(E276-HLOOKUP(E276,'Variable priser'!$C$28:$G$38,1))*HLOOKUP(E276,'Variable priser'!$C$28:$G$38,10))/E276*'Variable priser'!$L$31*(1+Genanskaffelsespriser!$D$203),\"Fejl\"))","v":"Variabel pris"},{"$f":"IF(F276=0,\"Variabel pris\",IFERROR((HLOOKUP(F276,'Variable priser'!$C$28:$G$38,9)+(F276-HLOOKUP(F276,'Variable priser'!$C$28:$G$38,1))*HLOOKUP(F276,'Variable priser'!$C$28:$G$38,10))/F276*'Variable priser'!$L$31*(1+Genanskaffelsespriser!$D$203),\"Fejl\"))","v":"Variabel pris"},"","",1,1]
["Filteranlæg, åbne filtre, dobbelt filtrering, Konstruktioner","m³/h ",{"$f":"Genanskaffelsespriser!$E$44","v":50},2125,2125,2125,0,0,null,{"$f":"IF(E277=0,\"Variabel pris\",IFERROR((HLOOKUP(E277,'Variable priser'!$C$28:$G$38,6)+(E277-HLOOKUP(E277,'Variable priser'!$C$28:$G$38,1))*HLOOKUP(E277,'Variable priser'!$C$28:$G$38,7))/E277*'Variable priser'!$K$31*(1+Genanskaffelsespriser!$D$203),\"Fejl\"))","v":6108.7605556991994},{"$f":"IF(F277=0,\"Variabel pris\",IFERROR((HLOOKUP(F277,'Variable priser'!$C$28:$G$38,6)+(F277-HLOOKUP(F277,'Variable priser'!$C$28:$G$38,1))*HLOOKUP(F277,'Variable priser'!$C$28:$G$38,7))/F277*'Variable priser'!$K$31*(1+Genanskaffelsespriser!$D$203),\"Fejl\"))","v":6108.7605556991994},259622.32361721597,259622.32361721597,1,1]
["Filteranlæg, åbne filtre, dobbelt filtrering, Mek./EL","m³/h ",{"$f":"Genanskaffelsespriser!$E$45","v":25},2125,2125,2125,0,0,null,{"$f":"IF(E278=0,\"Variabel pris\",IFERROR((HLOOKUP(E278,'Variable priser'!$C$28:$G$38,6)+(E278-HLOOKUP(E278,'Variable priser'!$C$28:$G$38,1))*HLOOKUP(E278,'Variable priser'!$C$28:$G$38,7))/E278*'Variable priser'!$L$31*(1+Genanskaffelsespriser!$D$203),\"Fejl\"))","v":9163.1408335487977},{"$f":"IF(F278=0,\"Variabel pris\",IFERROR((HLOOKUP(F278,'Variable priser'!$C$28:$G$38,6)+(F278-HLOOKUP(F278,'Variable priser'!$C$28:$G$38,1))*HLOOKUP(F278,'Variable priser'!$C$28:$G$38,7))/F278*'Variable priser'!$L$31*(1+Genanskaffelsespriser!$D$203),\"Fejl\"))","v":9163.1408335487977},778866.9708516479,778866.9708516479,1,1]
["Filteranlæg, trykfiltre, enkelt filtrering","m³/h ",{"$f":"Genanskaffelsespriser!$E$46","v":25},0,0,0,0,0,null,{"$f":"IF(E279=0,\"Variabel pris\",IFERROR((HLOOKUP(E279,'Variable priser'!$C$40:$H$42,2)+(E279-HLOOKUP(E279,'Variable priser'!$C$40:$H$42,1))*HLOOKUP(E279,'Variable priser'!$C$40:$H$42,3))/E279*(1+Genanskaffelsespriser!$D$203),\"Fejl\"))","v":"Variabel pris"},{"$f":"IF(F279=0,\"Variabel pris\",IFERROR((HLOOKUP(F279,'Variable priser'!$C$40:$H$42,2)+(F279-HLOOKUP(F279,'Variable priser'!$C$40:$H$42,1))*HLOOKUP(F279,'Variable priser'!$C$40:$H$42,3))/F279*(1+Genanskaffelsespriser!$D$203),\"Fejl\"))","v":"Variabel pris"},"","",1,1]
["Filteranlæg, trykfiltre, dobbelt filtrering","m³/h ",{"$f":"Genanskaffelsespriser!$E$47","v":25},0,0,0,0,0,null,{"$f":"IF(E280=0,\"Variabel pris\",IFERROR((HLOOKUP(E280,'Variable priser'!$C$44:$H$46,2)+(E280-HLOOKUP(E280,'Variable priser'!$C$44:$H$46,1))*HLOOKUP(E280,'Variable priser'!$C$44:$H$46,3))/E280*(1+Genanskaffelsespriser!$D$203),\"Fejl\"))","v":"Variabel pris"},{"$f":"IF(F280=0,\"Variabel pris\",IFERROR((HLOOKUP(F280,'Variable priser'!$C$44:$H$46,2)+(F280-HLOOKUP(F280,'Variable priser'!$C$44:$H$46,1))*HLOOKUP(F280,'Variable priser'!$C$44:$H$46,3))/F280*(1+Genanskaffelsespriser!$D$203),\"Fejl\"))","v":"Variabel pris"},"","",1,1]
["Rentvandsbeholder  insitu støbt","m³",{"$f":"Genanskaffelsespriser!$E$48","v":50},7100,7100,7100,0,0,null,{"$f":"IF(E281=0,\"Variabel pris\",IFERROR((HLOOKUP(E281,'Variable priser'!$C$48:$H$50,2)+(E281-HLOOKUP(E281,'Variable priser'!$C$48:$H$50,1))*HLOOKUP(E281,'Variable priser'!$C$48:$H$50,3))/E281*(1+Genanskaffelsespriser!$D$203),\"Fejl\"))","v":2078.0652351312679},{"$f":"IF(F281=0,\"Variabel pris\",IFERROR((HLOOKUP(F281,'Variable priser'!$C$48:$H$50,2)+(F281-HLOOKUP(F281,'Variable priser'!$C$48:$H$50,1))*HLOOKUP(F281,'Variable priser'!$C$48:$H$50,3))/F281*(1+Genanskaffelsespriser!$D$203),\"Fejl\"))","v":2078.0652351312679},295085.26338864001,295085.26338864001,1,1]
["Rentvandsbeholder  element","m³",{"$f":"Genanskaffelsespriser!$E$49","v":50},0,0,0,0,0,null,{"$f":"IF(E282=0,\"Variabel pris\",IFERROR((HLOOKUP(E282,'Variable priser'!$C$52:$H$54,2)+(E282-HLOOKUP(E282,'Variable priser'!$C$52:$H$54,1))*HLOOKUP(E282,'Variable priser'!$C$52:$H$54,3))/E282*(1+Genanskaffelsespriser!$D$203),\"Fejl\"))","v":"Variabel pris"},{"$f":"IF(F282=0,\"Variabel pris\",IFERROR((HLOOKUP(F282,'Variable priser'!$C$52:$H$54,2)+(F282-HLOOKUP(F282,'Variable priser'!$C$52:$H$54,1))*HLOOKUP(F282,'Variable priser'!$C$52:$H$54,3))/F282*(1+Genanskaffelsespriser!$D$203),\"Fejl\"))","v":"Variabel pris"},"","",1,1]
["Udpumpningsanlæg, rentvandspumper på vandværk","m³/h ",{"$f":"Genanskaffelsespriser!$E$50","v":25},4380,4380,4380,0,0,null,{"$f":"IF(E283=0,\"Variabel pris\",IFERROR((HLOOKUP(E283,'Variable priser'!$C$71:$H$73,2)+(E283-HLOOKUP(E283,'Variable priser'!$C$71:$H$73,1))*HLOOKUP(E283,'Variable priser'!$C$71:$H$73,3))/E283*(1+Genanskaffelsespriser!$D$203),\"Fejl\"))","v":879.58095350076098},{"$f":"IF(F283=0,\"Variabel pris\",IFERROR((HLOOKUP(F283,'Variable priser'!$C$71:$H$73,2)+(F283-HLOOKUP(F283,'Variable priser'!$C$71:$H$73,1))*HLOOKUP(F283,'Variable priser'!$C$71:$H$73,3))/F283*(1+Genanskaffelsespriser!$D$203),\"Fejl\"))","v":879.58095350076098},154102.58305333334,154102.58305333334,1,1]
["Udpumpningsanlæg, frekvensomformer","kW",{"$f":"Genanskaffelsespriser!$E$51","v":25},900,900,900,0,0,null,{"$f":"IF(E284=0,\"Variabel pris\",IFERROR((HLOOKUP(E284,'Variable priser'!$C$76:$J$78,2)+(E284-HLOOKUP(E284,'Variable priser'!$C$76:$J$78,1))*HLOOKUP(E284,'Variable priser'!$C$76:$J$78,3))/E284*(1+Genanskaffelsespriser!$D$203),\"Fejl\"))","v":1898.008517733339},{"$f":"IF(F284=0,\"Variabel pris\",IFERROR((HLOOKUP(F284,'Variable priser'!$C$76:$J$78,2)+(F284-HLOOKUP(F284,'Variable priser'!$C$76:$J$78,1))*HLOOKUP(F284,'Variable priser'!$C$76:$J$78,3))/F284*(1+Genanskaffelsespriser!$D$203),\"Fejl\"))","v":1898.008517733339},68328.306638400201,68328.306638400201,1,1]
["Udpumpningsanlæg, Hydrofor","liter",{"$f":"Genanskaffelsespriser!$E$52","v":25},0,0,0,0,0,null,{"$f":"IF(E285=0,\"Variabel pris\",IFERROR((HLOOKUP(E285,'Variable priser'!$C$81:$J$83,2)+(E285-HLOOKUP(E285,'Variable priser'!$C$81:$J$83,1))*HLOOKUP(E285,'Variable priser'!$C$81:$J$83,3))/E285*(1+Genanskaffelsespriser!$D$203),\"Fejl\"))","v":"Variabel pris"},{"$f":"IF(F285=0,\"Variabel pris\",IFERROR((HLOOKUP(F285,'Variable priser'!$C$81:$J$83,2)+(F285-HLOOKUP(F285,'Variable priser'!$C$81:$J$83,1))*HLOOKUP(F285,'Variable priser'!$C$81:$J$83,3))/F285*(1+Genanskaffelsespriser!$D$203),\"Fejl\"))","v":"Variabel pris"},"","",1,1]
["Skyllevand-/slamhåndteringsanlæg - lukkede betonbeholdere","m³",{"$f":"Genanskaffelsespriser!$E$53","v":50},0,0,0,0,0,null,{"$f":"IF(E286=0,\"Variabel pris\",IFERROR((HLOOKUP(E286,'Variable priser'!$C$59:$H$61,2)+(E286-HLOOKUP(E286,'Variable priser'!$C$59:$H$61,1))*HLOOKUP(E286,'Variable priser'!$C$59:$H$61,3))/E286*(1+Genanskaffelsespriser!$D$203),\"Fejl\"))","v":"Variabel pris"},{"$f":"IF(F286=0,\"Variabel pris\",IFERROR((HLOOKUP(F286,'Variable priser'!$C$59:$H$61,2)+(F286-HLOOKUP(F286,'Variable priser'!$C$59:$H$61,1))*HLOOKUP(F286,'Variable priser'!$C$59:$H$61,3))/F286*(1+Genanskaffelsespriser!$D$203),\"Fejl\"))","v":"Variabel pris"},"","",1,1]
["Skyllevand-/slamhåndteringsanl. - åbne med faste sider/bund","m³",{"$f":"Genanskaffelsespriser!$E$54","v":50},2746,2746,2746,0,0,null,{"$f":"IF(E287=0,\"Variabel pris\",IFERROR((HLOOKUP(E287,'Variable priser'!$C$59:$H$64,5)+(E287-HLOOKUP(E287,'Variable priser'!$C$59:$H$64,1))*HLOOKUP(E287,'Variable priser'!$C$59:$H$64,6))/E287*(1+Genanskaffelsespriser!$D$203),\"Fejl\"))","v":1536.3404342062424},{"$f":"IF(F287=0,\"Variabel pris\",IFERROR((HLOOKUP(F287,'Variable priser'!$C$59:$H$64,5)+(F287-HLOOKUP(F287,'Variable priser'!$C$59:$H$64,1))*HLOOKUP(F287,'Variable priser'!$C$59:$H$64,6))/F287*(1+Genanskaffelsespriser!$D$203),\"Fejl\"))","v":1536.3404342062424},84375.816646606836,84375.816646606836,1,1]
["Skyllevand-/slamhåndteringsanlæg - jordbassiner","m³",{"$f":"Genanskaffelsespriser!$E$55","v":50},5181,5181,5181,0,0,null,{"$f":"IF(E288=0,\"Variabel pris\",IFERROR((HLOOKUP(E288,'Variable priser'!$C$59:$H$67,8)+(E288-HLOOKUP(E288,'Variable priser'!$C$59:$H$67,1))*HLOOKUP(E288,'Variable priser'!$C$59:$H$67,9))/E288*(1+Genanskaffelsespriser!$D$203),\"Fejl\"))","v":225.73542219254216},{"$f":"IF(F288=0,\"Variabel pris\",IFERROR((HLOOKUP(F288,'Variable priser'!$C$59:$H$67,8)+(F288-HLOOKUP(F288,'Variable priser'!$C$59:$H$67,1))*HLOOKUP(F288,'Variable priser'!$C$59:$H$67,9))/F288*(1+Genanskaffelsespriser!$D$203),\"Fejl\"))","v":225.73542219254216},23390.704447591215,23390.704447591215,1,1]
["Skyllevandsbehandling, inkl. UV-filter mv., Mek./EL","m³/h.",{"$f":"Genanskaffelsespriser!$E$56","v":25},0,0,0,0,0,null,{"$f":"IF(E289=0,\"Variabel pris\",IFERROR((HLOOKUP(E289,'Variable priser'!$C$108:$E$110,2)+(E289-HLOOKUP(E289,'Variable priser'!$C$108:$E$110,1))*HLOOKUP(E289,'Variable priser'!$C$108:$E$110,3))/E289*'Variable priser'!$H$109*(1+Genanskaffelsespriser!$D$203),\"Fejl\"))","v":"Variabel pris"},{"$f":"IF(F289=0,\"Variabel pris\",IFERROR((HLOOKUP(F289,'Variable priser'!$C$108:$E$110,2)+(F289-HLOOKUP(F289,'Variable priser'!$C$108:$E$110,1))*HLOOKUP(F289,'Variable priser'!$C$108:$E$110,3))/F289*'Variable priser'!$H$109*(1+Genanskaffelsespriser!$D$203),\"Fejl\"))","v":"Variabel pris"},"","",1,1]
["Skyllevandsbehandling, inkl. UV-filter mv., SRO","m³/h.",{"$f":"Genanskaffelsespriser!$E$57","v":10},0,0,0,0,0,null,{"$f":"IF(E290=0,\"Variabel pris\",IFERROR((HLOOKUP(E290,'Variable priser'!$C$108:$E$110,2)+(E290-HLOOKUP(E290,'Variable priser'!$C$108:$E$110,1))*HLOOKUP(E290,'Variable priser'!$C$108:$E$110,3))/E290*'Variable priser'!$I$109*(1+Genanskaffelsespriser!$D$203),\"Fejl\"))","v":"Variabel pris"},{"$f":"IF(F290=0,\"Variabel pris\",IFERROR((HLOOKUP(F290,'Variable priser'!$C$108:$E$110,2)+(F290-HLOOKUP(F290,'Variable priser'!$C$108:$E$110,1))*HLOOKUP(F290,'Variable priser'!$C$108:$E$110,3))/F290*'Variable priser'!$I$109*(1+Genanskaffelsespriser!$D$203),\"Fejl\"))","v":"Variabel pris"},"","",1,1]
["Nødstrømsanlæg på vandværk","kW",{"$f":"Genanskaffelsespriser!$E$58","v":25},840,840,840,0,0,null,{"$f":"IF(E291=0,\"Variabel pris\",IFERROR((HLOOKUP(E291,'Variable priser'!$C$86:$H$88,2)+(E291-HLOOKUP(E291,'Variable priser'!$C$86:$H$88,1))*HLOOKUP(E291,'Variable priser'!$C$86:$H$88,3))/E291*(1+Genanskaffelsespriser!$D$203),\"Fejl\"))","v":4609.551589499999},{"$f":"IF(F291=0,\"Variabel pris\",IFERROR((HLOOKUP(F291,'Variable priser'!$C$86:$H$88,2)+(F291-HLOOKUP(F291,'Variable priser'!$C$86:$H$88,1))*HLOOKUP(F291,'Variable priser'!$C$86:$H$88,3))/F291*(1+Genanskaffelsespriser!$D$203),\"Fejl\"))","v":4609.551589499999},154880.93340719995,154880.93340719995,1,1]
["Elanlæg og SRO-anlæg - vandværk, Elanlæg","m³/h.",{"$f":"Genanskaffelsespriser!$E$59","v":25},2125,2125,2125,0,0,null,{"$f":"IF(E292=0,\"Variabel pris\",IFERROR((HLOOKUP(E292,'Variable priser'!$C$91:$J$95,4)+(E292-HLOOKUP(E292,'Variable priser'!$C$91:$J$95,1))*HLOOKUP(E292,'Variable priser'!$C$91:$J$95,5))/E292*(1+Genanskaffelsespriser!$D$203),\"Fejl\"))","v":1497.1255162499999},{"$f":"IF(F292=0,\"Variabel pris\",IFERROR((HLOOKUP(F292,'Variable priser'!$C$91:$J$95,4)+(F292-HLOOKUP(F292,'Variable priser'!$C$91:$J$95,1))*HLOOKUP(F292,'Variable priser'!$C$91:$J$95,5))/F292*(1+Genanskaffelsespriser!$D$203),\"Fejl\"))","v":1497.1255162499999},127255.66888124999,127255.66888124999,1,1]
["Elanlæg og SRO-anlæg - vandværk, SRO","m³/h.",{"$f":"Genanskaffelsespriser!$E$60","v":10},2125,2125,2125,0,0,null,{"$f":"IF(E293=0,\"Variabel pris\",IFERROR((HLOOKUP(E293,'Variable priser'!$C$91:$J$98,7)+(E293-HLOOKUP(E293,'Variable priser'!$C$91:$J$98,1))*HLOOKUP(E293,'Variable priser'!$C$91:$J$98,8))/E293*(1+Genanskaffelsespriser!$D$203),\"Fejl\"))","v":459.89554320000002},{"$f":"IF(F293=0,\"Variabel pris\",IFERROR((HLOOKUP(F293,'Variable priser'!$C$91:$J$98,7)+(F293-HLOOKUP(F293,'Variable priser'!$C$91:$J$98,1))*HLOOKUP(F293,'Variable priser'!$C$91:$J$98,8))/F293*(1+Genanskaffelsespriser!$D$203),\"Fejl\"))","v":459.89554320000002},97727.802930000005,97727.802930000005,1,1]
["Vandværk 3"]
["Beluftningsanlæg, iltningstrappe, Konstruktioner","m³/h ",{"$f":"Genanskaffelsespriser!$E$30","v":50},0,0,0,0,0,null,{"$f":"IF(E295=0,\"Variabel pris\",IFERROR((HLOOKUP(E295,'Variable priser'!$C$6:$H$16,2)+(E295-HLOOKUP(E295,'Variable priser'!$C$6:$H$16,1))*HLOOKUP(E295,'Variable priser'!$C$6:$H$16,3))/E295*'Variable priser'!$K$7*(1+Genanskaffelsespriser!$D$203),\"Fejl\"))","v":"Variabel pris"},{"$f":"IF(F295=0,\"Variabel pris\",IFERROR((HLOOKUP(F295,'Variable priser'!$C$6:$H$16,2)+(F295-HLOOKUP(F295,'Variable priser'!$C$6:$H$16,1))*HLOOKUP(F295,'Variable priser'!$C$6:$H$16,3))/F295*'Variable priser'!$K$7*(1+Genanskaffelsespriser!$D$203),\"Fejl\"))","v":"Variabel pris"},{"$f":"IF(ISBLANK(E295),\"\",IF(E295=0,\"\",IF(ISNUMBER(E295),((J295*E295)/C295)*N295,\"\")))","v":""},{"$f":"IF(ISBLANK(F295),\"\",IF(F295=0,\"\",IF(ISNUMBER(F295),((K295*F295)/C295)*N295,\"\")))","v":""},1,1]
["Beluftningsanlæg, iltningstrappe, Mek./EL","m³/h ",{"$f":"Genanskaffelsespriser!$E$31","v":25},0,0,0,0,0,null,{"$f":"IF(E296=0,\"Variabel pris\",IFERROR((HLOOKUP(E296,'Variable priser'!$C$6:$H$16,2)+(E296-HLOOKUP(E296,'Variable priser'!$C$6:$H$16,1))*HLOOKUP(E296,'Variable priser'!$C$6:$H$16,3))/E296*'Variable priser'!$L$7*(1+Genanskaffelsespriser!$D$203),\"Fejl\"))","v":"Variabel pris"},{"$f":"IF(F296=0,\"Variabel pris\",IFERROR((HLOOKUP(F296,'Variable priser'!$C$6:$H$16,2)+(F296-HLOOKUP(F296,'Variable priser'!$C$6:$H$16,1))*HLOOKUP(F296,'Variable priser'!$C$6:$H$16,3))/F296*'Variable priser'!$L$7*(1+Genanskaffelsespriser!$D$203),\"Fejl\"))","v":"Variabel pris"},{"$f":"IF(ISBLANK(E296),\"\",IF(E296=0,\"\",IF(ISNUMBER(E296),((J296*E296)/C296)*N296,\"\")))","v":""},{"$f":"IF(ISBLANK(F296),\"\",IF(F296=0,\"\",IF(ISNUMBER(F296),((K296*F296)/C296)*N296,\"\")))","v":""},1,1]
["Beluftningsanlæg, ika-beluftning, Konstruktioner","m³/h ",{"$f":"Genanskaffelsespriser!$E$32","v":50},0,0,0,0,0,null,{"$f":"IF(E297=0,\"Variabel pris\",IFERROR((HLOOKUP(E297,'Variable priser'!$C$6:$H$16,4)+(E297-HLOOKUP(E297,'Variable priser'!$C$6:$H$16,1))*HLOOKUP(E297,'Variable priser'!$C$6:$H$16,5))/E297*'Variable priser'!$K$9*(1+Genanskaffelsespriser!$D$203),\"Fejl\"))","v":"Variabel pris"},{"$f":"IF(F297=0,\"Variabel pris\",IFERROR((HLOOKUP(F297,'Variable priser'!$C$6:$H$16,4)+(F297-HLOOKUP(F297,'Variable priser'!$C$6:$H$16,1))*HLOOKUP(F297,'Variable priser'!$C$6:$H$16,5))/F297*'Variable priser'!$K$9*(1+Genanskaffelsespriser!$D$203),\"Fejl\"))","v":"Variabel pris"},"","",1,1]
["Beluftningsanlæg, ika-beluftning, Mek./EL","m³/h ",{"$f":"Genanskaffelsespriser!$E$33","v":25},0,0,0,0,0,null,{"$f":"IF(E298=0,\"Variabel pris\",IFERROR((HLOOKUP(E298,'Variable priser'!$C$6:$H$16,4)+(E298-HLOOKUP(E298,'Variable priser'!$C$6:$H$16,1))*HLOOKUP(E298,'Variable priser'!$C$6:$H$16,5))/E298*'Variable priser'!$L$9*(1+Genanskaffelsespriser!$D$203),\"Fejl\"))","v":"Variabel pris"},{"$f":"IF(F298=0,\"Variabel pris\",IFERROR((HLOOKUP(F298,'Variable priser'!$C$6:$H$16,4)+(F298-HLOOKUP(F298,'Variable priser'!$C$6:$H$16,1))*HLOOKUP(F298,'Variable priser'!$C$6:$H$16,5))/F298*'Variable priser'!$L$9*(1+Genanskaffelsespriser!$D$203),\"Fejl\"))","v":"Variabel pris"},"","",1,1]
["Beluftningsanlæg, bundbeluftbning, Konstruktioner","m³/h ",{"$f":"Genanskaffelsespriser!$E$34","v":50},1280,1280,1280,0,0,null,{"$f":"IF(E299=0,\"Variabel pris\",IFERROR((HLOOKUP(E299,'Variable priser'!$C$6:$H$16,6)+(E299-HLOOKUP(E299,'Variable priser'!$C$6:$H$16,1))*HLOOKUP(E299,'Variable priser'!$C$6:$H$16,7))/E299*'Variable priser'!$K$17*(1+Genanskaffelsespriser!$D$203),\"Fejl\"))","v":1491.9972269816244},{"$f":"IF(F299=0,\"Variabel pris\",IFERROR((HLOOKUP(F299,'Variable priser'!$C$6:$H$16,6)+(F299-HLOOKUP(F299,'Variable priser'!$C$6:$H$16,1))*HLOOKUP(F299,'Variable priser'!$C$6:$H$16,7))/F299*'Variable priser'!$K$17*(1+Genanskaffelsespriser!$D$203),\"Fejl\"))","v":1491.9972269816244},38195.129010729586,38195.129010729586,1,1]
["Beluftningsanlæg, bundbeluftbning, Mek./EL","m³/h ",{"$f":"Genanskaffelsespriser!$E$35","v":25},1280,1280,1280,0,0,null,{"$f":"IF(E300=0,\"Variabel pris\",IFERROR((HLOOKUP(E300,'Variable priser'!$C$6:$H$16,6)+(E300-HLOOKUP(E300,'Variable priser'!$C$6:$H$16,1))*HLOOKUP(E300,'Variable priser'!$C$6:$H$16,7))/E300*'Variable priser'!$L$17*(1+Genanskaffelsespriser!$D$203),\"Fejl\"))","v":639.42738299212465},{"$f":"IF(F300=0,\"Variabel pris\",IFERROR((HLOOKUP(F300,'Variable priser'!$C$6:$H$16,6)+(F300-HLOOKUP(F300,'Variable priser'!$C$6:$H$16,1))*HLOOKUP(F300,'Variable priser'!$C$6:$H$16,7))/F300*'Variable priser'!$L$17*(1+Genanskaffelsespriser!$D$203),\"Fejl\"))","v":639.42738299212465},32738.682009196786,32738.682009196786,1,1]
["Beluftningsanlæg, rislebakke, Konstruktioner","m³/h ",{"$f":"Genanskaffelsespriser!$E$36","v":50},0,0,0,0,0,null,{"$f":"IF(E301=0,\"Variabel pris\",IFERROR((HLOOKUP(E301,'Variable priser'!$C$6:$H$18,12)+(E301-HLOOKUP(E301,'Variable priser'!$C$6:$H$18,1))*HLOOKUP(E301,'Variable priser'!$C$6:$H$18,13))/E301*'Variable priser'!$K$17*(1+Genanskaffelsespriser!$D$203),\"Fejl\"))","v":"Variabel pris"},{"$f":"IF(F301=0,\"Variabel pris\",IFERROR((HLOOKUP(F301,'Variable priser'!$C$6:$H$18,12)+(F301-HLOOKUP(F301,'Variable priser'!$C$6:$H$18,1))*HLOOKUP(F301,'Variable priser'!$C$6:$H$18,13))/F301*'Variable priser'!$K$17*(1+Genanskaffelsespriser!$D$203),\"Fejl\"))","v":"Variabel pris"},"","",1,1]
["Beluftningsanlæg, rislebakke, Mek./EL","m³/h ",{"$f":"Genanskaffelsespriser!$E$37","v":25},0,0,0,0,0,null,{"$f":"IF(E302=0,\"Variabel pris\",IFERROR((HLOOKUP(E302,'Variable priser'!$C$6:$H$18,12)+(E302-HLOOKUP(E302,'Variable priser'!$C$6:$H$18,1))*HLOOKUP(E302,'Variable priser'!$C$6:$H$18,13))/E302*'Variable priser'!$L$17*(1+Genanskaffelsespriser!$D$203),\"Fejl\"))","v":"Variabel pris"},{"$f":"IF(F302=0,\"Variabel pris\",IFERROR((HLOOKUP(F302,'Variable priser'!$C$6:$H$18,12)+(F302-HLOOKUP(F302,'Variable priser'!$C$6:$H$18,1))*HLOOKUP(F302,'Variable priser'!$C$6:$H$18,13))/F302*'Variable priser'!$L$17*(1+Genanskaffelsespriser!$D$203),\"Fejl\"))","v":"Variabel pris"},"","",1,1]
["Beluftningsanlæg, kompressorbeluftning","m³/h ",{"$f":"Genanskaffelsespriser!$E$38","v":25},0,0,0,0,0,null,{"$f":"IF(E303=0,\"Variabel pris\",IFERROR((HLOOKUP(E303,'Variable priser'!$C$6:$H$16,8)+(E303-HLOOKUP(E303,'Variable priser'!$C$6:$H$16,1))*HLOOKUP(E303,'Variable priser'!$C$6:$H$16,9))/E303*(1+Genanskaffelsespriser!$D$203),\"Fejl\"))","v":"Variabel pris"},{"$f":"IF(F303=0,\"Variabel pris\",IFERROR((HLOOKUP(F303,'Variable priser'!$C$6:$H$16,8)+(F303-HLOOKUP(F303,'Variable priser'!$C$6:$H$16,1))*HLOOKUP(F303,'Variable priser'!$C$6:$H$16,9))/F303*(1+Genanskaffelsespriser!$D$203),\"Fejl\"))","v":"Variabel pris"},"","",1,1]
["Beluftningsanlæg, ren ilt","m³/h ",{"$f":"Genanskaffelsespriser!$E$39","v":25},0,0,0,0,0,null,{"$f":"IF(E304=0,\"Variabel pris\",IFERROR((HLOOKUP(E304,'Variable priser'!$C$6:$H$16,10)+(E304-HLOOKUP(E304,'Variable priser'!$C$6:$H$16,1))*HLOOKUP(E304,'Variable priser'!$C$6:$H$16,11))/E304*(1+Genanskaffelsespriser!$D$203),\"Fejl\"))","v":"Variabel pris"},{"$f":"IF(F304=0,\"Variabel pris\",IFERROR((HLOOKUP(F304,'Variable priser'!$C$6:$H$16,10)+(F304-HLOOKUP(F304,'Variable priser'!$C$6:$H$16,1))*HLOOKUP(F304,'Variable priser'!$C$6:$H$16,11))/F304*(1+Genanskaffelsespriser!$D$203),\"Fejl\"))","v":"Variabel pris"},"","",1,1]
["Behandlingsanlæg, kalk anlæg","m³/h ",{"$f":"Genanskaffelsespriser!$E$40","v":25},320,320,320,0,0,null,{"$f":"IF(E305=0,\"Variabel pris\",IFERROR((HLOOKUP(E305,'Variable priser'!$C$20:$G$24,3)+(E305-HLOOKUP(E305,'Variable priser'!$C$20:$G$24,1))*HLOOKUP(E305,'Variable priser'!$C$20:$G$24,4))/E305*(1+Genanskaffelsespriser!$D$203),\"Fejl\"))","v":2908.0790643240002},{"$f":"IF(F305=0,\"Variabel pris\",IFERROR((HLOOKUP(F305,'Variable priser'!$C$20:$G$24,3)+(F305-HLOOKUP(F305,'Variable priser'!$C$20:$G$24,1))*HLOOKUP(F305,'Variable priser'!$C$20:$G$24,4))/F305*(1+Genanskaffelsespriser!$D$203),\"Fejl\"))","v":2908.0790643240002},37223.412023347199,37223.412023347199,1,1]
["Behandlingsanlæg, luddosering","m³/h ",{"$f":"Genanskaffelsespriser!$E$41","v":25},320,320,320,0,0,null,{"$f":"IF(E306=0,\"Variabel pris\",IFERROR((HLOOKUP(E306,'Variable priser'!$C$20:$G$25,5)+(E306-HLOOKUP(E306,'Variable priser'!$C$20:$G$25,1))*HLOOKUP(E306,'Variable priser'!$C$20:$G$25,6))/E306*(1+Genanskaffelsespriser!$D$203),\"Fejl\"))","v":484.679844054},{"$f":"IF(F306=0,\"Variabel pris\",IFERROR((HLOOKUP(F306,'Variable priser'!$C$20:$G$25,5)+(F306-HLOOKUP(F306,'Variable priser'!$C$20:$G$25,1))*HLOOKUP(F306,'Variable priser'!$C$20:$G$25,6))/F306*(1+Genanskaffelsespriser!$D$203),\"Fejl\"))","v":484.679844054},6203.9020038912004,6203.9020038912004,1,1]
["Filteranlæg, åbne filtre, enkelt filtrering, Konstruktioner","m³/h ",{"$f":"Genanskaffelsespriser!$E$42","v":50},0,0,0,0,0,null,{"$f":"IF(E307=0,\"Variabel pris\",IFERROR((HLOOKUP(E307,'Variable priser'!$C$28:$G$38,9)+(E307-HLOOKUP(E307,'Variable priser'!$C$28:$G$38,1))*HLOOKUP(E307,'Variable priser'!$C$28:$G$38,10))/E307*'Variable priser'!$K$31*(1+Genanskaffelsespriser!$D$203),\"Fejl\"))","v":"Variabel pris"},{"$f":"IF(F307=0,\"Variabel pris\",IFERROR((HLOOKUP(F307,'Variable priser'!$C$28:$G$38,9)+(F307-HLOOKUP(F307,'Variable priser'!$C$28:$G$38,1))*HLOOKUP(F307,'Variable priser'!$C$28:$G$38,10))/F307*'Variable priser'!$K$31*(1+Genanskaffelsespriser!$D$203),\"Fejl\"))","v":"Variabel pris"},"","",1,1]
["Filteranlæg, åbne filtre, enkelt filtrering, Mek./EL","m³/h ",{"$f":"Genanskaffelsespriser!$E$43","v":25},0,0,0,0,0,null,{"$f":"IF(E308=0,\"Variabel pris\",IFERROR((HLOOKUP(E308,'Variable priser'!$C$28:$G$38,9)+(E308-HLOOKUP(E308,'Variable priser'!$C$28:$G$38,1))*HLOOKUP(E308,'Variable priser'!$C$28:$G$38,10))/E308*'Variable priser'!$L$31*(1+Genanskaffelsespriser!$D$203),\"Fejl\"))","v":"Variabel pris"},{"$f":"IF(F308=0,\"Variabel pris\",IFERROR((HLOOKUP(F308,'Variable priser'!$C$28:$G$38,9)+(F308-HLOOKUP(F308,'Variable priser'!$C$28:$G$38,1))*HLOOKUP(F308,'Variable priser'!$C$28:$G$38,10))/F308*'Variable priser'!$L$31*(1+Genanskaffelsespriser!$D$203),\"Fejl\"))","v":"Variabel pris"},"","",1,1]
["Filteranlæg, åbne filtre, dobbelt filtrering, Konstruktioner","m³/h ",{"$f":"Genanskaffelsespriser!$E$44","v":50},0,0,0,0,0,null,{"$f":"IF(E309=0,\"Variabel pris\",IFERROR((HLOOKUP(E309,'Variable priser'!$C$28:$G$38,6)+(E309-HLOOKUP(E309,'Variable priser'!$C$28:$G$38,1))*HLOOKUP(E309,'Variable priser'!$C$28:$G$38,7))/E309*'Variable priser'!$K$31*(1+Genanskaffelsespriser!$D$203),\"Fejl\"))","v":"Variabel pris"},{"$f":"IF(F309=0,\"Variabel pris\",IFERROR((HLOOKUP(F309,'Variable priser'!$C$28:$G$38,6)+(F309-HLOOKUP(F309,'Variable priser'!$C$28:$G$38,1))*HLOOKUP(F309,'Variable priser'!$C$28:$G$38,7))/F309*'Variable priser'!$K$31*(1+Genanskaffelsespriser!$D$203),\"Fejl\"))","v":"Variabel pris"},"","",1,1]
["Filteranlæg, åbne filtre, dobbelt filtrering, Mek./EL","m³/h ",{"$f":"Genanskaffelsespriser!$E$45","v":25},0,0,0,0,0,null,{"$f":"IF(E310=0,\"Variabel pris\",IFERROR((HLOOKUP(E310,'Variable priser'!$C$28:$G$38,6)+(E310-HLOOKUP(E310,'Variable priser'!$C$28:$G$38,1))*HLOOKUP(E310,'Variable priser'!$C$28:$G$38,7))/E310*'Variable priser'!$L$31*(1+Genanskaffelsespriser!$D$203),\"Fejl\"))","v":"Variabel pris"},{"$f":"IF(F310=0,\"Variabel pris\",IFERROR((HLOOKUP(F310,'Variable priser'!$C$28:$G$38,6)+(F310-HLOOKUP(F310,'Variable priser'!$C$28:$G$38,1))*HLOOKUP(F310,'Variable priser'!$C$28:$G$38,7))/F310*'Variable priser'!$L$31*(1+Genanskaffelsespriser!$D$203),\"Fejl\"))","v":"Variabel pris"},"","",1,1]
["Filteranlæg, trykfiltre, enkelt filtrering","m³/h ",{"$f":"Genanskaffelsespriser!$E$46","v":25},0,0,0,0,0,null,{"$f":"IF(E311=0,\"Variabel pris\",IFERROR((HLOOKUP(E311,'Variable priser'!$C$40:$H$42,2)+(E311-HLOOKUP(E311,'Variable priser'!$C$40:$H$42,1))*HLOOKUP(E311,'Variable priser'!$C$40:$H$42,3))/E311*(1+Genanskaffelsespriser!$D$203),\"Fejl\"))","v":"Variabel pris"},{"$f":"IF(F311=0,\"Variabel pris\",IFERROR((HLOOKUP(F311,'Variable priser'!$C$40:$H$42,2)+(F311-HLOOKUP(F311,'Variable priser'!$C$40:$H$42,1))*HLOOKUP(F311,'Variable priser'!$C$40:$H$42,3))/F311*(1+Genanskaffelsespriser!$D$203),\"Fejl\"))","v":"Variabel pris"},"","",1,1]
["Filteranlæg, trykfiltre, dobbelt filtrering","m³/h ",{"$f":"Genanskaffelsespriser!$E$47","v":25},0,0,0,0,0,null,{"$f":"IF(E312=0,\"Variabel pris\",IFERROR((HLOOKUP(E312,'Variable priser'!$C$44:$H$46,2)+(E312-HLOOKUP(E312,'Variable priser'!$C$44:$H$46,1))*HLOOKUP(E312,'Variable priser'!$C$44:$H$46,3))/E312*(1+Genanskaffelsespriser!$D$203),\"Fejl\"))","v":"Variabel pris"},{"$f":"IF(F312=0,\"Variabel pris\",IFERROR((HLOOKUP(F312,'Variable priser'!$C$44:$H$46,2)+(F312-HLOOKUP(F312,'Variable priser'!$C$44:$H$46,1))*HLOOKUP(F312,'Variable priser'!$C$44:$H$46,3))/F312*(1+Genanskaffelsespriser!$D$203),\"Fejl\"))","v":"Variabel pris"},"","",1,1]
["Rentvandsbeholder  insitu støbt","m³",{"$f":"Genanskaffelsespriser!$E$48","v":50},0,0,0,{"$f":"IF($D313=\"\",IF($E313>0,\"Ny data\",IF($E313=\"\",\"\",0)),IF($D313=0,IF($E313=0,0,\"Ny data\"),($E313-$D313)/$D313))","v":0},0,null,{"$f":"IF(E313=0,\"Variabel pris\",IFERROR((HLOOKUP(E313,'Variable priser'!$C$48:$H$50,2)+(E313-HLOOKUP(E313,'Variable priser'!$C$48:$H$50,1))*HLOOKUP(E313,'Variable priser'!$C$48:$H$50,3))/E313*(1+Genanskaffelsespriser!$D$203),\"Fejl\"))","v":"Variabel pris"},{"$f":"IF(F313=0,\"Variabel pris\",IFERROR((HLOOKUP(F313,'Variable priser'!$C$48:$H$50,2)+(F313-HLOOKUP(F313,'Variable priser'!$C$48:$H$50,1))*HLOOKUP(F313,'Variable priser'!$C$48:$H$50,3))/F313*(1+Genanskaffelsespriser!$D$203),\"Fejl\"))","v":"Variabel pris"},"","",1,1]
["Rentvandsbeholder  element","m³",{"$f":"Genanskaffelsespriser!$E$49","v":50},2000,2000,2000,0,0,null,{"$f":"IF(E314=0,\"Variabel pris\",IFERROR((HLOOKUP(E314,'Variable priser'!$C$52:$H$54,2)+(E314-HLOOKUP(E314,'Variable priser'!$C$52:$H$54,1))*HLOOKUP(E314,'Variable priser'!$C$52:$H$54,3))/E314*(1+Genanskaffelsespriser!$D$203),\"Fejl\"))","v":2589.9858723119996},{"$f":"IF(F314=0,\"Variabel pris\",IFERROR((HLOOKUP(F314,'Variable priser'!$C$52:$H$54,2)+(F314-HLOOKUP(F314,'Variable priser'!$C$52:$H$54,1))*HLOOKUP(F314,'Variable priser'!$C$52:$H$54,3))/F314*(1+Genanskaffelsespriser!$D$203),\"Fejl\"))","v":2589.9858723119996},103599.43489247999,103599.43489247999,1,1]
["Udpumpningsanlæg, rentvandspumper på vandværk","m³/h ",{"$f":"Genanskaffelsespriser!$E$50","v":25},1150,1150,1150,0,0,null,{"$f":"IF(E315=0,\"Variabel pris\",IFERROR((HLOOKUP(E315,'Variable priser'!$C$71:$H$73,2)+(E315-HLOOKUP(E315,'Variable priser'!$C$71:$H$73,1))*HLOOKUP(E315,'Variable priser'!$C$71:$H$73,3))/E315*(1+Genanskaffelsespriser!$D$203),\"Fejl\"))","v":923.89440999999988},{"$f":"IF(F315=0,\"Variabel pris\",IFERROR((HLOOKUP(F315,'Variable priser'!$C$71:$H$73,2)+(F315-HLOOKUP(F315,'Variable priser'!$C$71:$H$73,1))*HLOOKUP(F315,'Variable priser'!$C$71:$H$73,3))/F315*(1+Genanskaffelsespriser!$D$203),\"Fejl\"))","v":923.89440999999988},42499.142859999993,42499.142859999993,1,1]
["Udpumpningsanlæg, frekvensomformer","kW",{"$f":"Genanskaffelsespriser!$E$51","v":25},1150,1150,1150,0,0,null,{"$f":"IF(E316=0,\"Variabel pris\",IFERROR((HLOOKUP(E316,'Variable priser'!$C$76:$J$78,2)+(E316-HLOOKUP(E316,'Variable priser'!$C$76:$J$78,1))*HLOOKUP(E316,'Variable priser'!$C$76:$J$78,3))/E316*(1+Genanskaffelsespriser!$D$203),\"Fejl\"))","v":1881.1171704000055},{"$f":"IF(F316=0,\"Variabel pris\",IFERROR((HLOOKUP(F316,'Variable priser'!$C$76:$J$78,2)+(F316-HLOOKUP(F316,'Variable priser'!$C$76:$J$78,1))*HLOOKUP(F316,'Variable priser'!$C$76:$J$78,3))/F316*(1+Genanskaffelsespriser!$D$203),\"Fejl\"))","v":1881.1171704000055},86531.389838400253,86531.389838400253,1,1]
["Udpumpningsanlæg, Hydrofor","liter",{"$f":"Genanskaffelsespriser!$E$52","v":25},0,0,0,0,0,null,{"$f":"IF(E317=0,\"Variabel pris\",IFERROR((HLOOKUP(E317,'Variable priser'!$C$81:$J$83,2)+(E317-HLOOKUP(E317,'Variable priser'!$C$81:$J$83,1))*HLOOKUP(E317,'Variable priser'!$C$81:$J$83,3))/E317*(1+Genanskaffelsespriser!$D$203),\"Fejl\"))","v":"Variabel pris"},{"$f":"IF(F317=0,\"Variabel pris\",IFERROR((HLOOKUP(F317,'Variable priser'!$C$81:$J$83,2)+(F317-HLOOKUP(F317,'Variable priser'!$C$81:$J$83,1))*HLOOKUP(F317,'Variable priser'!$C$81:$J$83,3))/F317*(1+Genanskaffelsespriser!$D$203),\"Fejl\"))","v":"Variabel pris"},"","",1,1]
["Skyllevand-/slamhåndteringsanlæg - lukkede betonbeholdere","m³",{"$f":"Genanskaffelsespriser!$E$53","v":50},1200,1200,1200,0,0,null,{"$f":"IF(E318=0,\"Variabel pris\",IFERROR((HLOOKUP(E318,'Variable priser'!$C$59:$H$61,2)+(E318-HLOOKUP(E318,'Variable priser'!$C$59:$H$61,1))*HLOOKUP(E318,'Variable priser'!$C$59:$H$61,3))/E318*(1+Genanskaffelsespriser!$D$203),\"Fejl\"))","v":3358.2342328831996},{"$f":"IF(F318=0,\"Variabel pris\",IFERROR((HLOOKUP(F318,'Variable priser'!$C$59:$H$61,2)+(F318-HLOOKUP(F318,'Variable priser'!$C$59:$H$61,1))*HLOOKUP(F318,'Variable priser'!$C$59:$H$61,3))/F318*(1+Genanskaffelsespriser!$D$203),\"Fejl\"))","v":3358.2342328831996},80597.621589196788,80597.621589196788,1,1]
["Skyllevand-/slamhåndteringsanl. - åbne med faste sider/bund","m³",{"$f":"Genanskaffelsespriser!$E$54","v":50},0,0,0,0,0,null,{"$f":"IF(E319=0,\"Variabel pris\",IFERROR((HLOOKUP(E319,'Variable priser'!$C$59:$H$64,5)+(E319-HLOOKUP(E319,'Variable priser'!$C$59:$H$64,1))*HLOOKUP(E319,'Variable priser'!$C$59:$H$64,6))/E319*(1+Genanskaffelsespriser!$D$203),\"Fejl\"))","v":"Variabel pris"},{"$f":"IF(F319=0,\"Variabel pris\",IFERROR((HLOOKUP(F319,'Variable priser'!$C$59:$H$64,5)+(F319-HLOOKUP(F319,'Variable priser'!$C$59:$H$64,1))*HLOOKUP(F319,'Variable priser'!$C$59:$H$64,6))/F319*(1+Genanskaffelsespriser!$D$203),\"Fejl\"))","v":"Variabel pris"},"","",1,1]
["Skyllevand-/slamhåndteringsanlæg - jordbassiner","m³",{"$f":"Genanskaffelsespriser!$E$55","v":50},0,0,0,0,0,null,{"$f":"IF(E320=0,\"Variabel pris\",IFERROR((HLOOKUP(E320,'Variable priser'!$C$59:$H$67,8)+(E320-HLOOKUP(E320,'Variable priser'!$C$59:$H$67,1))*HLOOKUP(E320,'Variable priser'!$C$59:$H$67,9))/E320*(1+Genanskaffelsespriser!$D$203),\"Fejl\"))","v":"Variabel pris"},{"$f":"IF(F320=0,\"Variabel pris\",IFERROR((HLOOKUP(F320,'Variable priser'!$C$59:$H$67,8)+(F320-HLOOKUP(F320,'Variable priser'!$C$59:$H$67,1))*HLOOKUP(F320,'Variable priser'!$C$59:$H$67,9))/F320*(1+Genanskaffelsespriser!$D$203),\"Fejl\"))","v":"Variabel pris"},"","",1,1]
["Skyllevandsbehandling, inkl. UV-filter mv., Mek./EL","m³/h.",{"$f":"Genanskaffelsespriser!$E$56","v":25},450,450,450,0,0,null,{"$f":"IF(E321=0,\"Variabel pris\",IFERROR((HLOOKUP(E321,'Variable priser'!$C$108:$E$110,2)+(E321-HLOOKUP(E321,'Variable priser'!$C$108:$E$110,1))*HLOOKUP(E321,'Variable priser'!$C$108:$E$110,3))/E321*'Variable priser'!$H$109*(1+Genanskaffelsespriser!$D$203),\"Fejl\"))","v":11867.714989749997},{"$f":"IF(F321=0,\"Variabel pris\",IFERROR((HLOOKUP(F321,'Variable priser'!$C$108:$E$110,2)+(F321-HLOOKUP(F321,'Variable priser'!$C$108:$E$110,1))*HLOOKUP(F321,'Variable priser'!$C$108:$E$110,3))/F321*'Variable priser'!$H$109*(1+Genanskaffelsespriser!$D$203),\"Fejl\"))","v":11867.714989749997},213618.86981549993,213618.86981549993,1,1]
["Skyllevandsbehandling, inkl. UV-filter mv., SRO","m³/h.",{"$f":"Genanskaffelsespriser!$E$57","v":10},450,450,450,0,0,null,{"$f":"IF(E322=0,\"Variabel pris\",IFERROR((HLOOKUP(E322,'Variable priser'!$C$108:$E$110,2)+(E322-HLOOKUP(E322,'Variable priser'!$C$108:$E$110,1))*HLOOKUP(E322,'Variable priser'!$C$108:$E$110,3))/E322*'Variable priser'!$I$109*(1+Genanskaffelsespriser!$D$203),\"Fejl\"))","v":2094.3026452499994},{"$f":"IF(F322=0,\"Variabel pris\",IFERROR((HLOOKUP(F322,'Variable priser'!$C$108:$E$110,2)+(F322-HLOOKUP(F322,'Variable priser'!$C$108:$E$110,1))*HLOOKUP(F322,'Variable priser'!$C$108:$E$110,3))/F322*'Variable priser'!$I$109*(1+Genanskaffelsespriser!$D$203),\"Fejl\"))","v":2094.3026452499994},94243.619036249962,94243.619036249962,1,1]
["Nødstrømsanlæg på vandværk","kW",{"$f":"Genanskaffelsespriser!$E$58","v":25},0,0,0,0,0,null,{"$f":"IF(E323=0,\"Variabel pris\",IFERROR((HLOOKUP(E323,'Variable priser'!$C$86:$H$88,2)+(E323-HLOOKUP(E323,'Variable priser'!$C$86:$H$88,1))*HLOOKUP(E323,'Variable priser'!$C$86:$H$88,3))/E323*(1+Genanskaffelsespriser!$D$203),\"Fejl\"))","v":"Variabel pris"},{"$f":"IF(F323=0,\"Variabel pris\",IFERROR((HLOOKUP(F323,'Variable priser'!$C$86:$H$88,2)+(F323-HLOOKUP(F323,'Variable priser'!$C$86:$H$88,1))*HLOOKUP(F323,'Variable priser'!$C$86:$H$88,3))/F323*(1+Genanskaffelsespriser!$D$203),\"Fejl\"))","v":"Variabel pris"},"","",1,1]
["Elanlæg og SRO-anlæg - vandværk, Elanlæg","m³/h.",{"$f":"Genanskaffelsespriser!$E$59","v":25},640,640,640,0,0,null,{"$f":"IF(E324=0,\"Variabel pris\",IFERROR((HLOOKUP(E324,'Variable priser'!$C$91:$J$95,4)+(E324-HLOOKUP(E324,'Variable priser'!$C$91:$J$95,1))*HLOOKUP(E324,'Variable priser'!$C$91:$J$95,5))/E324*(1+Genanskaffelsespriser!$D$203),\"Fejl\"))","v":1968.1491161718745},{"$f":"IF(F324=0,\"Variabel pris\",IFERROR((HLOOKUP(F324,'Variable priser'!$C$91:$J$95,4)+(F324-HLOOKUP(F324,'Variable priser'!$C$91:$J$95,1))*HLOOKUP(F324,'Variable priser'!$C$91:$J$95,5))/F324*(1+Genanskaffelsespriser!$D$203),\"Fejl\"))","v":1968.1491161718745},50384.617373999994,50384.617373999994,1,1]
["Elanlæg og SRO-anlæg - vandværk, SRO","m³/h.",{"$f":"Genanskaffelsespriser!$E$60","v":10},640,640,640,0,0,null,{"$f":"IF(E325=0,\"Variabel pris\",IFERROR((HLOOKUP(E325,'Variable priser'!$C$91:$J$98,7)+(E325-HLOOKUP(E325,'Variable priser'!$C$91:$J$98,1))*HLOOKUP(E325,'Variable priser'!$C$91:$J$98,8))/E325*(1+Genanskaffelsespriser!$D$203),\"Fejl\"))","v":787.85219474999997},{"$f":"IF(F325=0,\"Variabel pris\",IFERROR((HLOOKUP(F325,'Variable priser'!$C$91:$J$98,7)+(F325-HLOOKUP(F325,'Variable priser'!$C$91:$J$98,1))*HLOOKUP(F325,'Variable priser'!$C$91:$J$98,8))/F325*(1+Genanskaffelsespriser!$D$203),\"Fejl\"))","v":787.85219474999997},50422.540463999998,50422.540463999998,1,1]
["Vandværk 4"]
["Beluftningsanlæg, iltningstrappe, Konstruktioner","m³/h ",{"$f":"Genanskaffelsespriser!$E$30","v":50},2375,2375,2375,{"$f":"IF($D327=\"\",IF($E327>0,\"Ny data\",IF($E327=\"\",\"\",0)),IF($D327=0,IF($E327=0,0,\"Ny data\"),($E327-$D327)/$D327))","v":0},0,null,{"$f":"IF(E327=0,\"Variabel pris\",IFERROR((HLOOKUP(E327,'Variable priser'!$C$6:$H$16,2)+(E327-HLOOKUP(E327,'Variable priser'!$C$6:$H$16,1))*HLOOKUP(E327,'Variable priser'!$C$6:$H$16,3))/E327*'Variable priser'!$K$7*(1+Genanskaffelsespriser!$D$203),\"Fejl\"))","v":1801.7858844631578},{"$f":"IF(F327=0,\"Variabel pris\",IFERROR((HLOOKUP(F327,'Variable priser'!$C$6:$H$16,2)+(F327-HLOOKUP(F327,'Variable priser'!$C$6:$H$16,1))*HLOOKUP(F327,'Variable priser'!$C$6:$H$16,3))/F327*'Variable priser'!$K$7*(1+Genanskaffelsespriser!$D$203),\"Fejl\"))","v":1801.7858844631578},{"$f":"IF(ISBLANK(E327),\"\",IF(E327=0,\"\",IF(ISNUMBER(E327),((J327*E327)/C327)*N327,\"\")))","v":85584.829511999997},{"$f":"IF(ISBLANK(F327),\"\",IF(F327=0,\"\",IF(ISNUMBER(F327),((K327*F327)/C327)*N327,\"\")))","v":85584.829511999997},1,1]
["Beluftningsanlæg, iltningstrappe, Mek./EL","m³/h ",{"$f":"Genanskaffelsespriser!$E$31","v":25},2375,2375,2375,0,{"$f":"IF($E328=\"\",IF($F328>0,\"Ny data\",IF($F328=\"\",\"\",0)),IF($E328=0,IF($F328=0,0,\"Ny data\"),($F328-$E328)/$E328))","v":0},null,{"$f":"IF(E328=0,\"Variabel pris\",IFERROR((HLOOKUP(E328,'Variable priser'!$C$6:$H$16,2)+(E328-HLOOKUP(E328,'Variable priser'!$C$6:$H$16,1))*HLOOKUP(E328,'Variable priser'!$C$6:$H$16,3))/E328*'Variable priser'!$L$7*(1+Genanskaffelsespriser!$D$203),\"Fejl\"))","v":450.44647111578945},{"$f":"IF(F328=0,\"Variabel pris\",IFERROR((HLOOKUP(F328,'Variable priser'!$C$6:$H$16,2)+(F328-HLOOKUP(F328,'Variable priser'!$C$6:$H$16,1))*HLOOKUP(F328,'Variable priser'!$C$6:$H$16,3))/F328*'Variable priser'!$L$7*(1+Genanskaffelsespriser!$D$203),\"Fejl\"))","v":450.44647111578945},{"$f":"IF(ISBLANK(E328),\"\",IF(E328=0,\"\",IF(ISNUMBER(E328),((J328*E328)/C328)*N328,\"\")))","v":42792.414755999998},{"$f":"IF(ISBLANK(F328),\"\",IF(F328=0,\"\",IF(ISNUMBER(F328),((K328*F328)/C328)*N328,\"\")))","v":42792.414755999998},1,1]
["Beluftningsanlæg, ika-beluftning, Konstruktioner","m³/h ",{"$f":"Genanskaffelsespriser!$E$32","v":50},0,0,0,0,0,null,{"$f":"IF(E329=0,\"Variabel pris\",IFERROR((HLOOKUP(E329,'Variable priser'!$C$6:$H$16,4)+(E329-HLOOKUP(E329,'Variable priser'!$C$6:$H$16,1))*HLOOKUP(E329,'Variable priser'!$C$6:$H$16,5))/E329*'Variable priser'!$K$9*(1+Genanskaffelsespriser!$D$203),\"Fejl\"))","v":"Variabel pris"},{"$f":"IF(F329=0,\"Variabel pris\",IFERROR((HLOOKUP(F329,'Variable priser'!$C$6:$H$16,4)+(F329-HLOOKUP(F329,'Variable priser'!$C$6:$H$16,1))*HLOOKUP(F329,'Variable priser'!$C$6:$H$16,5))/F329*'Variable priser'!$K$9*(1+Genanskaffelsespriser!$D$203),\"Fejl\"))","v":"Variabel pris"},"","",1,1]
["Beluftningsanlæg, ika-beluftning, Mek./EL","m³/h ",{"$f":"Genanskaffelsespriser!$E$33","v":25},0,0,0,0,0,null,{"$f":"IF(E330=0,\"Variabel pris\",IFERROR((HLOOKUP(E330,'Variable priser'!$C$6:$H$16,4)+(E330-HLOOKUP(E330,'Variable priser'!$C$6:$H$16,1))*HLOOKUP(E330,'Variable priser'!$C$6:$H$16,5))/E330*'Variable priser'!$L$9*(1+Genanskaffelsespriser!$D$203),\"Fejl\"))","v":"Variabel pris"},{"$f":"IF(F330=0,\"Variabel pris\",IFERROR((HLOOKUP(F330,'Variable priser'!$C$6:$H$16,4)+(F330-HLOOKUP(F330,'Variable priser'!$C$6:$H$16,1))*HLOOKUP(F330,'Variable priser'!$C$6:$H$16,5))/F330*'Variable priser'!$L$9*(1+Genanskaffelsespriser!$D$203),\"Fejl\"))","v":"Variabel pris"},"","",1,1]
["Beluftningsanlæg, bundbeluftbning, Konstruktioner","m³/h ",{"$f":"Genanskaffelsespriser!$E$34","v":50},0,0,0,0,0,null,{"$f":"IF(E331=0,\"Variabel pris\",IFERROR((HLOOKUP(E331,'Variable priser'!$C$6:$H$16,6)+(E331-HLOOKUP(E331,'Variable priser'!$C$6:$H$16,1))*HLOOKUP(E331,'Variable priser'!$C$6:$H$16,7))/E331*'Variable priser'!$K$17*(1+Genanskaffelsespriser!$D$203),\"Fejl\"))","v":"Variabel pris"},{"$f":"IF(F331=0,\"Variabel pris\",IFERROR((HLOOKUP(F331,'Variable priser'!$C$6:$H$16,6)+(F331-HLOOKUP(F331,'Variable priser'!$C$6:$H$16,1))*HLOOKUP(F331,'Variable priser'!$C$6:$H$16,7))/F331*'Variable priser'!$K$17*(1+Genanskaffelsespriser!$D$203),\"Fejl\"))","v":"Variabel pris"},"","",1,1]
["Beluftningsanlæg, bundbeluftbning, Mek./EL","m³/h ",{"$f":"Genanskaffelsespriser!$E$35","v":25},0,0,0,0,0,null,{"$f":"IF(E332=0,\"Variabel pris\",IFERROR((HLOOKUP(E332,'Variable priser'!$C$6:$H$16,6)+(E332-HLOOKUP(E332,'Variable priser'!$C$6:$H$16,1))*HLOOKUP(E332,'Variable priser'!$C$6:$H$16,7))/E332*'Variable priser'!$L$17*(1+Genanskaffelsespriser!$D$203),\"Fejl\"))","v":"Variabel pris"},{"$f":"IF(F332=0,\"Variabel pris\",IFERROR((HLOOKUP(F332,'Variable priser'!$C$6:$H$16,6)+(F332-HLOOKUP(F332,'Variable priser'!$C$6:$H$16,1))*HLOOKUP(F332,'Variable priser'!$C$6:$H$16,7))/F332*'Variable priser'!$L$17*(1+Genanskaffelsespriser!$D$203),\"Fejl\"))","v":"Variabel pris"},"","",1,1]
["Beluftningsanlæg, rislebakke, Konstruktioner","m³/h ",{"$f":"Genanskaffelsespriser!$E$36","v":50},0,0,0,0,0,null,{"$f":"IF(E333=0,\"Variabel pris\",IFERROR((HLOOKUP(E333,'Variable priser'!$C$6:$H$18,12)+(E333-HLOOKUP(E333,'Variable priser'!$C$6:$H$18,1))*HLOOKUP(E333,'Variable priser'!$C$6:$H$18,13))/E333*'Variable priser'!$K$17*(1+Genanskaffelsespriser!$D$203),\"Fejl\"))","v":"Variabel pris"},{"$f":"IF(F333=0,\"Variabel pris\",IFERROR((HLOOKUP(F333,'Variable priser'!$C$6:$H$18,12)+(F333-HLOOKUP(F333,'Variable priser'!$C$6:$H$18,1))*HLOOKUP(F333,'Variable priser'!$C$6:$H$18,13))/F333*'Variable priser'!$K$17*(1+Genanskaffelsespriser!$D$203),\"Fejl\"))","v":"Variabel pris"},"","",1,1]
["Beluftningsanlæg, rislebakke, Mek./EL","m³/h ",{"$f":"Genanskaffelsespriser!$E$37","v":25},0,0,0,0,0,null,{"$f":"IF(E334=0,\"Variabel pris\",IFERROR((HLOOKUP(E334,'Variable priser'!$C$6:$H$18,12)+(E334-HLOOKUP(E334,'Variable priser'!$C$6:$H$18,1))*HLOOKUP(E334,'Variable priser'!$C$6:$H$18,13))/E334*'Variable priser'!$L$17*(1+Genanskaffelsespriser!$D$203),\"Fejl\"))","v":"Variabel pris"},{"$f":"IF(F334=0,\"Variabel pris\",IFERROR((HLOOKUP(F334,'Variable priser'!$C$6:$H$18,12)+(F334-HLOOKUP(F334,'Variable priser'!$C$6:$H$18,1))*HLOOKUP(F334,'Variable priser'!$C$6:$H$18,13))/F334*'Variable priser'!$L$17*(1+Genanskaffelsespriser!$D$203),\"Fejl\"))","v":"Variabel pris"},"","",1,1]
["Beluftningsanlæg, kompressorbeluftning","m³/h ",{"$f":"Genanskaffelsespriser!$E$38","v":25},0,0,0,0,0,null,{"$f":"IF(E335=0,\"Variabel pris\",IFERROR((HLOOKUP(E335,'Variable priser'!$C$6:$H$16,8)+(E335-HLOOKUP(E335,'Variable priser'!$C$6:$H$16,1))*HLOOKUP(E335,'Variable priser'!$C$6:$H$16,9))/E335*(1+Genanskaffelsespriser!$D$203),\"Fejl\"))","v":"Variabel pris"},{"$f":"IF(F335=0,\"Variabel pris\",IFERROR((HLOOKUP(F335,'Variable priser'!$C$6:$H$16,8)+(F335-HLOOKUP(F335,'Variable priser'!$C$6:$H$16,1))*HLOOKUP(F335,'Variable priser'!$C$6:$H$16,9))/F335*(1+Genanskaffelsespriser!$D$203),\"Fejl\"))","v":"Variabel pris"},"","",1,1]
["Beluftningsanlæg, ren ilt","m³/h ",{"$f":"Genanskaffelsespriser!$E$39","v":25},0,0,0,0,0,null,{"$f":"IF(E336=0,\"Variabel pris\",IFERROR((HLOOKUP(E336,'Variable priser'!$C$6:$H$16,10)+(E336-HLOOKUP(E336,'Variable priser'!$C$6:$H$16,1))*HLOOKUP(E336,'Variable priser'!$C$6:$H$16,11))/E336*(1+Genanskaffelsespriser!$D$203),\"Fejl\"))","v":"Variabel pris"},{"$f":"IF(F336=0,\"Variabel pris\",IFERROR((HLOOKUP(F336,'Variable priser'!$C$6:$H$16,10)+(F336-HLOOKUP(F336,'Variable priser'!$C$6:$H$16,1))*HLOOKUP(F336,'Variable priser'!$C$6:$H$16,11))/F336*(1+Genanskaffelsespriser!$D$203),\"Fejl\"))","v":"Variabel pris"},"","",1,1]
["Behandlingsanlæg, kalk anlæg","m³/h ",{"$f":"Genanskaffelsespriser!$E$40","v":25},0,0,0,0,0,null,{"$f":"IF(E337=0,\"Variabel pris\",IFERROR((HLOOKUP(E337,'Variable priser'!$C$20:$G$24,3)+(E337-HLOOKUP(E337,'Variable priser'!$C$20:$G$24,1))*HLOOKUP(E337,'Variable priser'!$C$20:$G$24,4))/E337*(1+Genanskaffelsespriser!$D$203),\"Fejl\"))","v":"Variabel pris"},{"$f":"IF(F337=0,\"Variabel pris\",IFERROR((HLOOKUP(F337,'Variable priser'!$C$20:$G$24,3)+(F337-HLOOKUP(F337,'Variable priser'!$C$20:$G$24,1))*HLOOKUP(F337,'Variable priser'!$C$20:$G$24,4))/F337*(1+Genanskaffelsespriser!$D$203),\"Fejl\"))","v":"Variabel pris"},"","",1,1]
["Behandlingsanlæg, luddosering","m³/h ",{"$f":"Genanskaffelsespriser!$E$41","v":25},0,0,0,0,0,null,{"$f":"IF(E338=0,\"Variabel pris\",IFERROR((HLOOKUP(E338,'Variable priser'!$C$20:$G$25,5)+(E338-HLOOKUP(E338,'Variable priser'!$C$20:$G$25,1))*HLOOKUP(E338,'Variable priser'!$C$20:$G$25,6))/E338*(1+Genanskaffelsespriser!$D$203),\"Fejl\"))","v":"Variabel pris"},{"$f":"IF(F338=0,\"Variabel pris\",IFERROR((HLOOKUP(F338,'Variable priser'!$C$20:$G$25,5)+(F338-HLOOKUP(F338,'Variable priser'!$C$20:$G$25,1))*HLOOKUP(F338,'Variable priser'!$C$20:$G$25,6))/F338*(1+Genanskaffelsespriser!$D$203),\"Fejl\"))","v":"Variabel pris"},"","",1,1]
["Filteranlæg, åbne filtre, enkelt filtrering, Konstruktioner","m³/h ",{"$f":"Genanskaffelsespriser!$E$42","v":50},0,0,0,0,0,null,{"$f":"IF(E339=0,\"Variabel pris\",IFERROR((HLOOKUP(E339,'Variable priser'!$C$28:$G$38,9)+(E339-HLOOKUP(E339,'Variable priser'!$C$28:$G$38,1))*HLOOKUP(E339,'Variable priser'!$C$28:$G$38,10))/E339*'Variable priser'!$K$31*(1+Genanskaffelsespriser!$D$203),\"Fejl\"))","v":"Variabel pris"},{"$f":"IF(F339=0,\"Variabel pris\",IFERROR((HLOOKUP(F339,'Variable priser'!$C$28:$G$38,9)+(F339-HLOOKUP(F339,'Variable priser'!$C$28:$G$38,1))*HLOOKUP(F339,'Variable priser'!$C$28:$G$38,10))/F339*'Variable priser'!$K$31*(1+Genanskaffelsespriser!$D$203),\"Fejl\"))","v":"Variabel pris"},"","",1,1]
["Filteranlæg, åbne filtre, enkelt filtrering, Mek./EL","m³/h ",{"$f":"Genanskaffelsespriser!$E$43","v":25},0,0,0,0,0,null,{"$f":"IF(E340=0,\"Variabel pris\",IFERROR((HLOOKUP(E340,'Variable priser'!$C$28:$G$38,9)+(E340-HLOOKUP(E340,'Variable priser'!$C$28:$G$38,1))*HLOOKUP(E340,'Variable priser'!$C$28:$G$38,10))/E340*'Variable priser'!$L$31*(1+Genanskaffelsespriser!$D$203),\"Fejl\"))","v":"Variabel pris"},{"$f":"IF(F340=0,\"Variabel pris\",IFERROR((HLOOKUP(F340,'Variable priser'!$C$28:$G$38,9)+(F340-HLOOKUP(F340,'Variable priser'!$C$28:$G$38,1))*HLOOKUP(F340,'Variable priser'!$C$28:$G$38,10))/F340*'Variable priser'!$L$31*(1+Genanskaffelsespriser!$D$203),\"Fejl\"))","v":"Variabel pris"},"","",1,1]
["Filteranlæg, åbne filtre, dobbelt filtrering, Konstruktioner","m³/h ",{"$f":"Genanskaffelsespriser!$E$44","v":50},2375,2375,2375,0,0,null,{"$f":"IF(E341=0,\"Variabel pris\",IFERROR((HLOOKUP(E341,'Variable priser'!$C$28:$G$38,6)+(E341-HLOOKUP(E341,'Variable priser'!$C$28:$G$38,1))*HLOOKUP(E341,'Variable priser'!$C$28:$G$38,7))/E341*'Variable priser'!$K$31*(1+Genanskaffelsespriser!$D$203),\"Fejl\"))","v":6079.860446624336},{"$f":"IF(F341=0,\"Variabel pris\",IFERROR((HLOOKUP(F341,'Variable priser'!$C$28:$G$38,6)+(F341-HLOOKUP(F341,'Variable priser'!$C$28:$G$38,1))*HLOOKUP(F341,'Variable priser'!$C$28:$G$38,7))/F341*'Variable priser'!$K$31*(1+Genanskaffelsespriser!$D$203),\"Fejl\"))","v":6079.860446624336},288793.37121465598,288793.37121465598,1,1]
["Filteranlæg, åbne filtre, dobbelt filtrering, Mek./EL","m³/h ",{"$f":"Genanskaffelsespriser!$E$45","v":25},2375,2375,2375,0,0,null,{"$f":"IF(E342=0,\"Variabel pris\",IFERROR((HLOOKUP(E342,'Variable priser'!$C$28:$G$38,6)+(E342-HLOOKUP(E342,'Variable priser'!$C$28:$G$38,1))*HLOOKUP(E342,'Variable priser'!$C$28:$G$38,7))/E342*'Variable priser'!$L$31*(1+Genanskaffelsespriser!$D$203),\"Fejl\"))","v":9119.790669936503},{"$f":"IF(F342=0,\"Variabel pris\",IFERROR((HLOOKUP(F342,'Variable priser'!$C$28:$G$38,6)+(F342-HLOOKUP(F342,'Variable priser'!$C$28:$G$38,1))*HLOOKUP(F342,'Variable priser'!$C$28:$G$38,7))/F342*'Variable priser'!$L$31*(1+Genanskaffelsespriser!$D$203),\"Fejl\"))","v":9119.790669936503},866380.11364396778,866380.11364396778,1,1]
["Filteranlæg, trykfiltre, enkelt filtrering","m³/h ",{"$f":"Genanskaffelsespriser!$E$46","v":25},0,0,0,0,0,null,{"$f":"IF(E343=0,\"Variabel pris\",IFERROR((HLOOKUP(E343,'Variable priser'!$C$40:$H$42,2)+(E343-HLOOKUP(E343,'Variable priser'!$C$40:$H$42,1))*HLOOKUP(E343,'Variable priser'!$C$40:$H$42,3))/E343*(1+Genanskaffelsespriser!$D$203),\"Fejl\"))","v":"Variabel pris"},{"$f":"IF(F343=0,\"Variabel pris\",IFERROR((HLOOKUP(F343,'Variable priser'!$C$40:$H$42,2)+(F343-HLOOKUP(F343,'Variable priser'!$C$40:$H$42,1))*HLOOKUP(F343,'Variable priser'!$C$40:$H$42,3))/F343*(1+Genanskaffelsespriser!$D$203),\"Fejl\"))","v":"Variabel pris"},"","",1,1]
["Filteranlæg, trykfiltre, dobbelt filtrering","m³/h ",{"$f":"Genanskaffelsespriser!$E$47","v":25},0,0,0,0,0,null,{"$f":"IF(E344=0,\"Variabel pris\",IFERROR((HLOOKUP(E344,'Variable priser'!$C$44:$H$46,2)+(E344-HLOOKUP(E344,'Variable priser'!$C$44:$H$46,1))*HLOOKUP(E344,'Variable priser'!$C$44:$H$46,3))/E344*(1+Genanskaffelsespriser!$D$203),\"Fejl\"))","v":"Variabel pris"},{"$f":"IF(F344=0,\"Variabel pris\",IFERROR((HLOOKUP(F344,'Variable priser'!$C$44:$H$46,2)+(F344-HLOOKUP(F344,'Variable priser'!$C$44:$H$46,1))*HLOOKUP(F344,'Variable priser'!$C$44:$H$46,3))/F344*(1+Genanskaffelsespriser!$D$203),\"Fejl\"))","v":"Variabel pris"},"","",1,1]
["Rentvandsbeholder  insitu støbt","m³",{"$f":"Genanskaffelsespriser!$E$48","v":50},12000,12000,12000,0,0,null,{"$f":"IF(E345=0,\"Variabel pris\",IFERROR((HLOOKUP(E345,'Variable priser'!$C$48:$H$50,2)+(E345-HLOOKUP(E345,'Variable priser'!$C$48:$H$50,1))*HLOOKUP(E345,'Variable priser'!$C$48:$H$50,3))/E345*(1+Genanskaffelsespriser!$D$203),\"Fejl\"))","v":1924.3621651400003},{"$f":"IF(F345=0,\"Variabel pris\",IFERROR((HLOOKUP(F345,'Variable priser'!$C$48:$H$50,2)+(F345-HLOOKUP(F345,'Variable priser'!$C$48:$H$50,1))*HLOOKUP(F345,'Variable priser'!$C$48:$H$50,3))/F345*(1+Genanskaffelsespriser!$D$203),\"Fejl\"))","v":1924.3621651400003},461846.9196336001,461846.9196336001,1,1]
["Rentvandsbeholder  element","m³",{"$f":"Genanskaffelsespriser!$E$49","v":50},0,0,0,0,0,null,{"$f":"IF(E346=0,\"Variabel pris\",IFERROR((HLOOKUP(E346,'Variable priser'!$C$52:$H$54,2)+(E346-HLOOKUP(E346,'Variable priser'!$C$52:$H$54,1))*HLOOKUP(E346,'Variable priser'!$C$52:$H$54,3))/E346*(1+Genanskaffelsespriser!$D$203),\"Fejl\"))","v":"Variabel pris"},{"$f":"IF(F346=0,\"Variabel pris\",IFERROR((HLOOKUP(F346,'Variable priser'!$C$52:$H$54,2)+(F346-HLOOKUP(F346,'Variable priser'!$C$52:$H$54,1))*HLOOKUP(F346,'Variable priser'!$C$52:$H$54,3))/F346*(1+Genanskaffelsespriser!$D$203),\"Fejl\"))","v":"Variabel pris"},"","",1,1]
["Udpumpningsanlæg, rentvandspumper på vandværk","m³/h ",{"$f":"Genanskaffelsespriser!$E$50","v":25},7500,7500,7500,0,0,null,{"$f":"IF(E347=0,\"Variabel pris\",IFERROR((HLOOKUP(E347,'Variable priser'!$C$71:$H$73,2)+(E347-HLOOKUP(E347,'Variable priser'!$C$71:$H$73,1))*HLOOKUP(E347,'Variable priser'!$C$71:$H$73,3))/E347*(1+Genanskaffelsespriser!$D$203),\"Fejl\"))","v":873.01762297777771},{"$f":"IF(F347=0,\"Variabel pris\",IFERROR((HLOOKUP(F347,'Variable priser'!$C$71:$H$73,2)+(F347-HLOOKUP(F347,'Variable priser'!$C$71:$H$73,1))*HLOOKUP(F347,'Variable priser'!$C$71:$H$73,3))/F347*(1+Genanskaffelsespriser!$D$203),\"Fejl\"))","v":873.01762297777771},261905.28689333331,261905.28689333331,1,1]
["Udpumpningsanlæg, frekvensomformer","kW",{"$f":"Genanskaffelsespriser!$E$51","v":25},2400,2400,2400,0,0,null,{"$f":"IF(E348=0,\"Variabel pris\",IFERROR((HLOOKUP(E348,'Variable priser'!$C$76:$J$78,2)+(E348-HLOOKUP(E348,'Variable priser'!$C$76:$J$78,1))*HLOOKUP(E348,'Variable priser'!$C$76:$J$78,3))/E348*(1+Genanskaffelsespriser!$D$203),\"Fejl\"))","v":1849.445894150005},{"$f":"IF(F348=0,\"Variabel pris\",IFERROR((HLOOKUP(F348,'Variable priser'!$C$76:$J$78,2)+(F348-HLOOKUP(F348,'Variable priser'!$C$76:$J$78,1))*HLOOKUP(F348,'Variable priser'!$C$76:$J$78,3))/F348*(1+Genanskaffelsespriser!$D$203),\"Fejl\"))","v":1849.445894150005},177546.80583840047,177546.80583840047,1,1]
["Udpumpningsanlæg, Hydrofor","liter",{"$f":"Genanskaffelsespriser!$E$52","v":25},58000,58000,58000,0,0,null,{"$f":"IF(E349=0,\"Variabel pris\",IFERROR((HLOOKUP(E349,'Variable priser'!$C$81:$J$83,2)+(E349-HLOOKUP(E349,'Variable priser'!$C$81:$J$83,1))*HLOOKUP(E349,'Variable priser'!$C$81:$J$83,3))/E349*(1+Genanskaffelsespriser!$D$203),\"Fejl\"))","v":31.054041477517249},{"$f":"IF(F349=0,\"Variabel pris\",IFERROR((HLOOKUP(F349,'Variable priser'!$C$81:$J$83,2)+(F349-HLOOKUP(F349,'Variable priser'!$C$81:$J$83,1))*HLOOKUP(F349,'Variable priser'!$C$81:$J$83,3))/F349*(1+Genanskaffelsespriser!$D$203),\"Fejl\"))","v":31.054041477517249},72045.376227840025,72045.376227840025,1,1]
["Skyllevand-/slamhåndteringsanlæg - lukkede betonbeholdere","m³",{"$f":"Genanskaffelsespriser!$E$53","v":50},0,0,0,0,0,null,{"$f":"IF(E350=0,\"Variabel pris\",IFERROR((HLOOKUP(E350,'Variable priser'!$C$59:$H$61,2)+(E350-HLOOKUP(E350,'Variable priser'!$C$59:$H$61,1))*HLOOKUP(E350,'Variable priser'!$C$59:$H$61,3))/E350*(1+Genanskaffelsespriser!$D$203),\"Fejl\"))","v":"Variabel pris"},{"$f":"IF(F350=0,\"Variabel pris\",IFERROR((HLOOKUP(F350,'Variable priser'!$C$59:$H$61,2)+(F350-HLOOKUP(F350,'Variable priser'!$C$59:$H$61,1))*HLOOKUP(F350,'Variable priser'!$C$59:$H$61,3))/F350*(1+Genanskaffelsespriser!$D$203),\"Fejl\"))","v":"Variabel pris"},"","",1,1]
["Skyllevand-/slamhåndteringsanl. - åbne med faste sider/bund","m³",{"$f":"Genanskaffelsespriser!$E$54","v":50},2592,2592,2592,0,0,null,{"$f":"IF(E351=0,\"Variabel pris\",IFERROR((HLOOKUP(E351,'Variable priser'!$C$59:$H$64,5)+(E351-HLOOKUP(E351,'Variable priser'!$C$59:$H$64,1))*HLOOKUP(E351,'Variable priser'!$C$59:$H$64,6))/E351*(1+Genanskaffelsespriser!$D$203),\"Fejl\"))","v":1540.3146368218072},{"$f":"IF(F351=0,\"Variabel pris\",IFERROR((HLOOKUP(F351,'Variable priser'!$C$59:$H$64,5)+(F351-HLOOKUP(F351,'Variable priser'!$C$59:$H$64,1))*HLOOKUP(F351,'Variable priser'!$C$59:$H$64,6))/F351*(1+Genanskaffelsespriser!$D$203),\"Fejl\"))","v":1540.3146368218072},79849.910772842486,79849.910772842486,1,1]
["Skyllevand-/slamhåndteringsanlæg - jordbassiner","m³",{"$f":"Genanskaffelsespriser!$E$55","v":50},68357,68357,68357,0,0,null,{"$f":"IF(E352=0,\"Variabel pris\",IFERROR((HLOOKUP(E352,'Variable priser'!$C$59:$H$67,8)+(E352-HLOOKUP(E352,'Variable priser'!$C$59:$H$67,1))*HLOOKUP(E352,'Variable priser'!$C$59:$H$67,9))/E352*(1+Genanskaffelsespriser!$D$203),\"Fejl\"))","v":220.82055698734027},{"$f":"IF(F352=0,\"Variabel pris\",IFERROR((HLOOKUP(F352,'Variable priser'!$C$59:$H$67,8)+(F352-HLOOKUP(F352,'Variable priser'!$C$59:$H$67,1))*HLOOKUP(F352,'Variable priser'!$C$59:$H$67,9))/F352*(1+Genanskaffelsespriser!$D$203),\"Fejl\"))","v":220.82055698734027},301892.61627967237,301892.61627967237,1,1]
["Skyllevandsbehandling, inkl. UV-filter mv., Mek./EL","m³/h.",{"$f":"Genanskaffelsespriser!$E$56","v":25},0,0,0,0,0,null,{"$f":"IF(E353=0,\"Variabel pris\",IFERROR((HLOOKUP(E353,'Variable priser'!$C$108:$E$110,2)+(E353-HLOOKUP(E353,'Variable priser'!$C$108:$E$110,1))*HLOOKUP(E353,'Variable priser'!$C$108:$E$110,3))/E353*'Variable priser'!$H$109*(1+Genanskaffelsespriser!$D$203),\"Fejl\"))","v":"Variabel pris"},{"$f":"IF(F353=0,\"Variabel pris\",IFERROR((HLOOKUP(F353,'Variable priser'!$C$108:$E$110,2)+(F353-HLOOKUP(F353,'Variable priser'!$C$108:$E$110,1))*HLOOKUP(F353,'Variable priser'!$C$108:$E$110,3))/F353*'Variable priser'!$H$109*(1+Genanskaffelsespriser!$D$203),\"Fejl\"))","v":"Variabel pris"},"","",1,1]
["Skyllevandsbehandling, inkl. UV-filter mv., SRO","m³/h.",{"$f":"Genanskaffelsespriser!$E$57","v":10},0,0,0,0,0,null,{"$f":"IF(E354=0,\"Variabel pris\",IFERROR((HLOOKUP(E354,'Variable priser'!$C$108:$E$110,2)+(E354-HLOOKUP(E354,'Variable priser'!$C$108:$E$110,1))*HLOOKUP(E354,'Variable priser'!$C$108:$E$110,3))/E354*'Variable priser'!$I$109*(1+Genanskaffelsespriser!$D$203),\"Fejl\"))","v":"Variabel pris"},{"$f":"IF(F354=0,\"Variabel pris\",IFERROR((HLOOKUP(F354,'Variable priser'!$C$108:$E$110,2)+(F354-HLOOKUP(F354,'Variable priser'!$C$108:$E$110,1))*HLOOKUP(F354,'Variable priser'!$C$108:$E$110,3))/F354*'Variable priser'!$I$109*(1+Genanskaffelsespriser!$D$203),\"Fejl\"))","v":"Variabel pris"},"","",1,1]
["Nødstrømsanlæg på vandværk","kW",{"$f":"Genanskaffelsespriser!$E$58","v":25},100,100,100,0,0,null,{"$f":"IF(E355=0,\"Variabel pris\",IFERROR((HLOOKUP(E355,'Variable priser'!$C$86:$H$88,2)+(E355-HLOOKUP(E355,'Variable priser'!$C$86:$H$88,1))*HLOOKUP(E355,'Variable priser'!$C$86:$H$88,3))/E355*(1+Genanskaffelsespriser!$D$203),\"Fejl\"))","v":5325.1602978000001},{"$f":"IF(F355=0,\"Variabel pris\",IFERROR((HLOOKUP(F355,'Variable priser'!$C$86:$H$88,2)+(F355-HLOOKUP(F355,'Variable priser'!$C$86:$H$88,1))*HLOOKUP(F355,'Variable priser'!$C$86:$H$88,3))/F355*(1+Genanskaffelsespriser!$D$203),\"Fejl\"))","v":5325.1602978000001},21300.6411912,21300.6411912,1,1]
["Elanlæg og SRO-anlæg - vandværk, Elanlæg","m³/h.",{"$f":"Genanskaffelsespriser!$E$59","v":25},2375,2375,2375,0,0,null,{"$f":"IF(E356=0,\"Variabel pris\",IFERROR((HLOOKUP(E356,'Variable priser'!$C$91:$J$95,4)+(E356-HLOOKUP(E356,'Variable priser'!$C$91:$J$95,1))*HLOOKUP(E356,'Variable priser'!$C$91:$J$95,5))/E356*(1+Genanskaffelsespriser!$D$203),\"Fejl\"))","v":1475.7570878289473},{"$f":"IF(F356=0,\"Variabel pris\",IFERROR((HLOOKUP(F356,'Variable priser'!$C$91:$J$95,4)+(F356-HLOOKUP(F356,'Variable priser'!$C$91:$J$95,1))*HLOOKUP(F356,'Variable priser'!$C$91:$J$95,5))/F356*(1+Genanskaffelsespriser!$D$203),\"Fejl\"))","v":1475.7570878289473},140196.92334375001,140196.92334375001,1,1]
["Elanlæg og SRO-anlæg - vandværk, SRO","m³/h.",{"$f":"Genanskaffelsespriser!$E$60","v":10},2375,2375,2375,0,0,null,{"$f":"IF(E357=0,\"Variabel pris\",IFERROR((HLOOKUP(E357,'Variable priser'!$C$91:$J$98,7)+(E357-HLOOKUP(E357,'Variable priser'!$C$91:$J$98,1))*HLOOKUP(E357,'Variable priser'!$C$91:$J$98,8))/E357*(1+Genanskaffelsespriser!$D$203),\"Fejl\"))","v":445.01748138947374},{"$f":"IF(F357=0,\"Variabel pris\",IFERROR((HLOOKUP(F357,'Variable priser'!$C$91:$J$98,7)+(F357-HLOOKUP(F357,'Variable priser'!$C$91:$J$98,1))*HLOOKUP(F357,'Variable priser'!$C$91:$J$98,8))/F357*(1+Genanskaffelsespriser!$D$203),\"Fejl\"))","v":445.01748138947374},105691.65183000002,105691.65183000002,1,1]
["Vandværk 5"]
["Beluftningsanlæg, iltningstrappe, Konstruktioner","m³/h ",{"$f":"Genanskaffelsespriser!$E$30","v":50},1875,1875,1875,{"$f":"IF($D359=\"\",IF($E359>0,\"Ny data\",IF($E359=\"\",\"\",0)),IF($D359=0,IF($E359=0,0,\"Ny data\"),($E359-$D359)/$D359))","v":0},{"$f":"IF($E359=\"\",IF($F359>0,\"Ny data\",IF($F359=\"\",\"\",0)),IF($E359=0,IF($F359=0,0,\"Ny data\"),($F359-$E359)/$E359))","v":0},null,{"$f":"IF(E359=0,\"Variabel pris\",IFERROR((HLOOKUP(E359,'Variable priser'!$C$6:$H$16,2)+(E359-HLOOKUP(E359,'Variable priser'!$C$6:$H$16,1))*HLOOKUP(E359,'Variable priser'!$C$6:$H$16,3))/E359*'Variable priser'!$K$7*(1+Genanskaffelsespriser!$D$203),\"Fejl\"))","v":1830.7177868373333},{"$f":"IF(F359=0,\"Variabel pris\",IFERROR((HLOOKUP(F359,'Variable priser'!$C$6:$H$16,2)+(F359-HLOOKUP(F359,'Variable priser'!$C$6:$H$16,1))*HLOOKUP(F359,'Variable priser'!$C$6:$H$16,3))/F359*'Variable priser'!$K$7*(1+Genanskaffelsespriser!$D$203),\"Fejl\"))","v":1830.7177868373333},{"$f":"IF(ISBLANK(E359),\"\",IF(E359=0,\"\",IF(ISNUMBER(E359),((J359*E359)/C359)*N359,\"\")))","v":68651.917006399992},{"$f":"IF(ISBLANK(F359),\"\",IF(F359=0,\"\",IF(ISNUMBER(F359),((K359*F359)/C359)*N359,\"\")))","v":68651.917006399992},1,1]
["Beluftningsanlæg, iltningstrappe, Mek./EL","m³/h ",{"$f":"Genanskaffelsespriser!$E$31","v":25},1875,1875,1875,0,0,null,{"$f":"IF(E360=0,\"Variabel pris\",IFERROR((HLOOKUP(E360,'Variable priser'!$C$6:$H$16,2)+(E360-HLOOKUP(E360,'Variable priser'!$C$6:$H$16,1))*HLOOKUP(E360,'Variable priser'!$C$6:$H$16,3))/E360*'Variable priser'!$L$7*(1+Genanskaffelsespriser!$D$203),\"Fejl\"))","v":457.67944670933332},{"$f":"IF(F360=0,\"Variabel pris\",IFERROR((HLOOKUP(F360,'Variable priser'!$C$6:$H$16,2)+(F360-HLOOKUP(F360,'Variable priser'!$C$6:$H$16,1))*HLOOKUP(F360,'Variable priser'!$C$6:$H$16,3))/F360*'Variable priser'!$L$7*(1+Genanskaffelsespriser!$D$203),\"Fejl\"))","v":457.67944670933332},{"$f":"IF(ISBLANK(E360),\"\",IF(E360=0,\"\",IF(ISNUMBER(E360),((J360*E360)/C360)*N360,\"\")))","v":34325.958503199996},{"$f":"IF(ISBLANK(F360),\"\",IF(F360=0,\"\",IF(ISNUMBER(F360),((K360*F360)/C360)*N360,\"\")))","v":34325.958503199996},1,1]
["Beluftningsanlæg, ika-beluftning, Konstruktioner","m³/h ",{"$f":"Genanskaffelsespriser!$E$32","v":50},0,0,0,0,0,null,{"$f":"IF(E361=0,\"Variabel pris\",IFERROR((HLOOKUP(E361,'Variable priser'!$C$6:$H$16,4)+(E361-HLOOKUP(E361,'Variable priser'!$C$6:$H$16,1))*HLOOKUP(E361,'Variable priser'!$C$6:$H$16,5))/E361*'Variable priser'!$K$9*(1+Genanskaffelsespriser!$D$203),\"Fejl\"))","v":"Variabel pris"},{"$f":"IF(F361=0,\"Variabel pris\",IFERROR((HLOOKUP(F361,'Variable priser'!$C$6:$H$16,4)+(F361-HLOOKUP(F361,'Variable priser'!$C$6:$H$16,1))*HLOOKUP(F361,'Variable priser'!$C$6:$H$16,5))/F361*'Variable priser'!$K$9*(1+Genanskaffelsespriser!$D$203),\"Fejl\"))","v":"Variabel pris"},"","",1,1]
["Beluftningsanlæg, ika-beluftning, Mek./EL","m³/h ",{"$f":"Genanskaffelsespriser!$E$33","v":25},0,0,0,0,0,null,{"$f":"IF(E362=0,\"Variabel pris\",IFERROR((HLOOKUP(E362,'Variable priser'!$C$6:$H$16,4)+(E362-HLOOKUP(E362,'Variable priser'!$C$6:$H$16,1))*HLOOKUP(E362,'Variable priser'!$C$6:$H$16,5))/E362*'Variable priser'!$L$9*(1+Genanskaffelsespriser!$D$203),\"Fejl\"))","v":"Variabel pris"},{"$f":"IF(F362=0,\"Variabel pris\",IFERROR((HLOOKUP(F362,'Variable priser'!$C$6:$H$16,4)+(F362-HLOOKUP(F362,'Variable priser'!$C$6:$H$16,1))*HLOOKUP(F362,'Variable priser'!$C$6:$H$16,5))/F362*'Variable priser'!$L$9*(1+Genanskaffelsespriser!$D$203),\"Fejl\"))","v":"Variabel pris"},"","",1,1]
["Beluftningsanlæg, bundbeluftbning, Konstruktioner","m³/h ",{"$f":"Genanskaffelsespriser!$E$34","v":50},0,0,0,0,0,null,{"$f":"IF(E363=0,\"Variabel pris\",IFERROR((HLOOKUP(E363,'Variable priser'!$C$6:$H$16,6)+(E363-HLOOKUP(E363,'Variable priser'!$C$6:$H$16,1))*HLOOKUP(E363,'Variable priser'!$C$6:$H$16,7))/E363*'Variable priser'!$K$17*(1+Genanskaffelsespriser!$D$203),\"Fejl\"))","v":"Variabel pris"},{"$f":"IF(F363=0,\"Variabel pris\",IFERROR((HLOOKUP(F363,'Variable priser'!$C$6:$H$16,6)+(F363-HLOOKUP(F363,'Variable priser'!$C$6:$H$16,1))*HLOOKUP(F363,'Variable priser'!$C$6:$H$16,7))/F363*'Variable priser'!$K$17*(1+Genanskaffelsespriser!$D$203),\"Fejl\"))","v":"Variabel pris"},"","",1,1]
["Beluftningsanlæg, bundbeluftbning, Mek./EL","m³/h ",{"$f":"Genanskaffelsespriser!$E$35","v":25},0,0,0,0,0,null,{"$f":"IF(E364=0,\"Variabel pris\",IFERROR((HLOOKUP(E364,'Variable priser'!$C$6:$H$16,6)+(E364-HLOOKUP(E364,'Variable priser'!$C$6:$H$16,1))*HLOOKUP(E364,'Variable priser'!$C$6:$H$16,7))/E364*'Variable priser'!$L$17*(1+Genanskaffelsespriser!$D$203),\"Fejl\"))","v":"Variabel pris"},{"$f":"IF(F364=0,\"Variabel pris\",IFERROR((HLOOKUP(F364,'Variable priser'!$C$6:$H$16,6)+(F364-HLOOKUP(F364,'Variable priser'!$C$6:$H$16,1))*HLOOKUP(F364,'Variable priser'!$C$6:$H$16,7))/F364*'Variable priser'!$L$17*(1+Genanskaffelsespriser!$D$203),\"Fejl\"))","v":"Variabel pris"},"","",1,1]
["Beluftningsanlæg, rislebakke, Konstruktioner","m³/h ",{"$f":"Genanskaffelsespriser!$E$36","v":50},0,0,0,0,0,null,{"$f":"IF(E365=0,\"Variabel pris\",IFERROR((HLOOKUP(E365,'Variable priser'!$C$6:$H$18,12)+(E365-HLOOKUP(E365,'Variable priser'!$C$6:$H$18,1))*HLOOKUP(E365,'Variable priser'!$C$6:$H$18,13))/E365*'Variable priser'!$K$17*(1+Genanskaffelsespriser!$D$203),\"Fejl\"))","v":"Variabel pris"},{"$f":"IF(F365=0,\"Variabel pris\",IFERROR((HLOOKUP(F365,'Variable priser'!$C$6:$H$18,12)+(F365-HLOOKUP(F365,'Variable priser'!$C$6:$H$18,1))*HLOOKUP(F365,'Variable priser'!$C$6:$H$18,13))/F365*'Variable priser'!$K$17*(1+Genanskaffelsespriser!$D$203),\"Fejl\"))","v":"Variabel pris"},"","",1,1]
["Beluftningsanlæg, rislebakke, Mek./EL","m³/h ",{"$f":"Genanskaffelsespriser!$E$37","v":25},0,0,0,0,0,null,{"$f":"IF(E366=0,\"Variabel pris\",IFERROR((HLOOKUP(E366,'Variable priser'!$C$6:$H$18,12)+(E366-HLOOKUP(E366,'Variable priser'!$C$6:$H$18,1))*HLOOKUP(E366,'Variable priser'!$C$6:$H$18,13))/E366*'Variable priser'!$L$17*(1+Genanskaffelsespriser!$D$203),\"Fejl\"))","v":"Variabel pris"},{"$f":"IF(F366=0,\"Variabel pris\",IFERROR((HLOOKUP(F366,'Variable priser'!$C$6:$H$18,12)+(F366-HLOOKUP(F366,'Variable priser'!$C$6:$H$18,1))*HLOOKUP(F366,'Variable priser'!$C$6:$H$18,13))/F366*'Variable priser'!$L$17*(1+Genanskaffelsespriser!$D$203),\"Fejl\"))","v":"Variabel pris"},"","",1,1]
["Beluftningsanlæg, kompressorbeluftning","m³/h ",{"$f":"Genanskaffelsespriser!$E$38","v":25},0,0,0,0,0,null,{"$f":"IF(E367=0,\"Variabel pris\",IFERROR((HLOOKUP(E367,'Variable priser'!$C$6:$H$16,8)+(E367-HLOOKUP(E367,'Variable priser'!$C$6:$H$16,1))*HLOOKUP(E367,'Variable priser'!$C$6:$H$16,9))/E367*(1+Genanskaffelsespriser!$D$203),\"Fejl\"))","v":"Variabel pris"},{"$f":"IF(F367=0,\"Variabel pris\",IFERROR((HLOOKUP(F367,'Variable priser'!$C$6:$H$16,8)+(F367-HLOOKUP(F367,'Variable priser'!$C$6:$H$16,1))*HLOOKUP(F367,'Variable priser'!$C$6:$H$16,9))/F367*(1+Genanskaffelsespriser!$D$203),\"Fejl\"))","v":"Variabel pris"},"","",1,1]
["Beluftningsanlæg, ren ilt","m³/h ",{"$f":"Genanskaffelsespriser!$E$39","v":25},0,0,0,0,0,null,{"$f":"IF(E368=0,\"Variabel pris\",IFERROR((HLOOKUP(E368,'Variable priser'!$C$6:$H$16,10)+(E368-HLOOKUP(E368,'Variable priser'!$C$6:$H$16,1))*HLOOKUP(E368,'Variable priser'!$C$6:$H$16,11))/E368*(1+Genanskaffelsespriser!$D$203),\"Fejl\"))","v":"Variabel pris"},{"$f":"IF(F368=0,\"Variabel pris\",IFERROR((HLOOKUP(F368,'Variable priser'!$C$6:$H$16,10)+(F368-HLOOKUP(F368,'Variable priser'!$C$6:$H$16,1))*HLOOKUP(F368,'Variable priser'!$C$6:$H$16,11))/F368*(1+Genanskaffelsespriser!$D$203),\"Fejl\"))","v":"Variabel pris"},"","",1,1]
["Behandlingsanlæg, kalk anlæg","m³/h ",{"$f":"Genanskaffelsespriser!$E$40","v":25},0,0,0,0,0,null,{"$f":"IF(E369=0,\"Variabel pris\",IFERROR((HLOOKUP(E369,'Variable priser'!$C$20:$G$24,3)+(E369-HLOOKUP(E369,'Variable priser'!$C$20:$G$24,1))*HLOOKUP(E369,'Variable priser'!$C$20:$G$24,4))/E369*(1+Genanskaffelsespriser!$D$203),\"Fejl\"))","v":"Variabel pris"},{"$f":"IF(F369=0,\"Variabel pris\",IFERROR((HLOOKUP(F369,'Variable priser'!$C$20:$G$24,3)+(F369-HLOOKUP(F369,'Variable priser'!$C$20:$G$24,1))*HLOOKUP(F369,'Variable priser'!$C$20:$G$24,4))/F369*(1+Genanskaffelsespriser!$D$203),\"Fejl\"))","v":"Variabel pris"},"","",1,1]
["Behandlingsanlæg, luddosering","m³/h ",{"$f":"Genanskaffelsespriser!$E$41","v":25},0,0,0,0,0,null,{"$f":"IF(E370=0,\"Variabel pris\",IFERROR((HLOOKUP(E370,'Variable priser'!$C$20:$G$25,5)+(E370-HLOOKUP(E370,'Variable priser'!$C$20:$G$25,1))*HLOOKUP(E370,'Variable priser'!$C$20:$G$25,6))/E370*(1+Genanskaffelsespriser!$D$203),\"Fejl\"))","v":"Variabel pris"},{"$f":"IF(F370=0,\"Variabel pris\",IFERROR((HLOOKUP(F370,'Variable priser'!$C$20:$G$25,5)+(F370-HLOOKUP(F370,'Variable priser'!$C$20:$G$25,1))*HLOOKUP(F370,'Variable priser'!$C$20:$G$25,6))/F370*(1+Genanskaffelsespriser!$D$203),\"Fejl\"))","v":"Variabel pris"},"","",1,1]
["Filteranlæg, åbne filtre, enkelt filtrering, Konstruktioner","m³/h ",{"$f":"Genanskaffelsespriser!$E$42","v":50},0,0,0,0,0,null,{"$f":"IF(E371=0,\"Variabel pris\",IFERROR((HLOOKUP(E371,'Variable priser'!$C$28:$G$38,9)+(E371-HLOOKUP(E371,'Variable priser'!$C$28:$G$38,1))*HLOOKUP(E371,'Variable priser'!$C$28:$G$38,10))/E371*'Variable priser'!$K$31*(1+Genanskaffelsespriser!$D$203),\"Fejl\"))","v":"Variabel pris"},{"$f":"IF(F371=0,\"Variabel pris\",IFERROR((HLOOKUP(F371,'Variable priser'!$C$28:$G$38,9)+(F371-HLOOKUP(F371,'Variable priser'!$C$28:$G$38,1))*HLOOKUP(F371,'Variable priser'!$C$28:$G$38,10))/F371*'Variable priser'!$K$31*(1+Genanskaffelsespriser!$D$203),\"Fejl\"))","v":"Variabel pris"},"","",1,1]
["Filteranlæg, åbne filtre, enkelt filtrering, Mek./EL","m³/h ",{"$f":"Genanskaffelsespriser!$E$43","v":25},0,0,0,0,0,null,{"$f":"IF(E372=0,\"Variabel pris\",IFERROR((HLOOKUP(E372,'Variable priser'!$C$28:$G$38,9)+(E372-HLOOKUP(E372,'Variable priser'!$C$28:$G$38,1))*HLOOKUP(E372,'Variable priser'!$C$28:$G$38,10))/E372*'Variable priser'!$L$31*(1+Genanskaffelsespriser!$D$203),\"Fejl\"))","v":"Variabel pris"},{"$f":"IF(F372=0,\"Variabel pris\",IFERROR((HLOOKUP(F372,'Variable priser'!$C$28:$G$38,9)+(F372-HLOOKUP(F372,'Variable priser'!$C$28:$G$38,1))*HLOOKUP(F372,'Variable priser'!$C$28:$G$38,10))/F372*'Variable priser'!$L$31*(1+Genanskaffelsespriser!$D$203),\"Fejl\"))","v":"Variabel pris"},"","",1,1]
["Filteranlæg, åbne filtre, dobbelt filtrering, Konstruktioner","m³/h ",{"$f":"Genanskaffelsespriser!$E$44","v":50},1875,1875,1875,0,0,null,{"$f":"IF(E373=0,\"Variabel pris\",IFERROR((HLOOKUP(E373,'Variable priser'!$C$28:$G$38,6)+(E373-HLOOKUP(E373,'Variable priser'!$C$28:$G$38,1))*HLOOKUP(E373,'Variable priser'!$C$28:$G$38,7))/E373*'Variable priser'!$K$31*(1+Genanskaffelsespriser!$D$203),\"Fejl\"))","v":6145.3673605273589},{"$f":"IF(F373=0,\"Variabel pris\",IFERROR((HLOOKUP(F373,'Variable priser'!$C$28:$G$38,6)+(F373-HLOOKUP(F373,'Variable priser'!$C$28:$G$38,1))*HLOOKUP(F373,'Variable priser'!$C$28:$G$38,7))/F373*'Variable priser'!$K$31*(1+Genanskaffelsespriser!$D$203),\"Fejl\"))","v":6145.3673605273589},230451.27601977595,230451.27601977595,1,1]
["Filteranlæg, åbne filtre, dobbelt filtrering, Mek./EL","m³/h ",{"$f":"Genanskaffelsespriser!$E$45","v":25},1875,1875,1875,0,0,null,{"$f":"IF(E374=0,\"Variabel pris\",IFERROR((HLOOKUP(E374,'Variable priser'!$C$28:$G$38,6)+(E374-HLOOKUP(E374,'Variable priser'!$C$28:$G$38,1))*HLOOKUP(E374,'Variable priser'!$C$28:$G$38,7))/E374*'Variable priser'!$L$31*(1+Genanskaffelsespriser!$D$203),\"Fejl\"))","v":9218.0510407910388},{"$f":"IF(F374=0,\"Variabel pris\",IFERROR((HLOOKUP(F374,'Variable priser'!$C$28:$G$38,6)+(F374-HLOOKUP(F374,'Variable priser'!$C$28:$G$38,1))*HLOOKUP(F374,'Variable priser'!$C$28:$G$38,7))/F374*'Variable priser'!$L$31*(1+Genanskaffelsespriser!$D$203),\"Fejl\"))","v":9218.0510407910388},691353.82805932791,691353.82805932791,1,1]
["Filteranlæg, trykfiltre, enkelt filtrering","m³/h ",{"$f":"Genanskaffelsespriser!$E$46","v":25},0,0,0,0,0,null,{"$f":"IF(E375=0,\"Variabel pris\",IFERROR((HLOOKUP(E375,'Variable priser'!$C$40:$H$42,2)+(E375-HLOOKUP(E375,'Variable priser'!$C$40:$H$42,1))*HLOOKUP(E375,'Variable priser'!$C$40:$H$42,3))/E375*(1+Genanskaffelsespriser!$D$203),\"Fejl\"))","v":"Variabel pris"},{"$f":"IF(F375=0,\"Variabel pris\",IFERROR((HLOOKUP(F375,'Variable priser'!$C$40:$H$42,2)+(F375-HLOOKUP(F375,'Variable priser'!$C$40:$H$42,1))*HLOOKUP(F375,'Variable priser'!$C$40:$H$42,3))/F375*(1+Genanskaffelsespriser!$D$203),\"Fejl\"))","v":"Variabel pris"},"","",1,1]
["Filteranlæg, trykfiltre, dobbelt filtrering","m³/h ",{"$f":"Genanskaffelsespriser!$E$47","v":25},0,0,0,0,0,null,{"$f":"IF(E376=0,\"Variabel pris\",IFERROR((HLOOKUP(E376,'Variable priser'!$C$44:$H$46,2)+(E376-HLOOKUP(E376,'Variable priser'!$C$44:$H$46,1))*HLOOKUP(E376,'Variable priser'!$C$44:$H$46,3))/E376*(1+Genanskaffelsespriser!$D$203),\"Fejl\"))","v":"Variabel pris"},{"$f":"IF(F376=0,\"Variabel pris\",IFERROR((HLOOKUP(F376,'Variable priser'!$C$44:$H$46,2)+(F376-HLOOKUP(F376,'Variable priser'!$C$44:$H$46,1))*HLOOKUP(F376,'Variable priser'!$C$44:$H$46,3))/F376*(1+Genanskaffelsespriser!$D$203),\"Fejl\"))","v":"Variabel pris"},"","",1,1]
["Rentvandsbeholder  insitu støbt","m³",{"$f":"Genanskaffelsespriser!$E$48","v":50},5000,5000,5000,0,0,null,{"$f":"IF(E377=0,\"Variabel pris\",IFERROR((HLOOKUP(E377,'Variable priser'!$C$48:$H$50,2)+(E377-HLOOKUP(E377,'Variable priser'!$C$48:$H$50,1))*HLOOKUP(E377,'Variable priser'!$C$48:$H$50,3))/E377*(1+Genanskaffelsespriser!$D$203),\"Fejl\"))","v":2236.159821408},{"$f":"IF(F377=0,\"Variabel pris\",IFERROR((HLOOKUP(F377,'Variable priser'!$C$48:$H$50,2)+(F377-HLOOKUP(F377,'Variable priser'!$C$48:$H$50,1))*HLOOKUP(F377,'Variable priser'!$C$48:$H$50,3))/F377*(1+Genanskaffelsespriser!$D$203),\"Fejl\"))","v":2236.159821408},223615.98214079998,223615.98214079998,1,1]
["Rentvandsbeholder  element","m³",{"$f":"Genanskaffelsespriser!$E$49","v":50},0,0,0,0,0,null,{"$f":"IF(E378=0,\"Variabel pris\",IFERROR((HLOOKUP(E378,'Variable priser'!$C$52:$H$54,2)+(E378-HLOOKUP(E378,'Variable priser'!$C$52:$H$54,1))*HLOOKUP(E378,'Variable priser'!$C$52:$H$54,3))/E378*(1+Genanskaffelsespriser!$D$203),\"Fejl\"))","v":"Variabel pris"},{"$f":"IF(F378=0,\"Variabel pris\",IFERROR((HLOOKUP(F378,'Variable priser'!$C$52:$H$54,2)+(F378-HLOOKUP(F378,'Variable priser'!$C$52:$H$54,1))*HLOOKUP(F378,'Variable priser'!$C$52:$H$54,3))/F378*(1+Genanskaffelsespriser!$D$203),\"Fejl\"))","v":"Variabel pris"},"","",1,1]
["Udpumpningsanlæg, rentvandspumper på vandværk","m³/h ",{"$f":"Genanskaffelsespriser!$E$50","v":25},3750,3750,3750,0,0,null,{"$f":"IF(E379=0,\"Variabel pris\",IFERROR((HLOOKUP(E379,'Variable priser'!$C$71:$H$73,2)+(E379-HLOOKUP(E379,'Variable priser'!$C$71:$H$73,1))*HLOOKUP(E379,'Variable priser'!$C$71:$H$73,3))/E379*(1+Genanskaffelsespriser!$D$203),\"Fejl\"))","v":882.23152928888874},{"$f":"IF(F379=0,\"Variabel pris\",IFERROR((HLOOKUP(F379,'Variable priser'!$C$71:$H$73,2)+(F379-HLOOKUP(F379,'Variable priser'!$C$71:$H$73,1))*HLOOKUP(F379,'Variable priser'!$C$71:$H$73,3))/F379*(1+Genanskaffelsespriser!$D$203),\"Fejl\"))","v":882.23152928888874},132334.72939333331,132334.72939333331,1,1]
["Udpumpningsanlæg, frekvensomformer","kW",{"$f":"Genanskaffelsespriser!$E$51","v":25},750,750,750,0,0,null,{"$f":"IF(E380=0,\"Variabel pris\",IFERROR((HLOOKUP(E380,'Variable priser'!$C$76:$J$78,2)+(E380-HLOOKUP(E380,'Variable priser'!$C$76:$J$78,1))*HLOOKUP(E380,'Variable priser'!$C$76:$J$78,3))/E380*(1+Genanskaffelsespriser!$D$203),\"Fejl\"))","v":1913.5485572800055},{"$f":"IF(F380=0,\"Variabel pris\",IFERROR((HLOOKUP(F380,'Variable priser'!$C$76:$J$78,2)+(F380-HLOOKUP(F380,'Variable priser'!$C$76:$J$78,1))*HLOOKUP(F380,'Variable priser'!$C$76:$J$78,3))/F380*(1+Genanskaffelsespriser!$D$203),\"Fejl\"))","v":1913.5485572800055},57406.456718400164,57406.456718400164,1,1]
["Udpumpningsanlæg, Hydrofor","liter",{"$f":"Genanskaffelsespriser!$E$52","v":25},23000,23000,23000,0,0,null,{"$f":"IF(E381=0,\"Variabel pris\",IFERROR((HLOOKUP(E381,'Variable priser'!$C$81:$J$83,2)+(E381-HLOOKUP(E381,'Variable priser'!$C$81:$J$83,1))*HLOOKUP(E381,'Variable priser'!$C$81:$J$83,3))/E381*(1+Genanskaffelsespriser!$D$203),\"Fejl\"))","v":34.635982512000005},{"$f":"IF(F381=0,\"Variabel pris\",IFERROR((HLOOKUP(F381,'Variable priser'!$C$81:$J$83,2)+(F381-HLOOKUP(F381,'Variable priser'!$C$81:$J$83,1))*HLOOKUP(F381,'Variable priser'!$C$81:$J$83,3))/F381*(1+Genanskaffelsespriser!$D$203),\"Fejl\"))","v":34.635982512000005},31865.103911040005,31865.103911040005,1,1]
["Skyllevand-/slamhåndteringsanlæg - lukkede betonbeholdere","m³",{"$f":"Genanskaffelsespriser!$E$53","v":50},0,0,0,0,0,null,{"$f":"IF(E382=0,\"Variabel pris\",IFERROR((HLOOKUP(E382,'Variable priser'!$C$59:$H$61,2)+(E382-HLOOKUP(E382,'Variable priser'!$C$59:$H$61,1))*HLOOKUP(E382,'Variable priser'!$C$59:$H$61,3))/E382*(1+Genanskaffelsespriser!$D$203),\"Fejl\"))","v":"Variabel pris"},{"$f":"IF(F382=0,\"Variabel pris\",IFERROR((HLOOKUP(F382,'Variable priser'!$C$59:$H$61,2)+(F382-HLOOKUP(F382,'Variable priser'!$C$59:$H$61,1))*HLOOKUP(F382,'Variable priser'!$C$59:$H$61,3))/F382*(1+Genanskaffelsespriser!$D$203),\"Fejl\"))","v":"Variabel pris"},"","",1,1]
["Skyllevand-/slamhåndteringsanl. - åbne med faste sider/bund","m³",{"$f":"Genanskaffelsespriser!$E$54","v":50},2880,2880,2880,0,0,null,{"$f":"IF(E383=0,\"Variabel pris\",IFERROR((HLOOKUP(E383,'Variable priser'!$C$59:$H$64,5)+(E383-HLOOKUP(E383,'Variable priser'!$C$59:$H$64,1))*HLOOKUP(E383,'Variable priser'!$C$59:$H$64,6))/E383*(1+Genanskaffelsespriser!$D$203),\"Fejl\"))","v":1533.2281690410666},{"$f":"IF(F383=0,\"Variabel pris\",IFERROR((HLOOKUP(F383,'Variable priser'!$C$59:$H$64,5)+(F383-HLOOKUP(F383,'Variable priser'!$C$59:$H$64,1))*HLOOKUP(F383,'Variable priser'!$C$59:$H$64,6))/F383*(1+Genanskaffelsespriser!$D$203),\"Fejl\"))","v":1533.2281690410666},88313.942536765433,88313.942536765433,1,1]
["Skyllevand-/slamhåndteringsanlæg - jordbassiner","m³",{"$f":"Genanskaffelsespriser!$E$55","v":50},2822,2822,2822,0,0,null,{"$f":"IF(E384=0,\"Variabel pris\",IFERROR((HLOOKUP(E384,'Variable priser'!$C$59:$H$67,8)+(E384-HLOOKUP(E384,'Variable priser'!$C$59:$H$67,1))*HLOOKUP(E384,'Variable priser'!$C$59:$H$67,9))/E384*(1+Genanskaffelsespriser!$D$203),\"Fejl\"))","v":230.18084846999133},{"$f":"IF(F384=0,\"Variabel pris\",IFERROR((HLOOKUP(F384,'Variable priser'!$C$59:$H$67,8)+(F384-HLOOKUP(F384,'Variable priser'!$C$59:$H$67,1))*HLOOKUP(F384,'Variable priser'!$C$59:$H$67,9))/F384*(1+Genanskaffelsespriser!$D$203),\"Fejl\"))","v":230.18084846999133},12991.40708764631,12991.40708764631,1,1]
["Skyllevandsbehandling, inkl. UV-filter mv., Mek./EL","m³/h.",{"$f":"Genanskaffelsespriser!$E$56","v":25},50,50,50,0,0,null,{"$f":"IF(E385=0,\"Variabel pris\",IFERROR((HLOOKUP(E385,'Variable priser'!$C$108:$E$110,2)+(E385-HLOOKUP(E385,'Variable priser'!$C$108:$E$110,1))*HLOOKUP(E385,'Variable priser'!$C$108:$E$110,3))/E385*'Variable priser'!$H$109*(1+Genanskaffelsespriser!$D$203),\"Fejl\"))","v":15907.788177749997},{"$f":"IF(F385=0,\"Variabel pris\",IFERROR((HLOOKUP(F385,'Variable priser'!$C$108:$E$110,2)+(F385-HLOOKUP(F385,'Variable priser'!$C$108:$E$110,1))*HLOOKUP(F385,'Variable priser'!$C$108:$E$110,3))/F385*'Variable priser'!$H$109*(1+Genanskaffelsespriser!$D$203),\"Fejl\"))","v":15907.788177749997},31815.576355499994,31815.576355499994,1,1]
["Skyllevandsbehandling, inkl. UV-filter mv., SRO","m³/h.",{"$f":"Genanskaffelsespriser!$E$57","v":10},50,50,50,0,0,null,{"$f":"IF(E386=0,\"Variabel pris\",IFERROR((HLOOKUP(E386,'Variable priser'!$C$108:$E$110,2)+(E386-HLOOKUP(E386,'Variable priser'!$C$108:$E$110,1))*HLOOKUP(E386,'Variable priser'!$C$108:$E$110,3))/E386*'Variable priser'!$I$109*(1+Genanskaffelsespriser!$D$203),\"Fejl\"))","v":2807.2567372499993},{"$f":"IF(F386=0,\"Variabel pris\",IFERROR((HLOOKUP(F386,'Variable priser'!$C$108:$E$110,2)+(F386-HLOOKUP(F386,'Variable priser'!$C$108:$E$110,1))*HLOOKUP(F386,'Variable priser'!$C$108:$E$110,3))/F386*'Variable priser'!$I$109*(1+Genanskaffelsespriser!$D$203),\"Fejl\"))","v":2807.2567372499993},14036.283686249997,14036.283686249997,1,1]
["Nødstrømsanlæg på vandværk","kW",{"$f":"Genanskaffelsespriser!$E$58","v":25},0,0,0,0,0,null,{"$f":"IF(E387=0,\"Variabel pris\",IFERROR((HLOOKUP(E387,'Variable priser'!$C$86:$H$88,2)+(E387-HLOOKUP(E387,'Variable priser'!$C$86:$H$88,1))*HLOOKUP(E387,'Variable priser'!$C$86:$H$88,3))/E387*(1+Genanskaffelsespriser!$D$203),\"Fejl\"))","v":"Variabel pris"},{"$f":"IF(F387=0,\"Variabel pris\",IFERROR((HLOOKUP(F387,'Variable priser'!$C$86:$H$88,2)+(F387-HLOOKUP(F387,'Variable priser'!$C$86:$H$88,1))*HLOOKUP(F387,'Variable priser'!$C$86:$H$88,3))/F387*(1+Genanskaffelsespriser!$D$203),\"Fejl\"))","v":"Variabel pris"},"","",1,1]
["Elanlæg og SRO-anlæg - vandværk, Elanlæg","m³/h.",{"$f":"Genanskaffelsespriser!$E$59","v":25},1875,1875,1875,0,0,null,{"$f":"IF(E388=0,\"Variabel pris\",IFERROR((HLOOKUP(E388,'Variable priser'!$C$91:$J$95,4)+(E388-HLOOKUP(E388,'Variable priser'!$C$91:$J$95,1))*HLOOKUP(E388,'Variable priser'!$C$91:$J$95,5))/E388*(1+Genanskaffelsespriser!$D$203),\"Fejl\"))","v":1524.1921922499998},{"$f":"IF(F388=0,\"Variabel pris\",IFERROR((HLOOKUP(F388,'Variable priser'!$C$91:$J$95,4)+(F388-HLOOKUP(F388,'Variable priser'!$C$91:$J$95,1))*HLOOKUP(F388,'Variable priser'!$C$91:$J$95,5))/F388*(1+Genanskaffelsespriser!$D$203),\"Fejl\"))","v":1524.1921922499998},114314.41441874999,114314.41441874999,1,1]
["Elanlæg og SRO-anlæg - vandværk, SRO","m³/h.",{"$f":"Genanskaffelsespriser!$E$60","v":10},1875,1875,1875,0,0,null,{"$f":"IF(E389=0,\"Variabel pris\",IFERROR((HLOOKUP(E389,'Variable priser'!$C$91:$J$98,7)+(E389-HLOOKUP(E389,'Variable priser'!$C$91:$J$98,1))*HLOOKUP(E389,'Variable priser'!$C$91:$J$98,8))/E389*(1+Genanskaffelsespriser!$D$203),\"Fejl\"))","v":478.74108816000006},{"$f":"IF(F389=0,\"Variabel pris\",IFERROR((HLOOKUP(F389,'Variable priser'!$C$91:$J$98,7)+(F389-HLOOKUP(F389,'Variable priser'!$C$91:$J$98,1))*HLOOKUP(F389,'Variable priser'!$C$91:$J$98,8))/F389*(1+Genanskaffelsespriser!$D$203),\"Fejl\"))","v":478.74108816000006},89763.954030000008,89763.954030000008,1,1]
["Vandværk 6"]
["Beluftningsanlæg, iltningstrappe, Konstruktioner","m³/h ",{"$f":"Genanskaffelsespriser!$E$30","v":50},2208,2208,2208,{"$f":"IF($D391=\"\",IF($E391>0,\"Ny data\",IF($E391=\"\",\"\",0)),IF($D391=0,IF($E391=0,0,\"Ny data\"),($E391-$D391)/$D391))","v":0},{"$f":"IF($E391=\"\",IF($F391>0,\"Ny data\",IF($F391=\"\",\"\",0)),IF($E391=0,IF($F391=0,0,\"Ny data\"),($F391-$E391)/$E391))","v":0},null,{"$f":"IF(E391=0,\"Variabel pris\",IFERROR((HLOOKUP(E391,'Variable priser'!$C$6:$H$16,2)+(E391-HLOOKUP(E391,'Variable priser'!$C$6:$H$16,1))*HLOOKUP(E391,'Variable priser'!$C$6:$H$16,3))/E391*'Variable priser'!$K$7*(1+Genanskaffelsespriser!$D$203),\"Fejl\"))","v":1809.9917738933327},{"$f":"IF(F391=0,\"Variabel pris\",IFERROR((HLOOKUP(F391,'Variable priser'!$C$6:$H$16,2)+(F391-HLOOKUP(F391,'Variable priser'!$C$6:$H$16,1))*HLOOKUP(F391,'Variable priser'!$C$6:$H$16,3))/F391*'Variable priser'!$K$7*(1+Genanskaffelsespriser!$D$203),\"Fejl\"))","v":1809.9917738933327},{"$f":"IF(ISBLANK(E391),\"\",IF(E391=0,\"\",IF(ISNUMBER(E391),((J391*E391)/C391)*N391,\"\")))","v":79929.236735129569},{"$f":"IF(ISBLANK(F391),\"\",IF(F391=0,\"\",IF(ISNUMBER(F391),((K391*F391)/C391)*N391,\"\")))","v":79929.236735129569},1,1]
["Beluftningsanlæg, iltningstrappe, Mek./EL","m³/h ",{"$f":"Genanskaffelsespriser!$E$31","v":25},2208,2208,2208,0,0,null,{"$f":"IF(E392=0,\"Variabel pris\",IFERROR((HLOOKUP(E392,'Variable priser'!$C$6:$H$16,2)+(E392-HLOOKUP(E392,'Variable priser'!$C$6:$H$16,1))*HLOOKUP(E392,'Variable priser'!$C$6:$H$16,3))/E392*'Variable priser'!$L$7*(1+Genanskaffelsespriser!$D$203),\"Fejl\"))","v":452.49794347333318},{"$f":"IF(F392=0,\"Variabel pris\",IFERROR((HLOOKUP(F392,'Variable priser'!$C$6:$H$16,2)+(F392-HLOOKUP(F392,'Variable priser'!$C$6:$H$16,1))*HLOOKUP(F392,'Variable priser'!$C$6:$H$16,3))/F392*'Variable priser'!$L$7*(1+Genanskaffelsespriser!$D$203),\"Fejl\"))","v":452.49794347333318},{"$f":"IF(ISBLANK(E392),\"\",IF(E392=0,\"\",IF(ISNUMBER(E392),((J392*E392)/C392)*N392,\"\")))","v":39964.618367564784},{"$f":"IF(ISBLANK(F392),\"\",IF(F392=0,\"\",IF(ISNUMBER(F392),((K392*F392)/C392)*N392,\"\")))","v":39964.618367564784},1,1]
["Beluftningsanlæg, ika-beluftning, Konstruktioner","m³/h ",{"$f":"Genanskaffelsespriser!$E$32","v":50},0,0,0,0,0,null,{"$f":"IF(E393=0,\"Variabel pris\",IFERROR((HLOOKUP(E393,'Variable priser'!$C$6:$H$16,4)+(E393-HLOOKUP(E393,'Variable priser'!$C$6:$H$16,1))*HLOOKUP(E393,'Variable priser'!$C$6:$H$16,5))/E393*'Variable priser'!$K$9*(1+Genanskaffelsespriser!$D$203),\"Fejl\"))","v":"Variabel pris"},{"$f":"IF(F393=0,\"Variabel pris\",IFERROR((HLOOKUP(F393,'Variable priser'!$C$6:$H$16,4)+(F393-HLOOKUP(F393,'Variable priser'!$C$6:$H$16,1))*HLOOKUP(F393,'Variable priser'!$C$6:$H$16,5))/F393*'Variable priser'!$K$9*(1+Genanskaffelsespriser!$D$203),\"Fejl\"))","v":"Variabel pris"},"","",1,1]
["Beluftningsanlæg, ika-beluftning, Mek./EL","m³/h ",{"$f":"Genanskaffelsespriser!$E$33","v":25},0,0,0,0,0,null,{"$f":"IF(E394=0,\"Variabel pris\",IFERROR((HLOOKUP(E394,'Variable priser'!$C$6:$H$16,4)+(E394-HLOOKUP(E394,'Variable priser'!$C$6:$H$16,1))*HLOOKUP(E394,'Variable priser'!$C$6:$H$16,5))/E394*'Variable priser'!$L$9*(1+Genanskaffelsespriser!$D$203),\"Fejl\"))","v":"Variabel pris"},{"$f":"IF(F394=0,\"Variabel pris\",IFERROR((HLOOKUP(F394,'Variable priser'!$C$6:$H$16,4)+(F394-HLOOKUP(F394,'Variable priser'!$C$6:$H$16,1))*HLOOKUP(F394,'Variable priser'!$C$6:$H$16,5))/F394*'Variable priser'!$L$9*(1+Genanskaffelsespriser!$D$203),\"Fejl\"))","v":"Variabel pris"},"","",1,1]
["Beluftningsanlæg, bundbeluftbning, Konstruktioner","m³/h ",{"$f":"Genanskaffelsespriser!$E$34","v":50},0,0,0,0,0,null,{"$f":"IF(E395=0,\"Variabel pris\",IFERROR((HLOOKUP(E395,'Variable priser'!$C$6:$H$16,6)+(E395-HLOOKUP(E395,'Variable priser'!$C$6:$H$16,1))*HLOOKUP(E395,'Variable priser'!$C$6:$H$16,7))/E395*'Variable priser'!$K$17*(1+Genanskaffelsespriser!$D$203),\"Fejl\"))","v":"Variabel pris"},{"$f":"IF(F395=0,\"Variabel pris\",IFERROR((HLOOKUP(F395,'Variable priser'!$C$6:$H$16,6)+(F395-HLOOKUP(F395,'Variable priser'!$C$6:$H$16,1))*HLOOKUP(F395,'Variable priser'!$C$6:$H$16,7))/F395*'Variable priser'!$K$17*(1+Genanskaffelsespriser!$D$203),\"Fejl\"))","v":"Variabel pris"},"","",1,1]
["Beluftningsanlæg, bundbeluftbning, Mek./EL","m³/h ",{"$f":"Genanskaffelsespriser!$E$35","v":25},0,0,0,0,0,null,{"$f":"IF(E396=0,\"Variabel pris\",IFERROR((HLOOKUP(E396,'Variable priser'!$C$6:$H$16,6)+(E396-HLOOKUP(E396,'Variable priser'!$C$6:$H$16,1))*HLOOKUP(E396,'Variable priser'!$C$6:$H$16,7))/E396*'Variable priser'!$L$17*(1+Genanskaffelsespriser!$D$203),\"Fejl\"))","v":"Variabel pris"},{"$f":"IF(F396=0,\"Variabel pris\",IFERROR((HLOOKUP(F396,'Variable priser'!$C$6:$H$16,6)+(F396-HLOOKUP(F396,'Variable priser'!$C$6:$H$16,1))*HLOOKUP(F396,'Variable priser'!$C$6:$H$16,7))/F396*'Variable priser'!$L$17*(1+Genanskaffelsespriser!$D$203),\"Fejl\"))","v":"Variabel pris"},"","",1,1]
["Beluftningsanlæg, rislebakke, Konstruktioner","m³/h ",{"$f":"Genanskaffelsespriser!$E$36","v":50},0,0,0,0,0,null,{"$f":"IF(E397=0,\"Variabel pris\",IFERROR((HLOOKUP(E397,'Variable priser'!$C$6:$H$18,12)+(E397-HLOOKUP(E397,'Variable priser'!$C$6:$H$18,1))*HLOOKUP(E397,'Variable priser'!$C$6:$H$18,13))/E397*'Variable priser'!$K$17*(1+Genanskaffelsespriser!$D$203),\"Fejl\"))","v":"Variabel pris"},{"$f":"IF(F397=0,\"Variabel pris\",IFERROR((HLOOKUP(F397,'Variable priser'!$C$6:$H$18,12)+(F397-HLOOKUP(F397,'Variable priser'!$C$6:$H$18,1))*HLOOKUP(F397,'Variable priser'!$C$6:$H$18,13))/F397*'Variable priser'!$K$17*(1+Genanskaffelsespriser!$D$203),\"Fejl\"))","v":"Variabel pris"},"","",1,1]
["Beluftningsanlæg, rislebakke, Mek./EL","m³/h ",{"$f":"Genanskaffelsespriser!$E$37","v":25},0,0,0,0,0,null,{"$f":"IF(E398=0,\"Variabel pris\",IFERROR((HLOOKUP(E398,'Variable priser'!$C$6:$H$18,12)+(E398-HLOOKUP(E398,'Variable priser'!$C$6:$H$18,1))*HLOOKUP(E398,'Variable priser'!$C$6:$H$18,13))/E398*'Variable priser'!$L$17*(1+Genanskaffelsespriser!$D$203),\"Fejl\"))","v":"Variabel pris"},{"$f":"IF(F398=0,\"Variabel pris\",IFERROR((HLOOKUP(F398,'Variable priser'!$C$6:$H$18,12)+(F398-HLOOKUP(F398,'Variable priser'!$C$6:$H$18,1))*HLOOKUP(F398,'Variable priser'!$C$6:$H$18,13))/F398*'Variable priser'!$L$17*(1+Genanskaffelsespriser!$D$203),\"Fejl\"))","v":"Variabel pris"},"","",1,1]
["Beluftningsanlæg, kompressorbeluftning","m³/h ",{"$f":"Genanskaffelsespriser!$E$38","v":25},0,0,0,0,0,null,{"$f":"IF(E399=0,\"Variabel pris\",IFERROR((HLOOKUP(E399,'Variable priser'!$C$6:$H$16,8)+(E399-HLOOKUP(E399,'Variable priser'!$C$6:$H$16,1))*HLOOKUP(E399,'Variable priser'!$C$6:$H$16,9))/E399*(1+Genanskaffelsespriser!$D$203),\"Fejl\"))","v":"Variabel pris"},{"$f":"IF(F399=0,\"Variabel pris\",IFERROR((HLOOKUP(F399,'Variable priser'!$C$6:$H$16,8)+(F399-HLOOKUP(F399,'Variable priser'!$C$6:$H$16,1))*HLOOKUP(F399,'Variable priser'!$C$6:$H$16,9))/F399*(1+Genanskaffelsespriser!$D$203),\"Fejl\"))","v":"Variabel pris"},"","",1,1]
["Beluftningsanlæg, ren ilt","m³/h ",{"$f":"Genanskaffelsespriser!$E$39","v":25},0,0,0,0,0,null,{"$f":"IF(E400=0,\"Variabel pris\",IFERROR((HLOOKUP(E400,'Variable priser'!$C$6:$H$16,10)+(E400-HLOOKUP(E400,'Variable priser'!$C$6:$H$16,1))*HLOOKUP(E400,'Variable priser'!$C$6:$H$16,11))/E400*(1+Genanskaffelsespriser!$D$203),\"Fejl\"))","v":"Variabel pris"},{"$f":"IF(F400=0,\"Variabel pris\",IFERROR((HLOOKUP(F400,'Variable priser'!$C$6:$H$16,10)+(F400-HLOOKUP(F400,'Variable priser'!$C$6:$H$16,1))*HLOOKUP(F400,'Variable priser'!$C$6:$H$16,11))/F400*(1+Genanskaffelsespriser!$D$203),\"Fejl\"))","v":"Variabel pris"},"","",1,1]
["Behandlingsanlæg, kalk anlæg","m³/h ",{"$f":"Genanskaffelsespriser!$E$40","v":25},0,0,0,0,0,null,{"$f":"IF(E401=0,\"Variabel pris\",IFERROR((HLOOKUP(E401,'Variable priser'!$C$20:$G$24,3)+(E401-HLOOKUP(E401,'Variable priser'!$C$20:$G$24,1))*HLOOKUP(E401,'Variable priser'!$C$20:$G$24,4))/E401*(1+Genanskaffelsespriser!$D$203),\"Fejl\"))","v":"Variabel pris"},{"$f":"IF(F401=0,\"Variabel pris\",IFERROR((HLOOKUP(F401,'Variable priser'!$C$20:$G$24,3)+(F401-HLOOKUP(F401,'Variable priser'!$C$20:$G$24,1))*HLOOKUP(F401,'Variable priser'!$C$20:$G$24,4))/F401*(1+Genanskaffelsespriser!$D$203),\"Fejl\"))","v":"Variabel pris"},"","",1,1]
["Behandlingsanlæg, luddosering","m³/h ",{"$f":"Genanskaffelsespriser!$E$41","v":25},0,0,0,0,0,null,{"$f":"IF(E402=0,\"Variabel pris\",IFERROR((HLOOKUP(E402,'Variable priser'!$C$20:$G$25,5)+(E402-HLOOKUP(E402,'Variable priser'!$C$20:$G$25,1))*HLOOKUP(E402,'Variable priser'!$C$20:$G$25,6))/E402*(1+Genanskaffelsespriser!$D$203),\"Fejl\"))","v":"Variabel pris"},{"$f":"IF(F402=0,\"Variabel pris\",IFERROR((HLOOKUP(F402,'Variable priser'!$C$20:$G$25,5)+(F402-HLOOKUP(F402,'Variable priser'!$C$20:$G$25,1))*HLOOKUP(F402,'Variable priser'!$C$20:$G$25,6))/F402*(1+Genanskaffelsespriser!$D$203),\"Fejl\"))","v":"Variabel pris"},"","",1,1]
["Filteranlæg, åbne filtre, enkelt filtrering, Konstruktioner","m³/h ",{"$f":"Genanskaffelsespriser!$E$42","v":50},0,0,0,0,0,null,{"$f":"IF(E403=0,\"Variabel pris\",IFERROR((HLOOKUP(E403,'Variable priser'!$C$28:$G$38,9)+(E403-HLOOKUP(E403,'Variable priser'!$C$28:$G$38,1))*HLOOKUP(E403,'Variable priser'!$C$28:$G$38,10))/E403*'Variable priser'!$K$31*(1+Genanskaffelsespriser!$D$203),\"Fejl\"))","v":"Variabel pris"},{"$f":"IF(F403=0,\"Variabel pris\",IFERROR((HLOOKUP(F403,'Variable priser'!$C$28:$G$38,9)+(F403-HLOOKUP(F403,'Variable priser'!$C$28:$G$38,1))*HLOOKUP(F403,'Variable priser'!$C$28:$G$38,10))/F403*'Variable priser'!$K$31*(1+Genanskaffelsespriser!$D$203),\"Fejl\"))","v":"Variabel pris"},"","",1,1]
["Filteranlæg, åbne filtre, enkelt filtrering, Mek./EL","m³/h ",{"$f":"Genanskaffelsespriser!$E$43","v":25},0,0,0,0,0,null,{"$f":"IF(E404=0,\"Variabel pris\",IFERROR((HLOOKUP(E404,'Variable priser'!$C$28:$G$38,9)+(E404-HLOOKUP(E404,'Variable priser'!$C$28:$G$38,1))*HLOOKUP(E404,'Variable priser'!$C$28:$G$38,10))/E404*'Variable priser'!$L$31*(1+Genanskaffelsespriser!$D$203),\"Fejl\"))","v":"Variabel pris"},{"$f":"IF(F404=0,\"Variabel pris\",IFERROR((HLOOKUP(F404,'Variable priser'!$C$28:$G$38,9)+(F404-HLOOKUP(F404,'Variable priser'!$C$28:$G$38,1))*HLOOKUP(F404,'Variable priser'!$C$28:$G$38,10))/F404*'Variable priser'!$L$31*(1+Genanskaffelsespriser!$D$203),\"Fejl\"))","v":"Variabel pris"},"","",1,1]
["Filteranlæg, åbne filtre, dobbelt filtrering, Konstruktioner","m³/h ",{"$f":"Genanskaffelsespriser!$E$44","v":50},2208,2208,2208,0,0,null,{"$f":"IF(E405=0,\"Variabel pris\",IFERROR((HLOOKUP(E405,'Variable priser'!$C$28:$G$38,6)+(E405-HLOOKUP(E405,'Variable priser'!$C$28:$G$38,1))*HLOOKUP(E405,'Variable priser'!$C$28:$G$38,7))/E405*'Variable priser'!$K$31*(1+Genanskaffelsespriser!$D$203),\"Fejl\"))","v":6098.440023088001},{"$f":"IF(F405=0,\"Variabel pris\",IFERROR((HLOOKUP(F405,'Variable priser'!$C$28:$G$38,6)+(F405-HLOOKUP(F405,'Variable priser'!$C$28:$G$38,1))*HLOOKUP(F405,'Variable priser'!$C$28:$G$38,7))/F405*'Variable priser'!$K$31*(1+Genanskaffelsespriser!$D$203),\"Fejl\"))","v":6098.440023088001},269307.11141956615,269307.11141956615,1,1]
["Filteranlæg, åbne filtre, dobbelt filtrering, Mek./EL","m³/h ",{"$f":"Genanskaffelsespriser!$E$45","v":25},2208,2208,2208,0,0,null,{"$f":"IF(E406=0,\"Variabel pris\",IFERROR((HLOOKUP(E406,'Variable priser'!$C$28:$G$38,6)+(E406-HLOOKUP(E406,'Variable priser'!$C$28:$G$38,1))*HLOOKUP(E406,'Variable priser'!$C$28:$G$38,7))/E406*'Variable priser'!$L$31*(1+Genanskaffelsespriser!$D$203),\"Fejl\"))","v":9147.660034632001},{"$f":"IF(F406=0,\"Variabel pris\",IFERROR((HLOOKUP(F406,'Variable priser'!$C$28:$G$38,6)+(F406-HLOOKUP(F406,'Variable priser'!$C$28:$G$38,1))*HLOOKUP(F406,'Variable priser'!$C$28:$G$38,7))/F406*'Variable priser'!$L$31*(1+Genanskaffelsespriser!$D$203),\"Fejl\"))","v":9147.660034632001},807921.33425869839,807921.33425869839,1,1]
["Filteranlæg, trykfiltre, enkelt filtrering","m³/h ",{"$f":"Genanskaffelsespriser!$E$46","v":25},0,0,0,0,0,null,{"$f":"IF(E407=0,\"Variabel pris\",IFERROR((HLOOKUP(E407,'Variable priser'!$C$40:$H$42,2)+(E407-HLOOKUP(E407,'Variable priser'!$C$40:$H$42,1))*HLOOKUP(E407,'Variable priser'!$C$40:$H$42,3))/E407*(1+Genanskaffelsespriser!$D$203),\"Fejl\"))","v":"Variabel pris"},{"$f":"IF(F407=0,\"Variabel pris\",IFERROR((HLOOKUP(F407,'Variable priser'!$C$40:$H$42,2)+(F407-HLOOKUP(F407,'Variable priser'!$C$40:$H$42,1))*HLOOKUP(F407,'Variable priser'!$C$40:$H$42,3))/F407*(1+Genanskaffelsespriser!$D$203),\"Fejl\"))","v":"Variabel pris"},"","",1,1]
["Filteranlæg, trykfiltre, dobbelt filtrering","m³/h ",{"$f":"Genanskaffelsespriser!$E$47","v":25},0,0,0,0,0,null,{"$f":"IF(E408=0,\"Variabel pris\",IFERROR((HLOOKUP(E408,'Variable priser'!$C$44:$H$46,2)+(E408-HLOOKUP(E408,'Variable priser'!$C$44:$H$46,1))*HLOOKUP(E408,'Variable priser'!$C$44:$H$46,3))/E408*(1+Genanskaffelsespriser!$D$203),\"Fejl\"))","v":"Variabel pris"},{"$f":"IF(F408=0,\"Variabel pris\",IFERROR((HLOOKUP(F408,'Variable priser'!$C$44:$H$46,2)+(F408-HLOOKUP(F408,'Variable priser'!$C$44:$H$46,1))*HLOOKUP(F408,'Variable priser'!$C$44:$H$46,3))/F408*(1+Genanskaffelsespriser!$D$203),\"Fejl\"))","v":"Variabel pris"},"","",1,1]
["Rentvandsbeholder  insitu støbt","m³",{"$f":"Genanskaffelsespriser!$E$48","v":50},7600,7600,7600,0,0,null,{"$f":"IF(E409=0,\"Variabel pris\",IFERROR((HLOOKUP(E409,'Variable priser'!$C$48:$H$50,2)+(E409-HLOOKUP(E409,'Variable priser'!$C$48:$H$50,1))*HLOOKUP(E409,'Variable priser'!$C$48:$H$50,3))/E409*(1+Genanskaffelsespriser!$D$203),\"Fejl\"))","v":2053.3010455515791},{"$f":"IF(F409=0,\"Variabel pris\",IFERROR((HLOOKUP(F409,'Variable priser'!$C$48:$H$50,2)+(F409-HLOOKUP(F409,'Variable priser'!$C$48:$H$50,1))*HLOOKUP(F409,'Variable priser'!$C$48:$H$50,3))/F409*(1+Genanskaffelsespriser!$D$203),\"Fejl\"))","v":2053.3010455515791},312101.75892384001,312101.75892384001,1,1]
["Rentvandsbeholder  element","m³",{"$f":"Genanskaffelsespriser!$E$49","v":50},0,0,0,0,0,null,{"$f":"IF(E410=0,\"Variabel pris\",IFERROR((HLOOKUP(E410,'Variable priser'!$C$52:$H$54,2)+(E410-HLOOKUP(E410,'Variable priser'!$C$52:$H$54,1))*HLOOKUP(E410,'Variable priser'!$C$52:$H$54,3))/E410*(1+Genanskaffelsespriser!$D$203),\"Fejl\"))","v":"Variabel pris"},{"$f":"IF(F410=0,\"Variabel pris\",IFERROR((HLOOKUP(F410,'Variable priser'!$C$52:$H$54,2)+(F410-HLOOKUP(F410,'Variable priser'!$C$52:$H$54,1))*HLOOKUP(F410,'Variable priser'!$C$52:$H$54,3))/F410*(1+Genanskaffelsespriser!$D$203),\"Fejl\"))","v":"Variabel pris"},"","",1,1]
["Udpumpningsanlæg, rentvandspumper på vandværk","m³/h ",{"$f":"Genanskaffelsespriser!$E$50","v":25},5250,5250,5250,0,0,null,{"$f":"IF(E411=0,\"Variabel pris\",IFERROR((HLOOKUP(E411,'Variable priser'!$C$71:$H$73,2)+(E411-HLOOKUP(E411,'Variable priser'!$C$71:$H$73,1))*HLOOKUP(E411,'Variable priser'!$C$71:$H$73,3))/E411*(1+Genanskaffelsespriser!$D$203),\"Fejl\"))","v":876.96643996825378},{"$f":"IF(F411=0,\"Variabel pris\",IFERROR((HLOOKUP(F411,'Variable priser'!$C$71:$H$73,2)+(F411-HLOOKUP(F411,'Variable priser'!$C$71:$H$73,1))*HLOOKUP(F411,'Variable priser'!$C$71:$H$73,3))/F411*(1+Genanskaffelsespriser!$D$203),\"Fejl\"))","v":876.96643996825378},184162.95239333328,184162.95239333328,1,1]
["Udpumpningsanlæg, frekvensomformer","kW",{"$f":"Genanskaffelsespriser!$E$51","v":25},760,760,760,0,0,null,{"$f":"IF(E412=0,\"Variabel pris\",IFERROR((HLOOKUP(E412,'Variable priser'!$C$76:$J$78,2)+(E412-HLOOKUP(E412,'Variable priser'!$C$76:$J$78,1))*HLOOKUP(E412,'Variable priser'!$C$76:$J$78,3))/E412*(1+Genanskaffelsespriser!$D$203),\"Fejl\"))","v":1912.3217120526369},{"$f":"IF(F412=0,\"Variabel pris\",IFERROR((HLOOKUP(F412,'Variable priser'!$C$76:$J$78,2)+(F412-HLOOKUP(F412,'Variable priser'!$C$76:$J$78,1))*HLOOKUP(F412,'Variable priser'!$C$76:$J$78,3))/F412*(1+Genanskaffelsespriser!$D$203),\"Fejl\"))","v":1912.3217120526369},58134.580046400166,58134.580046400166,1,1]
["Udpumpningsanlæg, Hydrofor","liter",{"$f":"Genanskaffelsespriser!$E$52","v":25},50000,50000,50000,0,0,null,{"$f":"IF(E413=0,\"Variabel pris\",IFERROR((HLOOKUP(E413,'Variable priser'!$C$81:$J$83,2)+(E413-HLOOKUP(E413,'Variable priser'!$C$81:$J$83,1))*HLOOKUP(E413,'Variable priser'!$C$81:$J$83,3))/E413*(1+Genanskaffelsespriser!$D$203),\"Fejl\"))","v":31.43065699200001},{"$f":"IF(F413=0,\"Variabel pris\",IFERROR((HLOOKUP(F413,'Variable priser'!$C$81:$J$83,2)+(F413-HLOOKUP(F413,'Variable priser'!$C$81:$J$83,1))*HLOOKUP(F413,'Variable priser'!$C$81:$J$83,3))/F413*(1+Genanskaffelsespriser!$D$203),\"Fejl\"))","v":31.43065699200001},62861.313984000022,62861.313984000022,1,1]
["Skyllevand-/slamhåndteringsanlæg - lukkede betonbeholdere","m³",{"$f":"Genanskaffelsespriser!$E$53","v":50},1303,1303,1303,0,0,null,{"$f":"IF(E414=0,\"Variabel pris\",IFERROR((HLOOKUP(E414,'Variable priser'!$C$59:$H$61,2)+(E414-HLOOKUP(E414,'Variable priser'!$C$59:$H$61,1))*HLOOKUP(E414,'Variable priser'!$C$59:$H$61,3))/E414*(1+Genanskaffelsespriser!$D$203),\"Fejl\"))","v":3333.1905654403631},{"$f":"IF(F414=0,\"Variabel pris\",IFERROR((HLOOKUP(F414,'Variable priser'!$C$59:$H$61,2)+(F414-HLOOKUP(F414,'Variable priser'!$C$59:$H$61,1))*HLOOKUP(F414,'Variable priser'!$C$59:$H$61,3))/F414*(1+Genanskaffelsespriser!$D$203),\"Fejl\"))","v":3333.1905654403631},86862.946135375852,86862.946135375852,1,1]
["Skyllevand-/slamhåndteringsanl. - åbne med faste sider/bund","m³",{"$f":"Genanskaffelsespriser!$E$54","v":50},1806,1806,1806,0,0,null,{"$f":"IF(E415=0,\"Variabel pris\",IFERROR((HLOOKUP(E415,'Variable priser'!$C$59:$H$64,5)+(E415-HLOOKUP(E415,'Variable priser'!$C$59:$H$64,1))*HLOOKUP(E415,'Variable priser'!$C$59:$H$64,6))/E415*(1+Genanskaffelsespriser!$D$203),\"Fejl\"))","v":1571.1560746715427},{"$f":"IF(F415=0,\"Variabel pris\",IFERROR((HLOOKUP(F415,'Variable priser'!$C$59:$H$64,5)+(F415-HLOOKUP(F415,'Variable priser'!$C$59:$H$64,1))*HLOOKUP(F415,'Variable priser'!$C$59:$H$64,6))/F415*(1+Genanskaffelsespriser!$D$203),\"Fejl\"))","v":1571.1560746715427},56750.157417136121,56750.157417136121,1,1]
["Skyllevand-/slamhåndteringsanlæg - jordbassiner","m³",{"$f":"Genanskaffelsespriser!$E$55","v":50},16119,16119,16119,0,0,null,{"$f":"IF(E416=0,\"Variabel pris\",IFERROR((HLOOKUP(E416,'Variable priser'!$C$59:$H$67,8)+(E416-HLOOKUP(E416,'Variable priser'!$C$59:$H$67,1))*HLOOKUP(E416,'Variable priser'!$C$59:$H$67,9))/E416*(1+Genanskaffelsespriser!$D$203),\"Fejl\"))","v":222.12679261334367},{"$f":"IF(F416=0,\"Variabel pris\",IFERROR((HLOOKUP(F416,'Variable priser'!$C$59:$H$67,8)+(F416-HLOOKUP(F416,'Variable priser'!$C$59:$H$67,1))*HLOOKUP(F416,'Variable priser'!$C$59:$H$67,9))/F416*(1+Genanskaffelsespriser!$D$203),\"Fejl\"))","v":222.12679261334367},71609.235402689737,71609.235402689737,1,1]
["Skyllevandsbehandling, inkl. UV-filter mv., Mek./EL","m³/h.",{"$f":"Genanskaffelsespriser!$E$56","v":25},0,0,0,0,0,null,{"$f":"IF(E417=0,\"Variabel pris\",IFERROR((HLOOKUP(E417,'Variable priser'!$C$108:$E$110,2)+(E417-HLOOKUP(E417,'Variable priser'!$C$108:$E$110,1))*HLOOKUP(E417,'Variable priser'!$C$108:$E$110,3))/E417*'Variable priser'!$H$109*(1+Genanskaffelsespriser!$D$203),\"Fejl\"))","v":"Variabel pris"},{"$f":"IF(F417=0,\"Variabel pris\",IFERROR((HLOOKUP(F417,'Variable priser'!$C$108:$E$110,2)+(F417-HLOOKUP(F417,'Variable priser'!$C$108:$E$110,1))*HLOOKUP(F417,'Variable priser'!$C$108:$E$110,3))/F417*'Variable priser'!$H$109*(1+Genanskaffelsespriser!$D$203),\"Fejl\"))","v":"Variabel pris"},"","",1,1]
["Skyllevandsbehandling, inkl. UV-filter mv., SRO","m³/h.",{"$f":"Genanskaffelsespriser!$E$57","v":10},0,0,0,0,0,null,{"$f":"IF(E418=0,\"Variabel pris\",IFERROR((HLOOKUP(E418,'Variable priser'!$C$108:$E$110,2)+(E418-HLOOKUP(E418,'Variable priser'!$C$108:$E$110,1))*HLOOKUP(E418,'Variable priser'!$C$108:$E$110,3))/E418*'Variable priser'!$I$109*(1+Genanskaffelsespriser!$D$203),\"Fejl\"))","v":"Variabel pris"},{"$f":"IF(F418=0,\"Variabel pris\",IFERROR((HLOOKUP(F418,'Variable priser'!$C$108:$E$110,2)+(F418-HLOOKUP(F418,'Variable priser'!$C$108:$E$110,1))*HLOOKUP(F418,'Variable priser'!$C$108:$E$110,3))/F418*'Variable priser'!$I$109*(1+Genanskaffelsespriser!$D$203),\"Fejl\"))","v":"Variabel pris"},"","",1,1]
["Nødstrømsanlæg på vandværk","kW",{"$f":"Genanskaffelsespriser!$E$58","v":25},0,0,0,0,0,null,{"$f":"IF(E419=0,\"Variabel pris\",IFERROR((HLOOKUP(E419,'Variable priser'!$C$86:$H$88,2)+(E419-HLOOKUP(E419,'Variable priser'!$C$86:$H$88,1))*HLOOKUP(E419,'Variable priser'!$C$86:$H$88,3))/E419*(1+Genanskaffelsespriser!$D$203),\"Fejl\"))","v":"Variabel pris"},{"$f":"IF(F419=0,\"Variabel pris\",IFERROR((HLOOKUP(F419,'Variable priser'!$C$86:$H$88,2)+(F419-HLOOKUP(F419,'Variable priser'!$C$86:$H$88,1))*HLOOKUP(F419,'Variable priser'!$C$86:$H$88,3))/F419*(1+Genanskaffelsespriser!$D$203),\"Fejl\"))","v":"Variabel pris"},"","",1,1]
["Elanlæg og SRO-anlæg - vandværk, Elanlæg","m³/h.",{"$f":"Genanskaffelsespriser!$E$59","v":25},2208,2208,2208,0,0,null,{"$f":"IF(E420=0,\"Variabel pris\",IFERROR((HLOOKUP(E420,'Variable priser'!$C$91:$J$95,4)+(E420-HLOOKUP(E420,'Variable priser'!$C$91:$J$95,1))*HLOOKUP(E420,'Variable priser'!$C$91:$J$95,5))/E420*(1+Genanskaffelsespriser!$D$203),\"Fejl\"))","v":1489.4946259374997},{"$f":"IF(F420=0,\"Variabel pris\",IFERROR((HLOOKUP(F420,'Variable priser'!$C$91:$J$95,4)+(F420-HLOOKUP(F420,'Variable priser'!$C$91:$J$95,1))*HLOOKUP(F420,'Variable priser'!$C$91:$J$95,5))/F420*(1+Genanskaffelsespriser!$D$203),\"Fejl\"))","v":1489.4946259374997},131552.16536279998,131552.16536279998,1,1]
["Elanlæg og SRO-anlæg - vandværk, SRO","m³/h.",{"$f":"Genanskaffelsespriser!$E$60","v":10},2208,2208,2208,0,0,null,{"$f":"IF(E421=0,\"Variabel pris\",IFERROR((HLOOKUP(E421,'Variable priser'!$C$91:$J$98,7)+(E421-HLOOKUP(E421,'Variable priser'!$C$91:$J$98,1))*HLOOKUP(E421,'Variable priser'!$C$91:$J$98,8))/E421*(1+Genanskaffelsespriser!$D$203),\"Fejl\"))","v":454.58243100000004},{"$f":"IF(F421=0,\"Variabel pris\",IFERROR((HLOOKUP(F421,'Variable priser'!$C$91:$J$98,7)+(F421-HLOOKUP(F421,'Variable priser'!$C$91:$J$98,1))*HLOOKUP(F421,'Variable priser'!$C$91:$J$98,8))/F421*(1+Genanskaffelsespriser!$D$203),\"Fejl\"))","v":454.58243100000004},100371.80076480002,100371.80076480002,1,1]
["Vandværk 7"]
["Beluftningsanlæg, iltningstrappe, Konstruktioner","m³/h ",{"$f":"Genanskaffelsespriser!$E$30","v":50},1416,1416,1416,{"$f":"IF($D423=\"\",IF($E423>0,\"Ny data\",IF($E423=\"\",\"\",0)),IF($D423=0,IF($E423=0,0,\"Ny data\"),($E423-$D423)/$D423))","v":0},{"$f":"IF($E423=\"\",IF($F423>0,\"Ny data\",IF($F423=\"\",\"\",0)),IF($E423=0,IF($F423=0,0,\"Ny data\"),($F423-$E423)/$E423))","v":0},null,{"$f":"IF(E423=0,\"Variabel pris\",IFERROR((HLOOKUP(E423,'Variable priser'!$C$6:$H$16,2)+(E423-HLOOKUP(E423,'Variable priser'!$C$6:$H$16,1))*HLOOKUP(E423,'Variable priser'!$C$6:$H$16,3))/E423*'Variable priser'!$K$7*(1+Genanskaffelsespriser!$D$203),\"Fejl\"))","v":1875.2649479611296},{"$f":"IF(F423=0,\"Variabel pris\",IFERROR((HLOOKUP(F423,'Variable priser'!$C$6:$H$16,2)+(F423-HLOOKUP(F423,'Variable priser'!$C$6:$H$16,1))*HLOOKUP(F423,'Variable priser'!$C$6:$H$16,3))/F423*'Variable priser'!$K$7*(1+Genanskaffelsespriser!$D$203),\"Fejl\"))","v":1875.2649479611296},{"$f":"IF(ISBLANK(E423),\"\",IF(E423=0,\"\",IF(ISNUMBER(E423),((J423*E423)/C423)*N423,\"\")))","v":53107.50332625919},{"$f":"IF(ISBLANK(F423),\"\",IF(F423=0,\"\",IF(ISNUMBER(F423),((K423*F423)/C423)*N423,\"\")))","v":53107.50332625919},1,1]
["Beluftningsanlæg, iltningstrappe, Mek./EL","m³/h ",{"$f":"Genanskaffelsespriser!$E$31","v":25},1416,1416,1416,0,0,null,{"$f":"IF(E424=0,\"Variabel pris\",IFERROR((HLOOKUP(E424,'Variable priser'!$C$6:$H$16,2)+(E424-HLOOKUP(E424,'Variable priser'!$C$6:$H$16,1))*HLOOKUP(E424,'Variable priser'!$C$6:$H$16,3))/E424*'Variable priser'!$L$7*(1+Genanskaffelsespriser!$D$203),\"Fejl\"))","v":468.81623699028239},{"$f":"IF(F424=0,\"Variabel pris\",IFERROR((HLOOKUP(F424,'Variable priser'!$C$6:$H$16,2)+(F424-HLOOKUP(F424,'Variable priser'!$C$6:$H$16,1))*HLOOKUP(F424,'Variable priser'!$C$6:$H$16,3))/F424*'Variable priser'!$L$7*(1+Genanskaffelsespriser!$D$203),\"Fejl\"))","v":468.81623699028239},{"$f":"IF(ISBLANK(E424),\"\",IF(E424=0,\"\",IF(ISNUMBER(E424),((J424*E424)/C424)*N424,\"\")))","v":26553.751663129595},{"$f":"IF(ISBLANK(F424),\"\",IF(F424=0,\"\",IF(ISNUMBER(F424),((K424*F424)/C424)*N424,\"\")))","v":26553.751663129595},1,1]
["Beluftningsanlæg, ika-beluftning, Konstruktioner","m³/h ",{"$f":"Genanskaffelsespriser!$E$32","v":50},0,0,0,0,0,null,{"$f":"IF(E425=0,\"Variabel pris\",IFERROR((HLOOKUP(E425,'Variable priser'!$C$6:$H$16,4)+(E425-HLOOKUP(E425,'Variable priser'!$C$6:$H$16,1))*HLOOKUP(E425,'Variable priser'!$C$6:$H$16,5))/E425*'Variable priser'!$K$9*(1+Genanskaffelsespriser!$D$203),\"Fejl\"))","v":"Variabel pris"},{"$f":"IF(F425=0,\"Variabel pris\",IFERROR((HLOOKUP(F425,'Variable priser'!$C$6:$H$16,4)+(F425-HLOOKUP(F425,'Variable priser'!$C$6:$H$16,1))*HLOOKUP(F425,'Variable priser'!$C$6:$H$16,5))/F425*'Variable priser'!$K$9*(1+Genanskaffelsespriser!$D$203),\"Fejl\"))","v":"Variabel pris"},"","",1,1]
["Beluftningsanlæg, ika-beluftning, Mek./EL","m³/h ",{"$f":"Genanskaffelsespriser!$E$33","v":25},0,0,0,0,0,null,{"$f":"IF(E426=0,\"Variabel pris\",IFERROR((HLOOKUP(E426,'Variable priser'!$C$6:$H$16,4)+(E426-HLOOKUP(E426,'Variable priser'!$C$6:$H$16,1))*HLOOKUP(E426,'Variable priser'!$C$6:$H$16,5))/E426*'Variable priser'!$L$9*(1+Genanskaffelsespriser!$D$203),\"Fejl\"))","v":"Variabel pris"},{"$f":"IF(F426=0,\"Variabel pris\",IFERROR((HLOOKUP(F426,'Variable priser'!$C$6:$H$16,4)+(F426-HLOOKUP(F426,'Variable priser'!$C$6:$H$16,1))*HLOOKUP(F426,'Variable priser'!$C$6:$H$16,5))/F426*'Variable priser'!$L$9*(1+Genanskaffelsespriser!$D$203),\"Fejl\"))","v":"Variabel pris"},"","",1,1]
["Beluftningsanlæg, bundbeluftbning, Konstruktioner","m³/h ",{"$f":"Genanskaffelsespriser!$E$34","v":50},0,0,0,0,0,null,{"$f":"IF(E427=0,\"Variabel pris\",IFERROR((HLOOKUP(E427,'Variable priser'!$C$6:$H$16,6)+(E427-HLOOKUP(E427,'Variable priser'!$C$6:$H$16,1))*HLOOKUP(E427,'Variable priser'!$C$6:$H$16,7))/E427*'Variable priser'!$K$17*(1+Genanskaffelsespriser!$D$203),\"Fejl\"))","v":"Variabel pris"},{"$f":"IF(F427=0,\"Variabel pris\",IFERROR((HLOOKUP(F427,'Variable priser'!$C$6:$H$16,6)+(F427-HLOOKUP(F427,'Variable priser'!$C$6:$H$16,1))*HLOOKUP(F427,'Variable priser'!$C$6:$H$16,7))/F427*'Variable priser'!$K$17*(1+Genanskaffelsespriser!$D$203),\"Fejl\"))","v":"Variabel pris"},"","",1,1]
["Beluftningsanlæg, bundbeluftbning, Mek./EL","m³/h ",{"$f":"Genanskaffelsespriser!$E$35","v":25},0,0,0,0,0,null,{"$f":"IF(E428=0,\"Variabel pris\",IFERROR((HLOOKUP(E428,'Variable priser'!$C$6:$H$16,6)+(E428-HLOOKUP(E428,'Variable priser'!$C$6:$H$16,1))*HLOOKUP(E428,'Variable priser'!$C$6:$H$16,7))/E428*'Variable priser'!$L$17*(1+Genanskaffelsespriser!$D$203),\"Fejl\"))","v":"Variabel pris"},{"$f":"IF(F428=0,\"Variabel pris\",IFERROR((HLOOKUP(F428,'Variable priser'!$C$6:$H$16,6)+(F428-HLOOKUP(F428,'Variable priser'!$C$6:$H$16,1))*HLOOKUP(F428,'Variable priser'!$C$6:$H$16,7))/F428*'Variable priser'!$L$17*(1+Genanskaffelsespriser!$D$203),\"Fejl\"))","v":"Variabel pris"},"","",1,1]
["Beluftningsanlæg, rislebakke, Konstruktioner","m³/h ",{"$f":"Genanskaffelsespriser!$E$36","v":50},0,0,0,0,0,null,{"$f":"IF(E429=0,\"Variabel pris\",IFERROR((HLOOKUP(E429,'Variable priser'!$C$6:$H$18,12)+(E429-HLOOKUP(E429,'Variable priser'!$C$6:$H$18,1))*HLOOKUP(E429,'Variable priser'!$C$6:$H$18,13))/E429*'Variable priser'!$K$17*(1+Genanskaffelsespriser!$D$203),\"Fejl\"))","v":"Variabel pris"},{"$f":"IF(F429=0,\"Variabel pris\",IFERROR((HLOOKUP(F429,'Variable priser'!$C$6:$H$18,12)+(F429-HLOOKUP(F429,'Variable priser'!$C$6:$H$18,1))*HLOOKUP(F429,'Variable priser'!$C$6:$H$18,13))/F429*'Variable priser'!$K$17*(1+Genanskaffelsespriser!$D$203),\"Fejl\"))","v":"Variabel pris"},"","",1,1]
["Beluftningsanlæg, rislebakke, Mek./EL","m³/h ",{"$f":"Genanskaffelsespriser!$E$37","v":25},0,0,0,0,0,null,{"$f":"IF(E430=0,\"Variabel pris\",IFERROR((HLOOKUP(E430,'Variable priser'!$C$6:$H$18,12)+(E430-HLOOKUP(E430,'Variable priser'!$C$6:$H$18,1))*HLOOKUP(E430,'Variable priser'!$C$6:$H$18,13))/E430*'Variable priser'!$L$17*(1+Genanskaffelsespriser!$D$203),\"Fejl\"))","v":"Variabel pris"},{"$f":"IF(F430=0,\"Variabel pris\",IFERROR((HLOOKUP(F430,'Variable priser'!$C$6:$H$18,12)+(F430-HLOOKUP(F430,'Variable priser'!$C$6:$H$18,1))*HLOOKUP(F430,'Variable priser'!$C$6:$H$18,13))/F430*'Variable priser'!$L$17*(1+Genanskaffelsespriser!$D$203),\"Fejl\"))","v":"Variabel pris"},"","",1,1]
["Beluftningsanlæg, kompressorbeluftning","m³/h ",{"$f":"Genanskaffelsespriser!$E$38","v":25},0,0,0,0,0,null,{"$f":"IF(E431=0,\"Variabel pris\",IFERROR((HLOOKUP(E431,'Variable priser'!$C$6:$H$16,8)+(E431-HLOOKUP(E431,'Variable priser'!$C$6:$H$16,1))*HLOOKUP(E431,'Variable priser'!$C$6:$H$16,9))/E431*(1+Genanskaffelsespriser!$D$203),\"Fejl\"))","v":"Variabel pris"},{"$f":"IF(F431=0,\"Variabel pris\",IFERROR((HLOOKUP(F431,'Variable priser'!$C$6:$H$16,8)+(F431-HLOOKUP(F431,'Variable priser'!$C$6:$H$16,1))*HLOOKUP(F431,'Variable priser'!$C$6:$H$16,9))/F431*(1+Genanskaffelsespriser!$D$203),\"Fejl\"))","v":"Variabel pris"},"","",1,1]
["Beluftningsanlæg, ren ilt","m³/h ",{"$f":"Genanskaffelsespriser!$E$39","v":25},0,0,0,0,0,null,{"$f":"IF(E432=0,\"Variabel pris\",IFERROR((HLOOKUP(E432,'Variable priser'!$C$6:$H$16,10)+(E432-HLOOKUP(E432,'Variable priser'!$C$6:$H$16,1))*HLOOKUP(E432,'Variable priser'!$C$6:$H$16,11))/E432*(1+Genanskaffelsespriser!$D$203),\"Fejl\"))","v":"Variabel pris"},{"$f":"IF(F432=0,\"Variabel pris\",IFERROR((HLOOKUP(F432,'Variable priser'!$C$6:$H$16,10)+(F432-HLOOKUP(F432,'Variable priser'!$C$6:$H$16,1))*HLOOKUP(F432,'Variable priser'!$C$6:$H$16,11))/F432*(1+Genanskaffelsespriser!$D$203),\"Fejl\"))","v":"Variabel pris"},"","",1,1]
["Behandlingsanlæg, kalk anlæg","m³/h ",{"$f":"Genanskaffelsespriser!$E$40","v":25},0,0,0,0,0,null,{"$f":"IF(E433=0,\"Variabel pris\",IFERROR((HLOOKUP(E433,'Variable priser'!$C$20:$G$24,3)+(E433-HLOOKUP(E433,'Variable priser'!$C$20:$G$24,1))*HLOOKUP(E433,'Variable priser'!$C$20:$G$24,4))/E433*(1+Genanskaffelsespriser!$D$203),\"Fejl\"))","v":"Variabel pris"},{"$f":"IF(F433=0,\"Variabel pris\",IFERROR((HLOOKUP(F433,'Variable priser'!$C$20:$G$24,3)+(F433-HLOOKUP(F433,'Variable priser'!$C$20:$G$24,1))*HLOOKUP(F433,'Variable priser'!$C$20:$G$24,4))/F433*(1+Genanskaffelsespriser!$D$203),\"Fejl\"))","v":"Variabel pris"},"","",1,1]
["Behandlingsanlæg, luddosering","m³/h ",{"$f":"Genanskaffelsespriser!$E$41","v":25},0,0,0,0,0,null,{"$f":"IF(E434=0,\"Variabel pris\",IFERROR((HLOOKUP(E434,'Variable priser'!$C$20:$G$25,5)+(E434-HLOOKUP(E434,'Variable priser'!$C$20:$G$25,1))*HLOOKUP(E434,'Variable priser'!$C$20:$G$25,6))/E434*(1+Genanskaffelsespriser!$D$203),\"Fejl\"))","v":"Variabel pris"},{"$f":"IF(F434=0,\"Variabel pris\",IFERROR((HLOOKUP(F434,'Variable priser'!$C$20:$G$25,5)+(F434-HLOOKUP(F434,'Variable priser'!$C$20:$G$25,1))*HLOOKUP(F434,'Variable priser'!$C$20:$G$25,6))/F434*(1+Genanskaffelsespriser!$D$203),\"Fejl\"))","v":"Variabel pris"},"","",1,1]
["Filteranlæg, åbne filtre, enkelt filtrering, Konstruktioner","m³/h ",{"$f":"Genanskaffelsespriser!$E$42","v":50},0,0,0,0,0,null,{"$f":"IF(E435=0,\"Variabel pris\",IFERROR((HLOOKUP(E435,'Variable priser'!$C$28:$G$38,9)+(E435-HLOOKUP(E435,'Variable priser'!$C$28:$G$38,1))*HLOOKUP(E435,'Variable priser'!$C$28:$G$38,10))/E435*'Variable priser'!$K$31*(1+Genanskaffelsespriser!$D$203),\"Fejl\"))","v":"Variabel pris"},{"$f":"IF(F435=0,\"Variabel pris\",IFERROR((HLOOKUP(F435,'Variable priser'!$C$28:$G$38,9)+(F435-HLOOKUP(F435,'Variable priser'!$C$28:$G$38,1))*HLOOKUP(F435,'Variable priser'!$C$28:$G$38,10))/F435*'Variable priser'!$K$31*(1+Genanskaffelsespriser!$D$203),\"Fejl\"))","v":"Variabel pris"},"","",1,1]
["Filteranlæg, åbne filtre, enkelt filtrering, Mek./EL","m³/h ",{"$f":"Genanskaffelsespriser!$E$43","v":25},0,0,0,0,0,null,{"$f":"IF(E436=0,\"Variabel pris\",IFERROR((HLOOKUP(E436,'Variable priser'!$C$28:$G$38,9)+(E436-HLOOKUP(E436,'Variable priser'!$C$28:$G$38,1))*HLOOKUP(E436,'Variable priser'!$C$28:$G$38,10))/E436*'Variable priser'!$L$31*(1+Genanskaffelsespriser!$D$203),\"Fejl\"))","v":"Variabel pris"},{"$f":"IF(F436=0,\"Variabel pris\",IFERROR((HLOOKUP(F436,'Variable priser'!$C$28:$G$38,9)+(F436-HLOOKUP(F436,'Variable priser'!$C$28:$G$38,1))*HLOOKUP(F436,'Variable priser'!$C$28:$G$38,10))/F436*'Variable priser'!$L$31*(1+Genanskaffelsespriser!$D$203),\"Fejl\"))","v":"Variabel pris"},"","",1,1]
["Filteranlæg, åbne filtre, dobbelt filtrering, Konstruktioner","m³/h ",{"$f":"Genanskaffelsespriser!$E$44","v":50},550,550,550,0,0,null,{"$f":"IF(E437=0,\"Variabel pris\",IFERROR((HLOOKUP(E437,'Variable priser'!$C$28:$G$38,6)+(E437-HLOOKUP(E437,'Variable priser'!$C$28:$G$38,1))*HLOOKUP(E437,'Variable priser'!$C$28:$G$38,7))/E437*'Variable priser'!$K$31*(1+Genanskaffelsespriser!$D$203),\"Fejl\"))","v":6894.9748866676364},{"$f":"IF(F437=0,\"Variabel pris\",IFERROR((HLOOKUP(F437,'Variable priser'!$C$28:$G$38,6)+(F437-HLOOKUP(F437,'Variable priser'!$C$28:$G$38,1))*HLOOKUP(F437,'Variable priser'!$C$28:$G$38,7))/F437*'Variable priser'!$K$31*(1+Genanskaffelsespriser!$D$203),\"Fejl\"))","v":6894.9748866676364},75844.723753343991,75844.723753343991,1,1]
["Filteranlæg, åbne filtre, dobbelt filtrering, Mek./EL","m³/h ",{"$f":"Genanskaffelsespriser!$E$45","v":25},550,550,550,0,0,null,{"$f":"IF(E438=0,\"Variabel pris\",IFERROR((HLOOKUP(E438,'Variable priser'!$C$28:$G$38,6)+(E438-HLOOKUP(E438,'Variable priser'!$C$28:$G$38,1))*HLOOKUP(E438,'Variable priser'!$C$28:$G$38,7))/E438*'Variable priser'!$L$31*(1+Genanskaffelsespriser!$D$203),\"Fejl\"))","v":10342.462330001454},{"$f":"IF(F438=0,\"Variabel pris\",IFERROR((HLOOKUP(F438,'Variable priser'!$C$28:$G$38,6)+(F438-HLOOKUP(F438,'Variable priser'!$C$28:$G$38,1))*HLOOKUP(F438,'Variable priser'!$C$28:$G$38,7))/F438*'Variable priser'!$L$31*(1+Genanskaffelsespriser!$D$203),\"Fejl\"))","v":10342.462330001454},227534.17126003199,227534.17126003199,1,1]
["Filteranlæg, trykfiltre, enkelt filtrering","m³/h ",{"$f":"Genanskaffelsespriser!$E$46","v":25},0,0,0,0,0,null,{"$f":"IF(E439=0,\"Variabel pris\",IFERROR((HLOOKUP(E439,'Variable priser'!$C$40:$H$42,2)+(E439-HLOOKUP(E439,'Variable priser'!$C$40:$H$42,1))*HLOOKUP(E439,'Variable priser'!$C$40:$H$42,3))/E439*(1+Genanskaffelsespriser!$D$203),\"Fejl\"))","v":"Variabel pris"},{"$f":"IF(F439=0,\"Variabel pris\",IFERROR((HLOOKUP(F439,'Variable priser'!$C$40:$H$42,2)+(F439-HLOOKUP(F439,'Variable priser'!$C$40:$H$42,1))*HLOOKUP(F439,'Variable priser'!$C$40:$H$42,3))/F439*(1+Genanskaffelsespriser!$D$203),\"Fejl\"))","v":"Variabel pris"},"","",1,1]
["Filteranlæg, trykfiltre, dobbelt filtrering","m³/h ",{"$f":"Genanskaffelsespriser!$E$47","v":25},0,0,0,0,0,null,{"$f":"IF(E440=0,\"Variabel pris\",IFERROR((HLOOKUP(E440,'Variable priser'!$C$44:$H$46,2)+(E440-HLOOKUP(E440,'Variable priser'!$C$44:$H$46,1))*HLOOKUP(E440,'Variable priser'!$C$44:$H$46,3))/E440*(1+Genanskaffelsespriser!$D$203),\"Fejl\"))","v":"Variabel pris"},{"$f":"IF(F440=0,\"Variabel pris\",IFERROR((HLOOKUP(F440,'Variable priser'!$C$44:$H$46,2)+(F440-HLOOKUP(F440,'Variable priser'!$C$44:$H$46,1))*HLOOKUP(F440,'Variable priser'!$C$44:$H$46,3))/F440*(1+Genanskaffelsespriser!$D$203),\"Fejl\"))","v":"Variabel pris"},"","",1,1]
["Rentvandsbeholder  insitu støbt","m³",{"$f":"Genanskaffelsespriser!$E$48","v":50},1300,1300,1300,0,0,null,{"$f":"IF(E441=0,\"Variabel pris\",IFERROR((HLOOKUP(E441,'Variable priser'!$C$48:$H$50,2)+(E441-HLOOKUP(E441,'Variable priser'!$C$48:$H$50,1))*HLOOKUP(E441,'Variable priser'!$C$48:$H$50,3))/E441*(1+Genanskaffelsespriser!$D$203),\"Fejl\"))","v":3757.4582761661536},{"$f":"IF(F441=0,\"Variabel pris\",IFERROR((HLOOKUP(F441,'Variable priser'!$C$48:$H$50,2)+(F441-HLOOKUP(F441,'Variable priser'!$C$48:$H$50,1))*HLOOKUP(F441,'Variable priser'!$C$48:$H$50,3))/F441*(1+Genanskaffelsespriser!$D$203),\"Fejl\"))","v":3757.4582761661536},97693.915180319993,97693.915180319993,1,1]
["Rentvandsbeholder  element","m³",{"$f":"Genanskaffelsespriser!$E$49","v":50},0,0,0,0,0,null,{"$f":"IF(E442=0,\"Variabel pris\",IFERROR((HLOOKUP(E442,'Variable priser'!$C$52:$H$54,2)+(E442-HLOOKUP(E442,'Variable priser'!$C$52:$H$54,1))*HLOOKUP(E442,'Variable priser'!$C$52:$H$54,3))/E442*(1+Genanskaffelsespriser!$D$203),\"Fejl\"))","v":"Variabel pris"},{"$f":"IF(F442=0,\"Variabel pris\",IFERROR((HLOOKUP(F442,'Variable priser'!$C$52:$H$54,2)+(F442-HLOOKUP(F442,'Variable priser'!$C$52:$H$54,1))*HLOOKUP(F442,'Variable priser'!$C$52:$H$54,3))/F442*(1+Genanskaffelsespriser!$D$203),\"Fejl\"))","v":"Variabel pris"},"","",1,1]
["Udpumpningsanlæg, rentvandspumper på vandværk","m³/h ",{"$f":"Genanskaffelsespriser!$E$50","v":25},3168,3168,3168,0,0,null,{"$f":"IF(E443=0,\"Variabel pris\",IFERROR((HLOOKUP(E443,'Variable priser'!$C$71:$H$73,2)+(E443-HLOOKUP(E443,'Variable priser'!$C$71:$H$73,1))*HLOOKUP(E443,'Variable priser'!$C$71:$H$73,3))/E443*(1+Genanskaffelsespriser!$D$203),\"Fejl\"))","v":885.61694183501686},{"$f":"IF(F443=0,\"Variabel pris\",IFERROR((HLOOKUP(F443,'Variable priser'!$C$71:$H$73,2)+(F443-HLOOKUP(F443,'Variable priser'!$C$71:$H$73,1))*HLOOKUP(F443,'Variable priser'!$C$71:$H$73,3))/F443*(1+Genanskaffelsespriser!$D$203),\"Fejl\"))","v":885.61694183501686},112225.37886933335,112225.37886933335,1,1]
["Udpumpningsanlæg, frekvensomformer","kW",{"$f":"Genanskaffelsespriser!$E$51","v":25},700,700,700,0,0,null,{"$f":"IF(E444=0,\"Variabel pris\",IFERROR((HLOOKUP(E444,'Variable priser'!$C$76:$J$78,2)+(E444-HLOOKUP(E444,'Variable priser'!$C$76:$J$78,1))*HLOOKUP(E444,'Variable priser'!$C$76:$J$78,3))/E444*(1+Genanskaffelsespriser!$D$203),\"Fejl\"))","v":1920.2085742285769},{"$f":"IF(F444=0,\"Variabel pris\",IFERROR((HLOOKUP(F444,'Variable priser'!$C$76:$J$78,2)+(F444-HLOOKUP(F444,'Variable priser'!$C$76:$J$78,1))*HLOOKUP(F444,'Variable priser'!$C$76:$J$78,3))/F444*(1+Genanskaffelsespriser!$D$203),\"Fejl\"))","v":1920.2085742285769},53765.84007840015,53765.84007840015,1,1]
["Udpumpningsanlæg, Hydrofor","liter",{"$f":"Genanskaffelsespriser!$E$52","v":25},55000,55000,55000,0,0,null,{"$f":"IF(E445=0,\"Variabel pris\",IFERROR((HLOOKUP(E445,'Variable priser'!$C$81:$J$83,2)+(E445-HLOOKUP(E445,'Variable priser'!$C$81:$J$83,1))*HLOOKUP(E445,'Variable priser'!$C$81:$J$83,3))/E445*(1+Genanskaffelsespriser!$D$203),\"Fejl\"))","v":31.182433130181828},{"$f":"IF(F445=0,\"Variabel pris\",IFERROR((HLOOKUP(F445,'Variable priser'!$C$81:$J$83,2)+(F445-HLOOKUP(F445,'Variable priser'!$C$81:$J$83,1))*HLOOKUP(F445,'Variable priser'!$C$81:$J$83,3))/F445*(1+Genanskaffelsespriser!$D$203),\"Fejl\"))","v":31.182433130181828},68601.352886400011,68601.352886400011,1,1]
["Skyllevand-/slamhåndteringsanlæg - lukkede betonbeholdere","m³",{"$f":"Genanskaffelsespriser!$E$53","v":50},180,180,180,0,0,null,{"$f":"IF(E446=0,\"Variabel pris\",IFERROR((HLOOKUP(E446,'Variable priser'!$C$59:$H$61,2)+(E446-HLOOKUP(E446,'Variable priser'!$C$59:$H$61,1))*HLOOKUP(E446,'Variable priser'!$C$59:$H$61,3))/E446*(1+Genanskaffelsespriser!$D$203),\"Fejl\"))","v":4440.203924266666},{"$f":"IF(F446=0,\"Variabel pris\",IFERROR((HLOOKUP(F446,'Variable priser'!$C$59:$H$61,2)+(F446-HLOOKUP(F446,'Variable priser'!$C$59:$H$61,1))*HLOOKUP(F446,'Variable priser'!$C$59:$H$61,3))/F446*(1+Genanskaffelsespriser!$D$203),\"Fejl\"))","v":4440.203924266666},15984.734127359998,15984.734127359998,1,1]
["Skyllevand-/slamhåndteringsanl. - åbne med faste sider/bund","m³",{"$f":"Genanskaffelsespriser!$E$54","v":50},150,150,150,0,0,null,{"$f":"IF(E447=0,\"Variabel pris\",IFERROR((HLOOKUP(E447,'Variable priser'!$C$59:$H$64,5)+(E447-HLOOKUP(E447,'Variable priser'!$C$59:$H$64,1))*HLOOKUP(E447,'Variable priser'!$C$59:$H$64,6))/E447*(1+Genanskaffelsespriser!$D$203),\"Fejl\"))","v":2261.2274463999997},{"$f":"IF(F447=0,\"Variabel pris\",IFERROR((HLOOKUP(F447,'Variable priser'!$C$59:$H$64,5)+(F447-HLOOKUP(F447,'Variable priser'!$C$59:$H$64,1))*HLOOKUP(F447,'Variable priser'!$C$59:$H$64,6))/F447*(1+Genanskaffelsespriser!$D$203),\"Fejl\"))","v":2261.2274463999997},6783.6823391999988,6783.6823391999988,1,1]
["Skyllevand-/slamhåndteringsanlæg - jordbassiner","m³",{"$f":"Genanskaffelsespriser!$E$55","v":50},0,0,0,0,0,null,{"$f":"IF(E448=0,\"Variabel pris\",IFERROR((HLOOKUP(E448,'Variable priser'!$C$59:$H$67,8)+(E448-HLOOKUP(E448,'Variable priser'!$C$59:$H$67,1))*HLOOKUP(E448,'Variable priser'!$C$59:$H$67,9))/E448*(1+Genanskaffelsespriser!$D$203),\"Fejl\"))","v":"Variabel pris"},{"$f":"IF(F448=0,\"Variabel pris\",IFERROR((HLOOKUP(F448,'Variable priser'!$C$59:$H$67,8)+(F448-HLOOKUP(F448,'Variable priser'!$C$59:$H$67,1))*HLOOKUP(F448,'Variable priser'!$C$59:$H$67,9))/F448*(1+Genanskaffelsespriser!$D$203),\"Fejl\"))","v":"Variabel pris"},"","",1,1]
["Skyllevandsbehandling, inkl. UV-filter mv., Mek./EL","m³/h.",{"$f":"Genanskaffelsespriser!$E$56","v":25},8,8,8,0,0,null,{"$f":"IF(E449=0,\"Variabel pris\",IFERROR((HLOOKUP(E449,'Variable priser'!$C$108:$E$110,2)+(E449-HLOOKUP(E449,'Variable priser'!$C$108:$E$110,1))*HLOOKUP(E449,'Variable priser'!$C$108:$E$110,3))/E449*'Variable priser'!$H$109*(1+Genanskaffelsespriser!$D$203),\"Fejl\"))","v":22725.411682499998},{"$f":"IF(F449=0,\"Variabel pris\",IFERROR((HLOOKUP(F449,'Variable priser'!$C$108:$E$110,2)+(F449-HLOOKUP(F449,'Variable priser'!$C$108:$E$110,1))*HLOOKUP(F449,'Variable priser'!$C$108:$E$110,3))/F449*'Variable priser'!$H$109*(1+Genanskaffelsespriser!$D$203),\"Fejl\"))","v":22725.411682499998},7272.1317383999994,7272.1317383999994,1,1]
["Skyllevandsbehandling, inkl. UV-filter mv., SRO","m³/h.",{"$f":"Genanskaffelsespriser!$E$57","v":10},8,8,8,0,0,null,{"$f":"IF(E450=0,\"Variabel pris\",IFERROR((HLOOKUP(E450,'Variable priser'!$C$108:$E$110,2)+(E450-HLOOKUP(E450,'Variable priser'!$C$108:$E$110,1))*HLOOKUP(E450,'Variable priser'!$C$108:$E$110,3))/E450*'Variable priser'!$I$109*(1+Genanskaffelsespriser!$D$203),\"Fejl\"))","v":4010.3667674999992},{"$f":"IF(F450=0,\"Variabel pris\",IFERROR((HLOOKUP(F450,'Variable priser'!$C$108:$E$110,2)+(F450-HLOOKUP(F450,'Variable priser'!$C$108:$E$110,1))*HLOOKUP(F450,'Variable priser'!$C$108:$E$110,3))/F450*'Variable priser'!$I$109*(1+Genanskaffelsespriser!$D$203),\"Fejl\"))","v":4010.3667674999992},3208.2934139999993,3208.2934139999993,1,1]
["Nødstrømsanlæg på vandværk","kW",{"$f":"Genanskaffelsespriser!$E$58","v":25},475,475,475,0,0,null,{"$f":"IF(E451=0,\"Variabel pris\",IFERROR((HLOOKUP(E451,'Variable priser'!$C$86:$H$88,2)+(E451-HLOOKUP(E451,'Variable priser'!$C$86:$H$88,1))*HLOOKUP(E451,'Variable priser'!$C$86:$H$88,3))/E451*(1+Genanskaffelsespriser!$D$203),\"Fejl\"))","v":4683.8608863789468},{"$f":"IF(F451=0,\"Variabel pris\",IFERROR((HLOOKUP(F451,'Variable priser'!$C$86:$H$88,2)+(F451-HLOOKUP(F451,'Variable priser'!$C$86:$H$88,1))*HLOOKUP(F451,'Variable priser'!$C$86:$H$88,3))/F451*(1+Genanskaffelsespriser!$D$203),\"Fejl\"))","v":4683.8608863789468},88993.356841199988,88993.356841199988,1,1]
["Elanlæg og SRO-anlæg - vandværk, Elanlæg","m³/h.",{"$f":"Genanskaffelsespriser!$E$59","v":25},1416,1416,1416,0,0,null,{"$f":"IF(E452=0,\"Variabel pris\",IFERROR((HLOOKUP(E452,'Variable priser'!$C$91:$J$95,4)+(E452-HLOOKUP(E452,'Variable priser'!$C$91:$J$95,1))*HLOOKUP(E452,'Variable priser'!$C$91:$J$95,5))/E452*(1+Genanskaffelsespriser!$D$203),\"Fejl\"))","v":1598.7689128813556},{"$f":"IF(F452=0,\"Variabel pris\",IFERROR((HLOOKUP(F452,'Variable priser'!$C$91:$J$95,4)+(F452-HLOOKUP(F452,'Variable priser'!$C$91:$J$95,1))*HLOOKUP(F452,'Variable priser'!$C$91:$J$95,5))/F452*(1+Genanskaffelsespriser!$D$203),\"Fejl\"))","v":1598.7689128813556},90554.27122559998,90554.27122559998,1,1]
["Elanlæg og SRO-anlæg - vandværk, SRO","m³/h.",{"$f":"Genanskaffelsespriser!$E$60","v":10},1416,1416,1416,0,0,null,{"$f":"IF(E453=0,\"Variabel pris\",IFERROR((HLOOKUP(E453,'Variable priser'!$C$91:$J$98,7)+(E453-HLOOKUP(E453,'Variable priser'!$C$91:$J$98,1))*HLOOKUP(E453,'Variable priser'!$C$91:$J$98,8))/E453*(1+Genanskaffelsespriser!$D$203),\"Fejl\"))","v":530.66615430508477},{"$f":"IF(F453=0,\"Variabel pris\",IFERROR((HLOOKUP(F453,'Variable priser'!$C$91:$J$98,7)+(F453-HLOOKUP(F453,'Variable priser'!$C$91:$J$98,1))*HLOOKUP(F453,'Variable priser'!$C$91:$J$98,8))/F453*(1+Genanskaffelsespriser!$D$203),\"Fejl\"))","v":530.66615430508477},75142.327449600009,75142.327449600009,1,1]
["Vandværk 8"]
["Beluftningsanlæg, iltningstrappe, Konstruktioner","m³/h ",{"$f":"Genanskaffelsespriser!$E$30","v":50},null,null,null,{"$f":"IF($D455=\"\",IF($E455>0,\"Ny data\",IF($E455=\"\",\"\",0)),IF($D455=0,IF($E455=0,0,\"Ny data\"),($E455-$D455)/$D455))","v":""},{"$f":"IF($E455=\"\",IF($F455>0,\"Ny data\",IF($F455=\"\",\"\",0)),IF($E455=0,IF($F455=0,0,\"Ny data\"),($F455-$E455)/$E455))","v":""},null,{"$f":"IF(E455=0,\"Variabel pris\",IFERROR((HLOOKUP(E455,'Variable priser'!$C$6:$H$16,2)+(E455-HLOOKUP(E455,'Variable priser'!$C$6:$H$16,1))*HLOOKUP(E455,'Variable priser'!$C$6:$H$16,3))/E455*'Variable priser'!$K$7*(1+Genanskaffelsespriser!$D$203),\"Fejl\"))","v":"Variabel pris"},{"$f":"IF(F455=0,\"Variabel pris\",IFERROR((HLOOKUP(F455,'Variable priser'!$C$6:$H$16,2)+(F455-HLOOKUP(F455,'Variable priser'!$C$6:$H$16,1))*HLOOKUP(F455,'Variable priser'!$C$6:$H$16,3))/F455*'Variable priser'!$K$7*(1+Genanskaffelsespriser!$D$203),\"Fejl\"))","v":"Variabel pris"},{"$f":"IF(ISBLANK(E455),\"\",IF(E455=0,\"\",IF(ISNUMBER(E455),((J455*E455)/C455)*N455,\"\")))","v":""},{"$f":"IF(ISBLANK(F455),\"\",IF(F455=0,\"\",IF(ISNUMBER(F455),((K455*F455)/C455)*N455,\"\")))","v":""},1,1]
["Beluftningsanlæg, iltningstrappe, Mek./EL","m³/h ",{"$f":"Genanskaffelsespriser!$E$31","v":25},null,null,null,"","",null,{"$f":"IF(E456=0,\"Variabel pris\",IFERROR((HLOOKUP(E456,'Variable priser'!$C$6:$H$16,2)+(E456-HLOOKUP(E456,'Variable priser'!$C$6:$H$16,1))*HLOOKUP(E456,'Variable priser'!$C$6:$H$16,3))/E456*'Variable priser'!$L$7*(1+Genanskaffelsespriser!$D$203),\"Fejl\"))","v":"Variabel pris"},{"$f":"IF(F456=0,\"Variabel pris\",IFERROR((HLOOKUP(F456,'Variable priser'!$C$6:$H$16,2)+(F456-HLOOKUP(F456,'Variable priser'!$C$6:$H$16,1))*HLOOKUP(F456,'Variable priser'!$C$6:$H$16,3))/F456*'Variable priser'!$L$7*(1+Genanskaffelsespriser!$D$203),\"Fejl\"))","v":"Variabel pris"},{"$f":"IF(ISBLANK(E456),\"\",IF(E456=0,\"\",IF(ISNUMBER(E456),((J456*E456)/C456)*N456,\"\")))","v":""},{"$f":"IF(ISBLANK(F456),\"\",IF(F456=0,\"\",IF(ISNUMBER(F456),((K456*F456)/C456)*N456,\"\")))","v":""},1,1]
["Beluftningsanlæg, ika-beluftning, Konstruktioner","m³/h ",{"$f":"Genanskaffelsespriser!$E$32","v":50},null,null,null,"","",null,{"$f":"IF(E457=0,\"Variabel pris\",IFERROR((HLOOKUP(E457,'Variable priser'!$C$6:$H$16,4)+(E457-HLOOKUP(E457,'Variable priser'!$C$6:$H$16,1))*HLOOKUP(E457,'Variable priser'!$C$6:$H$16,5))/E457*'Variable priser'!$K$9*(1+Genanskaffelsespriser!$D$203),\"Fejl\"))","v":"Variabel pris"},{"$f":"IF(F457=0,\"Variabel pris\",IFERROR((HLOOKUP(F457,'Variable priser'!$C$6:$H$16,4)+(F457-HLOOKUP(F457,'Variable priser'!$C$6:$H$16,1))*HLOOKUP(F457,'Variable priser'!$C$6:$H$16,5))/F457*'Variable priser'!$K$9*(1+Genanskaffelsespriser!$D$203),\"Fejl\"))","v":"Variabel pris"},"","",1,1]
["Beluftningsanlæg, ika-beluftning, Mek./EL","m³/h ",{"$f":"Genanskaffelsespriser!$E$33","v":25},null,null,null,"","",null,{"$f":"IF(E458=0,\"Variabel pris\",IFERROR((HLOOKUP(E458,'Variable priser'!$C$6:$H$16,4)+(E458-HLOOKUP(E458,'Variable priser'!$C$6:$H$16,1))*HLOOKUP(E458,'Variable priser'!$C$6:$H$16,5))/E458*'Variable priser'!$L$9*(1+Genanskaffelsespriser!$D$203),\"Fejl\"))","v":"Variabel pris"},{"$f":"IF(F458=0,\"Variabel pris\",IFERROR((HLOOKUP(F458,'Variable priser'!$C$6:$H$16,4)+(F458-HLOOKUP(F458,'Variable priser'!$C$6:$H$16,1))*HLOOKUP(F458,'Variable priser'!$C$6:$H$16,5))/F458*'Variable priser'!$L$9*(1+Genanskaffelsespriser!$D$203),\"Fejl\"))","v":"Variabel pris"},"","",1,1]
["Beluftningsanlæg, bundbeluftbning, Konstruktioner","m³/h ",{"$f":"Genanskaffelsespriser!$E$34","v":50},null,null,null,"","",null,{"$f":"IF(E459=0,\"Variabel pris\",IFERROR((HLOOKUP(E459,'Variable priser'!$C$6:$H$16,6)+(E459-HLOOKUP(E459,'Variable priser'!$C$6:$H$16,1))*HLOOKUP(E459,'Variable priser'!$C$6:$H$16,7))/E459*'Variable priser'!$K$17*(1+Genanskaffelsespriser!$D$203),\"Fejl\"))","v":"Variabel pris"},{"$f":"IF(F459=0,\"Variabel pris\",IFERROR((HLOOKUP(F459,'Variable priser'!$C$6:$H$16,6)+(F459-HLOOKUP(F459,'Variable priser'!$C$6:$H$16,1))*HLOOKUP(F459,'Variable priser'!$C$6:$H$16,7))/F459*'Variable priser'!$K$17*(1+Genanskaffelsespriser!$D$203),\"Fejl\"))","v":"Variabel pris"},"","",1,1]
["Beluftningsanlæg, bundbeluftbning, Mek./EL","m³/h ",{"$f":"Genanskaffelsespriser!$E$35","v":25},null,null,null,"","",null,{"$f":"IF(E460=0,\"Variabel pris\",IFERROR((HLOOKUP(E460,'Variable priser'!$C$6:$H$16,6)+(E460-HLOOKUP(E460,'Variable priser'!$C$6:$H$16,1))*HLOOKUP(E460,'Variable priser'!$C$6:$H$16,7))/E460*'Variable priser'!$L$17*(1+Genanskaffelsespriser!$D$203),\"Fejl\"))","v":"Variabel pris"},{"$f":"IF(F460=0,\"Variabel pris\",IFERROR((HLOOKUP(F460,'Variable priser'!$C$6:$H$16,6)+(F460-HLOOKUP(F460,'Variable priser'!$C$6:$H$16,1))*HLOOKUP(F460,'Variable priser'!$C$6:$H$16,7))/F460*'Variable priser'!$L$17*(1+Genanskaffelsespriser!$D$203),\"Fejl\"))","v":"Variabel pris"},"","",1,1]
["Beluftningsanlæg, rislebakke, Konstruktioner","m³/h ",{"$f":"Genanskaffelsespriser!$E$36","v":50},null,null,null,"","",null,{"$f":"IF(E461=0,\"Variabel pris\",IFERROR((HLOOKUP(E461,'Variable priser'!$C$6:$H$18,12)+(E461-HLOOKUP(E461,'Variable priser'!$C$6:$H$18,1))*HLOOKUP(E461,'Variable priser'!$C$6:$H$18,13))/E461*'Variable priser'!$K$17*(1+Genanskaffelsespriser!$D$203),\"Fejl\"))","v":"Variabel pris"},{"$f":"IF(F461=0,\"Variabel pris\",IFERROR((HLOOKUP(F461,'Variable priser'!$C$6:$H$18,12)+(F461-HLOOKUP(F461,'Variable priser'!$C$6:$H$18,1))*HLOOKUP(F461,'Variable priser'!$C$6:$H$18,13))/F461*'Variable priser'!$K$17*(1+Genanskaffelsespriser!$D$203),\"Fejl\"))","v":"Variabel pris"},"","",1,1]
["Beluftningsanlæg, rislebakke, Mek./EL","m³/h ",{"$f":"Genanskaffelsespriser!$E$37","v":25},null,null,null,"","",null,{"$f":"IF(E462=0,\"Variabel pris\",IFERROR((HLOOKUP(E462,'Variable priser'!$C$6:$H$18,12)+(E462-HLOOKUP(E462,'Variable priser'!$C$6:$H$18,1))*HLOOKUP(E462,'Variable priser'!$C$6:$H$18,13))/E462*'Variable priser'!$L$17*(1+Genanskaffelsespriser!$D$203),\"Fejl\"))","v":"Variabel pris"},{"$f":"IF(F462=0,\"Variabel pris\",IFERROR((HLOOKUP(F462,'Variable priser'!$C$6:$H$18,12)+(F462-HLOOKUP(F462,'Variable priser'!$C$6:$H$18,1))*HLOOKUP(F462,'Variable priser'!$C$6:$H$18,13))/F462*'Variable priser'!$L$17*(1+Genanskaffelsespriser!$D$203),\"Fejl\"))","v":"Variabel pris"},"","",1,1]
["Beluftningsanlæg, kompressorbeluftning","m³/h ",{"$f":"Genanskaffelsespriser!$E$38","v":25},null,null,null,"","",null,{"$f":"IF(E463=0,\"Variabel pris\",IFERROR((HLOOKUP(E463,'Variable priser'!$C$6:$H$16,8)+(E463-HLOOKUP(E463,'Variable priser'!$C$6:$H$16,1))*HLOOKUP(E463,'Variable priser'!$C$6:$H$16,9))/E463*(1+Genanskaffelsespriser!$D$203),\"Fejl\"))","v":"Variabel pris"},{"$f":"IF(F463=0,\"Variabel pris\",IFERROR((HLOOKUP(F463,'Variable priser'!$C$6:$H$16,8)+(F463-HLOOKUP(F463,'Variable priser'!$C$6:$H$16,1))*HLOOKUP(F463,'Variable priser'!$C$6:$H$16,9))/F463*(1+Genanskaffelsespriser!$D$203),\"Fejl\"))","v":"Variabel pris"},"","",1,1]
["Beluftningsanlæg, ren ilt","m³/h ",{"$f":"Genanskaffelsespriser!$E$39","v":25},null,null,null,"","",null,{"$f":"IF(E464=0,\"Variabel pris\",IFERROR((HLOOKUP(E464,'Variable priser'!$C$6:$H$16,10)+(E464-HLOOKUP(E464,'Variable priser'!$C$6:$H$16,1))*HLOOKUP(E464,'Variable priser'!$C$6:$H$16,11))/E464*(1+Genanskaffelsespriser!$D$203),\"Fejl\"))","v":"Variabel pris"},{"$f":"IF(F464=0,\"Variabel pris\",IFERROR((HLOOKUP(F464,'Variable priser'!$C$6:$H$16,10)+(F464-HLOOKUP(F464,'Variable priser'!$C$6:$H$16,1))*HLOOKUP(F464,'Variable priser'!$C$6:$H$16,11))/F464*(1+Genanskaffelsespriser!$D$203),\"Fejl\"))","v":"Variabel pris"},"","",1,1]
["Behandlingsanlæg, kalk anlæg","m³/h ",{"$f":"Genanskaffelsespriser!$E$40","v":25},null,null,null,"","",null,{"$f":"IF(E465=0,\"Variabel pris\",IFERROR((HLOOKUP(E465,'Variable priser'!$C$20:$G$24,3)+(E465-HLOOKUP(E465,'Variable priser'!$C$20:$G$24,1))*HLOOKUP(E465,'Variable priser'!$C$20:$G$24,4))/E465*(1+Genanskaffelsespriser!$D$203),\"Fejl\"))","v":"Variabel pris"},{"$f":"IF(F465=0,\"Variabel pris\",IFERROR((HLOOKUP(F465,'Variable priser'!$C$20:$G$24,3)+(F465-HLOOKUP(F465,'Variable priser'!$C$20:$G$24,1))*HLOOKUP(F465,'Variable priser'!$C$20:$G$24,4))/F465*(1+Genanskaffelsespriser!$D$203),\"Fejl\"))","v":"Variabel pris"},"","",1,1]
["Behandlingsanlæg, luddosering","m³/h ",{"$f":"Genanskaffelsespriser!$E$41","v":25},null,null,null,"","",null,{"$f":"IF(E466=0,\"Variabel pris\",IFERROR((HLOOKUP(E466,'Variable priser'!$C$20:$G$25,5)+(E466-HLOOKUP(E466,'Variable priser'!$C$20:$G$25,1))*HLOOKUP(E466,'Variable priser'!$C$20:$G$25,6))/E466*(1+Genanskaffelsespriser!$D$203),\"Fejl\"))","v":"Variabel pris"},{"$f":"IF(F466=0,\"Variabel pris\",IFERROR((HLOOKUP(F466,'Variable priser'!$C$20:$G$25,5)+(F466-HLOOKUP(F466,'Variable priser'!$C$20:$G$25,1))*HLOOKUP(F466,'Variable priser'!$C$20:$G$25,6))/F466*(1+Genanskaffelsespriser!$D$203),\"Fejl\"))","v":"Variabel pris"},"","",1,1]
["Filteranlæg, åbne filtre, enkelt filtrering, Konstruktioner","m³/h ",{"$f":"Genanskaffelsespriser!$E$42","v":50},null,null,null,"","",null,{"$f":"IF(E467=0,\"Variabel pris\",IFERROR((HLOOKUP(E467,'Variable priser'!$C$28:$G$38,9)+(E467-HLOOKUP(E467,'Variable priser'!$C$28:$G$38,1))*HLOOKUP(E467,'Variable priser'!$C$28:$G$38,10))/E467*'Variable priser'!$K$31*(1+Genanskaffelsespriser!$D$203),\"Fejl\"))","v":"Variabel pris"},{"$f":"IF(F467=0,\"Variabel pris\",IFERROR((HLOOKUP(F467,'Variable priser'!$C$28:$G$38,9)+(F467-HLOOKUP(F467,'Variable priser'!$C$28:$G$38,1))*HLOOKUP(F467,'Variable priser'!$C$28:$G$38,10))/F467*'Variable priser'!$K$31*(1+Genanskaffelsespriser!$D$203),\"Fejl\"))","v":"Variabel pris"},"","",1,1]
["Filteranlæg, åbne filtre, enkelt filtrering, Mek./EL","m³/h ",{"$f":"Genanskaffelsespriser!$E$43","v":25},null,null,null,"","",null,{"$f":"IF(E468=0,\"Variabel pris\",IFERROR((HLOOKUP(E468,'Variable priser'!$C$28:$G$38,9)+(E468-HLOOKUP(E468,'Variable priser'!$C$28:$G$38,1))*HLOOKUP(E468,'Variable priser'!$C$28:$G$38,10))/E468*'Variable priser'!$L$31*(1+Genanskaffelsespriser!$D$203),\"Fejl\"))","v":"Variabel pris"},{"$f":"IF(F468=0,\"Variabel pris\",IFERROR((HLOOKUP(F468,'Variable priser'!$C$28:$G$38,9)+(F468-HLOOKUP(F468,'Variable priser'!$C$28:$G$38,1))*HLOOKUP(F468,'Variable priser'!$C$28:$G$38,10))/F468*'Variable priser'!$L$31*(1+Genanskaffelsespriser!$D$203),\"Fejl\"))","v":"Variabel pris"},"","",1,1]
["Filteranlæg, åbne filtre, dobbelt filtrering, Konstruktioner","m³/h ",{"$f":"Genanskaffelsespriser!$E$44","v":50},null,null,null,"","",null,{"$f":"IF(E469=0,\"Variabel pris\",IFERROR((HLOOKUP(E469,'Variable priser'!$C$28:$G$38,6)+(E469-HLOOKUP(E469,'Variable priser'!$C$28:$G$38,1))*HLOOKUP(E469,'Variable priser'!$C$28:$G$38,7))/E469*'Variable priser'!$K$31*(1+Genanskaffelsespriser!$D$203),\"Fejl\"))","v":"Variabel pris"},{"$f":"IF(F469=0,\"Variabel pris\",IFERROR((HLOOKUP(F469,'Variable priser'!$C$28:$G$38,6)+(F469-HLOOKUP(F469,'Variable priser'!$C$28:$G$38,1))*HLOOKUP(F469,'Variable priser'!$C$28:$G$38,7))/F469*'Variable priser'!$K$31*(1+Genanskaffelsespriser!$D$203),\"Fejl\"))","v":"Variabel pris"},"","",1,1]
["Filteranlæg, åbne filtre, dobbelt filtrering, Mek./EL","m³/h ",{"$f":"Genanskaffelsespriser!$E$45","v":25},null,null,null,"","",null,{"$f":"IF(E470=0,\"Variabel pris\",IFERROR((HLOOKUP(E470,'Variable priser'!$C$28:$G$38,6)+(E470-HLOOKUP(E470,'Variable priser'!$C$28:$G$38,1))*HLOOKUP(E470,'Variable priser'!$C$28:$G$38,7))/E470*'Variable priser'!$L$31*(1+Genanskaffelsespriser!$D$203),\"Fejl\"))","v":"Variabel pris"},{"$f":"IF(F470=0,\"Variabel pris\",IFERROR((HLOOKUP(F470,'Variable priser'!$C$28:$G$38,6)+(F470-HLOOKUP(F470,'Variable priser'!$C$28:$G$38,1))*HLOOKUP(F470,'Variable priser'!$C$28:$G$38,7))/F470*'Variable priser'!$L$31*(1+Genanskaffelsespriser!$D$203),\"Fejl\"))","v":"Variabel pris"},"","",1,1]
["Filteranlæg, trykfiltre, enkelt filtrering","m³/h ",{"$f":"Genanskaffelsespriser!$E$46","v":25},null,null,null,"","",null,{"$f":"IF(E471=0,\"Variabel pris\",IFERROR((HLOOKUP(E471,'Variable priser'!$C$40:$H$42,2)+(E471-HLOOKUP(E471,'Variable priser'!$C$40:$H$42,1))*HLOOKUP(E471,'Variable priser'!$C$40:$H$42,3))/E471*(1+Genanskaffelsespriser!$D$203),\"Fejl\"))","v":"Variabel pris"},{"$f":"IF(F471=0,\"Variabel pris\",IFERROR((HLOOKUP(F471,'Variable priser'!$C$40:$H$42,2)+(F471-HLOOKUP(F471,'Variable priser'!$C$40:$H$42,1))*HLOOKUP(F471,'Variable priser'!$C$40:$H$42,3))/F471*(1+Genanskaffelsespriser!$D$203),\"Fejl\"))","v":"Variabel pris"},"","",1,1]
["Filteranlæg, trykfiltre, dobbelt filtrering","m³/h ",{"$f":"Genanskaffelsespriser!$E$47","v":25},null,null,null,"","",null,{"$f":"IF(E472=0,\"Variabel pris\",IFERROR((HLOOKUP(E472,'Variable priser'!$C$44:$H$46,2)+(E472-HLOOKUP(E472,'Variable priser'!$C$44:$H$46,1))*HLOOKUP(E472,'Variable priser'!$C$44:$H$46,3))/E472*(1+Genanskaffelsespriser!$D$203),\"Fejl\"))","v":"Variabel pris"},{"$f":"IF(F472=0,\"Variabel pris\",IFERROR((HLOOKUP(F472,'Variable priser'!$C$44:$H$46,2)+(F472-HLOOKUP(F472,'Variable priser'!$C$44:$H$46,1))*HLOOKUP(F472,'Variable priser'!$C$44:$H$46,3))/F472*(1+Genanskaffelsespriser!$D$203),\"Fejl\"))","v":"Variabel pris"},"","",1,1]
["Rentvandsbeholder  insitu støbt","m³",{"$f":"Genanskaffelsespriser!$E$48","v":50},null,null,null,"","",null,{"$f":"IF(E473=0,\"Variabel pris\",IFERROR((HLOOKUP(E473,'Variable priser'!$C$48:$H$50,2)+(E473-HLOOKUP(E473,'Variable priser'!$C$48:$H$50,1))*HLOOKUP(E473,'Variable priser'!$C$48:$H$50,3))/E473*(1+Genanskaffelsespriser!$D$203),\"Fejl\"))","v":"Variabel pris"},{"$f":"IF(F473=0,\"Variabel pris\",IFERROR((HLOOKUP(F473,'Variable priser'!$C$48:$H$50,2)+(F473-HLOOKUP(F473,'Variable priser'!$C$48:$H$50,1))*HLOOKUP(F473,'Variable priser'!$C$48:$H$50,3))/F473*(1+Genanskaffelsespriser!$D$203),\"Fejl\"))","v":"Variabel pris"},"","",1,1]
["Rentvandsbeholder  element","m³",{"$f":"Genanskaffelsespriser!$E$49","v":50},null,null,null,"","",null,{"$f":"IF(E474=0,\"Variabel pris\",IFERROR((HLOOKUP(E474,'Variable priser'!$C$52:$H$54,2)+(E474-HLOOKUP(E474,'Variable priser'!$C$52:$H$54,1))*HLOOKUP(E474,'Variable priser'!$C$52:$H$54,3))/E474*(1+Genanskaffelsespriser!$D$203),\"Fejl\"))","v":"Variabel pris"},{"$f":"IF(F474=0,\"Variabel pris\",IFERROR((HLOOKUP(F474,'Variable priser'!$C$52:$H$54,2)+(F474-HLOOKUP(F474,'Variable priser'!$C$52:$H$54,1))*HLOOKUP(F474,'Variable priser'!$C$52:$H$54,3))/F474*(1+Genanskaffelsespriser!$D$203),\"Fejl\"))","v":"Variabel pris"},"","",1,1]
["Udpumpningsanlæg, rentvandspumper på vandværk","m³/h ",{"$f":"Genanskaffelsespriser!$E$50","v":25},null,null,null,"","",null,{"$f":"IF(E475=0,\"Variabel pris\",IFERROR((HLOOKUP(E475,'Variable priser'!$C$71:$H$73,2)+(E475-HLOOKUP(E475,'Variable priser'!$C$71:$H$73,1))*HLOOKUP(E475,'Variable priser'!$C$71:$H$73,3))/E475*(1+Genanskaffelsespriser!$D$203),\"Fejl\"))","v":"Variabel pris"},{"$f":"IF(F475=0,\"Variabel pris\",IFERROR((HLOOKUP(F475,'Variable priser'!$C$71:$H$73,2)+(F475-HLOOKUP(F475,'Variable priser'!$C$71:$H$73,1))*HLOOKUP(F475,'Variable priser'!$C$71:$H$73,3))/F475*(1+Genanskaffelsespriser!$D$203),\"Fejl\"))","v":"Variabel pris"},"","",1,1]
["Udpumpningsanlæg, frekvensomformer","kW",{"$f":"Genanskaffelsespriser!$E$51","v":25},null,null,null,"","",null,{"$f":"IF(E476=0,\"Variabel pris\",IFERROR((HLOOKUP(E476,'Variable priser'!$C$76:$J$78,2)+(E476-HLOOKUP(E476,'Variable priser'!$C$76:$J$78,1))*HLOOKUP(E476,'Variable priser'!$C$76:$J$78,3))/E476*(1+Genanskaffelsespriser!$D$203),\"Fejl\"))","v":"Variabel pris"},{"$f":"IF(F476=0,\"Variabel pris\",IFERROR((HLOOKUP(F476,'Variable priser'!$C$76:$J$78,2)+(F476-HLOOKUP(F476,'Variable priser'!$C$76:$J$78,1))*HLOOKUP(F476,'Variable priser'!$C$76:$J$78,3))/F476*(1+Genanskaffelsespriser!$D$203),\"Fejl\"))","v":"Variabel pris"},"","",1,1]
["Udpumpningsanlæg, Hydrofor","liter",{"$f":"Genanskaffelsespriser!$E$52","v":25},null,null,null,"","",null,{"$f":"IF(E477=0,\"Variabel pris\",IFERROR((HLOOKUP(E477,'Variable priser'!$C$81:$J$83,2)+(E477-HLOOKUP(E477,'Variable priser'!$C$81:$J$83,1))*HLOOKUP(E477,'Variable priser'!$C$81:$J$83,3))/E477*(1+Genanskaffelsespriser!$D$203),\"Fejl\"))","v":"Variabel pris"},{"$f":"IF(F477=0,\"Variabel pris\",IFERROR((HLOOKUP(F477,'Variable priser'!$C$81:$J$83,2)+(F477-HLOOKUP(F477,'Variable priser'!$C$81:$J$83,1))*HLOOKUP(F477,'Variable priser'!$C$81:$J$83,3))/F477*(1+Genanskaffelsespriser!$D$203),\"Fejl\"))","v":"Variabel pris"},"","",1,1]
["Skyllevand-/slamhåndteringsanlæg - lukkede betonbeholdere","m³",{"$f":"Genanskaffelsespriser!$E$53","v":50},null,null,null,"","",null,{"$f":"IF(E478=0,\"Variabel pris\",IFERROR((HLOOKUP(E478,'Variable priser'!$C$59:$H$61,2)+(E478-HLOOKUP(E478,'Variable priser'!$C$59:$H$61,1))*HLOOKUP(E478,'Variable priser'!$C$59:$H$61,3))/E478*(1+Genanskaffelsespriser!$D$203),\"Fejl\"))","v":"Variabel pris"},{"$f":"IF(F478=0,\"Variabel pris\",IFERROR((HLOOKUP(F478,'Variable priser'!$C$59:$H$61,2)+(F478-HLOOKUP(F478,'Variable priser'!$C$59:$H$61,1))*HLOOKUP(F478,'Variable priser'!$C$59:$H$61,3))/F478*(1+Genanskaffelsespriser!$D$203),\"Fejl\"))","v":"Variabel pris"},"","",1,1]
["Skyllevand-/slamhåndteringsanl. - åbne med faste sider/bund","m³",{"$f":"Genanskaffelsespriser!$E$54","v":50},null,null,null,"","",null,{"$f":"IF(E479=0,\"Variabel pris\",IFERROR((HLOOKUP(E479,'Variable priser'!$C$59:$H$64,5)+(E479-HLOOKUP(E479,'Variable priser'!$C$59:$H$64,1))*HLOOKUP(E479,'Variable priser'!$C$59:$H$64,6))/E479*(1+Genanskaffelsespriser!$D$203),\"Fejl\"))","v":"Variabel pris"},{"$f":"IF(F479=0,\"Variabel pris\",IFERROR((HLOOKUP(F479,'Variable priser'!$C$59:$H$64,5)+(F479-HLOOKUP(F479,'Variable priser'!$C$59:$H$64,1))*HLOOKUP(F479,'Variable priser'!$C$59:$H$64,6))/F479*(1+Genanskaffelsespriser!$D$203),\"Fejl\"))","v":"Variabel pris"},"","",1,1]
["Skyllevand-/slamhåndteringsanlæg - jordbassiner","m³",{"$f":"Genanskaffelsespriser!$E$55","v":50},null,null,null,"","",null,{"$f":"IF(E480=0,\"Variabel pris\",IFERROR((HLOOKUP(E480,'Variable priser'!$C$59:$H$67,8)+(E480-HLOOKUP(E480,'Variable priser'!$C$59:$H$67,1))*HLOOKUP(E480,'Variable priser'!$C$59:$H$67,9))/E480*(1+Genanskaffelsespriser!$D$203),\"Fejl\"))","v":"Variabel pris"},{"$f":"IF(F480=0,\"Variabel pris\",IFERROR((HLOOKUP(F480,'Variable priser'!$C$59:$H$67,8)+(F480-HLOOKUP(F480,'Variable priser'!$C$59:$H$67,1))*HLOOKUP(F480,'Variable priser'!$C$59:$H$67,9))/F480*(1+Genanskaffelsespriser!$D$203),\"Fejl\"))","v":"Variabel pris"},"","",1,1]
["Skyllevandsbehandling, inkl. UV-filter mv., Mek./EL","m³/h.",{"$f":"Genanskaffelsespriser!$E$56","v":25},null,null,null,"","",null,{"$f":"IF(E481=0,\"Variabel pris\",IFERROR((HLOOKUP(E481,'Variable priser'!$C$108:$E$110,2)+(E481-HLOOKUP(E481,'Variable priser'!$C$108:$E$110,1))*HLOOKUP(E481,'Variable priser'!$C$108:$E$110,3))/E481*'Variable priser'!$H$109*(1+Genanskaffelsespriser!$D$203),\"Fejl\"))","v":"Variabel pris"},{"$f":"IF(F481=0,\"Variabel pris\",IFERROR((HLOOKUP(F481,'Variable priser'!$C$108:$E$110,2)+(F481-HLOOKUP(F481,'Variable priser'!$C$108:$E$110,1))*HLOOKUP(F481,'Variable priser'!$C$108:$E$110,3))/F481*'Variable priser'!$H$109*(1+Genanskaffelsespriser!$D$203),\"Fejl\"))","v":"Variabel pris"},"","",1,1]
["Skyllevandsbehandling, inkl. UV-filter mv., SRO","m³/h.",{"$f":"Genanskaffelsespriser!$E$57","v":10},null,null,null,"","",null,{"$f":"IF(E482=0,\"Variabel pris\",IFERROR((HLOOKUP(E482,'Variable priser'!$C$108:$E$110,2)+(E482-HLOOKUP(E482,'Variable priser'!$C$108:$E$110,1))*HLOOKUP(E482,'Variable priser'!$C$108:$E$110,3))/E482*'Variable priser'!$I$109*(1+Genanskaffelsespriser!$D$203),\"Fejl\"))","v":"Variabel pris"},{"$f":"IF(F482=0,\"Variabel pris\",IFERROR((HLOOKUP(F482,'Variable priser'!$C$108:$E$110,2)+(F482-HLOOKUP(F482,'Variable priser'!$C$108:$E$110,1))*HLOOKUP(F482,'Variable priser'!$C$108:$E$110,3))/F482*'Variable priser'!$I$109*(1+Genanskaffelsespriser!$D$203),\"Fejl\"))","v":"Variabel pris"},"","",1,1]
["Nødstrømsanlæg på vandværk","kW",{"$f":"Genanskaffelsespriser!$E$58","v":25},null,null,null,"","",null,{"$f":"IF(E483=0,\"Variabel pris\",IFERROR((HLOOKUP(E483,'Variable priser'!$C$86:$H$88,2)+(E483-HLOOKUP(E483,'Variable priser'!$C$86:$H$88,1))*HLOOKUP(E483,'Variable priser'!$C$86:$H$88,3))/E483*(1+Genanskaffelsespriser!$D$203),\"Fejl\"))","v":"Variabel pris"},{"$f":"IF(F483=0,\"Variabel pris\",IFERROR((HLOOKUP(F483,'Variable priser'!$C$86:$H$88,2)+(F483-HLOOKUP(F483,'Variable priser'!$C$86:$H$88,1))*HLOOKUP(F483,'Variable priser'!$C$86:$H$88,3))/F483*(1+Genanskaffelsespriser!$D$203),\"Fejl\"))","v":"Variabel pris"},"","",1,1]
["Elanlæg og SRO-anlæg - vandværk, Elanlæg","m³/h.",{"$f":"Genanskaffelsespriser!$E$59","v":25},null,null,null,"","",null,{"$f":"IF(E484=0,\"Variabel pris\",IFERROR((HLOOKUP(E484,'Variable priser'!$C$91:$J$95,4)+(E484-HLOOKUP(E484,'Variable priser'!$C$91:$J$95,1))*HLOOKUP(E484,'Variable priser'!$C$91:$J$95,5))/E484*(1+Genanskaffelsespriser!$D$203),\"Fejl\"))","v":"Variabel pris"},{"$f":"IF(F484=0,\"Variabel pris\",IFERROR((HLOOKUP(F484,'Variable priser'!$C$91:$J$95,4)+(F484-HLOOKUP(F484,'Variable priser'!$C$91:$J$95,1))*HLOOKUP(F484,'Variable priser'!$C$91:$J$95,5))/F484*(1+Genanskaffelsespriser!$D$203),\"Fejl\"))","v":"Variabel pris"},"","",1,1]
["Elanlæg og SRO-anlæg - vandværk, SRO","m³/h.",{"$f":"Genanskaffelsespriser!$E$60","v":10},null,null,null,"","",null,{"$f":"IF(E485=0,\"Variabel pris\",IFERROR((HLOOKUP(E485,'Variable priser'!$C$91:$J$98,7)+(E485-HLOOKUP(E485,'Variable priser'!$C$91:$J$98,1))*HLOOKUP(E485,'Variable priser'!$C$91:$J$98,8))/E485*(1+Genanskaffelsespriser!$D$203),\"Fejl\"))","v":"Variabel pris"},{"$f":"IF(F485=0,\"Variabel pris\",IFERROR((HLOOKUP(F485,'Variable priser'!$C$91:$J$98,7)+(F485-HLOOKUP(F485,'Variable priser'!$C$91:$J$98,1))*HLOOKUP(F485,'Variable priser'!$C$91:$J$98,8))/F485*(1+Genanskaffelsespriser!$D$203),\"Fejl\"))","v":"Variabel pris"},"","",1,1]
["Vandværk 9"]
["Beluftningsanlæg, iltningstrappe, Konstruktioner","m³/h ",{"$f":"Genanskaffelsespriser!$E$30","v":50},null,null,null,{"$f":"IF($D487=\"\",IF($E487>0,\"Ny data\",IF($E487=\"\",\"\",0)),IF($D487=0,IF($E487=0,0,\"Ny data\"),($E487-$D487)/$D487))","v":""},{"$f":"IF($E487=\"\",IF($F487>0,\"Ny data\",IF($F487=\"\",\"\",0)),IF($E487=0,IF($F487=0,0,\"Ny data\"),($F487-$E487)/$E487))","v":""},null,{"$f":"IF(E487=0,\"Variabel pris\",IFERROR((HLOOKUP(E487,'Variable priser'!$C$6:$H$16,2)+(E487-HLOOKUP(E487,'Variable priser'!$C$6:$H$16,1))*HLOOKUP(E487,'Variable priser'!$C$6:$H$16,3))/E487*'Variable priser'!$K$7*(1+Genanskaffelsespriser!$D$203),\"Fejl\"))","v":"Variabel pris"},{"$f":"IF(F487=0,\"Variabel pris\",IFERROR((HLOOKUP(F487,'Variable priser'!$C$6:$H$16,2)+(F487-HLOOKUP(F487,'Variable priser'!$C$6:$H$16,1))*HLOOKUP(F487,'Variable priser'!$C$6:$H$16,3))/F487*'Variable priser'!$K$7*(1+Genanskaffelsespriser!$D$203),\"Fejl\"))","v":"Variabel pris"},{"$f":"IF(ISBLANK(E487),\"\",IF(E487=0,\"\",IF(ISNUMBER(E487),((J487*E487)/C487)*N487,\"\")))","v":""},{"$f":"IF(ISBLANK(F487),\"\",IF(F487=0,\"\",IF(ISNUMBER(F487),((K487*F487)/C487)*N487,\"\")))","v":""},1,1]
["Beluftningsanlæg, iltningstrappe, Mek./EL","m³/h ",{"$f":"Genanskaffelsespriser!$E$31","v":25},null,null,null,"","",null,{"$f":"IF(E488=0,\"Variabel pris\",IFERROR((HLOOKUP(E488,'Variable priser'!$C$6:$H$16,2)+(E488-HLOOKUP(E488,'Variable priser'!$C$6:$H$16,1))*HLOOKUP(E488,'Variable priser'!$C$6:$H$16,3))/E488*'Variable priser'!$L$7*(1+Genanskaffelsespriser!$D$203),\"Fejl\"))","v":"Variabel pris"},{"$f":"IF(F488=0,\"Variabel pris\",IFERROR((HLOOKUP(F488,'Variable priser'!$C$6:$H$16,2)+(F488-HLOOKUP(F488,'Variable priser'!$C$6:$H$16,1))*HLOOKUP(F488,'Variable priser'!$C$6:$H$16,3))/F488*'Variable priser'!$L$7*(1+Genanskaffelsespriser!$D$203),\"Fejl\"))","v":"Variabel pris"},{"$f":"IF(ISBLANK(E488),\"\",IF(E488=0,\"\",IF(ISNUMBER(E488),((J488*E488)/C488)*N488,\"\")))","v":""},{"$f":"IF(ISBLANK(F488),\"\",IF(F488=0,\"\",IF(ISNUMBER(F488),((K488*F488)/C488)*N488,\"\")))","v":""},1,1]
["Beluftningsanlæg, ika-beluftning, Konstruktioner","m³/h ",{"$f":"Genanskaffelsespriser!$E$32","v":50},null,null,null,"","",null,{"$f":"IF(E489=0,\"Variabel pris\",IFERROR((HLOOKUP(E489,'Variable priser'!$C$6:$H$16,4)+(E489-HLOOKUP(E489,'Variable priser'!$C$6:$H$16,1))*HLOOKUP(E489,'Variable priser'!$C$6:$H$16,5))/E489*'Variable priser'!$K$9*(1+Genanskaffelsespriser!$D$203),\"Fejl\"))","v":"Variabel pris"},{"$f":"IF(F489=0,\"Variabel pris\",IFERROR((HLOOKUP(F489,'Variable priser'!$C$6:$H$16,4)+(F489-HLOOKUP(F489,'Variable priser'!$C$6:$H$16,1))*HLOOKUP(F489,'Variable priser'!$C$6:$H$16,5))/F489*'Variable priser'!$K$9*(1+Genanskaffelsespriser!$D$203),\"Fejl\"))","v":"Variabel pris"},"","",1,1]
["Beluftningsanlæg, ika-beluftning, Mek./EL","m³/h ",{"$f":"Genanskaffelsespriser!$E$33","v":25},null,null,null,"","",null,{"$f":"IF(E490=0,\"Variabel pris\",IFERROR((HLOOKUP(E490,'Variable priser'!$C$6:$H$16,4)+(E490-HLOOKUP(E490,'Variable priser'!$C$6:$H$16,1))*HLOOKUP(E490,'Variable priser'!$C$6:$H$16,5))/E490*'Variable priser'!$L$9*(1+Genanskaffelsespriser!$D$203),\"Fejl\"))","v":"Variabel pris"},{"$f":"IF(F490=0,\"Variabel pris\",IFERROR((HLOOKUP(F490,'Variable priser'!$C$6:$H$16,4)+(F490-HLOOKUP(F490,'Variable priser'!$C$6:$H$16,1))*HLOOKUP(F490,'Variable priser'!$C$6:$H$16,5))/F490*'Variable priser'!$L$9*(1+Genanskaffelsespriser!$D$203),\"Fejl\"))","v":"Variabel pris"},"","",1,1]
["Beluftningsanlæg, bundbeluftbning, Konstruktioner","m³/h ",{"$f":"Genanskaffelsespriser!$E$34","v":50},null,null,null,"","",null,{"$f":"IF(E491=0,\"Variabel pris\",IFERROR((HLOOKUP(E491,'Variable priser'!$C$6:$H$16,6)+(E491-HLOOKUP(E491,'Variable priser'!$C$6:$H$16,1))*HLOOKUP(E491,'Variable priser'!$C$6:$H$16,7))/E491*'Variable priser'!$K$17*(1+Genanskaffelsespriser!$D$203),\"Fejl\"))","v":"Variabel pris"},{"$f":"IF(F491=0,\"Variabel pris\",IFERROR((HLOOKUP(F491,'Variable priser'!$C$6:$H$16,6)+(F491-HLOOKUP(F491,'Variable priser'!$C$6:$H$16,1))*HLOOKUP(F491,'Variable priser'!$C$6:$H$16,7))/F491*'Variable priser'!$K$17*(1+Genanskaffelsespriser!$D$203),\"Fejl\"))","v":"Variabel pris"},"","",1,1]
["Beluftningsanlæg, bundbeluftbning, Mek./EL","m³/h ",{"$f":"Genanskaffelsespriser!$E$35","v":25},null,null,null,"","",null,{"$f":"IF(E492=0,\"Variabel pris\",IFERROR((HLOOKUP(E492,'Variable priser'!$C$6:$H$16,6)+(E492-HLOOKUP(E492,'Variable priser'!$C$6:$H$16,1))*HLOOKUP(E492,'Variable priser'!$C$6:$H$16,7))/E492*'Variable priser'!$L$17*(1+Genanskaffelsespriser!$D$203),\"Fejl\"))","v":"Variabel pris"},{"$f":"IF(F492=0,\"Variabel pris\",IFERROR((HLOOKUP(F492,'Variable priser'!$C$6:$H$16,6)+(F492-HLOOKUP(F492,'Variable priser'!$C$6:$H$16,1))*HLOOKUP(F492,'Variable priser'!$C$6:$H$16,7))/F492*'Variable priser'!$L$17*(1+Genanskaffelsespriser!$D$203),\"Fejl\"))","v":"Variabel pris"},"","",1,1]
["Beluftningsanlæg, rislebakke, Konstruktioner","m³/h ",{"$f":"Genanskaffelsespriser!$E$36","v":50},null,null,null,"","",null,{"$f":"IF(E493=0,\"Variabel pris\",IFERROR((HLOOKUP(E493,'Variable priser'!$C$6:$H$18,12)+(E493-HLOOKUP(E493,'Variable priser'!$C$6:$H$18,1))*HLOOKUP(E493,'Variable priser'!$C$6:$H$18,13))/E493*'Variable priser'!$K$17*(1+Genanskaffelsespriser!$D$203),\"Fejl\"))","v":"Variabel pris"},{"$f":"IF(F493=0,\"Variabel pris\",IFERROR((HLOOKUP(F493,'Variable priser'!$C$6:$H$18,12)+(F493-HLOOKUP(F493,'Variable priser'!$C$6:$H$18,1))*HLOOKUP(F493,'Variable priser'!$C$6:$H$18,13))/F493*'Variable priser'!$K$17*(1+Genanskaffelsespriser!$D$203),\"Fejl\"))","v":"Variabel pris"},"","",1,1]
["Beluftningsanlæg, rislebakke, Mek./EL","m³/h ",{"$f":"Genanskaffelsespriser!$E$37","v":25},null,null,null,"","",null,{"$f":"IF(E494=0,\"Variabel pris\",IFERROR((HLOOKUP(E494,'Variable priser'!$C$6:$H$18,12)+(E494-HLOOKUP(E494,'Variable priser'!$C$6:$H$18,1))*HLOOKUP(E494,'Variable priser'!$C$6:$H$18,13))/E494*'Variable priser'!$L$17*(1+Genanskaffelsespriser!$D$203),\"Fejl\"))","v":"Variabel pris"},{"$f":"IF(F494=0,\"Variabel pris\",IFERROR((HLOOKUP(F494,'Variable priser'!$C$6:$H$18,12)+(F494-HLOOKUP(F494,'Variable priser'!$C$6:$H$18,1))*HLOOKUP(F494,'Variable priser'!$C$6:$H$18,13))/F494*'Variable priser'!$L$17*(1+Genanskaffelsespriser!$D$203),\"Fejl\"))","v":"Variabel pris"},"","",1,1]
["Beluftningsanlæg, kompressorbeluftning","m³/h ",{"$f":"Genanskaffelsespriser!$E$38","v":25},null,null,null,"","",null,{"$f":"IF(E495=0,\"Variabel pris\",IFERROR((HLOOKUP(E495,'Variable priser'!$C$6:$H$16,8)+(E495-HLOOKUP(E495,'Variable priser'!$C$6:$H$16,1))*HLOOKUP(E495,'Variable priser'!$C$6:$H$16,9))/E495*(1+Genanskaffelsespriser!$D$203),\"Fejl\"))","v":"Variabel pris"},{"$f":"IF(F495=0,\"Variabel pris\",IFERROR((HLOOKUP(F495,'Variable priser'!$C$6:$H$16,8)+(F495-HLOOKUP(F495,'Variable priser'!$C$6:$H$16,1))*HLOOKUP(F495,'Variable priser'!$C$6:$H$16,9))/F495*(1+Genanskaffelsespriser!$D$203),\"Fejl\"))","v":"Variabel pris"},"","",1,1]
["Beluftningsanlæg, ren ilt","m³/h ",{"$f":"Genanskaffelsespriser!$E$39","v":25},null,null,null,"","",null,{"$f":"IF(E496=0,\"Variabel pris\",IFERROR((HLOOKUP(E496,'Variable priser'!$C$6:$H$16,10)+(E496-HLOOKUP(E496,'Variable priser'!$C$6:$H$16,1))*HLOOKUP(E496,'Variable priser'!$C$6:$H$16,11))/E496*(1+Genanskaffelsespriser!$D$203),\"Fejl\"))","v":"Variabel pris"},{"$f":"IF(F496=0,\"Variabel pris\",IFERROR((HLOOKUP(F496,'Variable priser'!$C$6:$H$16,10)+(F496-HLOOKUP(F496,'Variable priser'!$C$6:$H$16,1))*HLOOKUP(F496,'Variable priser'!$C$6:$H$16,11))/F496*(1+Genanskaffelsespriser!$D$203),\"Fejl\"))","v":"Variabel pris"},"","",1,1]
["Behandlingsanlæg, kalk anlæg","m³/h ",{"$f":"Genanskaffelsespriser!$E$40","v":25},null,null,null,"","",null,{"$f":"IF(E497=0,\"Variabel pris\",IFERROR((HLOOKUP(E497,'Variable priser'!$C$20:$G$24,3)+(E497-HLOOKUP(E497,'Variable priser'!$C$20:$G$24,1))*HLOOKUP(E497,'Variable priser'!$C$20:$G$24,4))/E497*(1+Genanskaffelsespriser!$D$203),\"Fejl\"))","v":"Variabel pris"},{"$f":"IF(F497=0,\"Variabel pris\",IFERROR((HLOOKUP(F497,'Variable priser'!$C$20:$G$24,3)+(F497-HLOOKUP(F497,'Variable priser'!$C$20:$G$24,1))*HLOOKUP(F497,'Variable priser'!$C$20:$G$24,4))/F497*(1+Genanskaffelsespriser!$D$203),\"Fejl\"))","v":"Variabel pris"},"","",1,1]
["Behandlingsanlæg, luddosering","m³/h ",{"$f":"Genanskaffelsespriser!$E$41","v":25},null,null,null,"","",null,{"$f":"IF(E498=0,\"Variabel pris\",IFERROR((HLOOKUP(E498,'Variable priser'!$C$20:$G$25,5)+(E498-HLOOKUP(E498,'Variable priser'!$C$20:$G$25,1))*HLOOKUP(E498,'Variable priser'!$C$20:$G$25,6))/E498*(1+Genanskaffelsespriser!$D$203),\"Fejl\"))","v":"Variabel pris"},{"$f":"IF(F498=0,\"Variabel pris\",IFERROR((HLOOKUP(F498,'Variable priser'!$C$20:$G$25,5)+(F498-HLOOKUP(F498,'Variable priser'!$C$20:$G$25,1))*HLOOKUP(F498,'Variable priser'!$C$20:$G$25,6))/F498*(1+Genanskaffelsespriser!$D$203),\"Fejl\"))","v":"Variabel pris"},"","",1,1]
["Filteranlæg, åbne filtre, enkelt filtrering, Konstruktioner","m³/h ",{"$f":"Genanskaffelsespriser!$E$42","v":50},null,null,null,"","",null,{"$f":"IF(E499=0,\"Variabel pris\",IFERROR((HLOOKUP(E499,'Variable priser'!$C$28:$G$38,9)+(E499-HLOOKUP(E499,'Variable priser'!$C$28:$G$38,1))*HLOOKUP(E499,'Variable priser'!$C$28:$G$38,10))/E499*'Variable priser'!$K$31*(1+Genanskaffelsespriser!$D$203),\"Fejl\"))","v":"Variabel pris"},{"$f":"IF(F499=0,\"Variabel pris\",IFERROR((HLOOKUP(F499,'Variable priser'!$C$28:$G$38,9)+(F499-HLOOKUP(F499,'Variable priser'!$C$28:$G$38,1))*HLOOKUP(F499,'Variable priser'!$C$28:$G$38,10))/F499*'Variable priser'!$K$31*(1+Genanskaffelsespriser!$D$203),\"Fejl\"))","v":"Variabel pris"},"","",1,1]
["Filteranlæg, åbne filtre, enkelt filtrering, Mek./EL","m³/h ",{"$f":"Genanskaffelsespriser!$E$43","v":25},null,null,null,"","",null,{"$f":"IF(E500=0,\"Variabel pris\",IFERROR((HLOOKUP(E500,'Variable priser'!$C$28:$G$38,9)+(E500-HLOOKUP(E500,'Variable priser'!$C$28:$G$38,1))*HLOOKUP(E500,'Variable priser'!$C$28:$G$38,10))/E500*'Variable priser'!$L$31*(1+Genanskaffelsespriser!$D$203),\"Fejl\"))","v":"Variabel pris"},{"$f":"IF(F500=0,\"Variabel pris\",IFERROR((HLOOKUP(F500,'Variable priser'!$C$28:$G$38,9)+(F500-HLOOKUP(F500,'Variable priser'!$C$28:$G$38,1))*HLOOKUP(F500,'Variable priser'!$C$28:$G$38,10))/F500*'Variable priser'!$L$31*(1+Genanskaffelsespriser!$D$203),\"Fejl\"))","v":"Variabel pris"},"","",1,1]
["Filteranlæg, åbne filtre, dobbelt filtrering, Konstruktioner","m³/h ",{"$f":"Genanskaffelsespriser!$E$44","v":50},null,null,null,"","",null,{"$f":"IF(E501=0,\"Variabel pris\",IFERROR((HLOOKUP(E501,'Variable priser'!$C$28:$G$38,6)+(E501-HLOOKUP(E501,'Variable priser'!$C$28:$G$38,1))*HLOOKUP(E501,'Variable priser'!$C$28:$G$38,7))/E501*'Variable priser'!$K$31*(1+Genanskaffelsespriser!$D$203),\"Fejl\"))","v":"Variabel pris"},{"$f":"IF(F501=0,\"Variabel pris\",IFERROR((HLOOKUP(F501,'Variable priser'!$C$28:$G$38,6)+(F501-HLOOKUP(F501,'Variable priser'!$C$28:$G$38,1))*HLOOKUP(F501,'Variable priser'!$C$28:$G$38,7))/F501*'Variable priser'!$K$31*(1+Genanskaffelsespriser!$D$203),\"Fejl\"))","v":"Variabel pris"},"","",1,1]
["Filteranlæg, åbne filtre, dobbelt filtrering, Mek./EL","m³/h ",{"$f":"Genanskaffelsespriser!$E$45","v":25},null,null,null,"","",null,{"$f":"IF(E502=0,\"Variabel pris\",IFERROR((HLOOKUP(E502,'Variable priser'!$C$28:$G$38,6)+(E502-HLOOKUP(E502,'Variable priser'!$C$28:$G$38,1))*HLOOKUP(E502,'Variable priser'!$C$28:$G$38,7))/E502*'Variable priser'!$L$31*(1+Genanskaffelsespriser!$D$203),\"Fejl\"))","v":"Variabel pris"},{"$f":"IF(F502=0,\"Variabel pris\",IFERROR((HLOOKUP(F502,'Variable priser'!$C$28:$G$38,6)+(F502-HLOOKUP(F502,'Variable priser'!$C$28:$G$38,1))*HLOOKUP(F502,'Variable priser'!$C$28:$G$38,7))/F502*'Variable priser'!$L$31*(1+Genanskaffelsespriser!$D$203),\"Fejl\"))","v":"Variabel pris"},"","",1,1]
["Filteranlæg, trykfiltre, enkelt filtrering","m³/h ",{"$f":"Genanskaffelsespriser!$E$46","v":25},null,null,null,"","",null,{"$f":"IF(E503=0,\"Variabel pris\",IFERROR((HLOOKUP(E503,'Variable priser'!$C$40:$H$42,2)+(E503-HLOOKUP(E503,'Variable priser'!$C$40:$H$42,1))*HLOOKUP(E503,'Variable priser'!$C$40:$H$42,3))/E503*(1+Genanskaffelsespriser!$D$203),\"Fejl\"))","v":"Variabel pris"},{"$f":"IF(F503=0,\"Variabel pris\",IFERROR((HLOOKUP(F503,'Variable priser'!$C$40:$H$42,2)+(F503-HLOOKUP(F503,'Variable priser'!$C$40:$H$42,1))*HLOOKUP(F503,'Variable priser'!$C$40:$H$42,3))/F503*(1+Genanskaffelsespriser!$D$203),\"Fejl\"))","v":"Variabel pris"},"","",1,1]
["Filteranlæg, trykfiltre, dobbelt filtrering","m³/h ",{"$f":"Genanskaffelsespriser!$E$47","v":25},null,null,null,"","",null,{"$f":"IF(E504=0,\"Variabel pris\",IFERROR((HLOOKUP(E504,'Variable priser'!$C$44:$H$46,2)+(E504-HLOOKUP(E504,'Variable priser'!$C$44:$H$46,1))*HLOOKUP(E504,'Variable priser'!$C$44:$H$46,3))/E504*(1+Genanskaffelsespriser!$D$203),\"Fejl\"))","v":"Variabel pris"},{"$f":"IF(F504=0,\"Variabel pris\",IFERROR((HLOOKUP(F504,'Variable priser'!$C$44:$H$46,2)+(F504-HLOOKUP(F504,'Variable priser'!$C$44:$H$46,1))*HLOOKUP(F504,'Variable priser'!$C$44:$H$46,3))/F504*(1+Genanskaffelsespriser!$D$203),\"Fejl\"))","v":"Variabel pris"},"","",1,1]
["Rentvandsbeholder  insitu støbt","m³",{"$f":"Genanskaffelsespriser!$E$48","v":50},null,null,null,"","",null,{"$f":"IF(E505=0,\"Variabel pris\",IFERROR((HLOOKUP(E505,'Variable priser'!$C$48:$H$50,2)+(E505-HLOOKUP(E505,'Variable priser'!$C$48:$H$50,1))*HLOOKUP(E505,'Variable priser'!$C$48:$H$50,3))/E505*(1+Genanskaffelsespriser!$D$203),\"Fejl\"))","v":"Variabel pris"},{"$f":"IF(F505=0,\"Variabel pris\",IFERROR((HLOOKUP(F505,'Variable priser'!$C$48:$H$50,2)+(F505-HLOOKUP(F505,'Variable priser'!$C$48:$H$50,1))*HLOOKUP(F505,'Variable priser'!$C$48:$H$50,3))/F505*(1+Genanskaffelsespriser!$D$203),\"Fejl\"))","v":"Variabel pris"},"","",1,1]
["Rentvandsbeholder  element","m³",{"$f":"Genanskaffelsespriser!$E$49","v":50},null,null,null,"","",null,{"$f":"IF(E506=0,\"Variabel pris\",IFERROR((HLOOKUP(E506,'Variable priser'!$C$52:$H$54,2)+(E506-HLOOKUP(E506,'Variable priser'!$C$52:$H$54,1))*HLOOKUP(E506,'Variable priser'!$C$52:$H$54,3))/E506*(1+Genanskaffelsespriser!$D$203),\"Fejl\"))","v":"Variabel pris"},{"$f":"IF(F506=0,\"Variabel pris\",IFERROR((HLOOKUP(F506,'Variable priser'!$C$52:$H$54,2)+(F506-HLOOKUP(F506,'Variable priser'!$C$52:$H$54,1))*HLOOKUP(F506,'Variable priser'!$C$52:$H$54,3))/F506*(1+Genanskaffelsespriser!$D$203),\"Fejl\"))","v":"Variabel pris"},"","",1,1]
["Udpumpningsanlæg, rentvandspumper på vandværk","m³/h ",{"$f":"Genanskaffelsespriser!$E$50","v":25},null,null,null,"","",null,{"$f":"IF(E507=0,\"Variabel pris\",IFERROR((HLOOKUP(E507,'Variable priser'!$C$71:$H$73,2)+(E507-HLOOKUP(E507,'Variable priser'!$C$71:$H$73,1))*HLOOKUP(E507,'Variable priser'!$C$71:$H$73,3))/E507*(1+Genanskaffelsespriser!$D$203),\"Fejl\"))","v":"Variabel pris"},{"$f":"IF(F507=0,\"Variabel pris\",IFERROR((HLOOKUP(F507,'Variable priser'!$C$71:$H$73,2)+(F507-HLOOKUP(F507,'Variable priser'!$C$71:$H$73,1))*HLOOKUP(F507,'Variable priser'!$C$71:$H$73,3))/F507*(1+Genanskaffelsespriser!$D$203),\"Fejl\"))","v":"Variabel pris"},"","",1,1]
["Udpumpningsanlæg, frekvensomformer","kW",{"$f":"Genanskaffelsespriser!$E$51","v":25},null,null,null,"","",null,{"$f":"IF(E508=0,\"Variabel pris\",IFERROR((HLOOKUP(E508,'Variable priser'!$C$76:$J$78,2)+(E508-HLOOKUP(E508,'Variable priser'!$C$76:$J$78,1))*HLOOKUP(E508,'Variable priser'!$C$76:$J$78,3))/E508*(1+Genanskaffelsespriser!$D$203),\"Fejl\"))","v":"Variabel pris"},{"$f":"IF(F508=0,\"Variabel pris\",IFERROR((HLOOKUP(F508,'Variable priser'!$C$76:$J$78,2)+(F508-HLOOKUP(F508,'Variable priser'!$C$76:$J$78,1))*HLOOKUP(F508,'Variable priser'!$C$76:$J$78,3))/F508*(1+Genanskaffelsespriser!$D$203),\"Fejl\"))","v":"Variabel pris"},"","",1,1]
["Udpumpningsanlæg, Hydrofor","liter",{"$f":"Genanskaffelsespriser!$E$52","v":25},null,null,null,"","",null,{"$f":"IF(E509=0,\"Variabel pris\",IFERROR((HLOOKUP(E509,'Variable priser'!$C$81:$J$83,2)+(E509-HLOOKUP(E509,'Variable priser'!$C$81:$J$83,1))*HLOOKUP(E509,'Variable priser'!$C$81:$J$83,3))/E509*(1+Genanskaffelsespriser!$D$203),\"Fejl\"))","v":"Variabel pris"},{"$f":"IF(F509=0,\"Variabel pris\",IFERROR((HLOOKUP(F509,'Variable priser'!$C$81:$J$83,2)+(F509-HLOOKUP(F509,'Variable priser'!$C$81:$J$83,1))*HLOOKUP(F509,'Variable priser'!$C$81:$J$83,3))/F509*(1+Genanskaffelsespriser!$D$203),\"Fejl\"))","v":"Variabel pris"},"","",1,1]
["Skyllevand-/slamhåndteringsanlæg - lukkede betonbeholdere","m³",{"$f":"Genanskaffelsespriser!$E$53","v":50},null,null,null,"","",null,{"$f":"IF(E510=0,\"Variabel pris\",IFERROR((HLOOKUP(E510,'Variable priser'!$C$59:$H$61,2)+(E510-HLOOKUP(E510,'Variable priser'!$C$59:$H$61,1))*HLOOKUP(E510,'Variable priser'!$C$59:$H$61,3))/E510*(1+Genanskaffelsespriser!$D$203),\"Fejl\"))","v":"Variabel pris"},{"$f":"IF(F510=0,\"Variabel pris\",IFERROR((HLOOKUP(F510,'Variable priser'!$C$59:$H$61,2)+(F510-HLOOKUP(F510,'Variable priser'!$C$59:$H$61,1))*HLOOKUP(F510,'Variable priser'!$C$59:$H$61,3))/F510*(1+Genanskaffelsespriser!$D$203),\"Fejl\"))","v":"Variabel pris"},"","",1,1]
["Skyllevand-/slamhåndteringsanl. - åbne med faste sider/bund","m³",{"$f":"Genanskaffelsespriser!$E$54","v":50},null,null,null,"","",null,{"$f":"IF(E511=0,\"Variabel pris\",IFERROR((HLOOKUP(E511,'Variable priser'!$C$59:$H$64,5)+(E511-HLOOKUP(E511,'Variable priser'!$C$59:$H$64,1))*HLOOKUP(E511,'Variable priser'!$C$59:$H$64,6))/E511*(1+Genanskaffelsespriser!$D$203),\"Fejl\"))","v":"Variabel pris"},{"$f":"IF(F511=0,\"Variabel pris\",IFERROR((HLOOKUP(F511,'Variable priser'!$C$59:$H$64,5)+(F511-HLOOKUP(F511,'Variable priser'!$C$59:$H$64,1))*HLOOKUP(F511,'Variable priser'!$C$59:$H$64,6))/F511*(1+Genanskaffelsespriser!$D$203),\"Fejl\"))","v":"Variabel pris"},"","",1,1]
["Skyllevand-/slamhåndteringsanlæg - jordbassiner","m³",{"$f":"Genanskaffelsespriser!$E$55","v":50},null,null,null,"","",null,{"$f":"IF(E512=0,\"Variabel pris\",IFERROR((HLOOKUP(E512,'Variable priser'!$C$59:$H$67,8)+(E512-HLOOKUP(E512,'Variable priser'!$C$59:$H$67,1))*HLOOKUP(E512,'Variable priser'!$C$59:$H$67,9))/E512*(1+Genanskaffelsespriser!$D$203),\"Fejl\"))","v":"Variabel pris"},{"$f":"IF(F512=0,\"Variabel pris\",IFERROR((HLOOKUP(F512,'Variable priser'!$C$59:$H$67,8)+(F512-HLOOKUP(F512,'Variable priser'!$C$59:$H$67,1))*HLOOKUP(F512,'Variable priser'!$C$59:$H$67,9))/F512*(1+Genanskaffelsespriser!$D$203),\"Fejl\"))","v":"Variabel pris"},"","",1,1]
["Skyllevandsbehandling, inkl. UV-filter mv., Mek./EL","m³/h.",{"$f":"Genanskaffelsespriser!$E$56","v":25},null,null,null,"","",null,{"$f":"IF(E513=0,\"Variabel pris\",IFERROR((HLOOKUP(E513,'Variable priser'!$C$108:$E$110,2)+(E513-HLOOKUP(E513,'Variable priser'!$C$108:$E$110,1))*HLOOKUP(E513,'Variable priser'!$C$108:$E$110,3))/E513*'Variable priser'!$H$109*(1+Genanskaffelsespriser!$D$203),\"Fejl\"))","v":"Variabel pris"},{"$f":"IF(F513=0,\"Variabel pris\",IFERROR((HLOOKUP(F513,'Variable priser'!$C$108:$E$110,2)+(F513-HLOOKUP(F513,'Variable priser'!$C$108:$E$110,1))*HLOOKUP(F513,'Variable priser'!$C$108:$E$110,3))/F513*'Variable priser'!$H$109*(1+Genanskaffelsespriser!$D$203),\"Fejl\"))","v":"Variabel pris"},"","",1,1]
["Skyllevandsbehandling, inkl. UV-filter mv., SRO","m³/h.",{"$f":"Genanskaffelsespriser!$E$57","v":10},null,null,null,"","",null,{"$f":"IF(E514=0,\"Variabel pris\",IFERROR((HLOOKUP(E514,'Variable priser'!$C$108:$E$110,2)+(E514-HLOOKUP(E514,'Variable priser'!$C$108:$E$110,1))*HLOOKUP(E514,'Variable priser'!$C$108:$E$110,3))/E514*'Variable priser'!$I$109*(1+Genanskaffelsespriser!$D$203),\"Fejl\"))","v":"Variabel pris"},{"$f":"IF(F514=0,\"Variabel pris\",IFERROR((HLOOKUP(F514,'Variable priser'!$C$108:$E$110,2)+(F514-HLOOKUP(F514,'Variable priser'!$C$108:$E$110,1))*HLOOKUP(F514,'Variable priser'!$C$108:$E$110,3))/F514*'Variable priser'!$I$109*(1+Genanskaffelsespriser!$D$203),\"Fejl\"))","v":"Variabel pris"},"","",1,1]
["Nødstrømsanlæg på vandværk","kW",{"$f":"Genanskaffelsespriser!$E$58","v":25},null,null,null,"","",null,{"$f":"IF(E515=0,\"Variabel pris\",IFERROR((HLOOKUP(E515,'Variable priser'!$C$86:$H$88,2)+(E515-HLOOKUP(E515,'Variable priser'!$C$86:$H$88,1))*HLOOKUP(E515,'Variable priser'!$C$86:$H$88,3))/E515*(1+Genanskaffelsespriser!$D$203),\"Fejl\"))","v":"Variabel pris"},{"$f":"IF(F515=0,\"Variabel pris\",IFERROR((HLOOKUP(F515,'Variable priser'!$C$86:$H$88,2)+(F515-HLOOKUP(F515,'Variable priser'!$C$86:$H$88,1))*HLOOKUP(F515,'Variable priser'!$C$86:$H$88,3))/F515*(1+Genanskaffelsespriser!$D$203),\"Fejl\"))","v":"Variabel pris"},"","",1,1]
["Elanlæg og SRO-anlæg - vandværk, Elanlæg","m³/h.",{"$f":"Genanskaffelsespriser!$E$59","v":25},null,null,null,"","",null,{"$f":"IF(E516=0,\"Variabel pris\",IFERROR((HLOOKUP(E516,'Variable priser'!$C$91:$J$95,4)+(E516-HLOOKUP(E516,'Variable priser'!$C$91:$J$95,1))*HLOOKUP(E516,'Variable priser'!$C$91:$J$95,5))/E516*(1+Genanskaffelsespriser!$D$203),\"Fejl\"))","v":"Variabel pris"},{"$f":"IF(F516=0,\"Variabel pris\",IFERROR((HLOOKUP(F516,'Variable priser'!$C$91:$J$95,4)+(F516-HLOOKUP(F516,'Variable priser'!$C$91:$J$95,1))*HLOOKUP(F516,'Variable priser'!$C$91:$J$95,5))/F516*(1+Genanskaffelsespriser!$D$203),\"Fejl\"))","v":"Variabel pris"},"","",1,1]
["Elanlæg og SRO-anlæg - vandværk, SRO","m³/h.",{"$f":"Genanskaffelsespriser!$E$60","v":10},null,null,null,"","",null,{"$f":"IF(E517=0,\"Variabel pris\",IFERROR((HLOOKUP(E517,'Variable priser'!$C$91:$J$98,7)+(E517-HLOOKUP(E517,'Variable priser'!$C$91:$J$98,1))*HLOOKUP(E517,'Variable priser'!$C$91:$J$98,8))/E517*(1+Genanskaffelsespriser!$D$203),\"Fejl\"))","v":"Variabel pris"},{"$f":"IF(F517=0,\"Variabel pris\",IFERROR((HLOOKUP(F517,'Variable priser'!$C$91:$J$98,7)+(F517-HLOOKUP(F517,'Variable priser'!$C$91:$J$98,1))*HLOOKUP(F517,'Variable priser'!$C$91:$J$98,8))/F517*(1+Genanskaffelsespriser!$D$203),\"Fejl\"))","v":"Variabel pris"},"","",1,1]
["Vandværk 10"]
["Beluftningsanlæg, iltningstrappe, Konstruktioner","m³/h ",{"$f":"Genanskaffelsespriser!$E$30","v":50},null,null,null,{"$f":"IF($D519=\"\",IF($E519>0,\"Ny data\",IF($E519=\"\",\"\",0)),IF($D519=0,IF($E519=0,0,\"Ny data\"),($E519-$D519)/$D519))","v":""},{"$f":"IF($E519=\"\",IF($F519>0,\"Ny data\",IF($F519=\"\",\"\",0)),IF($E519=0,IF($F519=0,0,\"Ny data\"),($F519-$E519)/$E519))","v":""},null,{"$f":"IF(E519=0,\"Variabel pris\",IFERROR((HLOOKUP(E519,'Variable priser'!$C$6:$H$16,2)+(E519-HLOOKUP(E519,'Variable priser'!$C$6:$H$16,1))*HLOOKUP(E519,'Variable priser'!$C$6:$H$16,3))/E519*'Variable priser'!$K$7*(1+Genanskaffelsespriser!$D$203),\"Fejl\"))","v":"Variabel pris"},{"$f":"IF(F519=0,\"Variabel pris\",IFERROR((HLOOKUP(F519,'Variable priser'!$C$6:$H$16,2)+(F519-HLOOKUP(F519,'Variable priser'!$C$6:$H$16,1))*HLOOKUP(F519,'Variable priser'!$C$6:$H$16,3))/F519*'Variable priser'!$K$7*(1+Genanskaffelsespriser!$D$203),\"Fejl\"))","v":"Variabel pris"},{"$f":"IF(ISBLANK(E519),\"\",IF(E519=0,\"\",IF(ISNUMBER(E519),((J519*E519)/C519)*N519,\"\")))","v":""},{"$f":"IF(ISBLANK(F519),\"\",IF(F519=0,\"\",IF(ISNUMBER(F519),((K519*F519)/C519)*N519,\"\")))","v":""},1,1]
["Beluftningsanlæg, iltningstrappe, Mek./EL","m³/h ",{"$f":"Genanskaffelsespriser!$E$31","v":25},null,null,null,"","",null,{"$f":"IF(E520=0,\"Variabel pris\",IFERROR((HLOOKUP(E520,'Variable priser'!$C$6:$H$16,2)+(E520-HLOOKUP(E520,'Variable priser'!$C$6:$H$16,1))*HLOOKUP(E520,'Variable priser'!$C$6:$H$16,3))/E520*'Variable priser'!$L$7*(1+Genanskaffelsespriser!$D$203),\"Fejl\"))","v":"Variabel pris"},{"$f":"IF(F520=0,\"Variabel pris\",IFERROR((HLOOKUP(F520,'Variable priser'!$C$6:$H$16,2)+(F520-HLOOKUP(F520,'Variable priser'!$C$6:$H$16,1))*HLOOKUP(F520,'Variable priser'!$C$6:$H$16,3))/F520*'Variable priser'!$L$7*(1+Genanskaffelsespriser!$D$203),\"Fejl\"))","v":"Variabel pris"},{"$f":"IF(ISBLANK(E520),\"\",IF(E520=0,\"\",IF(ISNUMBER(E520),((J520*E520)/C520)*N520,\"\")))","v":""},{"$f":"IF(ISBLANK(F520),\"\",IF(F520=0,\"\",IF(ISNUMBER(F520),((K520*F520)/C520)*N520,\"\")))","v":""},1,1]
["Beluftningsanlæg, ika-beluftning, Konstruktioner","m³/h ",{"$f":"Genanskaffelsespriser!$E$32","v":50},null,null,null,"","",null,{"$f":"IF(E521=0,\"Variabel pris\",IFERROR((HLOOKUP(E521,'Variable priser'!$C$6:$H$16,4)+(E521-HLOOKUP(E521,'Variable priser'!$C$6:$H$16,1))*HLOOKUP(E521,'Variable priser'!$C$6:$H$16,5))/E521*'Variable priser'!$K$9*(1+Genanskaffelsespriser!$D$203),\"Fejl\"))","v":"Variabel pris"},{"$f":"IF(F521=0,\"Variabel pris\",IFERROR((HLOOKUP(F521,'Variable priser'!$C$6:$H$16,4)+(F521-HLOOKUP(F521,'Variable priser'!$C$6:$H$16,1))*HLOOKUP(F521,'Variable priser'!$C$6:$H$16,5))/F521*'Variable priser'!$K$9*(1+Genanskaffelsespriser!$D$203),\"Fejl\"))","v":"Variabel pris"},"","",1,1]
["Beluftningsanlæg, ika-beluftning, Mek./EL","m³/h ",{"$f":"Genanskaffelsespriser!$E$33","v":25},null,null,null,"","",null,{"$f":"IF(E522=0,\"Variabel pris\",IFERROR((HLOOKUP(E522,'Variable priser'!$C$6:$H$16,4)+(E522-HLOOKUP(E522,'Variable priser'!$C$6:$H$16,1))*HLOOKUP(E522,'Variable priser'!$C$6:$H$16,5))/E522*'Variable priser'!$L$9*(1+Genanskaffelsespriser!$D$203),\"Fejl\"))","v":"Variabel pris"},{"$f":"IF(F522=0,\"Variabel pris\",IFERROR((HLOOKUP(F522,'Variable priser'!$C$6:$H$16,4)+(F522-HLOOKUP(F522,'Variable priser'!$C$6:$H$16,1))*HLOOKUP(F522,'Variable priser'!$C$6:$H$16,5))/F522*'Variable priser'!$L$9*(1+Genanskaffelsespriser!$D$203),\"Fejl\"))","v":"Variabel pris"},"","",1,1]
["Beluftningsanlæg, bundbeluftbning, Konstruktioner","m³/h ",{"$f":"Genanskaffelsespriser!$E$34","v":50},null,null,null,"","",null,{"$f":"IF(E523=0,\"Variabel pris\",IFERROR((HLOOKUP(E523,'Variable priser'!$C$6:$H$16,6)+(E523-HLOOKUP(E523,'Variable priser'!$C$6:$H$16,1))*HLOOKUP(E523,'Variable priser'!$C$6:$H$16,7))/E523*'Variable priser'!$K$17*(1+Genanskaffelsespriser!$D$203),\"Fejl\"))","v":"Variabel pris"},{"$f":"IF(F523=0,\"Variabel pris\",IFERROR((HLOOKUP(F523,'Variable priser'!$C$6:$H$16,6)+(F523-HLOOKUP(F523,'Variable priser'!$C$6:$H$16,1))*HLOOKUP(F523,'Variable priser'!$C$6:$H$16,7))/F523*'Variable priser'!$K$17*(1+Genanskaffelsespriser!$D$203),\"Fejl\"))","v":"Variabel pris"},"","",1,1]
["Beluftningsanlæg, bundbeluftbning, Mek./EL","m³/h ",{"$f":"Genanskaffelsespriser!$E$35","v":25},null,null,null,"","",null,{"$f":"IF(E524=0,\"Variabel pris\",IFERROR((HLOOKUP(E524,'Variable priser'!$C$6:$H$16,6)+(E524-HLOOKUP(E524,'Variable priser'!$C$6:$H$16,1))*HLOOKUP(E524,'Variable priser'!$C$6:$H$16,7))/E524*'Variable priser'!$L$17*(1+Genanskaffelsespriser!$D$203),\"Fejl\"))","v":"Variabel pris"},{"$f":"IF(F524=0,\"Variabel pris\",IFERROR((HLOOKUP(F524,'Variable priser'!$C$6:$H$16,6)+(F524-HLOOKUP(F524,'Variable priser'!$C$6:$H$16,1))*HLOOKUP(F524,'Variable priser'!$C$6:$H$16,7))/F524*'Variable priser'!$L$17*(1+Genanskaffelsespriser!$D$203),\"Fejl\"))","v":"Variabel pris"},"","",1,1]
["Beluftningsanlæg, rislebakke, Konstruktioner","m³/h ",{"$f":"Genanskaffelsespriser!$E$36","v":50},null,null,null,"","",null,{"$f":"IF(E525=0,\"Variabel pris\",IFERROR((HLOOKUP(E525,'Variable priser'!$C$6:$H$18,12)+(E525-HLOOKUP(E525,'Variable priser'!$C$6:$H$18,1))*HLOOKUP(E525,'Variable priser'!$C$6:$H$18,13))/E525*'Variable priser'!$K$17*(1+Genanskaffelsespriser!$D$203),\"Fejl\"))","v":"Variabel pris"},{"$f":"IF(F525=0,\"Variabel pris\",IFERROR((HLOOKUP(F525,'Variable priser'!$C$6:$H$18,12)+(F525-HLOOKUP(F525,'Variable priser'!$C$6:$H$18,1))*HLOOKUP(F525,'Variable priser'!$C$6:$H$18,13))/F525*'Variable priser'!$K$17*(1+Genanskaffelsespriser!$D$203),\"Fejl\"))","v":"Variabel pris"},"","",1,1]
["Beluftningsanlæg, rislebakke, Mek./EL","m³/h ",{"$f":"Genanskaffelsespriser!$E$37","v":25},null,null,null,"","",null,{"$f":"IF(E526=0,\"Variabel pris\",IFERROR((HLOOKUP(E526,'Variable priser'!$C$6:$H$18,12)+(E526-HLOOKUP(E526,'Variable priser'!$C$6:$H$18,1))*HLOOKUP(E526,'Variable priser'!$C$6:$H$18,13))/E526*'Variable priser'!$L$17*(1+Genanskaffelsespriser!$D$203),\"Fejl\"))","v":"Variabel pris"},{"$f":"IF(F526=0,\"Variabel pris\",IFERROR((HLOOKUP(F526,'Variable priser'!$C$6:$H$18,12)+(F526-HLOOKUP(F526,'Variable priser'!$C$6:$H$18,1))*HLOOKUP(F526,'Variable priser'!$C$6:$H$18,13))/F526*'Variable priser'!$L$17*(1+Genanskaffelsespriser!$D$203),\"Fejl\"))","v":"Variabel pris"},"","",1,1]
["Beluftningsanlæg, kompressorbeluftning","m³/h ",{"$f":"Genanskaffelsespriser!$E$38","v":25},null,null,null,"","",null,{"$f":"IF(E527=0,\"Variabel pris\",IFERROR((HLOOKUP(E527,'Variable priser'!$C$6:$H$16,8)+(E527-HLOOKUP(E527,'Variable priser'!$C$6:$H$16,1))*HLOOKUP(E527,'Variable priser'!$C$6:$H$16,9))/E527*(1+Genanskaffelsespriser!$D$203),\"Fejl\"))","v":"Variabel pris"},{"$f":"IF(F527=0,\"Variabel pris\",IFERROR((HLOOKUP(F527,'Variable priser'!$C$6:$H$16,8)+(F527-HLOOKUP(F527,'Variable priser'!$C$6:$H$16,1))*HLOOKUP(F527,'Variable priser'!$C$6:$H$16,9))/F527*(1+Genanskaffelsespriser!$D$203),\"Fejl\"))","v":"Variabel pris"},"","",1,1]
["Beluftningsanlæg, ren ilt","m³/h ",{"$f":"Genanskaffelsespriser!$E$39","v":25},null,null,null,"","",null,{"$f":"IF(E528=0,\"Variabel pris\",IFERROR((HLOOKUP(E528,'Variable priser'!$C$6:$H$16,10)+(E528-HLOOKUP(E528,'Variable priser'!$C$6:$H$16,1))*HLOOKUP(E528,'Variable priser'!$C$6:$H$16,11))/E528*(1+Genanskaffelsespriser!$D$203),\"Fejl\"))","v":"Variabel pris"},{"$f":"IF(F528=0,\"Variabel pris\",IFERROR((HLOOKUP(F528,'Variable priser'!$C$6:$H$16,10)+(F528-HLOOKUP(F528,'Variable priser'!$C$6:$H$16,1))*HLOOKUP(F528,'Variable priser'!$C$6:$H$16,11))/F528*(1+Genanskaffelsespriser!$D$203),\"Fejl\"))","v":"Variabel pris"},"","",1,1]
["Behandlingsanlæg, kalk anlæg","m³/h ",{"$f":"Genanskaffelsespriser!$E$40","v":25},null,null,null,"","",null,{"$f":"IF(E529=0,\"Variabel pris\",IFERROR((HLOOKUP(E529,'Variable priser'!$C$20:$G$24,3)+(E529-HLOOKUP(E529,'Variable priser'!$C$20:$G$24,1))*HLOOKUP(E529,'Variable priser'!$C$20:$G$24,4))/E529*(1+Genanskaffelsespriser!$D$203),\"Fejl\"))","v":"Variabel pris"},{"$f":"IF(F529=0,\"Variabel pris\",IFERROR((HLOOKUP(F529,'Variable priser'!$C$20:$G$24,3)+(F529-HLOOKUP(F529,'Variable priser'!$C$20:$G$24,1))*HLOOKUP(F529,'Variable priser'!$C$20:$G$24,4))/F529*(1+Genanskaffelsespriser!$D$203),\"Fejl\"))","v":"Variabel pris"},"","",1,1]
["Behandlingsanlæg, luddosering","m³/h ",{"$f":"Genanskaffelsespriser!$E$41","v":25},null,null,null,"","",null,{"$f":"IF(E530=0,\"Variabel pris\",IFERROR((HLOOKUP(E530,'Variable priser'!$C$20:$G$25,5)+(E530-HLOOKUP(E530,'Variable priser'!$C$20:$G$25,1))*HLOOKUP(E530,'Variable priser'!$C$20:$G$25,6))/E530*(1+Genanskaffelsespriser!$D$203),\"Fejl\"))","v":"Variabel pris"},{"$f":"IF(F530=0,\"Variabel pris\",IFERROR((HLOOKUP(F530,'Variable priser'!$C$20:$G$25,5)+(F530-HLOOKUP(F530,'Variable priser'!$C$20:$G$25,1))*HLOOKUP(F530,'Variable priser'!$C$20:$G$25,6))/F530*(1+Genanskaffelsespriser!$D$203),\"Fejl\"))","v":"Variabel pris"},"","",1,1]
["Filteranlæg, åbne filtre, enkelt filtrering, Konstruktioner","m³/h ",{"$f":"Genanskaffelsespriser!$E$42","v":50},null,null,null,"","",null,{"$f":"IF(E531=0,\"Variabel pris\",IFERROR((HLOOKUP(E531,'Variable priser'!$C$28:$G$38,9)+(E531-HLOOKUP(E531,'Variable priser'!$C$28:$G$38,1))*HLOOKUP(E531,'Variable priser'!$C$28:$G$38,10))/E531*'Variable priser'!$K$31*(1+Genanskaffelsespriser!$D$203),\"Fejl\"))","v":"Variabel pris"},{"$f":"IF(F531=0,\"Variabel pris\",IFERROR((HLOOKUP(F531,'Variable priser'!$C$28:$G$38,9)+(F531-HLOOKUP(F531,'Variable priser'!$C$28:$G$38,1))*HLOOKUP(F531,'Variable priser'!$C$28:$G$38,10))/F531*'Variable priser'!$K$31*(1+Genanskaffelsespriser!$D$203),\"Fejl\"))","v":"Variabel pris"},"","",1,1]
["Filteranlæg, åbne filtre, enkelt filtrering, Mek./EL","m³/h ",{"$f":"Genanskaffelsespriser!$E$43","v":25},null,null,null,"","",null,{"$f":"IF(E532=0,\"Variabel pris\",IFERROR((HLOOKUP(E532,'Variable priser'!$C$28:$G$38,9)+(E532-HLOOKUP(E532,'Variable priser'!$C$28:$G$38,1))*HLOOKUP(E532,'Variable priser'!$C$28:$G$38,10))/E532*'Variable priser'!$L$31*(1+Genanskaffelsespriser!$D$203),\"Fejl\"))","v":"Variabel pris"},{"$f":"IF(F532=0,\"Variabel pris\",IFERROR((HLOOKUP(F532,'Variable priser'!$C$28:$G$38,9)+(F532-HLOOKUP(F532,'Variable priser'!$C$28:$G$38,1))*HLOOKUP(F532,'Variable priser'!$C$28:$G$38,10))/F532*'Variable priser'!$L$31*(1+Genanskaffelsespriser!$D$203),\"Fejl\"))","v":"Variabel pris"},"","",1,1]
["Filteranlæg, åbne filtre, dobbelt filtrering, Konstruktioner","m³/h ",{"$f":"Genanskaffelsespriser!$E$44","v":50},null,null,null,"","",null,{"$f":"IF(E533=0,\"Variabel pris\",IFERROR((HLOOKUP(E533,'Variable priser'!$C$28:$G$38,6)+(E533-HLOOKUP(E533,'Variable priser'!$C$28:$G$38,1))*HLOOKUP(E533,'Variable priser'!$C$28:$G$38,7))/E533*'Variable priser'!$K$31*(1+Genanskaffelsespriser!$D$203),\"Fejl\"))","v":"Variabel pris"},{"$f":"IF(F533=0,\"Variabel pris\",IFERROR((HLOOKUP(F533,'Variable priser'!$C$28:$G$38,6)+(F533-HLOOKUP(F533,'Variable priser'!$C$28:$G$38,1))*HLOOKUP(F533,'Variable priser'!$C$28:$G$38,7))/F533*'Variable priser'!$K$31*(1+Genanskaffelsespriser!$D$203),\"Fejl\"))","v":"Variabel pris"},"","",1,1]
["Filteranlæg, åbne filtre, dobbelt filtrering, Mek./EL","m³/h ",{"$f":"Genanskaffelsespriser!$E$45","v":25},null,null,null,"","",null,{"$f":"IF(E534=0,\"Variabel pris\",IFERROR((HLOOKUP(E534,'Variable priser'!$C$28:$G$38,6)+(E534-HLOOKUP(E534,'Variable priser'!$C$28:$G$38,1))*HLOOKUP(E534,'Variable priser'!$C$28:$G$38,7))/E534*'Variable priser'!$L$31*(1+Genanskaffelsespriser!$D$203),\"Fejl\"))","v":"Variabel pris"},{"$f":"IF(F534=0,\"Variabel pris\",IFERROR((HLOOKUP(F534,'Variable priser'!$C$28:$G$38,6)+(F534-HLOOKUP(F534,'Variable priser'!$C$28:$G$38,1))*HLOOKUP(F534,'Variable priser'!$C$28:$G$38,7))/F534*'Variable priser'!$L$31*(1+Genanskaffelsespriser!$D$203),\"Fejl\"))","v":"Variabel pris"},"","",1,1]
["Filteranlæg, trykfiltre, enkelt filtrering","m³/h ",{"$f":"Genanskaffelsespriser!$E$46","v":25},null,null,null,"","",null,{"$f":"IF(E535=0,\"Variabel pris\",IFERROR((HLOOKUP(E535,'Variable priser'!$C$40:$H$42,2)+(E535-HLOOKUP(E535,'Variable priser'!$C$40:$H$42,1))*HLOOKUP(E535,'Variable priser'!$C$40:$H$42,3))/E535*(1+Genanskaffelsespriser!$D$203),\"Fejl\"))","v":"Variabel pris"},{"$f":"IF(F535=0,\"Variabel pris\",IFERROR((HLOOKUP(F535,'Variable priser'!$C$40:$H$42,2)+(F535-HLOOKUP(F535,'Variable priser'!$C$40:$H$42,1))*HLOOKUP(F535,'Variable priser'!$C$40:$H$42,3))/F535*(1+Genanskaffelsespriser!$D$203),\"Fejl\"))","v":"Variabel pris"},"","",1,1]
["Filteranlæg, trykfiltre, dobbelt filtrering","m³/h ",{"$f":"Genanskaffelsespriser!$E$47","v":25},null,null,null,"","",null,{"$f":"IF(E536=0,\"Variabel pris\",IFERROR((HLOOKUP(E536,'Variable priser'!$C$44:$H$46,2)+(E536-HLOOKUP(E536,'Variable priser'!$C$44:$H$46,1))*HLOOKUP(E536,'Variable priser'!$C$44:$H$46,3))/E536*(1+Genanskaffelsespriser!$D$203),\"Fejl\"))","v":"Variabel pris"},{"$f":"IF(F536=0,\"Variabel pris\",IFERROR((HLOOKUP(F536,'Variable priser'!$C$44:$H$46,2)+(F536-HLOOKUP(F536,'Variable priser'!$C$44:$H$46,1))*HLOOKUP(F536,'Variable priser'!$C$44:$H$46,3))/F536*(1+Genanskaffelsespriser!$D$203),\"Fejl\"))","v":"Variabel pris"},"","",1,1]
["Rentvandsbeholder  insitu støbt","m³",{"$f":"Genanskaffelsespriser!$E$48","v":50},null,null,null,"","",null,{"$f":"IF(E537=0,\"Variabel pris\",IFERROR((HLOOKUP(E537,'Variable priser'!$C$48:$H$50,2)+(E537-HLOOKUP(E537,'Variable priser'!$C$48:$H$50,1))*HLOOKUP(E537,'Variable priser'!$C$48:$H$50,3))/E537*(1+Genanskaffelsespriser!$D$203),\"Fejl\"))","v":"Variabel pris"},{"$f":"IF(F537=0,\"Variabel pris\",IFERROR((HLOOKUP(F537,'Variable priser'!$C$48:$H$50,2)+(F537-HLOOKUP(F537,'Variable priser'!$C$48:$H$50,1))*HLOOKUP(F537,'Variable priser'!$C$48:$H$50,3))/F537*(1+Genanskaffelsespriser!$D$203),\"Fejl\"))","v":"Variabel pris"},"","",1,1]
["Rentvandsbeholder  element","m³",{"$f":"Genanskaffelsespriser!$E$49","v":50},null,null,null,"","",null,{"$f":"IF(E538=0,\"Variabel pris\",IFERROR((HLOOKUP(E538,'Variable priser'!$C$52:$H$54,2)+(E538-HLOOKUP(E538,'Variable priser'!$C$52:$H$54,1))*HLOOKUP(E538,'Variable priser'!$C$52:$H$54,3))/E538*(1+Genanskaffelsespriser!$D$203),\"Fejl\"))","v":"Variabel pris"},{"$f":"IF(F538=0,\"Variabel pris\",IFERROR((HLOOKUP(F538,'Variable priser'!$C$52:$H$54,2)+(F538-HLOOKUP(F538,'Variable priser'!$C$52:$H$54,1))*HLOOKUP(F538,'Variable priser'!$C$52:$H$54,3))/F538*(1+Genanskaffelsespriser!$D$203),\"Fejl\"))","v":"Variabel pris"},"","",1,1]
["Udpumpningsanlæg, rentvandspumper på vandværk","m³/h ",{"$f":"Genanskaffelsespriser!$E$50","v":25},null,null,null,"","",null,{"$f":"IF(E539=0,\"Variabel pris\",IFERROR((HLOOKUP(E539,'Variable priser'!$C$71:$H$73,2)+(E539-HLOOKUP(E539,'Variable priser'!$C$71:$H$73,1))*HLOOKUP(E539,'Variable priser'!$C$71:$H$73,3))/E539*(1+Genanskaffelsespriser!$D$203),\"Fejl\"))","v":"Variabel pris"},{"$f":"IF(F539=0,\"Variabel pris\",IFERROR((HLOOKUP(F539,'Variable priser'!$C$71:$H$73,2)+(F539-HLOOKUP(F539,'Variable priser'!$C$71:$H$73,1))*HLOOKUP(F539,'Variable priser'!$C$71:$H$73,3))/F539*(1+Genanskaffelsespriser!$D$203),\"Fejl\"))","v":"Variabel pris"},"","",1,1]
["Udpumpningsanlæg, frekvensomformer","kW",{"$f":"Genanskaffelsespriser!$E$51","v":25},null,null,null,"","",null,{"$f":"IF(E540=0,\"Variabel pris\",IFERROR((HLOOKUP(E540,'Variable priser'!$C$76:$J$78,2)+(E540-HLOOKUP(E540,'Variable priser'!$C$76:$J$78,1))*HLOOKUP(E540,'Variable priser'!$C$76:$J$78,3))/E540*(1+Genanskaffelsespriser!$D$203),\"Fejl\"))","v":"Variabel pris"},{"$f":"IF(F540=0,\"Variabel pris\",IFERROR((HLOOKUP(F540,'Variable priser'!$C$76:$J$78,2)+(F540-HLOOKUP(F540,'Variable priser'!$C$76:$J$78,1))*HLOOKUP(F540,'Variable priser'!$C$76:$J$78,3))/F540*(1+Genanskaffelsespriser!$D$203),\"Fejl\"))","v":"Variabel pris"},"","",1,1]
["Udpumpningsanlæg, Hydrofor","liter",{"$f":"Genanskaffelsespriser!$E$52","v":25},null,null,null,"","",null,{"$f":"IF(E541=0,\"Variabel pris\",IFERROR((HLOOKUP(E541,'Variable priser'!$C$81:$J$83,2)+(E541-HLOOKUP(E541,'Variable priser'!$C$81:$J$83,1))*HLOOKUP(E541,'Variable priser'!$C$81:$J$83,3))/E541*(1+Genanskaffelsespriser!$D$203),\"Fejl\"))","v":"Variabel pris"},{"$f":"IF(F541=0,\"Variabel pris\",IFERROR((HLOOKUP(F541,'Variable priser'!$C$81:$J$83,2)+(F541-HLOOKUP(F541,'Variable priser'!$C$81:$J$83,1))*HLOOKUP(F541,'Variable priser'!$C$81:$J$83,3))/F541*(1+Genanskaffelsespriser!$D$203),\"Fejl\"))","v":"Variabel pris"},"","",1,1]
["Skyllevand-/slamhåndteringsanlæg - lukkede betonbeholdere","m³",{"$f":"Genanskaffelsespriser!$E$53","v":50},null,null,null,"","",null,{"$f":"IF(E542=0,\"Variabel pris\",IFERROR((HLOOKUP(E542,'Variable priser'!$C$59:$H$61,2)+(E542-HLOOKUP(E542,'Variable priser'!$C$59:$H$61,1))*HLOOKUP(E542,'Variable priser'!$C$59:$H$61,3))/E542*(1+Genanskaffelsespriser!$D$203),\"Fejl\"))","v":"Variabel pris"},{"$f":"IF(F542=0,\"Variabel pris\",IFERROR((HLOOKUP(F542,'Variable priser'!$C$59:$H$61,2)+(F542-HLOOKUP(F542,'Variable priser'!$C$59:$H$61,1))*HLOOKUP(F542,'Variable priser'!$C$59:$H$61,3))/F542*(1+Genanskaffelsespriser!$D$203),\"Fejl\"))","v":"Variabel pris"},"","",1,1]
["Skyllevand-/slamhåndteringsanl. - åbne med faste sider/bund","m³",{"$f":"Genanskaffelsespriser!$E$54","v":50},null,null,null,"","",null,{"$f":"IF(E543=0,\"Variabel pris\",IFERROR((HLOOKUP(E543,'Variable priser'!$C$59:$H$64,5)+(E543-HLOOKUP(E543,'Variable priser'!$C$59:$H$64,1))*HLOOKUP(E543,'Variable priser'!$C$59:$H$64,6))/E543*(1+Genanskaffelsespriser!$D$203),\"Fejl\"))","v":"Variabel pris"},{"$f":"IF(F543=0,\"Variabel pris\",IFERROR((HLOOKUP(F543,'Variable priser'!$C$59:$H$64,5)+(F543-HLOOKUP(F543,'Variable priser'!$C$59:$H$64,1))*HLOOKUP(F543,'Variable priser'!$C$59:$H$64,6))/F543*(1+Genanskaffelsespriser!$D$203),\"Fejl\"))","v":"Variabel pris"},"","",1,1]
["Skyllevand-/slamhåndteringsanlæg - jordbassiner","m³",{"$f":"Genanskaffelsespriser!$E$55","v":50},null,null,null,"","",null,{"$f":"IF(E544=0,\"Variabel pris\",IFERROR((HLOOKUP(E544,'Variable priser'!$C$59:$H$67,8)+(E544-HLOOKUP(E544,'Variable priser'!$C$59:$H$67,1))*HLOOKUP(E544,'Variable priser'!$C$59:$H$67,9))/E544*(1+Genanskaffelsespriser!$D$203),\"Fejl\"))","v":"Variabel pris"},{"$f":"IF(F544=0,\"Variabel pris\",IFERROR((HLOOKUP(F544,'Variable priser'!$C$59:$H$67,8)+(F544-HLOOKUP(F544,'Variable priser'!$C$59:$H$67,1))*HLOOKUP(F544,'Variable priser'!$C$59:$H$67,9))/F544*(1+Genanskaffelsespriser!$D$203),\"Fejl\"))","v":"Variabel pris"},"","",1,1]
["Skyllevandsbehandling, inkl. UV-filter mv., Mek./EL","m³/h.",{"$f":"Genanskaffelsespriser!$E$56","v":25},null,null,null,"","",null,{"$f":"IF(E545=0,\"Variabel pris\",IFERROR((HLOOKUP(E545,'Variable priser'!$C$108:$E$110,2)+(E545-HLOOKUP(E545,'Variable priser'!$C$108:$E$110,1))*HLOOKUP(E545,'Variable priser'!$C$108:$E$110,3))/E545*'Variable priser'!$H$109*(1+Genanskaffelsespriser!$D$203),\"Fejl\"))","v":"Variabel pris"},{"$f":"IF(F545=0,\"Variabel pris\",IFERROR((HLOOKUP(F545,'Variable priser'!$C$108:$E$110,2)+(F545-HLOOKUP(F545,'Variable priser'!$C$108:$E$110,1))*HLOOKUP(F545,'Variable priser'!$C$108:$E$110,3))/F545*'Variable priser'!$H$109*(1+Genanskaffelsespriser!$D$203),\"Fejl\"))","v":"Variabel pris"},"","",1,1]
["Skyllevandsbehandling, inkl. UV-filter mv., SRO","m³/h.",{"$f":"Genanskaffelsespriser!$E$57","v":10},null,null,null,"","",null,{"$f":"IF(E546=0,\"Variabel pris\",IFERROR((HLOOKUP(E546,'Variable priser'!$C$108:$E$110,2)+(E546-HLOOKUP(E546,'Variable priser'!$C$108:$E$110,1))*HLOOKUP(E546,'Variable priser'!$C$108:$E$110,3))/E546*'Variable priser'!$I$109*(1+Genanskaffelsespriser!$D$203),\"Fejl\"))","v":"Variabel pris"},{"$f":"IF(F546=0,\"Variabel pris\",IFERROR((HLOOKUP(F546,'Variable priser'!$C$108:$E$110,2)+(F546-HLOOKUP(F546,'Variable priser'!$C$108:$E$110,1))*HLOOKUP(F546,'Variable priser'!$C$108:$E$110,3))/F546*'Variable priser'!$I$109*(1+Genanskaffelsespriser!$D$203),\"Fejl\"))","v":"Variabel pris"},"","",1,1]
["Nødstrømsanlæg på vandværk","kW",{"$f":"Genanskaffelsespriser!$E$58","v":25},null,null,null,"","",null,{"$f":"IF(E547=0,\"Variabel pris\",IFERROR((HLOOKUP(E547,'Variable priser'!$C$86:$H$88,2)+(E547-HLOOKUP(E547,'Variable priser'!$C$86:$H$88,1))*HLOOKUP(E547,'Variable priser'!$C$86:$H$88,3))/E547*(1+Genanskaffelsespriser!$D$203),\"Fejl\"))","v":"Variabel pris"},{"$f":"IF(F547=0,\"Variabel pris\",IFERROR((HLOOKUP(F547,'Variable priser'!$C$86:$H$88,2)+(F547-HLOOKUP(F547,'Variable priser'!$C$86:$H$88,1))*HLOOKUP(F547,'Variable priser'!$C$86:$H$88,3))/F547*(1+Genanskaffelsespriser!$D$203),\"Fejl\"))","v":"Variabel pris"},"","",1,1]
["Elanlæg og SRO-anlæg - vandværk, Elanlæg","m³/h.",{"$f":"Genanskaffelsespriser!$E$59","v":25},null,null,null,"","",null,{"$f":"IF(E548=0,\"Variabel pris\",IFERROR((HLOOKUP(E548,'Variable priser'!$C$91:$J$95,4)+(E548-HLOOKUP(E548,'Variable priser'!$C$91:$J$95,1))*HLOOKUP(E548,'Variable priser'!$C$91:$J$95,5))/E548*(1+Genanskaffelsespriser!$D$203),\"Fejl\"))","v":"Variabel pris"},{"$f":"IF(F548=0,\"Variabel pris\",IFERROR((HLOOKUP(F548,'Variable priser'!$C$91:$J$95,4)+(F548-HLOOKUP(F548,'Variable priser'!$C$91:$J$95,1))*HLOOKUP(F548,'Variable priser'!$C$91:$J$95,5))/F548*(1+Genanskaffelsespriser!$D$203),\"Fejl\"))","v":"Variabel pris"},"","",1,1]
["Elanlæg og SRO-anlæg - vandværk, SRO","m³/h.",{"$f":"Genanskaffelsespriser!$E$60","v":10},null,null,null,"","",null,{"$f":"IF(E549=0,\"Variabel pris\",IFERROR((HLOOKUP(E549,'Variable priser'!$C$91:$J$98,7)+(E549-HLOOKUP(E549,'Variable priser'!$C$91:$J$98,1))*HLOOKUP(E549,'Variable priser'!$C$91:$J$98,8))/E549*(1+Genanskaffelsespriser!$D$203),\"Fejl\"))","v":"Variabel pris"},{"$f":"IF(F549=0,\"Variabel pris\",IFERROR((HLOOKUP(F549,'Variable priser'!$C$91:$J$98,7)+(F549-HLOOKUP(F549,'Variable priser'!$C$91:$J$98,1))*HLOOKUP(F549,'Variable priser'!$C$91:$J$98,8))/F549*(1+Genanskaffelsespriser!$D$203),\"Fejl\"))","v":"Variabel pris"},"","",1,1]
["Vandværk 11"]
["Beluftningsanlæg, iltningstrappe, Konstruktioner","m³/h ",{"$f":"Genanskaffelsespriser!$E$30","v":50},null,null,null,{"$f":"IF($D551=\"\",IF($E551>0,\"Ny data\",IF($E551=\"\",\"\",0)),IF($D551=0,IF($E551=0,0,\"Ny data\"),($E551-$D551)/$D551))","v":""},{"$f":"IF($E551=\"\",IF($F551>0,\"Ny data\",IF($F551=\"\",\"\",0)),IF($E551=0,IF($F551=0,0,\"Ny data\"),($F551-$E551)/$E551))","v":""},null,{"$f":"IF(E551=0,\"Variabel pris\",IFERROR((HLOOKUP(E551,'Variable priser'!$C$6:$H$16,2)+(E551-HLOOKUP(E551,'Variable priser'!$C$6:$H$16,1))*HLOOKUP(E551,'Variable priser'!$C$6:$H$16,3))/E551*'Variable priser'!$K$7*(1+Genanskaffelsespriser!$D$203),\"Fejl\"))","v":"Variabel pris"},{"$f":"IF(F551=0,\"Variabel pris\",IFERROR((HLOOKUP(F551,'Variable priser'!$C$6:$H$16,2)+(F551-HLOOKUP(F551,'Variable priser'!$C$6:$H$16,1))*HLOOKUP(F551,'Variable priser'!$C$6:$H$16,3))/F551*'Variable priser'!$K$7*(1+Genanskaffelsespriser!$D$203),\"Fejl\"))","v":"Variabel pris"},{"$f":"IF(ISBLANK(E551),\"\",IF(E551=0,\"\",IF(ISNUMBER(E551),((J551*E551)/C551)*N551,\"\")))","v":""},{"$f":"IF(ISBLANK(F551),\"\",IF(F551=0,\"\",IF(ISNUMBER(F551),((K551*F551)/C551)*N551,\"\")))","v":""},1,1]
["Beluftningsanlæg, iltningstrappe, Mek./EL","m³/h ",{"$f":"Genanskaffelsespriser!$E$31","v":25},null,null,null,"","",null,{"$f":"IF(E552=0,\"Variabel pris\",IFERROR((HLOOKUP(E552,'Variable priser'!$C$6:$H$16,2)+(E552-HLOOKUP(E552,'Variable priser'!$C$6:$H$16,1))*HLOOKUP(E552,'Variable priser'!$C$6:$H$16,3))/E552*'Variable priser'!$L$7*(1+Genanskaffelsespriser!$D$203),\"Fejl\"))","v":"Variabel pris"},{"$f":"IF(F552=0,\"Variabel pris\",IFERROR((HLOOKUP(F552,'Variable priser'!$C$6:$H$16,2)+(F552-HLOOKUP(F552,'Variable priser'!$C$6:$H$16,1))*HLOOKUP(F552,'Variable priser'!$C$6:$H$16,3))/F552*'Variable priser'!$L$7*(1+Genanskaffelsespriser!$D$203),\"Fejl\"))","v":"Variabel pris"},{"$f":"IF(ISBLANK(E552),\"\",IF(E552=0,\"\",IF(ISNUMBER(E552),((J552*E552)/C552)*N552,\"\")))","v":""},{"$f":"IF(ISBLANK(F552),\"\",IF(F552=0,\"\",IF(ISNUMBER(F552),((K552*F552)/C552)*N552,\"\")))","v":""},1,1]
["Beluftningsanlæg, ika-beluftning, Konstruktioner","m³/h ",{"$f":"Genanskaffelsespriser!$E$32","v":50},null,null,null,"","",null,{"$f":"IF(E553=0,\"Variabel pris\",IFERROR((HLOOKUP(E553,'Variable priser'!$C$6:$H$16,4)+(E553-HLOOKUP(E553,'Variable priser'!$C$6:$H$16,1))*HLOOKUP(E553,'Variable priser'!$C$6:$H$16,5))/E553*'Variable priser'!$K$9*(1+Genanskaffelsespriser!$D$203),\"Fejl\"))","v":"Variabel pris"},{"$f":"IF(F553=0,\"Variabel pris\",IFERROR((HLOOKUP(F553,'Variable priser'!$C$6:$H$16,4)+(F553-HLOOKUP(F553,'Variable priser'!$C$6:$H$16,1))*HLOOKUP(F553,'Variable priser'!$C$6:$H$16,5))/F553*'Variable priser'!$K$9*(1+Genanskaffelsespriser!$D$203),\"Fejl\"))","v":"Variabel pris"},"","",1,1]
["Beluftningsanlæg, ika-beluftning, Mek./EL","m³/h ",{"$f":"Genanskaffelsespriser!$E$33","v":25},null,null,null,"","",null,{"$f":"IF(E554=0,\"Variabel pris\",IFERROR((HLOOKUP(E554,'Variable priser'!$C$6:$H$16,4)+(E554-HLOOKUP(E554,'Variable priser'!$C$6:$H$16,1))*HLOOKUP(E554,'Variable priser'!$C$6:$H$16,5))/E554*'Variable priser'!$L$9*(1+Genanskaffelsespriser!$D$203),\"Fejl\"))","v":"Variabel pris"},{"$f":"IF(F554=0,\"Variabel pris\",IFERROR((HLOOKUP(F554,'Variable priser'!$C$6:$H$16,4)+(F554-HLOOKUP(F554,'Variable priser'!$C$6:$H$16,1))*HLOOKUP(F554,'Variable priser'!$C$6:$H$16,5))/F554*'Variable priser'!$L$9*(1+Genanskaffelsespriser!$D$203),\"Fejl\"))","v":"Variabel pris"},"","",1,1]
["Beluftningsanlæg, bundbeluftbning, Konstruktioner","m³/h ",{"$f":"Genanskaffelsespriser!$E$34","v":50},null,null,null,"","",null,{"$f":"IF(E555=0,\"Variabel pris\",IFERROR((HLOOKUP(E555,'Variable priser'!$C$6:$H$16,6)+(E555-HLOOKUP(E555,'Variable priser'!$C$6:$H$16,1))*HLOOKUP(E555,'Variable priser'!$C$6:$H$16,7))/E555*'Variable priser'!$K$17*(1+Genanskaffelsespriser!$D$203),\"Fejl\"))","v":"Variabel pris"},{"$f":"IF(F555=0,\"Variabel pris\",IFERROR((HLOOKUP(F555,'Variable priser'!$C$6:$H$16,6)+(F555-HLOOKUP(F555,'Variable priser'!$C$6:$H$16,1))*HLOOKUP(F555,'Variable priser'!$C$6:$H$16,7))/F555*'Variable priser'!$K$17*(1+Genanskaffelsespriser!$D$203),\"Fejl\"))","v":"Variabel pris"},"","",1,1]
["Beluftningsanlæg, bundbeluftbning, Mek./EL","m³/h ",{"$f":"Genanskaffelsespriser!$E$35","v":25},null,null,null,"","",null,{"$f":"IF(E556=0,\"Variabel pris\",IFERROR((HLOOKUP(E556,'Variable priser'!$C$6:$H$16,6)+(E556-HLOOKUP(E556,'Variable priser'!$C$6:$H$16,1))*HLOOKUP(E556,'Variable priser'!$C$6:$H$16,7))/E556*'Variable priser'!$L$17*(1+Genanskaffelsespriser!$D$203),\"Fejl\"))","v":"Variabel pris"},{"$f":"IF(F556=0,\"Variabel pris\",IFERROR((HLOOKUP(F556,'Variable priser'!$C$6:$H$16,6)+(F556-HLOOKUP(F556,'Variable priser'!$C$6:$H$16,1))*HLOOKUP(F556,'Variable priser'!$C$6:$H$16,7))/F556*'Variable priser'!$L$17*(1+Genanskaffelsespriser!$D$203),\"Fejl\"))","v":"Variabel pris"},"","",1,1]
["Beluftningsanlæg, rislebakke, Konstruktioner","m³/h ",{"$f":"Genanskaffelsespriser!$E$36","v":50},null,null,null,"","",null,{"$f":"IF(E557=0,\"Variabel pris\",IFERROR((HLOOKUP(E557,'Variable priser'!$C$6:$H$18,12)+(E557-HLOOKUP(E557,'Variable priser'!$C$6:$H$18,1))*HLOOKUP(E557,'Variable priser'!$C$6:$H$18,13))/E557*'Variable priser'!$K$17*(1+Genanskaffelsespriser!$D$203),\"Fejl\"))","v":"Variabel pris"},{"$f":"IF(F557=0,\"Variabel pris\",IFERROR((HLOOKUP(F557,'Variable priser'!$C$6:$H$18,12)+(F557-HLOOKUP(F557,'Variable priser'!$C$6:$H$18,1))*HLOOKUP(F557,'Variable priser'!$C$6:$H$18,13))/F557*'Variable priser'!$K$17*(1+Genanskaffelsespriser!$D$203),\"Fejl\"))","v":"Variabel pris"},"","",1,1]
["Beluftningsanlæg, rislebakke, Mek./EL","m³/h ",{"$f":"Genanskaffelsespriser!$E$37","v":25},null,null,null,"","",null,{"$f":"IF(E558=0,\"Variabel pris\",IFERROR((HLOOKUP(E558,'Variable priser'!$C$6:$H$18,12)+(E558-HLOOKUP(E558,'Variable priser'!$C$6:$H$18,1))*HLOOKUP(E558,'Variable priser'!$C$6:$H$18,13))/E558*'Variable priser'!$L$17*(1+Genanskaffelsespriser!$D$203),\"Fejl\"))","v":"Variabel pris"},{"$f":"IF(F558=0,\"Variabel pris\",IFERROR((HLOOKUP(F558,'Variable priser'!$C$6:$H$18,12)+(F558-HLOOKUP(F558,'Variable priser'!$C$6:$H$18,1))*HLOOKUP(F558,'Variable priser'!$C$6:$H$18,13))/F558*'Variable priser'!$L$17*(1+Genanskaffelsespriser!$D$203),\"Fejl\"))","v":"Variabel pris"},"","",1,1]
["Beluftningsanlæg, kompressorbeluftning","m³/h ",{"$f":"Genanskaffelsespriser!$E$38","v":25},null,null,null,"","",null,{"$f":"IF(E559=0,\"Variabel pris\",IFERROR((HLOOKUP(E559,'Variable priser'!$C$6:$H$16,8)+(E559-HLOOKUP(E559,'Variable priser'!$C$6:$H$16,1))*HLOOKUP(E559,'Variable priser'!$C$6:$H$16,9))/E559*(1+Genanskaffelsespriser!$D$203),\"Fejl\"))","v":"Variabel pris"},{"$f":"IF(F559=0,\"Variabel pris\",IFERROR((HLOOKUP(F559,'Variable priser'!$C$6:$H$16,8)+(F559-HLOOKUP(F559,'Variable priser'!$C$6:$H$16,1))*HLOOKUP(F559,'Variable priser'!$C$6:$H$16,9))/F559*(1+Genanskaffelsespriser!$D$203),\"Fejl\"))","v":"Variabel pris"},"","",1,1]
["Beluftningsanlæg, ren ilt","m³/h ",{"$f":"Genanskaffelsespriser!$E$39","v":25},null,null,null,"","",null,{"$f":"IF(E560=0,\"Variabel pris\",IFERROR((HLOOKUP(E560,'Variable priser'!$C$6:$H$16,10)+(E560-HLOOKUP(E560,'Variable priser'!$C$6:$H$16,1))*HLOOKUP(E560,'Variable priser'!$C$6:$H$16,11))/E560*(1+Genanskaffelsespriser!$D$203),\"Fejl\"))","v":"Variabel pris"},{"$f":"IF(F560=0,\"Variabel pris\",IFERROR((HLOOKUP(F560,'Variable priser'!$C$6:$H$16,10)+(F560-HLOOKUP(F560,'Variable priser'!$C$6:$H$16,1))*HLOOKUP(F560,'Variable priser'!$C$6:$H$16,11))/F560*(1+Genanskaffelsespriser!$D$203),\"Fejl\"))","v":"Variabel pris"},"","",1,1]
["Behandlingsanlæg, kalk anlæg","m³/h ",{"$f":"Genanskaffelsespriser!$E$40","v":25},null,null,null,"","",null,{"$f":"IF(E561=0,\"Variabel pris\",IFERROR((HLOOKUP(E561,'Variable priser'!$C$20:$G$24,3)+(E561-HLOOKUP(E561,'Variable priser'!$C$20:$G$24,1))*HLOOKUP(E561,'Variable priser'!$C$20:$G$24,4))/E561*(1+Genanskaffelsespriser!$D$203),\"Fejl\"))","v":"Variabel pris"},{"$f":"IF(F561=0,\"Variabel pris\",IFERROR((HLOOKUP(F561,'Variable priser'!$C$20:$G$24,3)+(F561-HLOOKUP(F561,'Variable priser'!$C$20:$G$24,1))*HLOOKUP(F561,'Variable priser'!$C$20:$G$24,4))/F561*(1+Genanskaffelsespriser!$D$203),\"Fejl\"))","v":"Variabel pris"},"","",1,1]
["Behandlingsanlæg, luddosering","m³/h ",{"$f":"Genanskaffelsespriser!$E$41","v":25},null,null,null,"","",null,{"$f":"IF(E562=0,\"Variabel pris\",IFERROR((HLOOKUP(E562,'Variable priser'!$C$20:$G$25,5)+(E562-HLOOKUP(E562,'Variable priser'!$C$20:$G$25,1))*HLOOKUP(E562,'Variable priser'!$C$20:$G$25,6))/E562*(1+Genanskaffelsespriser!$D$203),\"Fejl\"))","v":"Variabel pris"},{"$f":"IF(F562=0,\"Variabel pris\",IFERROR((HLOOKUP(F562,'Variable priser'!$C$20:$G$25,5)+(F562-HLOOKUP(F562,'Variable priser'!$C$20:$G$25,1))*HLOOKUP(F562,'Variable priser'!$C$20:$G$25,6))/F562*(1+Genanskaffelsespriser!$D$203),\"Fejl\"))","v":"Variabel pris"},"","",1,1]
["Filteranlæg, åbne filtre, enkelt filtrering, Konstruktioner","m³/h ",{"$f":"Genanskaffelsespriser!$E$42","v":50},null,null,null,"","",null,{"$f":"IF(E563=0,\"Variabel pris\",IFERROR((HLOOKUP(E563,'Variable priser'!$C$28:$G$38,9)+(E563-HLOOKUP(E563,'Variable priser'!$C$28:$G$38,1))*HLOOKUP(E563,'Variable priser'!$C$28:$G$38,10))/E563*'Variable priser'!$K$31*(1+Genanskaffelsespriser!$D$203),\"Fejl\"))","v":"Variabel pris"},{"$f":"IF(F563=0,\"Variabel pris\",IFERROR((HLOOKUP(F563,'Variable priser'!$C$28:$G$38,9)+(F563-HLOOKUP(F563,'Variable priser'!$C$28:$G$38,1))*HLOOKUP(F563,'Variable priser'!$C$28:$G$38,10))/F563*'Variable priser'!$K$31*(1+Genanskaffelsespriser!$D$203),\"Fejl\"))","v":"Variabel pris"},"","",1,1]
["Filteranlæg, åbne filtre, enkelt filtrering, Mek./EL","m³/h ",{"$f":"Genanskaffelsespriser!$E$43","v":25},null,null,null,"","",null,{"$f":"IF(E564=0,\"Variabel pris\",IFERROR((HLOOKUP(E564,'Variable priser'!$C$28:$G$38,9)+(E564-HLOOKUP(E564,'Variable priser'!$C$28:$G$38,1))*HLOOKUP(E564,'Variable priser'!$C$28:$G$38,10))/E564*'Variable priser'!$L$31*(1+Genanskaffelsespriser!$D$203),\"Fejl\"))","v":"Variabel pris"},{"$f":"IF(F564=0,\"Variabel pris\",IFERROR((HLOOKUP(F564,'Variable priser'!$C$28:$G$38,9)+(F564-HLOOKUP(F564,'Variable priser'!$C$28:$G$38,1))*HLOOKUP(F564,'Variable priser'!$C$28:$G$38,10))/F564*'Variable priser'!$L$31*(1+Genanskaffelsespriser!$D$203),\"Fejl\"))","v":"Variabel pris"},"","",1,1]
["Filteranlæg, åbne filtre, dobbelt filtrering, Konstruktioner","m³/h ",{"$f":"Genanskaffelsespriser!$E$44","v":50},null,null,null,"","",null,{"$f":"IF(E565=0,\"Variabel pris\",IFERROR((HLOOKUP(E565,'Variable priser'!$C$28:$G$38,6)+(E565-HLOOKUP(E565,'Variable priser'!$C$28:$G$38,1))*HLOOKUP(E565,'Variable priser'!$C$28:$G$38,7))/E565*'Variable priser'!$K$31*(1+Genanskaffelsespriser!$D$203),\"Fejl\"))","v":"Variabel pris"},{"$f":"IF(F565=0,\"Variabel pris\",IFERROR((HLOOKUP(F565,'Variable priser'!$C$28:$G$38,6)+(F565-HLOOKUP(F565,'Variable priser'!$C$28:$G$38,1))*HLOOKUP(F565,'Variable priser'!$C$28:$G$38,7))/F565*'Variable priser'!$K$31*(1+Genanskaffelsespriser!$D$203),\"Fejl\"))","v":"Variabel pris"},"","",1,1]
["Filteranlæg, åbne filtre, dobbelt filtrering, Mek./EL","m³/h ",{"$f":"Genanskaffelsespriser!$E$45","v":25},null,null,null,"","",null,{"$f":"IF(E566=0,\"Variabel pris\",IFERROR((HLOOKUP(E566,'Variable priser'!$C$28:$G$38,6)+(E566-HLOOKUP(E566,'Variable priser'!$C$28:$G$38,1))*HLOOKUP(E566,'Variable priser'!$C$28:$G$38,7))/E566*'Variable priser'!$L$31*(1+Genanskaffelsespriser!$D$203),\"Fejl\"))","v":"Variabel pris"},{"$f":"IF(F566=0,\"Variabel pris\",IFERROR((HLOOKUP(F566,'Variable priser'!$C$28:$G$38,6)+(F566-HLOOKUP(F566,'Variable priser'!$C$28:$G$38,1))*HLOOKUP(F566,'Variable priser'!$C$28:$G$38,7))/F566*'Variable priser'!$L$31*(1+Genanskaffelsespriser!$D$203),\"Fejl\"))","v":"Variabel pris"},"","",1,1]
["Filteranlæg, trykfiltre, enkelt filtrering","m³/h ",{"$f":"Genanskaffelsespriser!$E$46","v":25},null,null,null,"","",null,{"$f":"IF(E567=0,\"Variabel pris\",IFERROR((HLOOKUP(E567,'Variable priser'!$C$40:$H$42,2)+(E567-HLOOKUP(E567,'Variable priser'!$C$40:$H$42,1))*HLOOKUP(E567,'Variable priser'!$C$40:$H$42,3))/E567*(1+Genanskaffelsespriser!$D$203),\"Fejl\"))","v":"Variabel pris"},{"$f":"IF(F567=0,\"Variabel pris\",IFERROR((HLOOKUP(F567,'Variable priser'!$C$40:$H$42,2)+(F567-HLOOKUP(F567,'Variable priser'!$C$40:$H$42,1))*HLOOKUP(F567,'Variable priser'!$C$40:$H$42,3))/F567*(1+Genanskaffelsespriser!$D$203),\"Fejl\"))","v":"Variabel pris"},"","",1,1]
["Filteranlæg, trykfiltre, dobbelt filtrering","m³/h ",{"$f":"Genanskaffelsespriser!$E$47","v":25},null,null,null,"","",null,{"$f":"IF(E568=0,\"Variabel pris\",IFERROR((HLOOKUP(E568,'Variable priser'!$C$44:$H$46,2)+(E568-HLOOKUP(E568,'Variable priser'!$C$44:$H$46,1))*HLOOKUP(E568,'Variable priser'!$C$44:$H$46,3))/E568*(1+Genanskaffelsespriser!$D$203),\"Fejl\"))","v":"Variabel pris"},{"$f":"IF(F568=0,\"Variabel pris\",IFERROR((HLOOKUP(F568,'Variable priser'!$C$44:$H$46,2)+(F568-HLOOKUP(F568,'Variable priser'!$C$44:$H$46,1))*HLOOKUP(F568,'Variable priser'!$C$44:$H$46,3))/F568*(1+Genanskaffelsespriser!$D$203),\"Fejl\"))","v":"Variabel pris"},"","",1,1]
["Rentvandsbeholder  insitu støbt","m³",{"$f":"Genanskaffelsespriser!$E$48","v":50},null,null,null,"","",null,{"$f":"IF(E569=0,\"Variabel pris\",IFERROR((HLOOKUP(E569,'Variable priser'!$C$48:$H$50,2)+(E569-HLOOKUP(E569,'Variable priser'!$C$48:$H$50,1))*HLOOKUP(E569,'Variable priser'!$C$48:$H$50,3))/E569*(1+Genanskaffelsespriser!$D$203),\"Fejl\"))","v":"Variabel pris"},{"$f":"IF(F569=0,\"Variabel pris\",IFERROR((HLOOKUP(F569,'Variable priser'!$C$48:$H$50,2)+(F569-HLOOKUP(F569,'Variable priser'!$C$48:$H$50,1))*HLOOKUP(F569,'Variable priser'!$C$48:$H$50,3))/F569*(1+Genanskaffelsespriser!$D$203),\"Fejl\"))","v":"Variabel pris"},"","",1,1]
["Rentvandsbeholder  element","m³",{"$f":"Genanskaffelsespriser!$E$49","v":50},null,null,null,"","",null,{"$f":"IF(E570=0,\"Variabel pris\",IFERROR((HLOOKUP(E570,'Variable priser'!$C$52:$H$54,2)+(E570-HLOOKUP(E570,'Variable priser'!$C$52:$H$54,1))*HLOOKUP(E570,'Variable priser'!$C$52:$H$54,3))/E570*(1+Genanskaffelsespriser!$D$203),\"Fejl\"))","v":"Variabel pris"},{"$f":"IF(F570=0,\"Variabel pris\",IFERROR((HLOOKUP(F570,'Variable priser'!$C$52:$H$54,2)+(F570-HLOOKUP(F570,'Variable priser'!$C$52:$H$54,1))*HLOOKUP(F570,'Variable priser'!$C$52:$H$54,3))/F570*(1+Genanskaffelsespriser!$D$203),\"Fejl\"))","v":"Variabel pris"},"","",1,1]
["Udpumpningsanlæg, rentvandspumper på vandværk","m³/h ",{"$f":"Genanskaffelsespriser!$E$50","v":25},null,null,null,"","",null,{"$f":"IF(E571=0,\"Variabel pris\",IFERROR((HLOOKUP(E571,'Variable priser'!$C$71:$H$73,2)+(E571-HLOOKUP(E571,'Variable priser'!$C$71:$H$73,1))*HLOOKUP(E571,'Variable priser'!$C$71:$H$73,3))/E571*(1+Genanskaffelsespriser!$D$203),\"Fejl\"))","v":"Variabel pris"},{"$f":"IF(F571=0,\"Variabel pris\",IFERROR((HLOOKUP(F571,'Variable priser'!$C$71:$H$73,2)+(F571-HLOOKUP(F571,'Variable priser'!$C$71:$H$73,1))*HLOOKUP(F571,'Variable priser'!$C$71:$H$73,3))/F571*(1+Genanskaffelsespriser!$D$203),\"Fejl\"))","v":"Variabel pris"},"","",1,1]
["Udpumpningsanlæg, frekvensomformer","kW",{"$f":"Genanskaffelsespriser!$E$51","v":25},null,null,null,"","",null,{"$f":"IF(E572=0,\"Variabel pris\",IFERROR((HLOOKUP(E572,'Variable priser'!$C$76:$J$78,2)+(E572-HLOOKUP(E572,'Variable priser'!$C$76:$J$78,1))*HLOOKUP(E572,'Variable priser'!$C$76:$J$78,3))/E572*(1+Genanskaffelsespriser!$D$203),\"Fejl\"))","v":"Variabel pris"},{"$f":"IF(F572=0,\"Variabel pris\",IFERROR((HLOOKUP(F572,'Variable priser'!$C$76:$J$78,2)+(F572-HLOOKUP(F572,'Variable priser'!$C$76:$J$78,1))*HLOOKUP(F572,'Variable priser'!$C$76:$J$78,3))/F572*(1+Genanskaffelsespriser!$D$203),\"Fejl\"))","v":"Variabel pris"},"","",1,1]
["Udpumpningsanlæg, Hydrofor","liter",{"$f":"Genanskaffelsespriser!$E$52","v":25},null,null,null,"","",null,{"$f":"IF(E573=0,\"Variabel pris\",IFERROR((HLOOKUP(E573,'Variable priser'!$C$81:$J$83,2)+(E573-HLOOKUP(E573,'Variable priser'!$C$81:$J$83,1))*HLOOKUP(E573,'Variable priser'!$C$81:$J$83,3))/E573*(1+Genanskaffelsespriser!$D$203),\"Fejl\"))","v":"Variabel pris"},{"$f":"IF(F573=0,\"Variabel pris\",IFERROR((HLOOKUP(F573,'Variable priser'!$C$81:$J$83,2)+(F573-HLOOKUP(F573,'Variable priser'!$C$81:$J$83,1))*HLOOKUP(F573,'Variable priser'!$C$81:$J$83,3))/F573*(1+Genanskaffelsespriser!$D$203),\"Fejl\"))","v":"Variabel pris"},"","",1,1]
["Skyllevand-/slamhåndteringsanlæg - lukkede betonbeholdere","m³",{"$f":"Genanskaffelsespriser!$E$53","v":50},null,null,null,"","",null,{"$f":"IF(E574=0,\"Variabel pris\",IFERROR((HLOOKUP(E574,'Variable priser'!$C$59:$H$61,2)+(E574-HLOOKUP(E574,'Variable priser'!$C$59:$H$61,1))*HLOOKUP(E574,'Variable priser'!$C$59:$H$61,3))/E574*(1+Genanskaffelsespriser!$D$203),\"Fejl\"))","v":"Variabel pris"},{"$f":"IF(F574=0,\"Variabel pris\",IFERROR((HLOOKUP(F574,'Variable priser'!$C$59:$H$61,2)+(F574-HLOOKUP(F574,'Variable priser'!$C$59:$H$61,1))*HLOOKUP(F574,'Variable priser'!$C$59:$H$61,3))/F574*(1+Genanskaffelsespriser!$D$203),\"Fejl\"))","v":"Variabel pris"},"","",1,1]
["Skyllevand-/slamhåndteringsanl. - åbne med faste sider/bund","m³",{"$f":"Genanskaffelsespriser!$E$54","v":50},null,null,null,"","",null,{"$f":"IF(E575=0,\"Variabel pris\",IFERROR((HLOOKUP(E575,'Variable priser'!$C$59:$H$64,5)+(E575-HLOOKUP(E575,'Variable priser'!$C$59:$H$64,1))*HLOOKUP(E575,'Variable priser'!$C$59:$H$64,6))/E575*(1+Genanskaffelsespriser!$D$203),\"Fejl\"))","v":"Variabel pris"},{"$f":"IF(F575=0,\"Variabel pris\",IFERROR((HLOOKUP(F575,'Variable priser'!$C$59:$H$64,5)+(F575-HLOOKUP(F575,'Variable priser'!$C$59:$H$64,1))*HLOOKUP(F575,'Variable priser'!$C$59:$H$64,6))/F575*(1+Genanskaffelsespriser!$D$203),\"Fejl\"))","v":"Variabel pris"},"","",1,1]
["Skyllevand-/slamhåndteringsanlæg - jordbassiner","m³",{"$f":"Genanskaffelsespriser!$E$55","v":50},null,null,null,"","",null,{"$f":"IF(E576=0,\"Variabel pris\",IFERROR((HLOOKUP(E576,'Variable priser'!$C$59:$H$67,8)+(E576-HLOOKUP(E576,'Variable priser'!$C$59:$H$67,1))*HLOOKUP(E576,'Variable priser'!$C$59:$H$67,9))/E576*(1+Genanskaffelsespriser!$D$203),\"Fejl\"))","v":"Variabel pris"},{"$f":"IF(F576=0,\"Variabel pris\",IFERROR((HLOOKUP(F576,'Variable priser'!$C$59:$H$67,8)+(F576-HLOOKUP(F576,'Variable priser'!$C$59:$H$67,1))*HLOOKUP(F576,'Variable priser'!$C$59:$H$67,9))/F576*(1+Genanskaffelsespriser!$D$203),\"Fejl\"))","v":"Variabel pris"},"","",1,1]
["Skyllevandsbehandling, inkl. UV-filter mv., Mek./EL","m³/h.",{"$f":"Genanskaffelsespriser!$E$56","v":25},22000,22000,22000,0,0,null,{"$f":"IF(E577=0,\"Variabel pris\",IFERROR((HLOOKUP(E577,'Variable priser'!$C$108:$E$110,2)+(E577-HLOOKUP(E577,'Variable priser'!$C$108:$E$110,1))*HLOOKUP(E577,'Variable priser'!$C$108:$E$110,3))/E577*'Variable priser'!$H$109*(1+Genanskaffelsespriser!$D$203),\"Fejl\"))","v":11373.035573832951},{"$f":"IF(F577=0,\"Variabel pris\",IFERROR((HLOOKUP(F577,'Variable priser'!$C$108:$E$110,2)+(F577-HLOOKUP(F577,'Variable priser'!$C$108:$E$110,1))*HLOOKUP(F577,'Variable priser'!$C$108:$E$110,3))/F577*'Variable priser'!$H$109*(1+Genanskaffelsespriser!$D$203),\"Fejl\"))","v":11373.035573832951},10008271.304972997,10008271.304972997,1,1]
["Skyllevandsbehandling, inkl. UV-filter mv., SRO","m³/h.",{"$f":"Genanskaffelsespriser!$E$57","v":10},22000,22000,22000,0,0,null,{"$f":"IF(E578=0,\"Variabel pris\",IFERROR((HLOOKUP(E578,'Variable priser'!$C$108:$E$110,2)+(E578-HLOOKUP(E578,'Variable priser'!$C$108:$E$110,1))*HLOOKUP(E578,'Variable priser'!$C$108:$E$110,3))/E578*'Variable priser'!$I$109*(1+Genanskaffelsespriser!$D$203),\"Fejl\"))","v":2007.0062777352266},{"$f":"IF(F578=0,\"Variabel pris\",IFERROR((HLOOKUP(F578,'Variable priser'!$C$108:$E$110,2)+(F578-HLOOKUP(F578,'Variable priser'!$C$108:$E$110,1))*HLOOKUP(F578,'Variable priser'!$C$108:$E$110,3))/F578*'Variable priser'!$I$109*(1+Genanskaffelsespriser!$D$203),\"Fejl\"))","v":2007.0062777352266},4415413.8110174984,4415413.8110174984,1,1]
["Nødstrømsanlæg på vandværk","kW",{"$f":"Genanskaffelsespriser!$E$58","v":25},null,null,null,"","",null,{"$f":"IF(E579=0,\"Variabel pris\",IFERROR((HLOOKUP(E579,'Variable priser'!$C$86:$H$88,2)+(E579-HLOOKUP(E579,'Variable priser'!$C$86:$H$88,1))*HLOOKUP(E579,'Variable priser'!$C$86:$H$88,3))/E579*(1+Genanskaffelsespriser!$D$203),\"Fejl\"))","v":"Variabel pris"},{"$f":"IF(F579=0,\"Variabel pris\",IFERROR((HLOOKUP(F579,'Variable priser'!$C$86:$H$88,2)+(F579-HLOOKUP(F579,'Variable priser'!$C$86:$H$88,1))*HLOOKUP(F579,'Variable priser'!$C$86:$H$88,3))/F579*(1+Genanskaffelsespriser!$D$203),\"Fejl\"))","v":"Variabel pris"},"","",1,1]
["Elanlæg og SRO-anlæg - vandværk, Elanlæg","m³/h.",{"$f":"Genanskaffelsespriser!$E$59","v":25},null,null,null,"","",null,{"$f":"IF(E580=0,\"Variabel pris\",IFERROR((HLOOKUP(E580,'Variable priser'!$C$91:$J$95,4)+(E580-HLOOKUP(E580,'Variable priser'!$C$91:$J$95,1))*HLOOKUP(E580,'Variable priser'!$C$91:$J$95,5))/E580*(1+Genanskaffelsespriser!$D$203),\"Fejl\"))","v":"Variabel pris"},{"$f":"IF(F580=0,\"Variabel pris\",IFERROR((HLOOKUP(F580,'Variable priser'!$C$91:$J$95,4)+(F580-HLOOKUP(F580,'Variable priser'!$C$91:$J$95,1))*HLOOKUP(F580,'Variable priser'!$C$91:$J$95,5))/F580*(1+Genanskaffelsespriser!$D$203),\"Fejl\"))","v":"Variabel pris"},"","",1,1]
["Elanlæg og SRO-anlæg - vandværk, SRO","m³/h.",{"$f":"Genanskaffelsespriser!$E$60","v":10},null,null,null,"","",null,{"$f":"IF(E581=0,\"Variabel pris\",IFERROR((HLOOKUP(E581,'Variable priser'!$C$91:$J$98,7)+(E581-HLOOKUP(E581,'Variable priser'!$C$91:$J$98,1))*HLOOKUP(E581,'Variable priser'!$C$91:$J$98,8))/E581*(1+Genanskaffelsespriser!$D$203),\"Fejl\"))","v":"Variabel pris"},{"$f":"IF(F581=0,\"Variabel pris\",IFERROR((HLOOKUP(F581,'Variable priser'!$C$91:$J$98,7)+(F581-HLOOKUP(F581,'Variable priser'!$C$91:$J$98,1))*HLOOKUP(F581,'Variable priser'!$C$91:$J$98,8))/F581*(1+Genanskaffelsespriser!$D$203),\"Fejl\"))","v":"Variabel pris"},"","",1,1]
["Bygninger"]
["Etageareal vandbehandlingsbygning","m²",{"$f":"Genanskaffelsespriser!E62","v":75},43809.319999999992,43809.319999999992,43809.319999999992,0,{"$f":"IF($E583=\"\",IF($F583>0,\"Ny data\",IF($F583=\"\",\"\",0)),IF($E583=0,IF($F583=0,0,\"Ny data\"),($F583-$E583)/$E583))","v":0},null,{"$f":"Genanskaffelsespriser!$D62","v":18777.995999999999},{"$f":"J583","v":18777.995999999999},{"$f":"IF(ISNUMBER(E583),((J583*E583)/C583)*N583,\"\")","v":10968683.142969597},{"$f":"IF(ISNUMBER(F583),((K583*F583)/C583)*O583,\"\")","v":10968683.142969597},1,1]
["Etageareal kontor og mandskabsfaciliteter","m²",{"$f":"Genanskaffelsespriser!E63","v":75},4604.42,4604.42,4604.42,0,0,null,{"$f":"Genanskaffelsespriser!$D63","v":20023.432999999997},{"$f":"J584","v":20023.432999999997},1229283.9383181331,1229283.9383181331,1,1]
["Værksted","m²",{"$f":"Genanskaffelsespriser!E64","v":75},485.3,485.3,485.3,0,0,null,{"$f":"Genanskaffelsespriser!$D64","v":15473.076999999999},15473.076999999999,100121.12357466666,100121.12357466666,1,1]
["Lager","m²",{"$f":"Genanskaffelsespriser!E65","v":75},1918.4,1918.4,1918.4,0,0,null,{"$f":"Genanskaffelsespriser!$D65","v":15473.076999999999},15473.076999999999,395780.67889066669,395780.67889066669,1,1]
["Garage og rørlager","m²",{"$f":"Genanskaffelsespriser!E66","v":75},2964.8399999999997,2964.8399999999997,2964.8399999999997,0,0,null,{"$f":"Genanskaffelsespriser!$D66","v":10830.428},10830.428,428139.81535359996,428139.81535359996,1,1]
["Bygning for trykforøgere","m²",{"$f":"Genanskaffelsespriser!E67","v":75},8593,8593,8593,0,0,null,{"$f":"Genanskaffelsespriser!$D67","v":21069.766},21069.766,2414033.3231733334,2414033.3231733334,1,1]
["Laboratorium (bygning, inkl. inventar+udstyr), Konstruktioner","m²",{"$f":"Genanskaffelsespriser!E68","v":75},179.12,179.12,179.12,0,0,null,{"$f":"Genanskaffelsespriser!$D68","v":21115.393999999997},21115.393999999997,50429.191643733328,50429.191643733328,1,1]
["Laboratorium (bygning, inkl. inventar+udstyr), Mek./EL","m²",{"$f":"Genanskaffelsespriser!E69","v":10},179.12,179.12,179.12,0,0,null,{"$f":"Genanskaffelsespriser!$D69","v":14077.275},14077.275,252152.14980000001,252152.14980000001,1,1]
["Andre"]
["Sikring (terror, hærværk), Mek./EL","stk.",{"$f":"Genanskaffelsespriser!E71","v":25},510,510,510,0,0,null,{"$f":"Genanskaffelsespriser!$D71","v":6607.7639999999992},{"$f":"J592","v":6607.7639999999992},134798.38559999998,134798.38559999998,1,1]
["Sikring (terror, hærværk), SRO","stk.",{"$f":"Genanskaffelsespriser!E72","v":10},510,510,510,0,0,null,{"$f":"Genanskaffelsespriser!$D72","v":15418.115999999998},{"$f":"J593","v":15418.115999999998},786323.91599999997,786323.91599999997,1,1]
["Sikring, mindre avanceret (hegn, porte), Mek./EL","stk.",{"$f":"Genanskaffelsespriser!E73","v":25},76,76,76,0,0,null,{"$f":"Genanskaffelsespriser!$D73","v":27031.478999999999},27031.478999999999,82175.696159999992,82175.696159999992,1,1]
["Sikring, mindre avanceret (hegn, porte), SRO","stk.",{"$f":"Genanskaffelsespriser!E74","v":10},76,76,76,0,0,null,{"$f":"Genanskaffelsespriser!$D74","v":63073.450999999994},63073.450999999994,479358.22759999998,479358.22759999998,1,1]
["Sikring, avanceret (hegn, porte og overvågningssystemer), Mek./EL","stk.",{"$f":"Genanskaffelsespriser!E75","v":25},35,35,35,0,0,null,{"$f":"Genanskaffelsespriser!$D75","v":58401.765999999996},58401.765999999996,81762.472399999999,81762.472399999999,1,1]
["Sikring, avanceret (hegn, porte og overvågningssystemer), SRO","stk.",{"$f":"Genanskaffelsespriser!E76","v":10},35,35,35,0,0,null,{"$f":"Genanskaffelsespriser!$D76","v":233606.02699999997},233606.02699999997,817621.09449999989,817621.09449999989,1,1]

{"sheet":"Distributionsanlæg","index":1,"n_rows":404,"n_cols":15,"rows_kept":404,"cut":false,"hidden":false,"merged":[],"read":"row_number_cap"}
["Distributionsanlæg","Enhed","Standard-levetid","Samlet mængde per 31/12-2023","Samlet mængde per 31/12-2024","Samlet mængde per 31/12-2025","Afvigelse \n2023-2024","Afvigelse\n2024-2025","Bemærkninger","Enhedspris\n2024","Enhedspris\n2025","Netvolumenbidrag\n2024","Netvolumenbidrag\n2025","Ejerandel\n2024 (%)","Ejerandel\n2025 (%)"]
["Ledningsnet - Land",null,null,null,null,null,null,null,null,null,null,null,null,1]
["Ledningsnet ≤ Ø50 mm","meter",{"$f":"Genanskaffelsespriser!E81","v":75},255.84151021999728,161.46583579956689,161.46583579956689,{"$f":"IF($D3=\"\",IF($E3>0,\"Ny data\",IF($E3=\"\",\"\",0)),IF($D3=0,IF($E3=0,0,\"Ny data\"),($E3-$D3)/$D3))","v":-0.36888335414873469},{"$f":"IF($E3=\"\",IF($F3>0,\"Ny data\",IF($F3=\"\",\"\",0)),IF($E3=0,IF($F3=0,0,\"Ny data\"),($F3-$E3)/$E3))","v":0},"GIS opdatering",{"$f":"Genanskaffelsespriser!$D81","v":548.57299999999998},{"$f":"J3","v":548.57299999999998},{"$f":"IF(ISNUMBER(E3),((J3*E3)/C3)*N3,\"\")","v":1181.0106392276773},{"$f":"IF(ISNUMBER(F3),((K3*F3)/C3)*O3,\"\")","v":1181.0106392276773},1,1]
["Ø 50mm < Ledningsnet ≤ Ø110 mm","meter",{"$f":"Genanskaffelsespriser!E82","v":75},1448.0630784724133,1194.2497492484333,1194.2497492484333,{"$f":"IF($D4=\"\",IF($E4>0,\"Ny data\",IF($E4=\"\",\"\",0)),IF($D4=0,IF($E4=0,0,\"Ny data\"),($E4-$D4)/$D4))","v":-0.17527781282272042},{"$f":"IF($E4=\"\",IF($F4>0,\"Ny data\",IF($F4=\"\",\"\",0)),IF($E4=0,IF($F4=0,0,\"Ny data\"),($F4-$E4)/$E4))","v":0},"GIS opdatering",{"$f":"Genanskaffelsespriser!$D82","v":837.89599999999996},{"$f":"J4","v":837.89599999999996},{"$f":"IF(ISNUMBER(E4),((J4*E4)/C4)*N4,\"\")","v":13342.094505283536},{"$f":"IF(ISNUMBER(F4),((K4*F4)/C4)*O4,\"\")","v":13342.094505283536},1,1]
["Ø110 mm < Ledningsnet ≤ Ø 250 mm","meter",{"$f":"Genanskaffelsespriser!E83","v":75},713.15689897259131,767.00538012500715,772.95028661934032,7.5507200771657124E-2,7.7508015567821211E-3,"GIS opdatering",{"$f":"Genanskaffelsespriser!$D83","v":1568.981},1568.981,16045.558244185519,16169.924182003988,1,1]
["Ø 250 mm < Ledningsnet ≤ Ø 500mm","meter",{"$f":"Genanskaffelsespriser!E84","v":75},3494.7241140636356,613.87258969268839,615.18019002025267,-0.82434304693114024,2.1300842381948883E-3,"GIS opdatering",{"$f":"Genanskaffelsespriser!$D84","v":3052.9279999999999},3052.9279999999999,24988.117566737597,25041.344362108663,1,1]
["Ledningsnet > Ø 500 mm","meter",{"$f":"Genanskaffelsespriser!E85","v":75},null,86274.957706837304,86301.127456879476,"Ny data",3.03329618903985E-4,"ændret gruppering ift sidste indberetning",{"$f":"Genanskaffelsespriser!$D85","v":5963.7869999999994},5963.7869999999994,6860339.6159678139,6862420.5601690775,1,1]
["Støbejernsledninger ≤ Ø50 mm","meter",{"$f":"Genanskaffelsespriser!E86","v":100},130.88007427180025,130.88007427425765,130.88007427425765,1.8775950842358808E-11,0,null,{"$f":"Genanskaffelsespriser!$D86","v":932.26299999999992},932.26299999999992,1220.1465068314224,1220.1465068314224,1,1]
["Støbejernsledninger Ø 50mm < Ledningsnet ≤ Ø110 mm","meter",{"$f":"Genanskaffelsespriser!E87","v":100},222.88093209279972,36.638386141936643,36.638386141936643,-0.83561453284535925,0,"GIS opdatering",{"$f":"Genanskaffelsespriser!$D87","v":1091.961},1091.961,400.07688769935282,400.07688769935282,1,1]
["Støbejernsledninger Ø110 mm < Ledningsnet ≤ Ø 250 mm","meter",{"$f":"Genanskaffelsespriser!E88","v":100},558.07786966972492,317.7227515162711,317.7227515162711,-0.4306838368195785,0,"GIS opdatering",{"$f":"Genanskaffelsespriser!$D88","v":1545.1299999999999},1545.1299999999999,4909.229550503359,4909.229550503359,1,1]
["Støbejernsledninger Ø 250 mm < Ledningsnet ≤ Ø 500mm","meter",{"$f":"Genanskaffelsespriser!E89","v":100},129.00545962649986,29.824928755817705,29.824928755817705,-0.76880878652603024,0,"GIS opdatering",{"$f":"Genanskaffelsespriser!$D89","v":2864.194},2864.194,854.24381992840529,854.24381992840529,1,1]
["Støbejernsledninger Ledningsnet > Ø 500 mm","meter",{"$f":"Genanskaffelsespriser!E90","v":100},1286,890.86884350714661,890.86884350714661,-0.30725595372694664,0,"GIS opdatering",{"$f":"Genanskaffelsespriser!$D90","v":5686.9079999999994},5686.9079999999994,50662.891530915396,50662.891530915396,1,1]
["Eternitledninger ≤ Ø50 mm","meter",{"$f":"Genanskaffelsespriser!E91","v":75},null,null,null,"","",null,{"$f":"Genanskaffelsespriser!$D91","v":679.2349999999999},679.2349999999999,"","",1,1]
["Eternitledninger Ø 50mm < Ledningsnet ≤ Ø110 mm","meter",{"$f":"Genanskaffelsespriser!E92","v":75},null,null,null,"","",null,{"$f":"Genanskaffelsespriser!$D92","v":917.74499999999989},917.74499999999989,"","",1,1]
["Eternitledninger Ø110 mm < Ledningsnet ≤ Ø 250 mm","meter",{"$f":"Genanskaffelsespriser!E93","v":75},null,null,null,"","",null,{"$f":"Genanskaffelsespriser!$D93","v":1334.6189999999999},1334.6189999999999,"","",1,1]
["Eternitledninger Ø 250 mm < Ledningsnet ≤ Ø 500mm","meter",{"$f":"Genanskaffelsespriser!E94","v":75},null,321.41713809590601,321.41713809590601,"Ny data",0,"GIS opdatering",{"$f":"Genanskaffelsespriser!$D94","v":3169.0719999999997},3169.0719999999997,13581.254035464919,13581.254035464919,1,1]
["Eternitledninger Ledningsnet > Ø 500 mm","meter",{"$f":"Genanskaffelsespriser!E95","v":75},null,null,null,"","",null,{"$f":"Genanskaffelsespriser!$D95","v":8790.6489999999994},8790.6489999999994,"","",1,1]
["Skelbrønd, Konstruktioner","stk.",{"$f":"Genanskaffelsespriser!E96","v":50},null,null,null,"","",null,{"$f":"Genanskaffelsespriser!$D96","v":10800.355},10800.355,"","",1,1]
["Skelbrønd, Mek./EL","stk.",{"$f":"Genanskaffelsespriser!E97","v":15},null,null,null,"","",null,{"$f":"Genanskaffelsespriser!$D97","v":16201.050999999999},16201.050999999999,"","",1,1]
["Inspektionsbrønd, Konstruktioner","stk.",{"$f":"Genanskaffelsespriser!E98","v":50},1591,1616,1617,1.5713387806411062E-2,6.1881188118811882E-4,"nye brønde",{"$f":"Genanskaffelsespriser!$D98","v":10800.355},10800.355,349067.47359999997,349283.48070000001,1,1]
["Inspektionsbrønd, Mek./EL","stk.",{"$f":"Genanskaffelsespriser!E99","v":15},1591,1616,1617,1.5713387806411062E-2,6.1881188118811882E-4,"nye brønde",{"$f":"Genanskaffelsespriser!$D99","v":13500.703},13500.703,1454475.7365333333,1455375.7833999998,1,1]
["Stik på ledningsnet, Konstruktioner","stk.",{"$f":"Genanskaffelsespriser!E100","v":75},1838,1853,2043,8.1610446137105556E-3,0.1025364274150027,"nye stik",{"$f":"Genanskaffelsespriser!$D100","v":4896.7139999999999},4896.7139999999999,120981.48056,133386.48936000001,1,1]
["Stik på ledningsnet, Mek./EL","stk.",{"$f":"Genanskaffelsespriser!E101","v":75},1838,1853,2043,8.1610446137105556E-3,0.1025364274150027,"nye stik",{"$f":"Genanskaffelsespriser!$D101","v":4896.7139999999999},4896.7139999999999,120981.48056,133386.48936000001,1,1]
["Ledningsnet - By"]
["Ledningsnet ≤ Ø50 mm","meter",{"$f":"Genanskaffelsespriser!E103","v":75},1612.3986724063921,1564.0846552139053,1567.1830309972927,-2.9964064111006404E-2,1.980951461328445E-3,"GIS opdatering",{"$f":"Genanskaffelsespriser!$D103","v":674.05},{"$f":"J25","v":674.05},14056.950157959103,14084.796293916334,1,1]
["Ø 50mm < Ledningsnet ≤ Ø110 mm","meter",{"$f":"Genanskaffelsespriser!E104","v":75},38495.451139829929,40264.277554786888,40793.033801758167,4.5948972218351647E-2,1.3132142908855376E-2,"GIS opdatering",{"$f":"Genanskaffelsespriser!$D104","v":993.44599999999991},{"$f":"J26","v":993.44599999999991},533338.47306257079,540342.3501096192,1,1]
["Ø110 mm < Ledningsnet ≤ Ø 250 mm","meter",{"$f":"Genanskaffelsespriser!E105","v":75},52371.074112493843,53313.096538799495,53708.642002575449,1.7987456668965267E-2,7.4192926214310057E-3,"GIS opdatering",{"$f":"Genanskaffelsespriser!$D105","v":1746.3079999999998},1746.3079999999998,1241347.8265397048,1250557.7493097803,1,1]
["Ø 250 mm < Ledningsnet ≤ Ø 500mm","meter",{"$f":"Genanskaffelsespriser!E106","v":75},13484.427466845298,13474.312942804287,13476.541976648648,-7.5008924671666252E-4,1.6542838613171299E-4,"GIS opdatering",{"$f":"Genanskaffelsespriser!$D106","v":3269.6609999999996},3269.6609999999996,587419.14041176543,587516.31621214654,1,1]
["Ledningsnet > Ø 500 mm","meter",{"$f":"Genanskaffelsespriser!E107","v":75},null,81426.491838745307,81650.075203192682,"Ny data",2.7458307413041096E-3,"ændret gruppering ift sidste indberetning",{"$f":"Genanskaffelsespriser!$D107","v":6219.9259999999995},6219.9259999999995,6752890.0490213288,6771432.3421105789,1,1]
["Støbejernsledninger ≤ Ø50 mm","meter",{"$f":"Genanskaffelsespriser!E108","v":100},2830.9570812261572,2613.2578769869046,2613.2578769869046,-7.6899507125329392E-2,0,"GIS opdatering",{"$f":"Genanskaffelsespriser!$D108","v":1057.74},1057.74,27641.473868041285,27641.473868041285,1,1]
["Støbejernsledninger Ø 50mm < Ledningsnet ≤ Ø110 mm","meter",{"$f":"Genanskaffelsespriser!E109","v":100},121434.18966731369,119118.89812798663,119118.89812798663,-1.9066224641265683E-2,0,"GIS opdatering",{"$f":"Genanskaffelsespriser!$D109","v":1247.511},1247.511,1486021.3572254274,1486021.3572254274,1,1]
["Støbejernsledninger Ø110 mm < Ledningsnet ≤ Ø 250 mm","meter",{"$f":"Genanskaffelsespriser!E110","v":100},59314.677610777529,58309.919459171782,58309.919459171782,-1.6939452292044181E-2,0,"GIS opdatering",{"$f":"Genanskaffelsespriser!$D110","v":1722.4569999999999},1722.4569999999999,1004363.2894188665,1004363.2894188665,1,1]
["Støbejernsledninger Ø 250 mm < Ledningsnet ≤ Ø 500mm","meter",{"$f":"Genanskaffelsespriser!E111","v":100},10983.405873808906,10983.405873808912,10983.405873808912,4.9683752684131323E-16,0,null,{"$f":"Genanskaffelsespriser!$D111","v":3080.9269999999997},3080.9269999999997,338390.71708576463,338390.71708576463,1,1]
["Støbejernsledninger Ledningsnet > Ø 500 mm","meter",{"$f":"Genanskaffelsespriser!E112","v":100},17182,17157.413401543417,17172.879598748841,-1.430950905399987E-3,9.0142941966021449E-4,"GIS opdatering",{"$f":"Genanskaffelsespriser!$D112","v":5943.0469999999996},5943.0469999999996,1019673.1424380239,1020592.305807055,1,1]
["Eternitledninger ≤ Ø50 mm","meter",{"$f":"Genanskaffelsespriser!E113","v":75},null,null,null,"","",null,{"$f":"Genanskaffelsespriser!$D113","v":804.71199999999999},804.71199999999999,"","",1,1]
["Eternitledninger Ø 50mm < Ledningsnet ≤ Ø110 mm","meter",{"$f":"Genanskaffelsespriser!E114","v":75},3019.3518512735654,3019.3518512735654,3019.3518512735654,0,0,null,{"$f":"Genanskaffelsespriser!$D114","v":1073.2949999999998},1073.2949999999998,43208.736602835481,43208.736602835481,1,1]
["Eternitledninger Ø110 mm < Ledningsnet ≤ Ø 250 mm","meter",{"$f":"Genanskaffelsespriser!E115","v":75},461.16741847108773,461.16741847108784,461.16741847108784,2.4651966545798698E-16,0,null,{"$f":"Genanskaffelsespriser!$D115","v":1509.8719999999998},1509.8719999999998,9284.0502994903763,9284.0502994903763,1,1]
["Eternitledninger Ø 250 mm < Ledningsnet ≤ Ø 500mm","meter",{"$f":"Genanskaffelsespriser!E116","v":75},null,null,null,"","",null,{"$f":"Genanskaffelsespriser!$D116","v":3385.8049999999998},3385.8049999999998,"","",1,1]
["Eternitledninger Ledningsnet > Ø 500 mm","meter",{"$f":"Genanskaffelsespriser!E117","v":75},null,null,null,"","",null,{"$f":"Genanskaffelsespriser!$D117","v":9046.7879999999986},9046.7879999999986,"","",1,1]
["Skelbrønd, Konstruktioner","stk.",{"$f":"Genanskaffelsespriser!E118","v":50},null,null,null,"","",null,{"$f":"Genanskaffelsespriser!$D118","v":11880.909},11880.909,"","",1,1]
["Skelbrønd, Mek./EL","stk.",{"$f":"Genanskaffelsespriser!E119","v":15},null,null,null,"","",null,{"$f":"Genanskaffelsespriser!$D119","v":17820.844999999998},17820.844999999998,"","",1,1]
["Inspektionsbrønd, Konstruktioner","stk.",{"$f":"Genanskaffelsespriser!E120","v":50},591,590,590,-1.6920473773265651E-3,0,"GIS opdatering",{"$f":"Genanskaffelsespriser!$D120","v":11880.909},11880.909,140194.7262,140194.7262,1,1]
["Inspektionsbrønd, Mek./EL","stk.",{"$f":"Genanskaffelsespriser!E121","v":15},591,590,590,-1.6920473773265651E-3,0,"GIS opdatering",{"$f":"Genanskaffelsespriser!$D121","v":14850.876999999999},14850.876999999999,584134.49533333327,584134.49533333327,1,1]
["Stik på ledningsnet, Konstruktioner","stk.",{"$f":"Genanskaffelsespriser!E122","v":75},17523,17811,18036,1.6435541859270673E-2,1.2632642748863061E-2,"nye stik",{"$f":"Genanskaffelsespriser!$D122","v":5875.6419999999998},5875.6419999999998,1395347.4621600001,1412974.3881600001,1,1]
["Stik på ledningsnet, Mek./EL","stk.",{"$f":"Genanskaffelsespriser!E123","v":75},17523,17811,18036,1.6435541859270673E-2,1.2632642748863061E-2,"nye stik",{"$f":"Genanskaffelsespriser!$D123","v":5875.6419999999998},5875.6419999999998,1395347.4621600001,1412974.3881600001,1,1]
["Ledningsnet - City"]
["Ledningsnet ≤ Ø50 mm","meter",{"$f":"Genanskaffelsespriser!E125","v":75},764.58422709867136,771.24883100277793,771.24883100277805,8.7166379685811746E-3,1.474061718496226E-16,"GIS opdatering",{"$f":"Genanskaffelsespriser!$D125","v":1117.886},{"$f":"J47","v":1117.886},11495.576942591619,11495.576942591621,1,1]
["Ø 50mm < Ledningsnet ≤ Ø110 mm","meter",{"$f":"Genanskaffelsespriser!E126","v":75},27237.03966316301,28336.247790432502,29541.747473799478,4.0357107118220582E-2,4.2542671573263226E-2,"GIS opdatering",{"$f":"Genanskaffelsespriser!$D126","v":1550.3149999999998},{"$f":"J48","v":1550.3149999999998},585734.79990965815,610653.52313124575,1,1]
["Ø110 mm < Ledningsnet ≤ Ø 250 mm","meter",{"$f":"Genanskaffelsespriser!E127","v":75},47022.344683264455,47812.13486817274,48843.399197209437,1.6796061324210739E-2,2.1569091860886198E-2,"GIS opdatering",{"$f":"Genanskaffelsespriser!$D127","v":2273.1039999999998},2273.1039999999998,1449092.7335651056,1480348.3478503139,1,1]
["Ø 250 mm < Ledningsnet ≤ Ø 500mm","meter",{"$f":"Genanskaffelsespriser!E128","v":75},5351.5970891091984,5389.0264119612311,5390.9829908362353,6.994047240253487E-3,3.6306722688563307E-4,"GIS opdatering",{"$f":"Genanskaffelsespriser!$D128","v":3912.6009999999997},3912.6009999999997,281134.80171287898,281236.87254571792,1,1]
["Ledningsnet > Ø 500 mm","meter",{"$f":"Genanskaffelsespriser!E129","v":75},null,10856.912974435349,10917.408102982046,"Ny data",5.572037713588102E-3,"ændret gruppering ift sidste indberetning",{"$f":"Genanskaffelsespriser!$D129","v":6981.0839999999998},6981.0839999999998,1010573.6194029737,1016204.5737226442,1,1]
["Støbejernsledninger ≤ Ø50 mm","meter",{"$f":"Genanskaffelsespriser!E130","v":100},1263.0970006006346,1205.3488529810681,1205.3488529810681,-4.5719487570713688E-2,0,"GIS opdatering",{"$f":"Genanskaffelsespriser!$D130","v":1501.5759999999998},1501.5759999999998,18099.229092639001,18099.229092639001,1,1]
["Støbejernsledninger Ø 50mm < Ledningsnet ≤ Ø110 mm","meter",{"$f":"Genanskaffelsespriser!E131","v":100},83336.696981293237,80631.253382946117,80631.253382946161,-3.2464012810039924E-2,5.4142461953014792E-16,"GIS opdatering",{"$f":"Genanskaffelsespriser!$D131","v":1804.3799999999999},1804.3799999999999,1454894.209791203,1454894.2097912037,1,1]
["Støbejernsledninger Ø110 mm < Ledningsnet ≤ Ø 250 mm","meter",{"$f":"Genanskaffelsespriser!E132","v":100},41223.92110436783,40159.183713202729,40159.183713202707,-2.5828144500603757E-2,-5.4353377793817426E-16,"GIS opdatering",{"$f":"Genanskaffelsespriser!$D132","v":2249.2529999999997},2249.2529999999997,903281.64444472361,903281.64444472315,1,1]
["Støbejernsledninger Ø 250 mm < Ledningsnet ≤ Ø 500mm","meter",{"$f":"Genanskaffelsespriser!E133","v":100},8435.9413089176724,8423.7902434821699,8423.7902434821699,-1.4403923629313913E-3,0,"GIS opdatering",{"$f":"Genanskaffelsespriser!$D133","v":3723.8669999999997},3723.8669999999997,313690.74502625217,313690.74502625217,1,1]
["Støbejernsledninger Ledningsnet > Ø 500 mm","meter",{"$f":"Genanskaffelsespriser!E134","v":100},7797.532065332427,7771.2713099015627,7796.3330538147311,-3.3678291042391127E-3,3.2249220125974225E-3,"GIS opdatering",{"$f":"Genanskaffelsespriser!$D134","v":6704.2049999999999},6704.2049999999999,521001.95972198603,522682.15041049989,1,1]
["Eternitledninger ≤ Ø50 mm","meter",{"$f":"Genanskaffelsespriser!E135","v":75},null,null,null,"","",null,{"$f":"Genanskaffelsespriser!$D135","v":1248.548},1248.548,"","",1,1]
["Eternitledninger Ø 50mm < Ledningsnet ≤ Ø110 mm","meter",{"$f":"Genanskaffelsespriser!E136","v":75},440.15699748189837,440.15699748189837,440.15699748189837,0,0,null,{"$f":"Genanskaffelsespriser!$D136","v":1630.164},1630.164,9567.0412219077516,9567.0412219077516,1,1]
["Eternitledninger Ø110 mm < Ledningsnet ≤ Ø 250 mm","meter",{"$f":"Genanskaffelsespriser!E137","v":75},735.0262490604407,735.02624906044082,735.02624906044082,1.5467044594249265E-16,0,null,{"$f":"Genanskaffelsespriser!$D137","v":2038.7419999999997},2038.7419999999997,19980.385134159747,19980.385134159747,1,1]
["Eternitledninger Ø 250 mm < Ledningsnet ≤ Ø 500mm","meter",{"$f":"Genanskaffelsespriser!E138","v":75},null,null,null,"","",null,{"$f":"Genanskaffelsespriser!$D138","v":4028.7449999999999},4028.7449999999999,"","",1,1]
["Eternitledninger Ledningsnet > Ø 500 mm","meter",{"$f":"Genanskaffelsespriser!E139","v":75},null,null,null,"","",null,{"$f":"Genanskaffelsespriser!$D139","v":9807.9459999999999},9807.9459999999999,"","",1,1]
["Skelbrønd, Konstruktioner","stk.",{"$f":"Genanskaffelsespriser!E140","v":50},null,null,null,"","",null,{"$f":"Genanskaffelsespriser!$D140","v":12960.425999999999},12960.425999999999,"","",1,1]
["Skelbrønd, Mek./EL","stk.",{"$f":"Genanskaffelsespriser!E141","v":15},null,null,null,"","",null,{"$f":"Genanskaffelsespriser!$D141","v":19440.638999999999},19440.638999999999,"","",1,1]
["Inspektionsbrønd, Konstruktioner","stk.",{"$f":"Genanskaffelsespriser!E142","v":50},72,72,72,0,0,null,{"$f":"Genanskaffelsespriser!$D142","v":12960.425999999999},12960.425999999999,18663.013439999999,18663.013439999999,1,1]
["Inspektionsbrønd, Mek./EL","stk.",{"$f":"Genanskaffelsespriser!E143","v":15},72,72,72,0,0,null,{"$f":"Genanskaffelsespriser!$D143","v":16201.050999999999},16201.050999999999,77765.044800000003,77765.044800000003,1,1]
["Stik på ledningsnet, Konstruktioner","stk.",{"$f":"Genanskaffelsespriser!E144","v":75},12757,13013,13448,2.0067413968801441E-2,3.3428110351187278E-2,"nye stik",{"$f":"Genanskaffelsespriser!$D144","v":6366.1429999999991},6366.1429999999991,1104568.2514533331,1141491.8808533333,1,1]
["Stik på ledningsnet, Mek./EL","stk.",{"$f":"Genanskaffelsespriser!E145","v":75},12757,13013,13448,2.0067413968801441E-2,3.3428110351187278E-2,"nye stik",{"$f":"Genanskaffelsespriser!$D145","v":6366.1429999999991},6366.1429999999991,1104568.2514533331,1141491.8808533333,1,1]
["Ledningsnet - Indre city"]
["Ledningsnet ≤ Ø50 mm","meter",{"$f":"Genanskaffelsespriser!E147","v":75},1284.5535890554522,1283.9340931858987,1283.9340931858985,{"$f":"IF($D69=\"\",IF($E69>0,\"Ny data\",IF($E69=\"\",\"\",0)),IF($D69=0,IF($E69=0,0,\"Ny data\"),($E69-$D69)/$D69))","v":-4.8226549272187074E-4},{"$f":"IF($E69=\"\",IF($F69>0,\"Ny data\",IF($F69=\"\",\"\",0)),IF($E69=0,IF($F69=0,0,\"Ny data\"),($F69-$E69)/$E69))","v":-1.7709139172325958E-16},"GIS opdatering",{"$f":"Genanskaffelsespriser!$D147","v":1759.7889999999998},{"$f":"J69","v":1759.7889999999998},{"$f":"IF(ISNUMBER(E69),((J69*E69)/C69)*N69,\"\")","v":30126.041252180257},{"$f":"IF(ISNUMBER(F69),((K69*F69)/C69)*O69,\"\")","v":30126.04125218025},1,1]
["Ø 50mm < Ledningsnet ≤ Ø110 mm","meter",{"$f":"Genanskaffelsespriser!E148","v":75},62833.491092891352,64679.615447762764,67675.665084173772,2.9381215698203862E-2,4.6321389137365991E-2,"GIS opdatering",{"$f":"Genanskaffelsespriser!$D148","v":2351.9159999999997},{"$f":"J70","v":2351.9159999999997},2028280.2992725384,2122233.0602947949,1,1]
["Ø110 mm < Ledningsnet ≤ Ø 250 mm","meter",{"$f":"Genanskaffelsespriser!E149","v":75},50560.049881967738,51056.718644214685,53060.725813190293,9.8233439920731615E-3,3.9250606427342051E-2,"GIS opdatering",{"$f":"Genanskaffelsespriser!$D149","v":3120.3329999999996},3120.3329999999996,2124186.1874301108,2207561.7834513262,1,1]
["Ø 250 mm < Ledningsnet ≤ Ø 500mm","meter",{"$f":"Genanskaffelsespriser!E150","v":75},6487.2200268843235,6487.1559477635419,6491.318953836254,-9.8777474042832528E-6,6.4173053742407017E-4,"GIS opdatering",{"$f":"Genanskaffelsespriser!$D150","v":4949.6009999999997},4949.6009999999997,428117.78088275163,428392.51713635831,1,1]
["Ledningsnet > Ø 500 mm","meter",{"$f":"Genanskaffelsespriser!E151","v":75},null,18110.22343880374,18125.013005216784,"Ny data",8.1664185221237576E-4,"ændret gruppering ift sidste indberetning",{"$f":"Genanskaffelsespriser!$D151","v":8207.8549999999996},8207.8549999999996,1981947.8400440328,1983566.3815991147,1,1]
["Støbejernsledninger ≤ Ø50 mm","meter",{"$f":"Genanskaffelsespriser!E152","v":100},1317.0564627528131,1312.141793662601,1312.141793662601,-3.7315553502845476E-3,0,"GIS opdatering",{"$f":"Genanskaffelsespriser!$D152","v":2143.4789999999998},2143.4789999999998,28125.483797381181,28125.483797381181,1,1]
["Støbejernsledninger Ø 50mm < Ledningsnet ≤ Ø110 mm","meter",{"$f":"Genanskaffelsespriser!E153","v":100},117882.52662607912,113394.15450854821,113395.39905640754,-3.8074956874380027E-2,1.0975414603362219E-5,"GIS opdatering",{"$f":"Genanskaffelsespriser!$D153","v":2605.9809999999998},2605.9809999999998,2955030.1216034098,2955062.5542841596,1,1]
["Støbejernsledninger Ø110 mm < Ledningsnet ≤ Ø 250 mm","meter",{"$f":"Genanskaffelsespriser!E154","v":100},70859.436900985645,69099.457685100802,69099.457685100788,-2.4837612220149637E-2,-2.1059376897981835E-16,"GIS opdatering",{"$f":"Genanskaffelsespriser!$D154","v":3096.482},3096.482,2139652.2693167632,2139652.2693167627,1,1]
["Støbejernsledninger Ø 250 mm < Ledningsnet ≤ Ø 500mm","meter",{"$f":"Genanskaffelsespriser!E155","v":100},17638.608389408877,17631.025055489961,17632.978825014117,-4.2992812990106196E-4,1.1081429003742019E-4,"GIS opdatering",{"$f":"Genanskaffelsespriser!$D155","v":4760.8669999999993},4760.8669999999993,839389.65362855315,839482.66999708477,1,1]
["Støbejernsledninger Ledningsnet > Ø 500 mm","meter",{"$f":"Genanskaffelsespriser!E156","v":100},11058.967920666299,11036.26793208782,11036.267932087821,-2.0526317411644402E-3,1.6481925001631813E-16,"GIS opdatering",{"$f":"Genanskaffelsespriser!$D156","v":7930.9759999999997},7930.9759999999997,875283.76098958123,875283.76098958135,1,1]
["Eternitledninger ≤ Ø50 mm","meter",{"$f":"Genanskaffelsespriser!E157","v":75},null,null,null,"","",null,{"$f":"Genanskaffelsespriser!$D157","v":1890.4509999999998},1890.4509999999998,"","",1,1]
["Eternitledninger Ø 50mm < Ledningsnet ≤ Ø110 mm","meter",{"$f":"Genanskaffelsespriser!E158","v":75},null,null,null,"","",null,{"$f":"Genanskaffelsespriser!$D158","v":2431.7649999999999},2431.7649999999999,"","",1,1]
["Eternitledninger Ø110 mm < Ledningsnet ≤ Ø 250 mm","meter",{"$f":"Genanskaffelsespriser!E159","v":75},null,null,null,"","",null,{"$f":"Genanskaffelsespriser!$D159","v":2885.971},2885.971,"","",1,1]
["Eternitledninger Ø 250 mm < Ledningsnet ≤ Ø 500mm","meter",{"$f":"Genanskaffelsespriser!E160","v":75},null,null,null,"","",null,{"$f":"Genanskaffelsespriser!$D160","v":5065.7449999999999},5065.7449999999999,"","",1,1]
["Eternitledninger Ledningsnet > Ø 500 mm","meter",{"$f":"Genanskaffelsespriser!E161","v":75},null,null,null,"","",null,{"$f":"Genanskaffelsespriser!$D161","v":11034.716999999999},11034.716999999999,"","",1,1]
["Skelbrønd, Konstruktioner","stk.",{"$f":"Genanskaffelsespriser!E162","v":50},null,null,null,"","",null,{"$f":"Genanskaffelsespriser!$D162","v":14040.98},14040.98,"","",1,1]
["Skelbrønd, Mek./EL","stk.",{"$f":"Genanskaffelsespriser!E163","v":15},null,null,null,"","",null,{"$f":"Genanskaffelsespriser!$D163","v":21061.469999999998},21061.469999999998,"","",1,1]
["Inspektionsbrønd, Konstruktioner","stk.",{"$f":"Genanskaffelsespriser!E164","v":50},95,95,95,0,0,null,{"$f":"Genanskaffelsespriser!$D164","v":14040.98},14040.98,26677.861999999997,26677.861999999997,1,1]
["Inspektionsbrønd, Mek./EL","stk.",{"$f":"Genanskaffelsespriser!E165","v":15},95,95,95,0,0,null,{"$f":"Genanskaffelsespriser!$D165","v":17551.224999999999},17551.224999999999,111157.75833333332,111157.75833333332,1,1]
["Stik på ledningsnet, Konstruktioner","stk.",{"$f":"Genanskaffelsespriser!E166","v":75},18726,18937,19760,1.126775606109153E-2,4.3459893330516974E-2,null,{"$f":"Genanskaffelsespriser!$D166","v":7834.5349999999999},7834.5349999999999,1978167.8572666666,2064138.8213333332,1,1]
["Stik på ledningsnet, Mek./EL","stk.",{"$f":"Genanskaffelsespriser!E167","v":75},18726,18937,19760,1.126775606109153E-2,4.3459893330516974E-2,null,{"$f":"Genanskaffelsespriser!$D167","v":7834.5349999999999},7834.5349999999999,1978167.8572666666,2064138.8213333332,1,1]
["Ventiler"]
["Ventiler på ledningsnet ≤ Ø50 mm","stk.",{"$f":"Genanskaffelsespriser!E169","v":75},471,465,469,-1.2738853503184714E-2,8.6021505376344086E-3,"GIS opdatering",{"$f":"Genanskaffelsespriser!$D169","v":8018.0839999999998},{"$f":"J91","v":8018.0839999999998},49712.120800000004,50139.751946666664,1,1]
["Ventiler på Ø 50mm < Ledningsnet ≤ Ø110 mm","stk.",{"$f":"Genanskaffelsespriser!E170","v":75},3252,3192,3297,-1.8450184501845018E-2,3.2894736842105261E-2,"GIS opdatering",{"$f":"Genanskaffelsespriser!$D170","v":9312.2599999999984},{"$f":"J92","v":9312.2599999999984},396329.78559999994,409366.94959999993,1,1]
["Ventiler på Ø110 mm < Ledningsnet ≤ Ø 250 mm","stk.",{"$f":"Genanskaffelsespriser!E171","v":75},4881,4801,4869,-1.6390083999180495E-2,1.4163715892522391E-2,"GIS opdatering",{"$f":"Genanskaffelsespriser!$D171","v":22540.232},22540.232,1442875.3844266667,1463311.8614399999,1,1]
["Ventiler på Ø 250 mm < Ledningsnet ≤ Ø 500mm","stk.",{"$f":"Genanskaffelsespriser!E172","v":75},440,432,435,{"$f":"IF($D94=\"\",IF($E94>0,\"Ny data\",IF($E94=\"\",\"\",0)),IF($D94=0,IF($E94=0,0,\"Ny data\"),($E94-$D94)/$D94))","v":-1.8181818181818181E-2},{"$f":"IF($E94=\"\",IF($F94>0,\"Ny data\",IF($F94=\"\",\"\",0)),IF($E94=0,IF($F94=0,0,\"Ny data\"),($F94-$E94)/$E94))","v":6.9444444444444441E-3},"GIS opdatering",{"$f":"Genanskaffelsespriser!$D172","v":81196.062999999995},81196.062999999995,467689.32287999999,470937.1654,1,1]
["Ventiler på ledningsnet > Ø 500 mm","stk.",{"$f":"Genanskaffelsespriser!E173","v":75},339,319,326,-5.8997050147492625E-2,2.1943573667711599E-2,"GIS opdatering",{"$f":"Genanskaffelsespriser!$D173","v":232011.12099999998},232011.12099999998,986820.63465333323,1008475.0059466666,1,1]
["Pumpestationer, bygværker og bassiner 1"]
["Pumpestation (inkl. evt. hydrofor)/trykforøger, Konstruktioner","m³/h ",{"$f":"+Genanskaffelsespriser!$E$175","v":50},null,75,75,"Ny data",0,"fejl ikke med tidligere",{"$f":"IF(E97=0,\"Variabel pris\",IFERROR((HLOOKUP(E97,'Variable priser'!$C$103:$F$105,2)+(E97-HLOOKUP(E97,'Variable priser'!$C$103:$F$105,1))*HLOOKUP(E97,'Variable priser'!$C$103:$F$105,3))*'Variable priser'!$I$102/E97*(1+Genanskaffelsespriser!$D$203),\"Fejl\"))","v":1275.16390125},{"$f":"IF(F97=0,\"Variabel pris\",IFERROR((HLOOKUP(F97,'Variable priser'!$C$103:$F$105,2)+(F97-HLOOKUP(F97,'Variable priser'!$C$103:$F$105,1))*HLOOKUP(F97,'Variable priser'!$C$103:$F$105,3))*'Variable priser'!$I$102/F97*(1+Genanskaffelsespriser!$D$203),\"Fejl\"))","v":1275.16390125},{"$f":"IF(ISBLANK(E97),\"\",IF(E97=0,\"\",IF(ISNUMBER(E97),((J97*E97)/$C97)*N97,\"\")))","v":1912.745851875},{"$f":"IF(ISBLANK(F97),\"\",IF(F97=0,\"\",IF(ISNUMBER(F97),((K97*F97)/$C97)*O97,\"\")))","v":1912.745851875},1,1]
["Pumpestation (inkl. evt. hydrofor)/trykforøger, Mek./EL","m³/h ",{"$f":"+Genanskaffelsespriser!$E$176","v":25},0,75,75,"Ny data",0,"Islevbro - Kildeplads VI",{"$f":"IF(E98=0,\"Variabel pris\",IFERROR((HLOOKUP(E98,'Variable priser'!$C$103:$F$105,2)+(E98-HLOOKUP(E98,'Variable priser'!$C$103:$F$105,1))*HLOOKUP(E98,'Variable priser'!$C$103:$F$105,3))*'Variable priser'!$J$102/E98*(1+Genanskaffelsespriser!$D$203),\"Fejl\"))","v":3315.4261432499998},{"$f":"IF(F98=0,\"Variabel pris\",IFERROR((HLOOKUP(F98,'Variable priser'!$C$103:$F$105,2)+(F98-HLOOKUP(F98,'Variable priser'!$C$103:$F$105,1))*HLOOKUP(F98,'Variable priser'!$C$103:$F$105,3))*'Variable priser'!$J$102/F98*(1+Genanskaffelsespriser!$D$203),\"Fejl\"))","v":3315.4261432499998},{"$f":"IF(ISBLANK(E98),\"\",IF(E98=0,\"\",IF(ISNUMBER(E98),((J98*E98)/$C98)*N97,\"\")))","v":9946.2784297499984},{"$f":"IF(ISBLANK(F98),\"\",IF(F98=0,\"\",IF(ISNUMBER(F98),((K98*F98)/$C98)*O97,\"\")))","v":9946.2784297499984},1,1]
["Pumpestation (inkl. evt. hydrofor)/trykforøger, SRO","m³/h ",{"$f":"+Genanskaffelsespriser!$E$177","v":10},0,75,75,"Ny data",0,"fejl ikke med tidligere",{"$f":"IF(E99=0,\"Variabel pris\",IFERROR((HLOOKUP(E99,'Variable priser'!$C$103:$F$105,2)+(E99-HLOOKUP(E99,'Variable priser'!$C$103:$F$105,1))*HLOOKUP(E99,'Variable priser'!$C$103:$F$105,3))*'Variable priser'!$L$102/E99*(1+Genanskaffelsespriser!$D$203),\"Fejl\"))","v":510.0655605},{"$f":"IF(F99=0,\"Variabel pris\",IFERROR((HLOOKUP(F99,'Variable priser'!$C$103:$F$105,2)+(F99-HLOOKUP(F99,'Variable priser'!$C$103:$F$105,1))*HLOOKUP(F99,'Variable priser'!$C$103:$F$105,3))*'Variable priser'!$L$102/F99*(1+Genanskaffelsespriser!$D$203),\"Fejl\"))","v":510.0655605},{"$f":"IF(ISBLANK(E99),\"\",IF(E99=0,\"\",IF(ISNUMBER(E99),((J99*E99)/$C99)*N97,\"\")))","v":3825.4917037500004},{"$f":"IF(ISBLANK(F99),\"\",IF(F99=0,\"Samlet mængde kan ikke være nul i 2025\",IF(ISNUMBER(F99),((K99*F99)/$C99)*O97,\"\")))","v":3825.4917037500004},1,1]
["Beholderanlæg - højdebeholder","m³",{"$f":"+Genanskaffelsespriser!$E$178","v":50},null,null,null,"","",null,{"$f":"IF(E100=0,\"Variabel pris\",IFERROR((HLOOKUP(E100,'Variable priser'!$C$48:$H$50,2)+(E100-HLOOKUP(E100,'Variable priser'!$C$48:$H$50,1))*HLOOKUP(E100,'Variable priser'!$C$48:$H$50,3))/E100*(1+Genanskaffelsespriser!$D$203),\"Fejl\"))","v":"Variabel pris"},{"$f":"IF(F100=0,\"Variabel pris\",IFERROR((HLOOKUP(F100,'Variable priser'!$C$48:$H$50,2)+(F100-HLOOKUP(F100,'Variable priser'!$C$48:$H$50,1))*HLOOKUP(F100,'Variable priser'!$C$48:$H$50,3))/F100*(1+Genanskaffelsespriser!$D$203),\"Fejl\"))","v":"Variabel pris"},{"$f":"IF(ISBLANK(E100),\"\",IF(E100=0,\"\",IF(ISNUMBER(E100),((J100*E100)/$C100)*N97,\"\")))","v":""},{"$f":"IF(ISBLANK(F100),\"\",IF(F100=0,\"\",IF(ISNUMBER(F100),((K100*F100)/$C100)*O97,\"\")))","v":""},1,1]
["Beholderanlæg - vandtårn","m³",{"$f":"+Genanskaffelsespriser!$E$179","v":50},null,null,null,"","",null,{"$f":"IF(E101=0,\"Variabel pris\",IFERROR((HLOOKUP(E101,'Variable priser'!$C$55:$H$57,2)+(E101-HLOOKUP(E101,'Variable priser'!$C$55:$H$57,1))*HLOOKUP(E101,'Variable priser'!$C$55:$H$57,3))/E101*(1+Genanskaffelsespriser!$D$203),\"Fejl\"))","v":"Variabel pris"},{"$f":"IF(F101=0,\"Variabel pris\",IFERROR((HLOOKUP(F101,'Variable priser'!$C$55:$H$57,2)+(F101-HLOOKUP(F101,'Variable priser'!$C$55:$H$57,1))*HLOOKUP(F101,'Variable priser'!$C$55:$H$57,3))/F101*(1+Genanskaffelsespriser!$D$203),\"Fejl\"))","v":"Variabel pris"},{"$f":"IF(ISBLANK(E101),\"\",IF(E101=0,\"\",IF(ISNUMBER(E101),((J101*E101)/$C101)*N97,\"\")))","v":""},{"$f":"IF(ISBLANK(F101),\"\",IF(F101=0,\"\",IF(ISNUMBER(F101),((K101*F101)/$C101)*O97,\"\")))","v":""},1,1]
["Pumpestationer, bygværker og bassiner 2"]
["Pumpestation (inkl. evt. hydrofor)/trykforøger, Konstruktioner","m³/h ",{"$f":"+Genanskaffelsespriser!$E$175","v":50},null,1400,1400,"Ny data",0,"Lejre - Hulemølle boosterstation",{"$f":"IF(E103=0,\"Variabel pris\",IFERROR((HLOOKUP(E103,'Variable priser'!$C$103:$F$105,2)+(E103-HLOOKUP(E103,'Variable priser'!$C$103:$F$105,1))*HLOOKUP(E103,'Variable priser'!$C$103:$F$105,3))*'Variable priser'!$I$102/E103*(1+Genanskaffelsespriser!$D$203),\"Fejl\"))","v":781.65583272321419},{"$f":"IF(F103=0,\"Variabel pris\",IFERROR((HLOOKUP(F103,'Variable priser'!$C$103:$F$105,2)+(F103-HLOOKUP(F103,'Variable priser'!$C$103:$F$105,1))*HLOOKUP(F103,'Variable priser'!$C$103:$F$105,3))*'Variable priser'!$I$102/F103*(1+Genanskaffelsespriser!$D$203),\"Fejl\"))","v":781.65583272321419},{"$f":"IF(ISBLANK(E103),\"\",IF(E103=0,\"\",IF(ISNUMBER(E103),((J103*E103)/$C103)*N103,\"\")))","v":21886.363316249997},{"$f":"IF(ISBLANK(F103),\"\",IF(F103=0,\"\",IF(ISNUMBER(F103),((K103*F103)/$C103)*O103,\"\")))","v":21886.363316249997},1,1]
["Pumpestation (inkl. evt. hydrofor)/trykforøger, Mek./EL","m³/h ",{"$f":"+Genanskaffelsespriser!$E$176","v":25},0,1400,1400,"Ny data",0,"Lejre - Hulemølle boosterstation",{"$f":"IF(E104=0,\"Variabel pris\",IFERROR((HLOOKUP(E104,'Variable priser'!$C$103:$F$105,2)+(E104-HLOOKUP(E104,'Variable priser'!$C$103:$F$105,1))*HLOOKUP(E104,'Variable priser'!$C$103:$F$105,3))*'Variable priser'!$J$102/E104*(1+Genanskaffelsespriser!$D$203),\"Fejl\"))","v":2032.3051650803568},{"$f":"IF(F104=0,\"Variabel pris\",IFERROR((HLOOKUP(F104,'Variable priser'!$C$103:$F$105,2)+(F104-HLOOKUP(F104,'Variable priser'!$C$103:$F$105,1))*HLOOKUP(F104,'Variable priser'!$C$103:$F$105,3))*'Variable priser'!$J$102/F104*(1+Genanskaffelsespriser!$D$203),\"Fejl\"))","v":2032.3051650803568},{"$f":"IF(ISBLANK(E104),\"\",IF(E104=0,\"\",IF(ISNUMBER(E104),((J104*E104)/$C104)*N103,\"\")))","v":113809.08924449999},{"$f":"IF(ISBLANK(F104),\"\",IF(F104=0,\"\",IF(ISNUMBER(F104),((K104*F104)/$C104)*O103,\"\")))","v":113809.08924449999},1,1]
["Pumpestation (inkl. evt. hydrofor)/trykforøger, SRO","m³/h ",{"$f":"+Genanskaffelsespriser!$E$177","v":10},0,1400,1400,"Ny data",0,"Lejre - Hulemølle boosterstation",{"$f":"IF(E105=0,\"Variabel pris\",IFERROR((HLOOKUP(E105,'Variable priser'!$C$103:$F$105,2)+(E105-HLOOKUP(E105,'Variable priser'!$C$103:$F$105,1))*HLOOKUP(E105,'Variable priser'!$C$103:$F$105,3))*'Variable priser'!$L$102/E105*(1+Genanskaffelsespriser!$D$203),\"Fejl\"))","v":312.66233308928571},{"$f":"IF(F105=0,\"Variabel pris\",IFERROR((HLOOKUP(F105,'Variable priser'!$C$103:$F$105,2)+(F105-HLOOKUP(F105,'Variable priser'!$C$103:$F$105,1))*HLOOKUP(F105,'Variable priser'!$C$103:$F$105,3))*'Variable priser'!$L$102/F105*(1+Genanskaffelsespriser!$D$203),\"Fejl\"))","v":312.66233308928571},{"$f":"IF(ISBLANK(E105),\"\",IF(E105=0,\"\",IF(ISNUMBER(E105),((J105*E105)/$C105)*N103,\"\")))","v":43772.726632499995},{"$f":"IF(ISBLANK(F105),\"\",IF(F105=0,\"Samlet mængde kan ikke være nul i 2025\",IF(ISNUMBER(F105),((K105*F105)/$C105)*O103,\"\")))","v":43772.726632499995},1,1]
["Beholderanlæg - højdebeholder","m³",{"$f":"+Genanskaffelsespriser!$E$178","v":50},null,null,null,"","",null,{"$f":"IF(E106=0,\"Variabel pris\",IFERROR((HLOOKUP(E106,'Variable priser'!$C$48:$H$50,2)+(E106-HLOOKUP(E106,'Variable priser'!$C$48:$H$50,1))*HLOOKUP(E106,'Variable priser'!$C$48:$H$50,3))/E106*(1+Genanskaffelsespriser!$D$203),\"Fejl\"))","v":"Variabel pris"},{"$f":"IF(F106=0,\"Variabel pris\",IFERROR((HLOOKUP(F106,'Variable priser'!$C$48:$H$50,2)+(F106-HLOOKUP(F106,'Variable priser'!$C$48:$H$50,1))*HLOOKUP(F106,'Variable priser'!$C$48:$H$50,3))/F106*(1+Genanskaffelsespriser!$D$203),\"Fejl\"))","v":"Variabel pris"},{"$f":"IF(ISBLANK(E106),\"\",IF(E106=0,\"\",IF(ISNUMBER(E106),((J106*E106)/$C106)*N103,\"\")))","v":""},{"$f":"IF(ISBLANK(F106),\"\",IF(F106=0,\"\",IF(ISNUMBER(F106),((K106*F106)/$C106)*O103,\"\")))","v":""},1,1]
["Beholderanlæg - vandtårn","m³",{"$f":"+Genanskaffelsespriser!$E$179","v":50},null,null,null,"","",null,{"$f":"IF(E107=0,\"Variabel pris\",IFERROR((HLOOKUP(E107,'Variable priser'!$C$55:$H$57,2)+(E107-HLOOKUP(E107,'Variable priser'!$C$55:$H$57,1))*HLOOKUP(E107,'Variable priser'!$C$55:$H$57,3))/E107*(1+Genanskaffelsespriser!$D$203),\"Fejl\"))","v":"Variabel pris"},{"$f":"IF(F107=0,\"Variabel pris\",IFERROR((HLOOKUP(F107,'Variable priser'!$C$55:$H$57,2)+(F107-HLOOKUP(F107,'Variable priser'!$C$55:$H$57,1))*HLOOKUP(F107,'Variable priser'!$C$55:$H$57,3))/F107*(1+Genanskaffelsespriser!$D$203),\"Fejl\"))","v":"Variabel pris"},{"$f":"IF(ISBLANK(E107),\"\",IF(E107=0,\"\",IF(ISNUMBER(E107),((J107*E107)/$C107)*N103,\"\")))","v":""},{"$f":"IF(ISBLANK(F107),\"\",IF(F107=0,\"\",IF(ISNUMBER(F107),((K107*F107)/$C107)*O103,\"\")))","v":""},1,1]
["Pumpestationer, bygværker og bassiner 3"]
["Pumpestation (inkl. evt. hydrofor)/trykforøger, Konstruktioner","m³/h ",{"$f":"+Genanskaffelsespriser!$E$175","v":50},null,null,null,"","",null,{"$f":"IF(E109=0,\"Variabel pris\",IFERROR((HLOOKUP(E109,'Variable priser'!$C$103:$F$105,2)+(E109-HLOOKUP(E109,'Variable priser'!$C$103:$F$105,1))*HLOOKUP(E109,'Variable priser'!$C$103:$F$105,3))*'Variable priser'!$I$102/E109*(1+Genanskaffelsespriser!$D$203),\"Fejl\"))","v":"Variabel pris"},{"$f":"IF(F109=0,\"Variabel pris\",IFERROR((HLOOKUP(F109,'Variable priser'!$C$103:$F$105,2)+(F109-HLOOKUP(F109,'Variable priser'!$C$103:$F$105,1))*HLOOKUP(F109,'Variable priser'!$C$103:$F$105,3))*'Variable priser'!$I$102/F109*(1+Genanskaffelsespriser!$D$203),\"Fejl\"))","v":"Variabel pris"},{"$f":"IF(ISBLANK(E109),\"\",IF(E109=0,\"\",IF(ISNUMBER(E109),((J109*E109)/$C109)*N109,\"\")))","v":""},{"$f":"IF(ISBLANK(F109),\"\",IF(F109=0,\"\",IF(ISNUMBER(F109),((K109*F109)/$C109)*O109,\"\")))","v":""},1,1]
["Pumpestation (inkl. evt. hydrofor)/trykforøger, Mek./EL","m³/h ",{"$f":"+Genanskaffelsespriser!$E$176","v":25},0,0,0,0,0,"revet ned",{"$f":"IF(E110=0,\"Variabel pris\",IFERROR((HLOOKUP(E110,'Variable priser'!$C$103:$F$105,2)+(E110-HLOOKUP(E110,'Variable priser'!$C$103:$F$105,1))*HLOOKUP(E110,'Variable priser'!$C$103:$F$105,3))*'Variable priser'!$J$102/E110*(1+Genanskaffelsespriser!$D$203),\"Fejl\"))","v":"Variabel pris"},{"$f":"IF(F110=0,\"Variabel pris\",IFERROR((HLOOKUP(F110,'Variable priser'!$C$103:$F$105,2)+(F110-HLOOKUP(F110,'Variable priser'!$C$103:$F$105,1))*HLOOKUP(F110,'Variable priser'!$C$103:$F$105,3))*'Variable priser'!$J$102/F110*(1+Genanskaffelsespriser!$D$203),\"Fejl\"))","v":"Variabel pris"},{"$f":"IF(ISBLANK(E110),\"\",IF(E110=0,\"\",IF(ISNUMBER(E110),((J110*E110)/$C110)*N109,\"\")))","v":""},{"$f":"IF(ISBLANK(F110),\"\",IF(F110=0,\"\",IF(ISNUMBER(F110),((K110*F110)/$C110)*O109,\"\")))","v":""},1,1]
["Pumpestation (inkl. evt. hydrofor)/trykforøger, SRO","m³/h ",{"$f":"+Genanskaffelsespriser!$E$177","v":10},0,0,0,0,0,"revet ned",{"$f":"IF(E111=0,\"Variabel pris\",IFERROR((HLOOKUP(E111,'Variable priser'!$C$103:$F$105,2)+(E111-HLOOKUP(E111,'Variable priser'!$C$103:$F$105,1))*HLOOKUP(E111,'Variable priser'!$C$103:$F$105,3))*'Variable priser'!$L$102/E111*(1+Genanskaffelsespriser!$D$203),\"Fejl\"))","v":"Variabel pris"},{"$f":"IF(F111=0,\"Variabel pris\",IFERROR((HLOOKUP(F111,'Variable priser'!$C$103:$F$105,2)+(F111-HLOOKUP(F111,'Variable priser'!$C$103:$F$105,1))*HLOOKUP(F111,'Variable priser'!$C$103:$F$105,3))*'Variable priser'!$L$102/F111*(1+Genanskaffelsespriser!$D$203),\"Fejl\"))","v":"Variabel pris"},{"$f":"IF(ISBLANK(E111),\"\",IF(E111=0,\"\",IF(ISNUMBER(E111),((J111*E111)/$C111)*N109,\"\")))","v":""},{"$f":"IF(ISBLANK(F111),\"\",IF(F111=0,\"Samlet mængde kan ikke være nul i 2025\",IF(ISNUMBER(F111),((K111*F111)/$C111)*O109,\"\")))","v":"Samlet mængde kan ikke være nul i 2025"},1,1]
["Beholderanlæg - højdebeholder","m³",{"$f":"+Genanskaffelsespriser!$E$178","v":50},null,null,null,"","",null,{"$f":"IF(E112=0,\"Variabel pris\",IFERROR((HLOOKUP(E112,'Variable priser'!$C$48:$H$50,2)+(E112-HLOOKUP(E112,'Variable priser'!$C$48:$H$50,1))*HLOOKUP(E112,'Variable priser'!$C$48:$H$50,3))/E112*(1+Genanskaffelsespriser!$D$203),\"Fejl\"))","v":"Variabel pris"},{"$f":"IF(F112=0,\"Variabel pris\",IFERROR((HLOOKUP(F112,'Variable priser'!$C$48:$H$50,2)+(F112-HLOOKUP(F112,'Variable priser'!$C$48:$H$50,1))*HLOOKUP(F112,'Variable priser'!$C$48:$H$50,3))/F112*(1+Genanskaffelsespriser!$D$203),\"Fejl\"))","v":"Variabel pris"},{"$f":"IF(ISBLANK(E112),\"\",IF(E112=0,\"\",IF(ISNUMBER(E112),((J112*E112)/$C112)*N109,\"\")))","v":""},{"$f":"IF(ISBLANK(F112),\"\",IF(F112=0,\"\",IF(ISNUMBER(F112),((K112*F112)/$C112)*O109,\"\")))","v":""},1,1]
["Beholderanlæg - vandtårn","m³",{"$f":"+Genanskaffelsespriser!$E$179","v":50},null,null,null,"","",null,{"$f":"IF(E113=0,\"Variabel pris\",IFERROR((HLOOKUP(E113,'Variable priser'!$C$55:$H$57,2)+(E113-HLOOKUP(E113,'Variable priser'!$C$55:$H$57,1))*HLOOKUP(E113,'Variable priser'!$C$55:$H$57,3))/E113*(1+Genanskaffelsespriser!$D$203),\"Fejl\"))","v":"Variabel pris"},{"$f":"IF(F113=0,\"Variabel pris\",IFERROR((HLOOKUP(F113,'Variable priser'!$C$55:$H$57,2)+(F113-HLOOKUP(F113,'Variable priser'!$C$55:$H$57,1))*HLOOKUP(F113,'Variable priser'!$C$55:$H$57,3))/F113*(1+Genanskaffelsespriser!$D$203),\"Fejl\"))","v":"Variabel pris"},{"$f":"IF(ISBLANK(E113),\"\",IF(E113=0,\"\",IF(ISNUMBER(E113),((J113*E113)/$C113)*N109,\"\")))","v":""},{"$f":"IF(ISBLANK(F113),\"\",IF(F113=0,\"\",IF(ISNUMBER(F113),((K113*F113)/$C113)*O109,\"\")))","v":""},1,1]
["Pumpestationer, bygværker og bassiner 4"]
["Pumpestation (inkl. evt. hydrofor)/trykforøger, Konstruktioner","m³/h ",{"$f":"+Genanskaffelsespriser!$E$175","v":50},null,null,null,"","",null,{"$f":"IF(E115=0,\"Variabel pris\",IFERROR((HLOOKUP(E115,'Variable priser'!$C$103:$F$105,2)+(E115-HLOOKUP(E115,'Variable priser'!$C$103:$F$105,1))*HLOOKUP(E115,'Variable priser'!$C$103:$F$105,3))*'Variable priser'!$I$102/E115*(1+Genanskaffelsespriser!$D$203),\"Fejl\"))","v":"Variabel pris"},{"$f":"IF(F115=0,\"Variabel pris\",IFERROR((HLOOKUP(F115,'Variable priser'!$C$103:$F$105,2)+(F115-HLOOKUP(F115,'Variable priser'!$C$103:$F$105,1))*HLOOKUP(F115,'Variable priser'!$C$103:$F$105,3))*'Variable priser'!$I$102/F115*(1+Genanskaffelsespriser!$D$203),\"Fejl\"))","v":"Variabel pris"},{"$f":"IF(ISBLANK(E115),\"\",IF(E115=0,\"\",IF(ISNUMBER(E115),((J115*E115)/$C115)*N115,\"\")))","v":""},{"$f":"IF(ISBLANK(F115),\"\",IF(F115=0,\"\",IF(ISNUMBER(F115),((K115*F115)/$C115)*O115,\"\")))","v":""},1,1]
["Pumpestation (inkl. evt. hydrofor)/trykforøger, Mek./EL","m³/h ",{"$f":"+Genanskaffelsespriser!$E$176","v":25},0,0,0,0,0,"revet ned",{"$f":"IF(E116=0,\"Variabel pris\",IFERROR((HLOOKUP(E116,'Variable priser'!$C$103:$F$105,2)+(E116-HLOOKUP(E116,'Variable priser'!$C$103:$F$105,1))*HLOOKUP(E116,'Variable priser'!$C$103:$F$105,3))*'Variable priser'!$J$102/E116*(1+Genanskaffelsespriser!$D$203),\"Fejl\"))","v":"Variabel pris"},{"$f":"IF(F116=0,\"Variabel pris\",IFERROR((HLOOKUP(F116,'Variable priser'!$C$103:$F$105,2)+(F116-HLOOKUP(F116,'Variable priser'!$C$103:$F$105,1))*HLOOKUP(F116,'Variable priser'!$C$103:$F$105,3))*'Variable priser'!$J$102/F116*(1+Genanskaffelsespriser!$D$203),\"Fejl\"))","v":"Variabel pris"},{"$f":"IF(ISBLANK(E116),\"\",IF(E116=0,\"\",IF(ISNUMBER(E116),((J116*E116)/$C116)*N115,\"\")))","v":""},{"$f":"IF(ISBLANK(F116),\"\",IF(F116=0,\"\",IF(ISNUMBER(F116),((K116*F116)/$C116)*O115,\"\")))","v":""},1,1]
["Pumpestation (inkl. evt. hydrofor)/trykforøger, SRO","m³/h ",{"$f":"+Genanskaffelsespriser!$E$177","v":10},0,0,0,0,0,"revet ned",{"$f":"IF(E117=0,\"Variabel pris\",IFERROR((HLOOKUP(E117,'Variable priser'!$C$103:$F$105,2)+(E117-HLOOKUP(E117,'Variable priser'!$C$103:$F$105,1))*HLOOKUP(E117,'Variable priser'!$C$103:$F$105,3))*'Variable priser'!$L$102/E117*(1+Genanskaffelsespriser!$D$203),\"Fejl\"))","v":"Variabel pris"},{"$f":"IF(F117=0,\"Variabel pris\",IFERROR((HLOOKUP(F117,'Variable priser'!$C$103:$F$105,2)+(F117-HLOOKUP(F117,'Variable priser'!$C$103:$F$105,1))*HLOOKUP(F117,'Variable priser'!$C$103:$F$105,3))*'Variable priser'!$L$102/F117*(1+Genanskaffelsespriser!$D$203),\"Fejl\"))","v":"Variabel pris"},{"$f":"IF(ISBLANK(E117),\"\",IF(E117=0,\"\",IF(ISNUMBER(E117),((J117*E117)/$C117)*N115,\"\")))","v":""},{"$f":"IF(ISBLANK(F117),\"\",IF(F117=0,\"Samlet mængde kan ikke være nul i 2025\",IF(ISNUMBER(F117),((K117*F117)/$C117)*O115,\"\")))","v":"Samlet mængde kan ikke være nul i 2025"},1,1]
["Beholderanlæg - højdebeholder","m³",{"$f":"+Genanskaffelsespriser!$E$178","v":50},null,null,null,"","",null,{"$f":"IF(E118=0,\"Variabel pris\",IFERROR((HLOOKUP(E118,'Variable priser'!$C$48:$H$50,2)+(E118-HLOOKUP(E118,'Variable priser'!$C$48:$H$50,1))*HLOOKUP(E118,'Variable priser'!$C$48:$H$50,3))/E118*(1+Genanskaffelsespriser!$D$203),\"Fejl\"))","v":"Variabel pris"},{"$f":"IF(F118=0,\"Variabel pris\",IFERROR((HLOOKUP(F118,'Variable priser'!$C$48:$H$50,2)+(F118-HLOOKUP(F118,'Variable priser'!$C$48:$H$50,1))*HLOOKUP(F118,'Variable priser'!$C$48:$H$50,3))/F118*(1+Genanskaffelsespriser!$D$203),\"Fejl\"))","v":"Variabel pris"},{"$f":"IF(ISBLANK(E118),\"\",IF(E118=0,\"\",IF(ISNUMBER(E118),((J118*E118)/$C118)*N115,\"\")))","v":""},{"$f":"IF(ISBLANK(F118),\"\",IF(F118=0,\"\",IF(ISNUMBER(F118),((K118*F118)/$C118)*O115,\"\")))","v":""},1,1]
["Beholderanlæg - vandtårn","m³",{"$f":"+Genanskaffelsespriser!$E$179","v":50},null,null,null,"","",null,{"$f":"IF(E119=0,\"Variabel pris\",IFERROR((HLOOKUP(E119,'Variable priser'!$C$55:$H$57,2)+(E119-HLOOKUP(E119,'Variable priser'!$C$55:$H$57,1))*HLOOKUP(E119,'Variable priser'!$C$55:$H$57,3))/E119*(1+Genanskaffelsespriser!$D$203),\"Fejl\"))","v":"Variabel pris"},{"$f":"IF(F119=0,\"Variabel pris\",IFERROR((HLOOKUP(F119,'Variable priser'!$C$55:$H$57,2)+(F119-HLOOKUP(F119,'Variable priser'!$C$55:$H$57,1))*HLOOKUP(F119,'Variable priser'!$C$55:$H$57,3))/F119*(1+Genanskaffelsespriser!$D$203),\"Fejl\"))","v":"Variabel pris"},{"$f":"IF(ISBLANK(E119),\"\",IF(E119=0,\"\",IF(ISNUMBER(E119),((J119*E119)/$C119)*N115,\"\")))","v":""},{"$f":"IF(ISBLANK(F119),\"\",IF(F119=0,\"\",IF(ISNUMBER(F119),((K119*F119)/$C119)*O115,\"\")))","v":""},1,1]
["Pumpestationer, bygværker og bassiner 5"]
["Pumpestation (inkl. evt. hydrofor)/trykforøger, Konstruktioner","m³/h ",{"$f":"+Genanskaffelsespriser!$E$175","v":50},null,null,null,"","",null,{"$f":"IF(E121=0,\"Variabel pris\",IFERROR((HLOOKUP(E121,'Variable priser'!$C$103:$F$105,2)+(E121-HLOOKUP(E121,'Variable priser'!$C$103:$F$105,1))*HLOOKUP(E121,'Variable priser'!$C$103:$F$105,3))*'Variable priser'!$I$102/E121*(1+Genanskaffelsespriser!$D$203),\"Fejl\"))","v":"Variabel pris"},{"$f":"IF(F121=0,\"Variabel pris\",IFERROR((HLOOKUP(F121,'Variable priser'!$C$103:$F$105,2)+(F121-HLOOKUP(F121,'Variable priser'!$C$103:$F$105,1))*HLOOKUP(F121,'Variable priser'!$C$103:$F$105,3))*'Variable priser'!$I$102/F121*(1+Genanskaffelsespriser!$D$203),\"Fejl\"))","v":"Variabel pris"},{"$f":"IF(ISBLANK(E121),\"\",IF(E121=0,\"\",IF(ISNUMBER(E121),((J121*E121)/$C121)*N121,\"\")))","v":""},{"$f":"IF(ISBLANK(F121),\"\",IF(F121=0,\"\",IF(ISNUMBER(F121),((K121*F121)/$C121)*O121,\"\")))","v":""},1,1]
["Pumpestation (inkl. evt. hydrofor)/trykforøger, Mek./EL","m³/h ",{"$f":"+Genanskaffelsespriser!$E$176","v":25},160,0,0,-1,0,"fejl i tidligere indberetning ",{"$f":"IF(E122=0,\"Variabel pris\",IFERROR((HLOOKUP(E122,'Variable priser'!$C$103:$F$105,2)+(E122-HLOOKUP(E122,'Variable priser'!$C$103:$F$105,1))*HLOOKUP(E122,'Variable priser'!$C$103:$F$105,3))*'Variable priser'!$J$102/E122*(1+Genanskaffelsespriser!$D$203),\"Fejl\"))","v":"Variabel pris"},{"$f":"IF(F122=0,\"Variabel pris\",IFERROR((HLOOKUP(F122,'Variable priser'!$C$103:$F$105,2)+(F122-HLOOKUP(F122,'Variable priser'!$C$103:$F$105,1))*HLOOKUP(F122,'Variable priser'!$C$103:$F$105,3))*'Variable priser'!$J$102/F122*(1+Genanskaffelsespriser!$D$203),\"Fejl\"))","v":"Variabel pris"},{"$f":"IF(ISBLANK(E122),\"\",IF(E122=0,\"\",IF(ISNUMBER(E122),((J122*E122)/$C122)*N121,\"\")))","v":""},{"$f":"IF(ISBLANK(F122),\"\",IF(F122=0,\"\",IF(ISNUMBER(F122),((K122*F122)/$C122)*O121,\"\")))","v":""},1,1]
["Pumpestation (inkl. evt. hydrofor)/trykforøger, SRO","m³/h ",{"$f":"+Genanskaffelsespriser!$E$177","v":10},160,0,0,-1,0,"fejl i tidligere indberetning ",{"$f":"IF(E123=0,\"Variabel pris\",IFERROR((HLOOKUP(E123,'Variable priser'!$C$103:$F$105,2)+(E123-HLOOKUP(E123,'Variable priser'!$C$103:$F$105,1))*HLOOKUP(E123,'Variable priser'!$C$103:$F$105,3))*'Variable priser'!$L$102/E123*(1+Genanskaffelsespriser!$D$203),\"Fejl\"))","v":"Variabel pris"},{"$f":"IF(F123=0,\"Variabel pris\",IFERROR((HLOOKUP(F123,'Variable priser'!$C$103:$F$105,2)+(F123-HLOOKUP(F123,'Variable priser'!$C$103:$F$105,1))*HLOOKUP(F123,'Variable priser'!$C$103:$F$105,3))*'Variable priser'!$L$102/F123*(1+Genanskaffelsespriser!$D$203),\"Fejl\"))","v":"Variabel pris"},{"$f":"IF(ISBLANK(E123),\"\",IF(E123=0,\"\",IF(ISNUMBER(E123),((J123*E123)/$C123)*N121,\"\")))","v":""},{"$f":"IF(ISBLANK(F123),\"\",IF(F123=0,\"Samlet mængde kan ikke være nul i 2025\",IF(ISNUMBER(F123),((K123*F123)/$C123)*O121,\"\")))","v":"Samlet mængde kan ikke være nul i 2025"},1,1]
["Beholderanlæg - højdebeholder","m³",{"$f":"+Genanskaffelsespriser!$E$178","v":50},null,null,null,"","",null,{"$f":"IF(E124=0,\"Variabel pris\",IFERROR((HLOOKUP(E124,'Variable priser'!$C$48:$H$50,2)+(E124-HLOOKUP(E124,'Variable priser'!$C$48:$H$50,1))*HLOOKUP(E124,'Variable priser'!$C$48:$H$50,3))/E124*(1+Genanskaffelsespriser!$D$203),\"Fejl\"))","v":"Variabel pris"},{"$f":"IF(F124=0,\"Variabel pris\",IFERROR((HLOOKUP(F124,'Variable priser'!$C$48:$H$50,2)+(F124-HLOOKUP(F124,'Variable priser'!$C$48:$H$50,1))*HLOOKUP(F124,'Variable priser'!$C$48:$H$50,3))/F124*(1+Genanskaffelsespriser!$D$203),\"Fejl\"))","v":"Variabel pris"},{"$f":"IF(ISBLANK(E124),\"\",IF(E124=0,\"\",IF(ISNUMBER(E124),((J124*E124)/$C124)*N121,\"\")))","v":""},{"$f":"IF(ISBLANK(F124),\"\",IF(F124=0,\"\",IF(ISNUMBER(F124),((K124*F124)/$C124)*O121,\"\")))","v":""},1,1]
["Beholderanlæg - vandtårn","m³",{"$f":"+Genanskaffelsespriser!$E$179","v":50},null,null,null,"","",null,{"$f":"IF(E125=0,\"Variabel pris\",IFERROR((HLOOKUP(E125,'Variable priser'!$C$55:$H$57,2)+(E125-HLOOKUP(E125,'Variable priser'!$C$55:$H$57,1))*HLOOKUP(E125,'Variable priser'!$C$55:$H$57,3))/E125*(1+Genanskaffelsespriser!$D$203),\"Fejl\"))","v":"Variabel pris"},{"$f":"IF(F125=0,\"Variabel pris\",IFERROR((HLOOKUP(F125,'Variable priser'!$C$55:$H$57,2)+(F125-HLOOKUP(F125,'Variable priser'!$C$55:$H$57,1))*HLOOKUP(F125,'Variable priser'!$C$55:$H$57,3))/F125*(1+Genanskaffelsespriser!$D$203),\"Fejl\"))","v":"Variabel pris"},{"$f":"IF(ISBLANK(E125),\"\",IF(E125=0,\"\",IF(ISNUMBER(E125),((J125*E125)/$C125)*N121,\"\")))","v":""},{"$f":"IF(ISBLANK(F125),\"\",IF(F125=0,\"\",IF(ISNUMBER(F125),((K125*F125)/$C125)*O121,\"\")))","v":""},1,1]
["Pumpestationer, bygværker og bassiner 6"]
["Pumpestation (inkl. evt. hydrofor)/trykforøger, Konstruktioner","m³/h ",{"$f":"+Genanskaffelsespriser!$E$175","v":50},null,null,null,"","",null,{"$f":"IF(E127=0,\"Variabel pris\",IFERROR((HLOOKUP(E127,'Variable priser'!$C$103:$F$105,2)+(E127-HLOOKUP(E127,'Variable priser'!$C$103:$F$105,1))*HLOOKUP(E127,'Variable priser'!$C$103:$F$105,3))*'Variable priser'!$I$102/E127*(1+Genanskaffelsespriser!$D$203),\"Fejl\"))","v":"Variabel pris"},{"$f":"IF(F127=0,\"Variabel pris\",IFERROR((HLOOKUP(F127,'Variable priser'!$C$103:$F$105,2)+(F127-HLOOKUP(F127,'Variable priser'!$C$103:$F$105,1))*HLOOKUP(F127,'Variable priser'!$C$103:$F$105,3))*'Variable priser'!$I$102/F127*(1+Genanskaffelsespriser!$D$203),\"Fejl\"))","v":"Variabel pris"},{"$f":"IF(ISBLANK(E127),\"\",IF(E127=0,\"\",IF(ISNUMBER(E127),((J127*E127)/$C127)*N127,\"\")))","v":""},{"$f":"IF(ISBLANK(F127),\"\",IF(F127=0,\"\",IF(ISNUMBER(F127),((K127*F127)/$C127)*O127,\"\")))","v":""},1,1]
["Pumpestation (inkl. evt. hydrofor)/trykforøger, Mek./EL","m³/h ",{"$f":"+Genanskaffelsespriser!$E$176","v":25},0,0,0,0,0,"revet ned",{"$f":"IF(E128=0,\"Variabel pris\",IFERROR((HLOOKUP(E128,'Variable priser'!$C$103:$F$105,2)+(E128-HLOOKUP(E128,'Variable priser'!$C$103:$F$105,1))*HLOOKUP(E128,'Variable priser'!$C$103:$F$105,3))*'Variable priser'!$J$102/E128*(1+Genanskaffelsespriser!$D$203),\"Fejl\"))","v":"Variabel pris"},{"$f":"IF(F128=0,\"Variabel pris\",IFERROR((HLOOKUP(F128,'Variable priser'!$C$103:$F$105,2)+(F128-HLOOKUP(F128,'Variable priser'!$C$103:$F$105,1))*HLOOKUP(F128,'Variable priser'!$C$103:$F$105,3))*'Variable priser'!$J$102/F128*(1+Genanskaffelsespriser!$D$203),\"Fejl\"))","v":"Variabel pris"},{"$f":"IF(ISBLANK(E128),\"\",IF(E128=0,\"\",IF(ISNUMBER(E128),((J128*E128)/$C128)*N127,\"\")))","v":""},{"$f":"IF(ISBLANK(F128),\"\",IF(F128=0,\"\",IF(ISNUMBER(F128),((K128*F128)/$C128)*O127,\"\")))","v":""},1,1]
["Pumpestation (inkl. evt. hydrofor)/trykforøger, SRO","m³/h ",{"$f":"+Genanskaffelsespriser!$E$177","v":10},0,0,0,0,0,"revet ned",{"$f":"IF(E129=0,\"Variabel pris\",IFERROR((HLOOKUP(E129,'Variable priser'!$C$103:$F$105,2)+(E129-HLOOKUP(E129,'Variable priser'!$C$103:$F$105,1))*HLOOKUP(E129,'Variable priser'!$C$103:$F$105,3))*'Variable priser'!$L$102/E129*(1+Genanskaffelsespriser!$D$203),\"Fejl\"))","v":"Variabel pris"},{"$f":"IF(F129=0,\"Variabel pris\",IFERROR((HLOOKUP(F129,'Variable priser'!$C$103:$F$105,2)+(F129-HLOOKUP(F129,'Variable priser'!$C$103:$F$105,1))*HLOOKUP(F129,'Variable priser'!$C$103:$F$105,3))*'Variable priser'!$L$102/F129*(1+Genanskaffelsespriser!$D$203),\"Fejl\"))","v":"Variabel pris"},{"$f":"IF(ISBLANK(E129),\"\",IF(E129=0,\"\",IF(ISNUMBER(E129),((J129*E129)/$C129)*N127,\"\")))","v":""},{"$f":"IF(ISBLANK(F129),\"\",IF(F129=0,\"Samlet mængde kan ikke være nul i 2025\",IF(ISNUMBER(F129),((K129*F129)/$C129)*O127,\"\")))","v":"Samlet mængde kan ikke være nul i 2025"},1,1]
["Beholderanlæg - højdebeholder","m³",{"$f":"+Genanskaffelsespriser!$E$178","v":50},null,null,null,"","",null,{"$f":"IF(E130=0,\"Variabel pris\",IFERROR((HLOOKUP(E130,'Variable priser'!$C$48:$H$50,2)+(E130-HLOOKUP(E130,'Variable priser'!$C$48:$H$50,1))*HLOOKUP(E130,'Variable priser'!$C$48:$H$50,3))/E130*(1+Genanskaffelsespriser!$D$203),\"Fejl\"))","v":"Variabel pris"},{"$f":"IF(F130=0,\"Variabel pris\",IFERROR((HLOOKUP(F130,'Variable priser'!$C$48:$H$50,2)+(F130-HLOOKUP(F130,'Variable priser'!$C$48:$H$50,1))*HLOOKUP(F130,'Variable priser'!$C$48:$H$50,3))/F130*(1+Genanskaffelsespriser!$D$203),\"Fejl\"))","v":"Variabel pris"},{"$f":"IF(ISBLANK(E130),\"\",IF(E130=0,\"\",IF(ISNUMBER(E130),((J130*E130)/$C130)*N127,\"\")))","v":""},{"$f":"IF(ISBLANK(F130),\"\",IF(F130=0,\"\",IF(ISNUMBER(F130),((K130*F130)/$C130)*O127,\"\")))","v":""},1,1]
["Beholderanlæg - vandtårn","m³",{"$f":"+Genanskaffelsespriser!$E$179","v":50},null,null,null,"","",null,{"$f":"IF(E131=0,\"Variabel pris\",IFERROR((HLOOKUP(E131,'Variable priser'!$C$55:$H$57,2)+(E131-HLOOKUP(E131,'Variable priser'!$C$55:$H$57,1))*HLOOKUP(E131,'Variable priser'!$C$55:$H$57,3))/E131*(1+Genanskaffelsespriser!$D$203),\"Fejl\"))","v":"Variabel pris"},{"$f":"IF(F131=0,\"Variabel pris\",IFERROR((HLOOKUP(F131,'Variable priser'!$C$55:$H$57,2)+(F131-HLOOKUP(F131,'Variable priser'!$C$55:$H$57,1))*HLOOKUP(F131,'Variable priser'!$C$55:$H$57,3))/F131*(1+Genanskaffelsespriser!$D$203),\"Fejl\"))","v":"Variabel pris"},{"$f":"IF(ISBLANK(E131),\"\",IF(E131=0,\"\",IF(ISNUMBER(E131),((J131*E131)/$C131)*N127,\"\")))","v":""},{"$f":"IF(ISBLANK(F131),\"\",IF(F131=0,\"\",IF(ISNUMBER(F131),((K131*F131)/$C131)*O127,\"\")))","v":""},1,1]
["Pumpestationer, bygværker og bassiner 7"]
["Pumpestation (inkl. evt. hydrofor)/trykforøger, Konstruktioner","m³/h ",{"$f":"+Genanskaffelsespriser!$E$175","v":50},null,114,114,"Ny data",0,"fejl ikke med tidligere",{"$f":"IF(E133=0,\"Variabel pris\",IFERROR((HLOOKUP(E133,'Variable priser'!$C$103:$F$105,2)+(E133-HLOOKUP(E133,'Variable priser'!$C$103:$F$105,1))*HLOOKUP(E133,'Variable priser'!$C$103:$F$105,3))*'Variable priser'!$I$102/E133*(1+Genanskaffelsespriser!$D$203),\"Fejl\"))","v":1096.7756818421051},{"$f":"IF(F133=0,\"Variabel pris\",IFERROR((HLOOKUP(F133,'Variable priser'!$C$103:$F$105,2)+(F133-HLOOKUP(F133,'Variable priser'!$C$103:$F$105,1))*HLOOKUP(F133,'Variable priser'!$C$103:$F$105,3))*'Variable priser'!$I$102/F133*(1+Genanskaffelsespriser!$D$203),\"Fejl\"))","v":1096.7756818421051},{"$f":"IF(ISBLANK(E133),\"\",IF(E133=0,\"\",IF(ISNUMBER(E133),((J133*E133)/$C133)*N133,\"\")))","v":2500.6485545999994},{"$f":"IF(ISBLANK(F133),\"\",IF(F133=0,\"\",IF(ISNUMBER(F133),((K133*F133)/$C133)*O133,\"\")))","v":2500.6485545999994},1,1]
["Pumpestation (inkl. evt. hydrofor)/trykforøger, Mek./EL","m³/h ",{"$f":"+Genanskaffelsespriser!$E$176","v":25},1000,114,114,-0.88600000000000001,0,"Gevninge booster er slået sammen med Kornerup",{"$f":"IF(E134=0,\"Variabel pris\",IFERROR((HLOOKUP(E134,'Variable priser'!$C$103:$F$105,2)+(E134-HLOOKUP(E134,'Variable priser'!$C$103:$F$105,1))*HLOOKUP(E134,'Variable priser'!$C$103:$F$105,3))*'Variable priser'!$J$102/E134*(1+Genanskaffelsespriser!$D$203),\"Fejl\"))","v":2851.6167727894731},{"$f":"IF(F134=0,\"Variabel pris\",IFERROR((HLOOKUP(F134,'Variable priser'!$C$103:$F$105,2)+(F134-HLOOKUP(F134,'Variable priser'!$C$103:$F$105,1))*HLOOKUP(F134,'Variable priser'!$C$103:$F$105,3))*'Variable priser'!$J$102/F134*(1+Genanskaffelsespriser!$D$203),\"Fejl\"))","v":2851.6167727894731},{"$f":"IF(ISBLANK(E134),\"\",IF(E134=0,\"\",IF(ISNUMBER(E134),((J134*E134)/$C134)*N133,\"\")))","v":13003.372483919997},{"$f":"IF(ISBLANK(F134),\"\",IF(F134=0,\"\",IF(ISNUMBER(F134),((K134*F134)/$C134)*O133,\"\")))","v":13003.372483919997},1,1]
["Pumpestation (inkl. evt. hydrofor)/trykforøger, SRO","m³/h ",{"$f":"+Genanskaffelsespriser!$E$177","v":10},1000,114,114,-0.88600000000000001,0,"Gevninge booster er slået sammen med Kornerup",{"$f":"IF(E135=0,\"Variabel pris\",IFERROR((HLOOKUP(E135,'Variable priser'!$C$103:$F$105,2)+(E135-HLOOKUP(E135,'Variable priser'!$C$103:$F$105,1))*HLOOKUP(E135,'Variable priser'!$C$103:$F$105,3))*'Variable priser'!$L$102/E135*(1+Genanskaffelsespriser!$D$203),\"Fejl\"))","v":438.71027273684211},{"$f":"IF(F135=0,\"Variabel pris\",IFERROR((HLOOKUP(F135,'Variable priser'!$C$103:$F$105,2)+(F135-HLOOKUP(F135,'Variable priser'!$C$103:$F$105,1))*HLOOKUP(F135,'Variable priser'!$C$103:$F$105,3))*'Variable priser'!$L$102/F135*(1+Genanskaffelsespriser!$D$203),\"Fejl\"))","v":438.71027273684211},{"$f":"IF(ISBLANK(E135),\"\",IF(E135=0,\"\",IF(ISNUMBER(E135),((J135*E135)/$C135)*N133,\"\")))","v":5001.2971091999998},{"$f":"IF(ISBLANK(F135),\"\",IF(F135=0,\"Samlet mængde kan ikke være nul i 2025\",IF(ISNUMBER(F135),((K135*F135)/$C135)*O133,\"\")))","v":5001.2971091999998},1,1]
["Beholderanlæg - højdebeholder","m³",{"$f":"+Genanskaffelsespriser!$E$178","v":50},null,null,null,"","",null,{"$f":"IF(E136=0,\"Variabel pris\",IFERROR((HLOOKUP(E136,'Variable priser'!$C$48:$H$50,2)+(E136-HLOOKUP(E136,'Variable priser'!$C$48:$H$50,1))*HLOOKUP(E136,'Variable priser'!$C$48:$H$50,3))/E136*(1+Genanskaffelsespriser!$D$203),\"Fejl\"))","v":"Variabel pris"},{"$f":"IF(F136=0,\"Variabel pris\",IFERROR((HLOOKUP(F136,'Variable priser'!$C$48:$H$50,2)+(F136-HLOOKUP(F136,'Variable priser'!$C$48:$H$50,1))*HLOOKUP(F136,'Variable priser'!$C$48:$H$50,3))/F136*(1+Genanskaffelsespriser!$D$203),\"Fejl\"))","v":"Variabel pris"},{"$f":"IF(ISBLANK(E136),\"\",IF(E136=0,\"\",IF(ISNUMBER(E136),((J136*E136)/$C136)*N133,\"\")))","v":""},{"$f":"IF(ISBLANK(F136),\"\",IF(F136=0,\"\",IF(ISNUMBER(F136),((K136*F136)/$C136)*O133,\"\")))","v":""},1,1]
["Beholderanlæg - vandtårn","m³",{"$f":"+Genanskaffelsespriser!$E$179","v":50},null,null,null,"","",null,{"$f":"IF(E137=0,\"Variabel pris\",IFERROR((HLOOKUP(E137,'Variable priser'!$C$55:$H$57,2)+(E137-HLOOKUP(E137,'Variable priser'!$C$55:$H$57,1))*HLOOKUP(E137,'Variable priser'!$C$55:$H$57,3))/E137*(1+Genanskaffelsespriser!$D$203),\"Fejl\"))","v":"Variabel pris"},{"$f":"IF(F137=0,\"Variabel pris\",IFERROR((HLOOKUP(F137,'Variable priser'!$C$55:$H$57,2)+(F137-HLOOKUP(F137,'Variable priser'!$C$55:$H$57,1))*HLOOKUP(F137,'Variable priser'!$C$55:$H$57,3))/F137*(1+Genanskaffelsespriser!$D$203),\"Fejl\"))","v":"Variabel pris"},{"$f":"IF(ISBLANK(E137),\"\",IF(E137=0,\"\",IF(ISNUMBER(E137),((J137*E137)/$C137)*N133,\"\")))","v":""},{"$f":"IF(ISBLANK(F137),\"\",IF(F137=0,\"\",IF(ISNUMBER(F137),((K137*F137)/$C137)*O133,\"\")))","v":""},1,1]
["Pumpestationer, bygværker og bassiner 8"]
["Pumpestation (inkl. evt. hydrofor)/trykforøger, Konstruktioner","m³/h ",{"$f":"+Genanskaffelsespriser!$E$175","v":50},null,null,null,"","",null,{"$f":"IF(E139=0,\"Variabel pris\",IFERROR((HLOOKUP(E139,'Variable priser'!$C$103:$F$105,2)+(E139-HLOOKUP(E139,'Variable priser'!$C$103:$F$105,1))*HLOOKUP(E139,'Variable priser'!$C$103:$F$105,3))*'Variable priser'!$I$102/E139*(1+Genanskaffelsespriser!$D$203),\"Fejl\"))","v":"Variabel pris"},{"$f":"IF(F139=0,\"Variabel pris\",IFERROR((HLOOKUP(F139,'Variable priser'!$C$103:$F$105,2)+(F139-HLOOKUP(F139,'Variable priser'!$C$103:$F$105,1))*HLOOKUP(F139,'Variable priser'!$C$103:$F$105,3))*'Variable priser'!$I$102/F139*(1+Genanskaffelsespriser!$D$203),\"Fejl\"))","v":"Variabel pris"},{"$f":"IF(ISBLANK(E139),\"\",IF(E139=0,\"\",IF(ISNUMBER(E139),((J139*E139)/$C139)*N139,\"\")))","v":""},{"$f":"IF(ISBLANK(F139),\"\",IF(F139=0,\"\",IF(ISNUMBER(F139),((K139*F139)/$C139)*O139,\"\")))","v":""},1,1]
["Pumpestation (inkl. evt. hydrofor)/trykforøger, Mek./EL","m³/h ",{"$f":"+Genanskaffelsespriser!$E$176","v":25},740,0,0,-1,0,"konverteret til dykpumpeanlæg",{"$f":"IF(E140=0,\"Variabel pris\",IFERROR((HLOOKUP(E140,'Variable priser'!$C$103:$F$105,2)+(E140-HLOOKUP(E140,'Variable priser'!$C$103:$F$105,1))*HLOOKUP(E140,'Variable priser'!$C$103:$F$105,3))*'Variable priser'!$J$102/E140*(1+Genanskaffelsespriser!$D$203),\"Fejl\"))","v":"Variabel pris"},{"$f":"IF(F140=0,\"Variabel pris\",IFERROR((HLOOKUP(F140,'Variable priser'!$C$103:$F$105,2)+(F140-HLOOKUP(F140,'Variable priser'!$C$103:$F$105,1))*HLOOKUP(F140,'Variable priser'!$C$103:$F$105,3))*'Variable priser'!$J$102/F140*(1+Genanskaffelsespriser!$D$203),\"Fejl\"))","v":"Variabel pris"},{"$f":"IF(ISBLANK(E140),\"\",IF(E140=0,\"\",IF(ISNUMBER(E140),((J140*E140)/$C140)*N139,\"\")))","v":""},{"$f":"IF(ISBLANK(F140),\"\",IF(F140=0,\"\",IF(ISNUMBER(F140),((K140*F140)/$C140)*O139,\"\")))","v":""},1,1]
["Pumpestation (inkl. evt. hydrofor)/trykforøger, SRO","m³/h ",{"$f":"+Genanskaffelsespriser!$E$177","v":10},740,0,0,-1,0,"konverteret til dykpumpeanlæg",{"$f":"IF(E141=0,\"Variabel pris\",IFERROR((HLOOKUP(E141,'Variable priser'!$C$103:$F$105,2)+(E141-HLOOKUP(E141,'Variable priser'!$C$103:$F$105,1))*HLOOKUP(E141,'Variable priser'!$C$103:$F$105,3))*'Variable priser'!$L$102/E141*(1+Genanskaffelsespriser!$D$203),\"Fejl\"))","v":"Variabel pris"},{"$f":"IF(F141=0,\"Variabel pris\",IFERROR((HLOOKUP(F141,'Variable priser'!$C$103:$F$105,2)+(F141-HLOOKUP(F141,'Variable priser'!$C$103:$F$105,1))*HLOOKUP(F141,'Variable priser'!$C$103:$F$105,3))*'Variable priser'!$L$102/F141*(1+Genanskaffelsespriser!$D$203),\"Fejl\"))","v":"Variabel pris"},{"$f":"IF(ISBLANK(E141),\"\",IF(E141=0,\"\",IF(ISNUMBER(E141),((J141*E141)/$C141)*N139,\"\")))","v":""},{"$f":"IF(ISBLANK(F141),\"\",IF(F141=0,\"Samlet mængde kan ikke være nul i 2025\",IF(ISNUMBER(F141),((K141*F141)/$C141)*O139,\"\")))","v":"Samlet mængde kan ikke være nul i 2025"},1,1]
["Beholderanlæg - højdebeholder","m³",{"$f":"+Genanskaffelsespriser!$E$178","v":50},null,null,null,"","",null,{"$f":"IF(E142=0,\"Variabel pris\",IFERROR((HLOOKUP(E142,'Variable priser'!$C$48:$H$50,2)+(E142-HLOOKUP(E142,'Variable priser'!$C$48:$H$50,1))*HLOOKUP(E142,'Variable priser'!$C$48:$H$50,3))/E142*(1+Genanskaffelsespriser!$D$203),\"Fejl\"))","v":"Variabel pris"},{"$f":"IF(F142=0,\"Variabel pris\",IFERROR((HLOOKUP(F142,'Variable priser'!$C$48:$H$50,2)+(F142-HLOOKUP(F142,'Variable priser'!$C$48:$H$50,1))*HLOOKUP(F142,'Variable priser'!$C$48:$H$50,3))/F142*(1+Genanskaffelsespriser!$D$203),\"Fejl\"))","v":"Variabel pris"},{"$f":"IF(ISBLANK(E142),\"\",IF(E142=0,\"\",IF(ISNUMBER(E142),((J142*E142)/$C142)*N139,\"\")))","v":""},{"$f":"IF(ISBLANK(F142),\"\",IF(F142=0,\"\",IF(ISNUMBER(F142),((K142*F142)/$C142)*O139,\"\")))","v":""},1,1]
["Beholderanlæg - vandtårn","m³",{"$f":"+Genanskaffelsespriser!$E$179","v":50},null,null,null,"","",null,{"$f":"IF(E143=0,\"Variabel pris\",IFERROR((HLOOKUP(E143,'Variable priser'!$C$55:$H$57,2)+(E143-HLOOKUP(E143,'Variable priser'!$C$55:$H$57,1))*HLOOKUP(E143,'Variable priser'!$C$55:$H$57,3))/E143*(1+Genanskaffelsespriser!$D$203),\"Fejl\"))","v":"Variabel pris"},{"$f":"IF(F143=0,\"Variabel pris\",IFERROR((HLOOKUP(F143,'Variable priser'!$C$55:$H$57,2)+(F143-HLOOKUP(F143,'Variable priser'!$C$55:$H$57,1))*HLOOKUP(F143,'Variable priser'!$C$55:$H$57,3))/F143*(1+Genanskaffelsespriser!$D$203),\"Fejl\"))","v":"Variabel pris"},{"$f":"IF(ISBLANK(E143),\"\",IF(E143=0,\"\",IF(ISNUMBER(E143),((J143*E143)/$C143)*N139,\"\")))","v":""},{"$f":"IF(ISBLANK(F143),\"\",IF(F143=0,\"\",IF(ISNUMBER(F143),((K143*F143)/$C143)*O139,\"\")))","v":""},1,1]
["Pumpestationer, bygværker og bassiner 9"]
["Pumpestation (inkl. evt. hydrofor)/trykforøger, Konstruktioner","m³/h ",{"$f":"+Genanskaffelsespriser!$E$175","v":50},null,205,205,"Ny data",0,"fejl ikke med tidligere",{"$f":"IF(E145=0,\"Variabel pris\",IFERROR((HLOOKUP(E145,'Variable priser'!$C$103:$F$105,2)+(E145-HLOOKUP(E145,'Variable priser'!$C$103:$F$105,1))*HLOOKUP(E145,'Variable priser'!$C$103:$F$105,3))*'Variable priser'!$I$102/E145*(1+Genanskaffelsespriser!$D$203),\"Fejl\"))","v":944.49305551829264},{"$f":"IF(F145=0,\"Variabel pris\",IFERROR((HLOOKUP(F145,'Variable priser'!$C$103:$F$105,2)+(F145-HLOOKUP(F145,'Variable priser'!$C$103:$F$105,1))*HLOOKUP(F145,'Variable priser'!$C$103:$F$105,3))*'Variable priser'!$I$102/F145*(1+Genanskaffelsespriser!$D$203),\"Fejl\"))","v":944.49305551829264},{"$f":"IF(ISBLANK(E145),\"\",IF(E145=0,\"\",IF(ISNUMBER(E145),((J145*E145)/$C145)*N145,\"\")))","v":3872.4215276249997},{"$f":"IF(ISBLANK(F145),\"\",IF(F145=0,\"\",IF(ISNUMBER(F145),((K145*F145)/$C145)*O145,\"\")))","v":3872.4215276249997},1,1]
["Pumpestation (inkl. evt. hydrofor)/trykforøger, Mek./EL","m³/h ",{"$f":"+Genanskaffelsespriser!$E$176","v":25},850,205,205,-0.75882352941176467,0,"Gevninge booster er slået sammen med Kornerup",{"$f":"IF(E146=0,\"Variabel pris\",IFERROR((HLOOKUP(E146,'Variable priser'!$C$103:$F$105,2)+(E146-HLOOKUP(E146,'Variable priser'!$C$103:$F$105,1))*HLOOKUP(E146,'Variable priser'!$C$103:$F$105,3))*'Variable priser'!$J$102/E146*(1+Genanskaffelsespriser!$D$203),\"Fejl\"))","v":2455.6819443475606},{"$f":"IF(F146=0,\"Variabel pris\",IFERROR((HLOOKUP(F146,'Variable priser'!$C$103:$F$105,2)+(F146-HLOOKUP(F146,'Variable priser'!$C$103:$F$105,1))*HLOOKUP(F146,'Variable priser'!$C$103:$F$105,3))*'Variable priser'!$J$102/F146*(1+Genanskaffelsespriser!$D$203),\"Fejl\"))","v":2455.6819443475606},{"$f":"IF(ISBLANK(E146),\"\",IF(E146=0,\"\",IF(ISNUMBER(E146),((J146*E146)/$C146)*N145,\"\")))","v":20136.591943649997},{"$f":"IF(ISBLANK(F146),\"\",IF(F146=0,\"\",IF(ISNUMBER(F146),((K146*F146)/$C146)*O145,\"\")))","v":20136.591943649997},1,1]
["Pumpestation (inkl. evt. hydrofor)/trykforøger, SRO","m³/h ",{"$f":"+Genanskaffelsespriser!$E$177","v":10},850,205,205,-0.75882352941176467,0,"Gevninge booster er slået sammen med Kornerup",{"$f":"IF(E147=0,\"Variabel pris\",IFERROR((HLOOKUP(E147,'Variable priser'!$C$103:$F$105,2)+(E147-HLOOKUP(E147,'Variable priser'!$C$103:$F$105,1))*HLOOKUP(E147,'Variable priser'!$C$103:$F$105,3))*'Variable priser'!$L$102/E147*(1+Genanskaffelsespriser!$D$203),\"Fejl\"))","v":377.79722220731708},{"$f":"IF(F147=0,\"Variabel pris\",IFERROR((HLOOKUP(F147,'Variable priser'!$C$103:$F$105,2)+(F147-HLOOKUP(F147,'Variable priser'!$C$103:$F$105,1))*HLOOKUP(F147,'Variable priser'!$C$103:$F$105,3))*'Variable priser'!$L$102/F147*(1+Genanskaffelsespriser!$D$203),\"Fejl\"))","v":377.79722220731708},{"$f":"IF(ISBLANK(E147),\"\",IF(E147=0,\"\",IF(ISNUMBER(E147),((J147*E147)/$C147)*N145,\"\")))","v":7744.8430552499995},{"$f":"IF(ISBLANK(F147),\"\",IF(F147=0,\"Samlet mængde kan ikke være nul i 2025\",IF(ISNUMBER(F147),((K147*F147)/$C147)*O145,\"\")))","v":7744.8430552499995},1,1]
["Beholderanlæg - højdebeholder","m³",{"$f":"+Genanskaffelsespriser!$E$178","v":50},null,null,null,"","",null,{"$f":"IF(E148=0,\"Variabel pris\",IFERROR((HLOOKUP(E148,'Variable priser'!$C$48:$H$50,2)+(E148-HLOOKUP(E148,'Variable priser'!$C$48:$H$50,1))*HLOOKUP(E148,'Variable priser'!$C$48:$H$50,3))/E148*(1+Genanskaffelsespriser!$D$203),\"Fejl\"))","v":"Variabel pris"},{"$f":"IF(F148=0,\"Variabel pris\",IFERROR((HLOOKUP(F148,'Variable priser'!$C$48:$H$50,2)+(F148-HLOOKUP(F148,'Variable priser'!$C$48:$H$50,1))*HLOOKUP(F148,'Variable priser'!$C$48:$H$50,3))/F148*(1+Genanskaffelsespriser!$D$203),\"Fejl\"))","v":"Variabel pris"},{"$f":"IF(ISBLANK(E148),\"\",IF(E148=0,\"\",IF(ISNUMBER(E148),((J148*E148)/$C148)*N145,\"\")))","v":""},{"$f":"IF(ISBLANK(F148),\"\",IF(F148=0,\"\",IF(ISNUMBER(F148),((K148*F148)/$C148)*O145,\"\")))","v":""},1,1]
["Beholderanlæg - vandtårn","m³",{"$f":"+Genanskaffelsespriser!$E$179","v":50},null,null,null,"","",null,{"$f":"IF(E149=0,\"Variabel pris\",IFERROR((HLOOKUP(E149,'Variable priser'!$C$55:$H$57,2)+(E149-HLOOKUP(E149,'Variable priser'!$C$55:$H$57,1))*HLOOKUP(E149,'Variable priser'!$C$55:$H$57,3))/E149*(1+Genanskaffelsespriser!$D$203),\"Fejl\"))","v":"Variabel pris"},{"$f":"IF(F149=0,\"Variabel pris\",IFERROR((HLOOKUP(F149,'Variable priser'!$C$55:$H$57,2)+(F149-HLOOKUP(F149,'Variable priser'!$C$55:$H$57,1))*HLOOKUP(F149,'Variable priser'!$C$55:$H$57,3))/F149*(1+Genanskaffelsespriser!$D$203),\"Fejl\"))","v":"Variabel pris"},{"$f":"IF(ISBLANK(E149),\"\",IF(E149=0,\"\",IF(ISNUMBER(E149),((J149*E149)/$C149)*N145,\"\")))","v":""},{"$f":"IF(ISBLANK(F149),\"\",IF(F149=0,\"\",IF(ISNUMBER(F149),((K149*F149)/$C149)*O145,\"\")))","v":""},1,1]
["Pumpestationer, bygværker og bassiner 10"]
["Pumpestation (inkl. evt. hydrofor)/trykforøger, Konstruktioner","m³/h ",{"$f":"+Genanskaffelsespriser!$E$175","v":50},null,220,220,"Ny data",0,"fejl ikke med tidligere",{"$f":"IF(E151=0,\"Variabel pris\",IFERROR((HLOOKUP(E151,'Variable priser'!$C$103:$F$105,2)+(E151-HLOOKUP(E151,'Variable priser'!$C$103:$F$105,1))*HLOOKUP(E151,'Variable priser'!$C$103:$F$105,3))*'Variable priser'!$I$102/E151*(1+Genanskaffelsespriser!$D$203),\"Fejl\"))","v":931.48589812499984},{"$f":"IF(F151=0,\"Variabel pris\",IFERROR((HLOOKUP(F151,'Variable priser'!$C$103:$F$105,2)+(F151-HLOOKUP(F151,'Variable priser'!$C$103:$F$105,1))*HLOOKUP(F151,'Variable priser'!$C$103:$F$105,3))*'Variable priser'!$I$102/F151*(1+Genanskaffelsespriser!$D$203),\"Fejl\"))","v":931.48589812499984},{"$f":"IF(ISBLANK(E151),\"\",IF(E151=0,\"\",IF(ISNUMBER(E151),((J151*E151)/$C151)*N151,\"\")))","v":4098.5379517499996},{"$f":"IF(ISBLANK(F151),\"\",IF(F151=0,\"\",IF(ISNUMBER(F151),((K151*F151)/$C151)*O151,\"\")))","v":4098.5379517499996},1,1]
["Pumpestation (inkl. evt. hydrofor)/trykforøger, Mek./EL","m³/h ",{"$f":"+Genanskaffelsespriser!$E$176","v":25},220,220,220,0,0,null,{"$f":"IF(E152=0,\"Variabel pris\",IFERROR((HLOOKUP(E152,'Variable priser'!$C$103:$F$105,2)+(E152-HLOOKUP(E152,'Variable priser'!$C$103:$F$105,1))*HLOOKUP(E152,'Variable priser'!$C$103:$F$105,3))*'Variable priser'!$J$102/E152*(1+Genanskaffelsespriser!$D$203),\"Fejl\"))","v":2421.863335125},{"$f":"IF(F152=0,\"Variabel pris\",IFERROR((HLOOKUP(F152,'Variable priser'!$C$103:$F$105,2)+(F152-HLOOKUP(F152,'Variable priser'!$C$103:$F$105,1))*HLOOKUP(F152,'Variable priser'!$C$103:$F$105,3))*'Variable priser'!$J$102/F152*(1+Genanskaffelsespriser!$D$203),\"Fejl\"))","v":2421.863335125},{"$f":"IF(ISBLANK(E152),\"\",IF(E152=0,\"\",IF(ISNUMBER(E152),((J152*E152)/$C152)*N151,\"\")))","v":21312.3973491},{"$f":"IF(ISBLANK(F152),\"\",IF(F152=0,\"\",IF(ISNUMBER(F152),((K152*F152)/$C152)*O151,\"\")))","v":21312.3973491},1,1]
["Pumpestation (inkl. evt. hydrofor)/trykforøger, SRO","m³/h ",{"$f":"+Genanskaffelsespriser!$E$177","v":10},220,220,220,0,0,null,{"$f":"IF(E153=0,\"Variabel pris\",IFERROR((HLOOKUP(E153,'Variable priser'!$C$103:$F$105,2)+(E153-HLOOKUP(E153,'Variable priser'!$C$103:$F$105,1))*HLOOKUP(E153,'Variable priser'!$C$103:$F$105,3))*'Variable priser'!$L$102/E153*(1+Genanskaffelsespriser!$D$203),\"Fejl\"))","v":372.59435924999991},{"$f":"IF(F153=0,\"Variabel pris\",IFERROR((HLOOKUP(F153,'Variable priser'!$C$103:$F$105,2)+(F153-HLOOKUP(F153,'Variable priser'!$C$103:$F$105,1))*HLOOKUP(F153,'Variable priser'!$C$103:$F$105,3))*'Variable priser'!$L$102/F153*(1+Genanskaffelsespriser!$D$203),\"Fejl\"))","v":372.59435924999991},{"$f":"IF(ISBLANK(E153),\"\",IF(E153=0,\"\",IF(ISNUMBER(E153),((J153*E153)/$C153)*N151,\"\")))","v":8197.0759034999974},{"$f":"IF(ISBLANK(F153),\"\",IF(F153=0,\"Samlet mængde kan ikke være nul i 2025\",IF(ISNUMBER(F153),((K153*F153)/$C153)*O151,\"\")))","v":8197.0759034999974},1,1]
["Beholderanlæg - højdebeholder","m³",{"$f":"+Genanskaffelsespriser!$E$178","v":50},null,null,null,"","",null,{"$f":"IF(E154=0,\"Variabel pris\",IFERROR((HLOOKUP(E154,'Variable priser'!$C$48:$H$50,2)+(E154-HLOOKUP(E154,'Variable priser'!$C$48:$H$50,1))*HLOOKUP(E154,'Variable priser'!$C$48:$H$50,3))/E154*(1+Genanskaffelsespriser!$D$203),\"Fejl\"))","v":"Variabel pris"},{"$f":"IF(F154=0,\"Variabel pris\",IFERROR((HLOOKUP(F154,'Variable priser'!$C$48:$H$50,2)+(F154-HLOOKUP(F154,'Variable priser'!$C$48:$H$50,1))*HLOOKUP(F154,'Variable priser'!$C$48:$H$50,3))/F154*(1+Genanskaffelsespriser!$D$203),\"Fejl\"))","v":"Variabel pris"},{"$f":"IF(ISBLANK(E154),\"\",IF(E154=0,\"\",IF(ISNUMBER(E154),((J154*E154)/$C154)*N151,\"\")))","v":""},{"$f":"IF(ISBLANK(F154),\"\",IF(F154=0,\"\",IF(ISNUMBER(F154),((K154*F154)/$C154)*O151,\"\")))","v":""},1,1]
["Beholderanlæg - vandtårn","m³",{"$f":"+Genanskaffelsespriser!$E$179","v":50},null,null,null,"","",null,{"$f":"IF(E155=0,\"Variabel pris\",IFERROR((HLOOKUP(E155,'Variable priser'!$C$55:$H$57,2)+(E155-HLOOKUP(E155,'Variable priser'!$C$55:$H$57,1))*HLOOKUP(E155,'Variable priser'!$C$55:$H$57,3))/E155*(1+Genanskaffelsespriser!$D$203),\"Fejl\"))","v":"Variabel pris"},{"$f":"IF(F155=0,\"Variabel pris\",IFERROR((HLOOKUP(F155,'Variable priser'!$C$55:$H$57,2)+(F155-HLOOKUP(F155,'Variable priser'!$C$55:$H$57,1))*HLOOKUP(F155,'Variable priser'!$C$55:$H$57,3))/F155*(1+Genanskaffelsespriser!$D$203),\"Fejl\"))","v":"Variabel pris"},{"$f":"IF(ISBLANK(E155),\"\",IF(E155=0,\"\",IF(ISNUMBER(E155),((J155*E155)/$C155)*N151,\"\")))","v":""},{"$f":"IF(ISBLANK(F155),\"\",IF(F155=0,\"\",IF(ISNUMBER(F155),((K155*F155)/$C155)*O151,\"\")))","v":""},1,1]
["Pumpestationer, bygværker og bassiner 11"]
["Pumpestation (inkl. evt. hydrofor)/trykforøger, Konstruktioner","m³/h ",{"$f":"+Genanskaffelsespriser!$E$175","v":50},null,850,850,"Ny data",0,"fejl ikke med tidligere",{"$f":"IF(E157=0,\"Variabel pris\",IFERROR((HLOOKUP(E157,'Variable priser'!$C$103:$F$105,2)+(E157-HLOOKUP(E157,'Variable priser'!$C$103:$F$105,1))*HLOOKUP(E157,'Variable priser'!$C$103:$F$105,3))*'Variable priser'!$I$102/E157*(1+Genanskaffelsespriser!$D$203),\"Fejl\"))","v":799.73104499999999},{"$f":"IF(F157=0,\"Variabel pris\",IFERROR((HLOOKUP(F157,'Variable priser'!$C$103:$F$105,2)+(F157-HLOOKUP(F157,'Variable priser'!$C$103:$F$105,1))*HLOOKUP(F157,'Variable priser'!$C$103:$F$105,3))*'Variable priser'!$I$102/F157*(1+Genanskaffelsespriser!$D$203),\"Fejl\"))","v":799.73104499999999},{"$f":"IF(ISBLANK(E157),\"\",IF(E157=0,\"\",IF(ISNUMBER(E157),((J157*E157)/$C157)*N157,\"\")))","v":13595.427764999999},{"$f":"IF(ISBLANK(F157),\"\",IF(F157=0,\"\",IF(ISNUMBER(F157),((K157*F157)/$C157)*O157,\"\")))","v":13595.427764999999},1,1]
["Pumpestation (inkl. evt. hydrofor)/trykforøger, Mek./EL","m³/h ",{"$f":"+Genanskaffelsespriser!$E$176","v":25},850,850,850,0,0,null,{"$f":"IF(E158=0,\"Variabel pris\",IFERROR((HLOOKUP(E158,'Variable priser'!$C$103:$F$105,2)+(E158-HLOOKUP(E158,'Variable priser'!$C$103:$F$105,1))*HLOOKUP(E158,'Variable priser'!$C$103:$F$105,3))*'Variable priser'!$J$102/E158*(1+Genanskaffelsespriser!$D$203),\"Fejl\"))","v":2079.3007170000001},{"$f":"IF(F158=0,\"Variabel pris\",IFERROR((HLOOKUP(F158,'Variable priser'!$C$103:$F$105,2)+(F158-HLOOKUP(F158,'Variable priser'!$C$103:$F$105,1))*HLOOKUP(F158,'Variable priser'!$C$103:$F$105,3))*'Variable priser'!$J$102/F158*(1+Genanskaffelsespriser!$D$203),\"Fejl\"))","v":2079.3007170000001},{"$f":"IF(ISBLANK(E158),\"\",IF(E158=0,\"\",IF(ISNUMBER(E158),((J158*E158)/$C158)*N157,\"\")))","v":70696.224377999999},{"$f":"IF(ISBLANK(F158),\"\",IF(F158=0,\"\",IF(ISNUMBER(F158),((K158*F158)/$C158)*O157,\"\")))","v":70696.224377999999},1,1]
["Pumpestation (inkl. evt. hydrofor)/trykforøger, SRO","m³/h ",{"$f":"+Genanskaffelsespriser!$E$177","v":10},850,850,850,0,0,null,{"$f":"IF(E159=0,\"Variabel pris\",IFERROR((HLOOKUP(E159,'Variable priser'!$C$103:$F$105,2)+(E159-HLOOKUP(E159,'Variable priser'!$C$103:$F$105,1))*HLOOKUP(E159,'Variable priser'!$C$103:$F$105,3))*'Variable priser'!$L$102/E159*(1+Genanskaffelsespriser!$D$203),\"Fejl\"))","v":319.89241800000002},{"$f":"IF(F159=0,\"Variabel pris\",IFERROR((HLOOKUP(F159,'Variable priser'!$C$103:$F$105,2)+(F159-HLOOKUP(F159,'Variable priser'!$C$103:$F$105,1))*HLOOKUP(F159,'Variable priser'!$C$103:$F$105,3))*'Variable priser'!$L$102/F159*(1+Genanskaffelsespriser!$D$203),\"Fejl\"))","v":319.89241800000002},{"$f":"IF(ISBLANK(E159),\"\",IF(E159=0,\"\",IF(ISNUMBER(E159),((J159*E159)/$C159)*N157,\"\")))","v":27190.855530000001},{"$f":"IF(ISBLANK(F159),\"\",IF(F159=0,\"Samlet mængde kan ikke være nul i 2025\",IF(ISNUMBER(F159),((K159*F159)/$C159)*O157,\"\")))","v":27190.855530000001},1,1]
["Beholderanlæg - højdebeholder","m³",{"$f":"+Genanskaffelsespriser!$E$178","v":50},null,null,null,"","",null,{"$f":"IF(E160=0,\"Variabel pris\",IFERROR((HLOOKUP(E160,'Variable priser'!$C$48:$H$50,2)+(E160-HLOOKUP(E160,'Variable priser'!$C$48:$H$50,1))*HLOOKUP(E160,'Variable priser'!$C$48:$H$50,3))/E160*(1+Genanskaffelsespriser!$D$203),\"Fejl\"))","v":"Variabel pris"},{"$f":"IF(F160=0,\"Variabel pris\",IFERROR((HLOOKUP(F160,'Variable priser'!$C$48:$H$50,2)+(F160-HLOOKUP(F160,'Variable priser'!$C$48:$H$50,1))*HLOOKUP(F160,'Variable priser'!$C$48:$H$50,3))/F160*(1+Genanskaffelsespriser!$D$203),\"Fejl\"))","v":"Variabel pris"},{"$f":"IF(ISBLANK(E160),\"\",IF(E160=0,\"\",IF(ISNUMBER(E160),((J160*E160)/$C160)*N157,\"\")))","v":""},{"$f":"IF(ISBLANK(F160),\"\",IF(F160=0,\"\",IF(ISNUMBER(F160),((K160*F160)/$C160)*O157,\"\")))","v":""},1,1]
["Beholderanlæg - vandtårn","m³",{"$f":"+Genanskaffelsespriser!$E$179","v":50},null,null,null,"","",null,{"$f":"IF(E161=0,\"Variabel pris\",IFERROR((HLOOKUP(E161,'Variable priser'!$C$55:$H$57,2)+(E161-HLOOKUP(E161,'Variable priser'!$C$55:$H$57,1))*HLOOKUP(E161,'Variable priser'!$C$55:$H$57,3))/E161*(1+Genanskaffelsespriser!$D$203),\"Fejl\"))","v":"Variabel pris"},{"$f":"IF(F161=0,\"Variabel pris\",IFERROR((HLOOKUP(F161,'Variable priser'!$C$55:$H$57,2)+(F161-HLOOKUP(F161,'Variable priser'!$C$55:$H$57,1))*HLOOKUP(F161,'Variable priser'!$C$55:$H$57,3))/F161*(1+Genanskaffelsespriser!$D$203),\"Fejl\"))","v":"Variabel pris"},{"$f":"IF(ISBLANK(E161),\"\",IF(E161=0,\"\",IF(ISNUMBER(E161),((J161*E161)/$C161)*N157,\"\")))","v":""},{"$f":"IF(ISBLANK(F161),\"\",IF(F161=0,\"\",IF(ISNUMBER(F161),((K161*F161)/$C161)*O157,\"\")))","v":""},1,1]
["Pumpestationer, bygværker og bassiner 12"]
["Pumpestation (inkl. evt. hydrofor)/trykforøger, Konstruktioner","m³/h ",{"$f":"+Genanskaffelsespriser!$E$175","v":50},null,220,220,"Ny data",0,"fejl ikke med tidligere",{"$f":"IF(E163=0,\"Variabel pris\",IFERROR((HLOOKUP(E163,'Variable priser'!$C$103:$F$105,2)+(E163-HLOOKUP(E163,'Variable priser'!$C$103:$F$105,1))*HLOOKUP(E163,'Variable priser'!$C$103:$F$105,3))*'Variable priser'!$I$102/E163*(1+Genanskaffelsespriser!$D$203),\"Fejl\"))","v":931.48589812499984},{"$f":"IF(F163=0,\"Variabel pris\",IFERROR((HLOOKUP(F163,'Variable priser'!$C$103:$F$105,2)+(F163-HLOOKUP(F163,'Variable priser'!$C$103:$F$105,1))*HLOOKUP(F163,'Variable priser'!$C$103:$F$105,3))*'Variable priser'!$I$102/F163*(1+Genanskaffelsespriser!$D$203),\"Fejl\"))","v":931.48589812499984},{"$f":"IF(ISBLANK(E163),\"\",IF(E163=0,\"\",IF(ISNUMBER(E163),((J163*E163)/$C163)*N163,\"\")))","v":4098.5379517499996},{"$f":"IF(ISBLANK(F163),\"\",IF(F163=0,\"\",IF(ISNUMBER(F163),((K163*F163)/$C163)*O163,\"\")))","v":4098.5379517499996},1,1]
["Pumpestation (inkl. evt. hydrofor)/trykforøger, Mek./EL","m³/h ",{"$f":"+Genanskaffelsespriser!$E$176","v":25},220,220,220,0,0,null,{"$f":"IF(E164=0,\"Variabel pris\",IFERROR((HLOOKUP(E164,'Variable priser'!$C$103:$F$105,2)+(E164-HLOOKUP(E164,'Variable priser'!$C$103:$F$105,1))*HLOOKUP(E164,'Variable priser'!$C$103:$F$105,3))*'Variable priser'!$J$102/E164*(1+Genanskaffelsespriser!$D$203),\"Fejl\"))","v":2421.863335125},{"$f":"IF(F164=0,\"Variabel pris\",IFERROR((HLOOKUP(F164,'Variable priser'!$C$103:$F$105,2)+(F164-HLOOKUP(F164,'Variable priser'!$C$103:$F$105,1))*HLOOKUP(F164,'Variable priser'!$C$103:$F$105,3))*'Variable priser'!$J$102/F164*(1+Genanskaffelsespriser!$D$203),\"Fejl\"))","v":2421.863335125},{"$f":"IF(ISBLANK(E164),\"\",IF(E164=0,\"\",IF(ISNUMBER(E164),((J164*E164)/$C164)*N163,\"\")))","v":21312.3973491},{"$f":"IF(ISBLANK(F164),\"\",IF(F164=0,\"\",IF(ISNUMBER(F164),((K164*F164)/$C164)*O163,\"\")))","v":21312.3973491},1,1]
["Pumpestation (inkl. evt. hydrofor)/trykforøger, SRO","m³/h ",{"$f":"+Genanskaffelsespriser!$E$177","v":10},220,220,220,0,0,null,{"$f":"IF(E165=0,\"Variabel pris\",IFERROR((HLOOKUP(E165,'Variable priser'!$C$103:$F$105,2)+(E165-HLOOKUP(E165,'Variable priser'!$C$103:$F$105,1))*HLOOKUP(E165,'Variable priser'!$C$103:$F$105,3))*'Variable priser'!$L$102/E165*(1+Genanskaffelsespriser!$D$203),\"Fejl\"))","v":372.59435924999991},{"$f":"IF(F165=0,\"Variabel pris\",IFERROR((HLOOKUP(F165,'Variable priser'!$C$103:$F$105,2)+(F165-HLOOKUP(F165,'Variable priser'!$C$103:$F$105,1))*HLOOKUP(F165,'Variable priser'!$C$103:$F$105,3))*'Variable priser'!$L$102/F165*(1+Genanskaffelsespriser!$D$203),\"Fejl\"))","v":372.59435924999991},{"$f":"IF(ISBLANK(E165),\"\",IF(E165=0,\"\",IF(ISNUMBER(E165),((J165*E165)/$C165)*N163,\"\")))","v":8197.0759034999974},{"$f":"IF(ISBLANK(F165),\"\",IF(F165=0,\"Samlet mængde kan ikke være nul i 2025\",IF(ISNUMBER(F165),((K165*F165)/$C165)*O163,\"\")))","v":8197.0759034999974},1,1]
["Beholderanlæg - højdebeholder","m³",{"$f":"+Genanskaffelsespriser!$E$178","v":50},null,null,null,"","",null,{"$f":"IF(E166=0,\"Variabel pris\",IFERROR((HLOOKUP(E166,'Variable priser'!$C$48:$H$50,2)+(E166-HLOOKUP(E166,'Variable priser'!$C$48:$H$50,1))*HLOOKUP(E166,'Variable priser'!$C$48:$H$50,3))/E166*(1+Genanskaffelsespriser!$D$203),\"Fejl\"))","v":"Variabel pris"},{"$f":"IF(F166=0,\"Variabel pris\",IFERROR((HLOOKUP(F166,'Variable priser'!$C$48:$H$50,2)+(F166-HLOOKUP(F166,'Variable priser'!$C$48:$H$50,1))*HLOOKUP(F166,'Variable priser'!$C$48:$H$50,3))/F166*(1+Genanskaffelsespriser!$D$203),\"Fejl\"))","v":"Variabel pris"},{"$f":"IF(ISBLANK(E166),\"\",IF(E166=0,\"\",IF(ISNUMBER(E166),((J166*E166)/$C166)*N163,\"\")))","v":""},{"$f":"IF(ISBLANK(F166),\"\",IF(F166=0,\"\",IF(ISNUMBER(F166),((K166*F166)/$C166)*O163,\"\")))","v":""},1,1]
["Beholderanlæg - vandtårn","m³",{"$f":"+Genanskaffelsespriser!$E$179","v":50},null,null,null,"","",null,{"$f":"IF(E167=0,\"Variabel pris\",IFERROR((HLOOKUP(E167,'Variable priser'!$C$55:$H$57,2)+(E167-HLOOKUP(E167,'Variable priser'!$C$55:$H$57,1))*HLOOKUP(E167,'Variable priser'!$C$55:$H$57,3))/E167*(1+Genanskaffelsespriser!$D$203),\"Fejl\"))","v":"Variabel pris"},{"$f":"IF(F167=0,\"Variabel pris\",IFERROR((HLOOKUP(F167,'Variable priser'!$C$55:$H$57,2)+(F167-HLOOKUP(F167,'Variable priser'!$C$55:$H$57,1))*HLOOKUP(F167,'Variable priser'!$C$55:$H$57,3))/F167*(1+Genanskaffelsespriser!$D$203),\"Fejl\"))","v":"Variabel pris"},{"$f":"IF(ISBLANK(E167),\"\",IF(E167=0,\"\",IF(ISNUMBER(E167),((J167*E167)/$C167)*N163,\"\")))","v":""},{"$f":"IF(ISBLANK(F167),\"\",IF(F167=0,\"\",IF(ISNUMBER(F167),((K167*F167)/$C167)*O163,\"\")))","v":""},1,1]
["Pumpestationer, bygværker og bassiner 13"]
["Pumpestation (inkl. evt. hydrofor)/trykforøger, Konstruktioner","m³/h ",{"$f":"+Genanskaffelsespriser!$E$175","v":50},null,null,null,"","",null,{"$f":"IF(E169=0,\"Variabel pris\",IFERROR((HLOOKUP(E169,'Variable priser'!$C$103:$F$105,2)+(E169-HLOOKUP(E169,'Variable priser'!$C$103:$F$105,1))*HLOOKUP(E169,'Variable priser'!$C$103:$F$105,3))*'Variable priser'!$I$102/E169*(1+Genanskaffelsespriser!$D$203),\"Fejl\"))","v":"Variabel pris"},{"$f":"IF(F169=0,\"Variabel pris\",IFERROR((HLOOKUP(F169,'Variable priser'!$C$103:$F$105,2)+(F169-HLOOKUP(F169,'Variable priser'!$C$103:$F$105,1))*HLOOKUP(F169,'Variable priser'!$C$103:$F$105,3))*'Variable priser'!$I$102/F169*(1+Genanskaffelsespriser!$D$203),\"Fejl\"))","v":"Variabel pris"},{"$f":"IF(ISBLANK(E169),\"\",IF(E169=0,\"\",IF(ISNUMBER(E169),((J169*E169)/$C169)*N169,\"\")))","v":""},{"$f":"IF(ISBLANK(F169),\"\",IF(F169=0,\"\",IF(ISNUMBER(F169),((K169*F169)/$C169)*O169,\"\")))","v":""},1,1]
["Pumpestation (inkl. evt. hydrofor)/trykforøger, Mek./EL","m³/h ",{"$f":"+Genanskaffelsespriser!$E$176","v":25},550,550,0,0,-1,"konverteret til dykpumpekildeplads",{"$f":"IF(E170=0,\"Variabel pris\",IFERROR((HLOOKUP(E170,'Variable priser'!$C$103:$F$105,2)+(E170-HLOOKUP(E170,'Variable priser'!$C$103:$F$105,1))*HLOOKUP(E170,'Variable priser'!$C$103:$F$105,3))*'Variable priser'!$J$102/E170*(1+Genanskaffelsespriser!$D$203),\"Fejl\"))","v":2144.5507395},{"$f":"IF(F170=0,\"Variabel pris\",IFERROR((HLOOKUP(F170,'Variable priser'!$C$103:$F$105,2)+(F170-HLOOKUP(F170,'Variable priser'!$C$103:$F$105,1))*HLOOKUP(F170,'Variable priser'!$C$103:$F$105,3))*'Variable priser'!$J$102/F170*(1+Genanskaffelsespriser!$D$203),\"Fejl\"))","v":"Variabel pris"},{"$f":"IF(ISBLANK(E170),\"\",IF(E170=0,\"\",IF(ISNUMBER(E170),((J170*E170)/$C170)*N169,\"\")))","v":47180.116268999998},{"$f":"IF(ISBLANK(F170),\"\",IF(F170=0,\"\",IF(ISNUMBER(F170),((K170*F170)/$C170)*O169,\"\")))","v":""},1,1]
["Pumpestation (inkl. evt. hydrofor)/trykforøger, SRO","m³/h ",{"$f":"+Genanskaffelsespriser!$E$177","v":10},550,550,0,0,-1,"konverteret til dykpumpekildeplads",{"$f":"IF(E171=0,\"Variabel pris\",IFERROR((HLOOKUP(E171,'Variable priser'!$C$103:$F$105,2)+(E171-HLOOKUP(E171,'Variable priser'!$C$103:$F$105,1))*HLOOKUP(E171,'Variable priser'!$C$103:$F$105,3))*'Variable priser'!$L$102/E171*(1+Genanskaffelsespriser!$D$203),\"Fejl\"))","v":329.93088300000005},{"$f":"IF(F171=0,\"Variabel pris\",IFERROR((HLOOKUP(F171,'Variable priser'!$C$103:$F$105,2)+(F171-HLOOKUP(F171,'Variable priser'!$C$103:$F$105,1))*HLOOKUP(F171,'Variable priser'!$C$103:$F$105,3))*'Variable priser'!$L$102/F171*(1+Genanskaffelsespriser!$D$203),\"Fejl\"))","v":"Variabel pris"},{"$f":"IF(ISBLANK(E171),\"\",IF(E171=0,\"\",IF(ISNUMBER(E171),((J171*E171)/$C171)*N169,\"\")))","v":18146.198565000002},{"$f":"IF(ISBLANK(F171),\"\",IF(F171=0,\"Samlet mængde kan ikke være nul i 2025\",IF(ISNUMBER(F171),((K171*F171)/$C171)*O169,\"\")))","v":"Samlet mængde kan ikke være nul i 2025"},1,1]
["Beholderanlæg - højdebeholder","m³",{"$f":"+Genanskaffelsespriser!$E$178","v":50},null,null,null,"","",null,{"$f":"IF(E172=0,\"Variabel pris\",IFERROR((HLOOKUP(E172,'Variable priser'!$C$48:$H$50,2)+(E172-HLOOKUP(E172,'Variable priser'!$C$48:$H$50,1))*HLOOKUP(E172,'Variable priser'!$C$48:$H$50,3))/E172*(1+Genanskaffelsespriser!$D$203),\"Fejl\"))","v":"Variabel pris"},{"$f":"IF(F172=0,\"Variabel pris\",IFERROR((HLOOKUP(F172,'Variable priser'!$C$48:$H$50,2)+(F172-HLOOKUP(F172,'Variable priser'!$C$48:$H$50,1))*HLOOKUP(F172,'Variable priser'!$C$48:$H$50,3))/F172*(1+Genanskaffelsespriser!$D$203),\"Fejl\"))","v":"Variabel pris"},{"$f":"IF(ISBLANK(E172),\"\",IF(E172=0,\"\",IF(ISNUMBER(E172),((J172*E172)/$C172)*N169,\"\")))","v":""},{"$f":"IF(ISBLANK(F172),\"\",IF(F172=0,\"\",IF(ISNUMBER(F172),((K172*F172)/$C172)*O169,\"\")))","v":""},1,1]
["Beholderanlæg - vandtårn","m³",{"$f":"+Genanskaffelsespriser!$E$179","v":50},null,null,null,"","",null,{"$f":"IF(E173=0,\"Variabel pris\",IFERROR((HLOOKUP(E173,'Variable priser'!$C$55:$H$57,2)+(E173-HLOOKUP(E173,'Variable priser'!$C$55:$H$57,1))*HLOOKUP(E173,'Variable priser'!$C$55:$H$57,3))/E173*(1+Genanskaffelsespriser!$D$203),\"Fejl\"))","v":"Variabel pris"},{"$f":"IF(F173=0,\"Variabel pris\",IFERROR((HLOOKUP(F173,'Variable priser'!$C$55:$H$57,2)+(F173-HLOOKUP(F173,'Variable priser'!$C$55:$H$57,1))*HLOOKUP(F173,'Variable priser'!$C$55:$H$57,3))/F173*(1+Genanskaffelsespriser!$D$203),\"Fejl\"))","v":"Variabel pris"},{"$f":"IF(ISBLANK(E173),\"\",IF(E173=0,\"\",IF(ISNUMBER(E173),((J173*E173)/$C173)*N169,\"\")))","v":""},{"$f":"IF(ISBLANK(F173),\"\",IF(F173=0,\"\",IF(ISNUMBER(F173),((K173*F173)/$C173)*O169,\"\")))","v":""},1,1]
["Pumpestationer, bygværker og bassiner 14"]
["Pumpestation (inkl. evt. hydrofor)/trykforøger, Konstruktioner","m³/h ",{"$f":"+Genanskaffelsespriser!$E$175","v":50},null,null,null,"","",null,{"$f":"IF(E175=0,\"Variabel pris\",IFERROR((HLOOKUP(E175,'Variable priser'!$C$103:$F$105,2)+(E175-HLOOKUP(E175,'Variable priser'!$C$103:$F$105,1))*HLOOKUP(E175,'Variable priser'!$C$103:$F$105,3))*'Variable priser'!$I$102/E175*(1+Genanskaffelsespriser!$D$203),\"Fejl\"))","v":"Variabel pris"},{"$f":"IF(F175=0,\"Variabel pris\",IFERROR((HLOOKUP(F175,'Variable priser'!$C$103:$F$105,2)+(F175-HLOOKUP(F175,'Variable priser'!$C$103:$F$105,1))*HLOOKUP(F175,'Variable priser'!$C$103:$F$105,3))*'Variable priser'!$I$102/F175*(1+Genanskaffelsespriser!$D$203),\"Fejl\"))","v":"Variabel pris"},{"$f":"IF(ISBLANK(E175),\"\",IF(E175=0,\"\",IF(ISNUMBER(E175),((J175*E175)/$C175)*N175,\"\")))","v":""},{"$f":"IF(ISBLANK(F175),\"\",IF(F175=0,\"\",IF(ISNUMBER(F175),((K175*F175)/$C175)*O175,\"\")))","v":""},1,1]
["Pumpestation (inkl. evt. hydrofor)/trykforøger, Mek./EL","m³/h ",{"$f":"+Genanskaffelsespriser!$E$176","v":25},285,0,0,-1,0,"konverteret til dykpumpekildeplads",{"$f":"IF(E176=0,\"Variabel pris\",IFERROR((HLOOKUP(E176,'Variable priser'!$C$103:$F$105,2)+(E176-HLOOKUP(E176,'Variable priser'!$C$103:$F$105,1))*HLOOKUP(E176,'Variable priser'!$C$103:$F$105,3))*'Variable priser'!$J$102/E176*(1+Genanskaffelsespriser!$D$203),\"Fejl\"))","v":"Variabel pris"},{"$f":"IF(F176=0,\"Variabel pris\",IFERROR((HLOOKUP(F176,'Variable priser'!$C$103:$F$105,2)+(F176-HLOOKUP(F176,'Variable priser'!$C$103:$F$105,1))*HLOOKUP(F176,'Variable priser'!$C$103:$F$105,3))*'Variable priser'!$J$102/F176*(1+Genanskaffelsespriser!$D$203),\"Fejl\"))","v":"Variabel pris"},{"$f":"IF(ISBLANK(E176),\"\",IF(E176=0,\"\",IF(ISNUMBER(E176),((J176*E176)/$C176)*N175,\"\")))","v":""},{"$f":"IF(ISBLANK(F176),\"\",IF(F176=0,\"\",IF(ISNUMBER(F176),((K176*F176)/$C176)*O175,\"\")))","v":""},1,1]
["Pumpestation (inkl. evt. hydrofor)/trykforøger, SRO","m³/h ",{"$f":"+Genanskaffelsespriser!$E$177","v":10},285,0,0,-1,0,"konverteret til dykpumpekildeplads",{"$f":"IF(E177=0,\"Variabel pris\",IFERROR((HLOOKUP(E177,'Variable priser'!$C$103:$F$105,2)+(E177-HLOOKUP(E177,'Variable priser'!$C$103:$F$105,1))*HLOOKUP(E177,'Variable priser'!$C$103:$F$105,3))*'Variable priser'!$L$102/E177*(1+Genanskaffelsespriser!$D$203),\"Fejl\"))","v":"Variabel pris"},{"$f":"IF(F177=0,\"Variabel pris\",IFERROR((HLOOKUP(F177,'Variable priser'!$C$103:$F$105,2)+(F177-HLOOKUP(F177,'Variable priser'!$C$103:$F$105,1))*HLOOKUP(F177,'Variable priser'!$C$103:$F$105,3))*'Variable priser'!$L$102/F177*(1+Genanskaffelsespriser!$D$203),\"Fejl\"))","v":"Variabel pris"},{"$f":"IF(ISBLANK(E177),\"\",IF(E177=0,\"\",IF(ISNUMBER(E177),((J177*E177)/$C177)*N175,\"\")))","v":""},{"$f":"IF(ISBLANK(F177),\"\",IF(F177=0,\"Samlet mængde kan ikke være nul i 2025\",IF(ISNUMBER(F177),((K177*F177)/$C177)*O175,\"\")))","v":"Samlet mængde kan ikke være nul i 2025"},1,1]
["Beholderanlæg - højdebeholder","m³",{"$f":"+Genanskaffelsespriser!$E$178","v":50},null,null,null,"","",null,{"$f":"IF(E178=0,\"Variabel pris\",IFERROR((HLOOKUP(E178,'Variable priser'!$C$48:$H$50,2)+(E178-HLOOKUP(E178,'Variable priser'!$C$48:$H$50,1))*HLOOKUP(E178,'Variable priser'!$C$48:$H$50,3))/E178*(1+Genanskaffelsespriser!$D$203),\"Fejl\"))","v":"Variabel pris"},{"$f":"IF(F178=0,\"Variabel pris\",IFERROR((HLOOKUP(F178,'Variable priser'!$C$48:$H$50,2)+(F178-HLOOKUP(F178,'Variable priser'!$C$48:$H$50,1))*HLOOKUP(F178,'Variable priser'!$C$48:$H$50,3))/F178*(1+Genanskaffelsespriser!$D$203),\"Fejl\"))","v":"Variabel pris"},{"$f":"IF(ISBLANK(E178),\"\",IF(E178=0,\"\",IF(ISNUMBER(E178),((J178*E178)/$C178)*N175,\"\")))","v":""},{"$f":"IF(ISBLANK(F178),\"\",IF(F178=0,\"\",IF(ISNUMBER(F178),((K178*F178)/$C178)*O175,\"\")))","v":""},1,1]
["Beholderanlæg - vandtårn","m³",{"$f":"+Genanskaffelsespriser!$E$179","v":50},null,null,null,"","",null,{"$f":"IF(E179=0,\"Variabel pris\",IFERROR((HLOOKUP(E179,'Variable priser'!$C$55:$H$57,2)+(E179-HLOOKUP(E179,'Variable priser'!$C$55:$H$57,1))*HLOOKUP(E179,'Variable priser'!$C$55:$H$57,3))/E179*(1+Genanskaffelsespriser!$D$203),\"Fejl\"))","v":"Variabel pris"},{"$f":"IF(F179=0,\"Variabel pris\",IFERROR((HLOOKUP(F179,'Variable priser'!$C$55:$H$57,2)+(F179-HLOOKUP(F179,'Variable priser'!$C$55:$H$57,1))*HLOOKUP(F179,'Variable priser'!$C$55:$H$57,3))/F179*(1+Genanskaffelsespriser!$D$203),\"Fejl\"))","v":"Variabel pris"},{"$f":"IF(ISBLANK(E179),\"\",IF(E179=0,\"\",IF(ISNUMBER(E179),((J179*E179)/$C179)*N175,\"\")))","v":""},{"$f":"IF(ISBLANK(F179),\"\",IF(F179=0,\"\",IF(ISNUMBER(F179),((K179*F179)/$C179)*O175,\"\")))","v":""},1,1]
["Pumpestationer, bygværker og bassiner 15"]
["Pumpestation (inkl. evt. hydrofor)/trykforøger, Konstruktioner","m³/h ",{"$f":"+Genanskaffelsespriser!$E$175","v":50},null,420,420,"Ny data",0,"fejl ikke med tidligere",{"$f":"IF(E181=0,\"Variabel pris\",IFERROR((HLOOKUP(E181,'Variable priser'!$C$103:$F$105,2)+(E181-HLOOKUP(E181,'Variable priser'!$C$103:$F$105,1))*HLOOKUP(E181,'Variable priser'!$C$103:$F$105,3))*'Variable priser'!$I$102/E181*(1+Genanskaffelsespriser!$D$203),\"Fejl\"))","v":846.83614366071401},{"$f":"IF(F181=0,\"Variabel pris\",IFERROR((HLOOKUP(F181,'Variable priser'!$C$103:$F$105,2)+(F181-HLOOKUP(F181,'Variable priser'!$C$103:$F$105,1))*HLOOKUP(F181,'Variable priser'!$C$103:$F$105,3))*'Variable priser'!$I$102/F181*(1+Genanskaffelsespriser!$D$203),\"Fejl\"))","v":846.83614366071401},{"$f":"IF(ISBLANK(E181),\"\",IF(E181=0,\"\",IF(ISNUMBER(E181),((J181*E181)/$C181)*N181,\"\")))","v":7113.4236067499978},{"$f":"IF(ISBLANK(F181),\"\",IF(F181=0,\"\",IF(ISNUMBER(F181),((K181*F181)/$C181)*O181,\"\")))","v":7113.4236067499978},1,1]
["Pumpestation (inkl. evt. hydrofor)/trykforøger, Mek./EL","m³/h ",{"$f":"+Genanskaffelsespriser!$E$176","v":25},420,420,420,0,0,null,{"$f":"IF(E182=0,\"Variabel pris\",IFERROR((HLOOKUP(E182,'Variable priser'!$C$103:$F$105,2)+(E182-HLOOKUP(E182,'Variable priser'!$C$103:$F$105,1))*HLOOKUP(E182,'Variable priser'!$C$103:$F$105,3))*'Variable priser'!$J$102/E182*(1+Genanskaffelsespriser!$D$203),\"Fejl\"))","v":2201.7739735178566},{"$f":"IF(F182=0,\"Variabel pris\",IFERROR((HLOOKUP(F182,'Variable priser'!$C$103:$F$105,2)+(F182-HLOOKUP(F182,'Variable priser'!$C$103:$F$105,1))*HLOOKUP(F182,'Variable priser'!$C$103:$F$105,3))*'Variable priser'!$J$102/F182*(1+Genanskaffelsespriser!$D$203),\"Fejl\"))","v":2201.7739735178566},{"$f":"IF(ISBLANK(E182),\"\",IF(E182=0,\"\",IF(ISNUMBER(E182),((J182*E182)/$C182)*N181,\"\")))","v":36989.80275509999},{"$f":"IF(ISBLANK(F182),\"\",IF(F182=0,\"\",IF(ISNUMBER(F182),((K182*F182)/$C182)*O181,\"\")))","v":36989.80275509999},1,1]
["Pumpestation (inkl. evt. hydrofor)/trykforøger, SRO","m³/h ",{"$f":"+Genanskaffelsespriser!$E$177","v":10},420,420,420,0,0,null,{"$f":"IF(E183=0,\"Variabel pris\",IFERROR((HLOOKUP(E183,'Variable priser'!$C$103:$F$105,2)+(E183-HLOOKUP(E183,'Variable priser'!$C$103:$F$105,1))*HLOOKUP(E183,'Variable priser'!$C$103:$F$105,3))*'Variable priser'!$L$102/E183*(1+Genanskaffelsespriser!$D$203),\"Fejl\"))","v":338.73445746428564},{"$f":"IF(F183=0,\"Variabel pris\",IFERROR((HLOOKUP(F183,'Variable priser'!$C$103:$F$105,2)+(F183-HLOOKUP(F183,'Variable priser'!$C$103:$F$105,1))*HLOOKUP(F183,'Variable priser'!$C$103:$F$105,3))*'Variable priser'!$L$102/F183*(1+Genanskaffelsespriser!$D$203),\"Fejl\"))","v":338.73445746428564},{"$f":"IF(ISBLANK(E183),\"\",IF(E183=0,\"\",IF(ISNUMBER(E183),((J183*E183)/$C183)*N181,\"\")))","v":14226.847213499996},{"$f":"IF(ISBLANK(F183),\"\",IF(F183=0,\"Samlet mængde kan ikke være nul i 2025\",IF(ISNUMBER(F183),((K183*F183)/$C183)*O181,\"\")))","v":14226.847213499996},1,1]
["Beholderanlæg - højdebeholder","m³",{"$f":"+Genanskaffelsespriser!$E$178","v":50},null,null,null,"","",null,{"$f":"IF(E184=0,\"Variabel pris\",IFERROR((HLOOKUP(E184,'Variable priser'!$C$48:$H$50,2)+(E184-HLOOKUP(E184,'Variable priser'!$C$48:$H$50,1))*HLOOKUP(E184,'Variable priser'!$C$48:$H$50,3))/E184*(1+Genanskaffelsespriser!$D$203),\"Fejl\"))","v":"Variabel pris"},{"$f":"IF(F184=0,\"Variabel pris\",IFERROR((HLOOKUP(F184,'Variable priser'!$C$48:$H$50,2)+(F184-HLOOKUP(F184,'Variable priser'!$C$48:$H$50,1))*HLOOKUP(F184,'Variable priser'!$C$48:$H$50,3))/F184*(1+Genanskaffelsespriser!$D$203),\"Fejl\"))","v":"Variabel pris"},{"$f":"IF(ISBLANK(E184),\"\",IF(E184=0,\"\",IF(ISNUMBER(E184),((J184*E184)/$C184)*N181,\"\")))","v":""},{"$f":"IF(ISBLANK(F184),\"\",IF(F184=0,\"\",IF(ISNUMBER(F184),((K184*F184)/$C184)*O181,\"\")))","v":""},1,1]
["Beholderanlæg - vandtårn","m³",{"$f":"+Genanskaffelsespriser!$E$179","v":50},null,null,null,"","",null,{"$f":"IF(E185=0,\"Variabel pris\",IFERROR((HLOOKUP(E185,'Variable priser'!$C$55:$H$57,2)+(E185-HLOOKUP(E185,'Variable priser'!$C$55:$H$57,1))*HLOOKUP(E185,'Variable priser'!$C$55:$H$57,3))/E185*(1+Genanskaffelsespriser!$D$203),\"Fejl\"))","v":"Variabel pris"},{"$f":"IF(F185=0,\"Variabel pris\",IFERROR((HLOOKUP(F185,'Variable priser'!$C$55:$H$57,2)+(F185-HLOOKUP(F185,'Variable priser'!$C$55:$H$57,1))*HLOOKUP(F185,'Variable priser'!$C$55:$H$57,3))/F185*(1+Genanskaffelsespriser!$D$203),\"Fejl\"))","v":"Variabel pris"},{"$f":"IF(ISBLANK(E185),\"\",IF(E185=0,\"\",IF(ISNUMBER(E185),((J185*E185)/$C185)*N181,\"\")))","v":""},{"$f":"IF(ISBLANK(F185),\"\",IF(F185=0,\"\",IF(ISNUMBER(F185),((K185*F185)/$C185)*O181,\"\")))","v":""},1,1]
["Pumpestationer, bygværker og bassiner 16"]
["Pumpestation (inkl. evt. hydrofor)/trykforøger, Konstruktioner","m³/h ",{"$f":"+Genanskaffelsespriser!$E$175","v":50},null,350,350,"Ny data",0,"fejl ikke med tidligere",{"$f":"IF(E187=0,\"Variabel pris\",IFERROR((HLOOKUP(E187,'Variable priser'!$C$103:$F$105,2)+(E187-HLOOKUP(E187,'Variable priser'!$C$103:$F$105,1))*HLOOKUP(E187,'Variable priser'!$C$103:$F$105,3))*'Variable priser'!$I$102/E187*(1+Genanskaffelsespriser!$D$203),\"Fejl\"))","v":865.45908964285707},{"$f":"IF(F187=0,\"Variabel pris\",IFERROR((HLOOKUP(F187,'Variable priser'!$C$103:$F$105,2)+(F187-HLOOKUP(F187,'Variable priser'!$C$103:$F$105,1))*HLOOKUP(F187,'Variable priser'!$C$103:$F$105,3))*'Variable priser'!$I$102/F187*(1+Genanskaffelsespriser!$D$203),\"Fejl\"))","v":865.45908964285707},{"$f":"IF(ISBLANK(E187),\"\",IF(E187=0,\"\",IF(ISNUMBER(E187),((J187*E187)/$C187)*N187,\"\")))","v":6058.2136274999993},{"$f":"IF(ISBLANK(F187),\"\",IF(F187=0,\"\",IF(ISNUMBER(F187),((K187*F187)/$C187)*O187,\"\")))","v":6058.2136274999993},1,1]
["Pumpestation (inkl. evt. hydrofor)/trykforøger, Mek./EL","m³/h ",{"$f":"+Genanskaffelsespriser!$E$176","v":25},350,350,350,0,0,null,{"$f":"IF(E188=0,\"Variabel pris\",IFERROR((HLOOKUP(E188,'Variable priser'!$C$103:$F$105,2)+(E188-HLOOKUP(E188,'Variable priser'!$C$103:$F$105,1))*HLOOKUP(E188,'Variable priser'!$C$103:$F$105,3))*'Variable priser'!$J$102/E188*(1+Genanskaffelsespriser!$D$203),\"Fejl\"))","v":2250.1936330714284},{"$f":"IF(F188=0,\"Variabel pris\",IFERROR((HLOOKUP(F188,'Variable priser'!$C$103:$F$105,2)+(F188-HLOOKUP(F188,'Variable priser'!$C$103:$F$105,1))*HLOOKUP(F188,'Variable priser'!$C$103:$F$105,3))*'Variable priser'!$J$102/F188*(1+Genanskaffelsespriser!$D$203),\"Fejl\"))","v":2250.1936330714284},{"$f":"IF(ISBLANK(E188),\"\",IF(E188=0,\"\",IF(ISNUMBER(E188),((J188*E188)/$C188)*N187,\"\")))","v":31502.710862999997},{"$f":"IF(ISBLANK(F188),\"\",IF(F188=0,\"\",IF(ISNUMBER(F188),((K188*F188)/$C188)*O187,\"\")))","v":31502.710862999997},1,1]
["Pumpestation (inkl. evt. hydrofor)/trykforøger, SRO","m³/h ",{"$f":"+Genanskaffelsespriser!$E$177","v":10},350,350,350,0,0,null,{"$f":"IF(E189=0,\"Variabel pris\",IFERROR((HLOOKUP(E189,'Variable priser'!$C$103:$F$105,2)+(E189-HLOOKUP(E189,'Variable priser'!$C$103:$F$105,1))*HLOOKUP(E189,'Variable priser'!$C$103:$F$105,3))*'Variable priser'!$L$102/E189*(1+Genanskaffelsespriser!$D$203),\"Fejl\"))","v":346.18363585714286},{"$f":"IF(F189=0,\"Variabel pris\",IFERROR((HLOOKUP(F189,'Variable priser'!$C$103:$F$105,2)+(F189-HLOOKUP(F189,'Variable priser'!$C$103:$F$105,1))*HLOOKUP(F189,'Variable priser'!$C$103:$F$105,3))*'Variable priser'!$L$102/F189*(1+Genanskaffelsespriser!$D$203),\"Fejl\"))","v":346.18363585714286},{"$f":"IF(ISBLANK(E189),\"\",IF(E189=0,\"\",IF(ISNUMBER(E189),((J189*E189)/$C189)*N187,\"\")))","v":12116.427254999999},{"$f":"IF(ISBLANK(F189),\"\",IF(F189=0,\"Samlet mængde kan ikke være nul i 2025\",IF(ISNUMBER(F189),((K189*F189)/$C189)*O187,\"\")))","v":12116.427254999999},1,1]
["Beholderanlæg - højdebeholder","m³",{"$f":"+Genanskaffelsespriser!$E$178","v":50},null,null,null,"","",null,{"$f":"IF(E190=0,\"Variabel pris\",IFERROR((HLOOKUP(E190,'Variable priser'!$C$48:$H$50,2)+(E190-HLOOKUP(E190,'Variable priser'!$C$48:$H$50,1))*HLOOKUP(E190,'Variable priser'!$C$48:$H$50,3))/E190*(1+Genanskaffelsespriser!$D$203),\"Fejl\"))","v":"Variabel pris"},{"$f":"IF(F190=0,\"Variabel pris\",IFERROR((HLOOKUP(F190,'Variable priser'!$C$48:$H$50,2)+(F190-HLOOKUP(F190,'Variable priser'!$C$48:$H$50,1))*HLOOKUP(F190,'Variable priser'!$C$48:$H$50,3))/F190*(1+Genanskaffelsespriser!$D$203),\"Fejl\"))","v":"Variabel pris"},{"$f":"IF(ISBLANK(E190),\"\",IF(E190=0,\"\",IF(ISNUMBER(E190),((J190*E190)/$C190)*N187,\"\")))","v":""},{"$f":"IF(ISBLANK(F190),\"\",IF(F190=0,\"\",IF(ISNUMBER(F190),((K190*F190)/$C190)*O187,\"\")))","v":""},1,1]
["Beholderanlæg - vandtårn","m³",{"$f":"+Genanskaffelsespriser!$E$179","v":50},null,null,null,"","",null,{"$f":"IF(E191=0,\"Variabel pris\",IFERROR((HLOOKUP(E191,'Variable priser'!$C$55:$H$57,2)+(E191-HLOOKUP(E191,'Variable priser'!$C$55:$H$57,1))*HLOOKUP(E191,'Variable priser'!$C$55:$H$57,3))/E191*(1+Genanskaffelsespriser!$D$203),\"Fejl\"))","v":"Variabel pris"},{"$f":"IF(F191=0,\"Variabel pris\",IFERROR((HLOOKUP(F191,'Variable priser'!$C$55:$H$57,2)+(F191-HLOOKUP(F191,'Variable priser'!$C$55:$H$57,1))*HLOOKUP(F191,'Variable priser'!$C$55:$H$57,3))/F191*(1+Genanskaffelsespriser!$D$203),\"Fejl\"))","v":"Variabel pris"},{"$f":"IF(ISBLANK(E191),\"\",IF(E191=0,\"\",IF(ISNUMBER(E191),((J191*E191)/$C191)*N187,\"\")))","v":""},{"$f":"IF(ISBLANK(F191),\"\",IF(F191=0,\"\",IF(ISNUMBER(F191),((K191*F191)/$C191)*O187,\"\")))","v":""},1,1]
["Pumpestationer, bygværker og bassiner 17"]
["Pumpestation (inkl. evt. hydrofor)/trykforøger, Konstruktioner","m³/h ",{"$f":"+Genanskaffelsespriser!$E$175","v":50},null,270,270,"Ny data",0,"fejl ikke med tidligere",{"$f":"IF(E193=0,\"Variabel pris\",IFERROR((HLOOKUP(E193,'Variable priser'!$C$103:$F$105,2)+(E193-HLOOKUP(E193,'Variable priser'!$C$103:$F$105,1))*HLOOKUP(E193,'Variable priser'!$C$103:$F$105,3))*'Variable priser'!$I$102/E193*(1+Genanskaffelsespriser!$D$203),\"Fejl\"))","v":898.56654916666662},{"$f":"IF(F193=0,\"Variabel pris\",IFERROR((HLOOKUP(F193,'Variable priser'!$C$103:$F$105,2)+(F193-HLOOKUP(F193,'Variable priser'!$C$103:$F$105,1))*HLOOKUP(F193,'Variable priser'!$C$103:$F$105,3))*'Variable priser'!$I$102/F193*(1+Genanskaffelsespriser!$D$203),\"Fejl\"))","v":898.56654916666662},{"$f":"IF(ISBLANK(E193),\"\",IF(E193=0,\"\",IF(ISNUMBER(E193),((J193*E193)/$C193)*N193,\"\")))","v":4852.2593655000001},{"$f":"IF(ISBLANK(F193),\"\",IF(F193=0,\"\",IF(ISNUMBER(F193),((K193*F193)/$C193)*O193,\"\")))","v":4852.2593655000001},1,1]
["Pumpestation (inkl. evt. hydrofor)/trykforøger, Mek./EL","m³/h ",{"$f":"+Genanskaffelsespriser!$E$176","v":25},0,270,270,"Ny data",0,"fejlindtastet sidste gang",{"$f":"IF(E194=0,\"Variabel pris\",IFERROR((HLOOKUP(E194,'Variable priser'!$C$103:$F$105,2)+(E194-HLOOKUP(E194,'Variable priser'!$C$103:$F$105,1))*HLOOKUP(E194,'Variable priser'!$C$103:$F$105,3))*'Variable priser'!$J$102/E194*(1+Genanskaffelsespriser!$D$203),\"Fejl\"))","v":2336.2730278333338},{"$f":"IF(F194=0,\"Variabel pris\",IFERROR((HLOOKUP(F194,'Variable priser'!$C$103:$F$105,2)+(F194-HLOOKUP(F194,'Variable priser'!$C$103:$F$105,1))*HLOOKUP(F194,'Variable priser'!$C$103:$F$105,3))*'Variable priser'!$J$102/F194*(1+Genanskaffelsespriser!$D$203),\"Fejl\"))","v":2336.2730278333338},{"$f":"IF(ISBLANK(E194),\"\",IF(E194=0,\"\",IF(ISNUMBER(E194),((J194*E194)/$C194)*N193,\"\")))","v":25231.748700600005},{"$f":"IF(ISBLANK(F194),\"\",IF(F194=0,\"\",IF(ISNUMBER(F194),((K194*F194)/$C194)*O193,\"\")))","v":25231.748700600005},1,1]
["Pumpestation (inkl. evt. hydrofor)/trykforøger, SRO","m³/h ",{"$f":"+Genanskaffelsespriser!$E$177","v":10},0,270,270,"Ny data",0,"fejlindtastet sidste gang",{"$f":"IF(E195=0,\"Variabel pris\",IFERROR((HLOOKUP(E195,'Variable priser'!$C$103:$F$105,2)+(E195-HLOOKUP(E195,'Variable priser'!$C$103:$F$105,1))*HLOOKUP(E195,'Variable priser'!$C$103:$F$105,3))*'Variable priser'!$L$102/E195*(1+Genanskaffelsespriser!$D$203),\"Fejl\"))","v":359.42661966666668},{"$f":"IF(F195=0,\"Variabel pris\",IFERROR((HLOOKUP(F195,'Variable priser'!$C$103:$F$105,2)+(F195-HLOOKUP(F195,'Variable priser'!$C$103:$F$105,1))*HLOOKUP(F195,'Variable priser'!$C$103:$F$105,3))*'Variable priser'!$L$102/F195*(1+Genanskaffelsespriser!$D$203),\"Fejl\"))","v":359.42661966666668},{"$f":"IF(ISBLANK(E195),\"\",IF(E195=0,\"\",IF(ISNUMBER(E195),((J195*E195)/$C195)*N193,\"\")))","v":9704.5187310000001},{"$f":"IF(ISBLANK(F195),\"\",IF(F195=0,\"Samlet mængde kan ikke være nul i 2025\",IF(ISNUMBER(F195),((K195*F195)/$C195)*O193,\"\")))","v":9704.5187310000001},1,1]
["Beholderanlæg - højdebeholder","m³",{"$f":"+Genanskaffelsespriser!$E$178","v":50},null,null,null,"","",null,{"$f":"IF(E196=0,\"Variabel pris\",IFERROR((HLOOKUP(E196,'Variable priser'!$C$48:$H$50,2)+(E196-HLOOKUP(E196,'Variable priser'!$C$48:$H$50,1))*HLOOKUP(E196,'Variable priser'!$C$48:$H$50,3))/E196*(1+Genanskaffelsespriser!$D$203),\"Fejl\"))","v":"Variabel pris"},{"$f":"IF(F196=0,\"Variabel pris\",IFERROR((HLOOKUP(F196,'Variable priser'!$C$48:$H$50,2)+(F196-HLOOKUP(F196,'Variable priser'!$C$48:$H$50,1))*HLOOKUP(F196,'Variable priser'!$C$48:$H$50,3))/F196*(1+Genanskaffelsespriser!$D$203),\"Fejl\"))","v":"Variabel pris"},{"$f":"IF(ISBLANK(E196),\"\",IF(E196=0,\"\",IF(ISNUMBER(E196),((J196*E196)/$C196)*N193,\"\")))","v":""},{"$f":"IF(ISBLANK(F196),\"\",IF(F196=0,\"\",IF(ISNUMBER(F196),((K196*F196)/$C196)*O193,\"\")))","v":""},1,1]
["Beholderanlæg - vandtårn","m³",{"$f":"+Genanskaffelsespriser!$E$179","v":50},null,null,null,"","",null,{"$f":"IF(E197=0,\"Variabel pris\",IFERROR((HLOOKUP(E197,'Variable priser'!$C$55:$H$57,2)+(E197-HLOOKUP(E197,'Variable priser'!$C$55:$H$57,1))*HLOOKUP(E197,'Variable priser'!$C$55:$H$57,3))/E197*(1+Genanskaffelsespriser!$D$203),\"Fejl\"))","v":"Variabel pris"},{"$f":"IF(F197=0,\"Variabel pris\",IFERROR((HLOOKUP(F197,'Variable priser'!$C$55:$H$57,2)+(F197-HLOOKUP(F197,'Variable priser'!$C$55:$H$57,1))*HLOOKUP(F197,'Variable priser'!$C$55:$H$57,3))/F197*(1+Genanskaffelsespriser!$D$203),\"Fejl\"))","v":"Variabel pris"},{"$f":"IF(ISBLANK(E197),\"\",IF(E197=0,\"\",IF(ISNUMBER(E197),((J197*E197)/$C197)*N193,\"\")))","v":""},{"$f":"IF(ISBLANK(F197),\"\",IF(F197=0,\"\",IF(ISNUMBER(F197),((K197*F197)/$C197)*O193,\"\")))","v":""},1,1]
["Pumpestationer, bygværker og bassiner 18"]
["Pumpestation (inkl. evt. hydrofor)/trykforøger, Konstruktioner","m³/h ",{"$f":"+Genanskaffelsespriser!$E$175","v":50},null,300,300,"Ny data",0,"fejl ikke med tidligere",{"$f":"IF(E199=0,\"Variabel pris\",IFERROR((HLOOKUP(E199,'Variable priser'!$C$103:$F$105,2)+(E199-HLOOKUP(E199,'Variable priser'!$C$103:$F$105,1))*HLOOKUP(E199,'Variable priser'!$C$103:$F$105,3))*'Variable priser'!$I$102/E199*(1+Genanskaffelsespriser!$D$203),\"Fejl\"))","v":884.082035625},{"$f":"IF(F199=0,\"Variabel pris\",IFERROR((HLOOKUP(F199,'Variable priser'!$C$103:$F$105,2)+(F199-HLOOKUP(F199,'Variable priser'!$C$103:$F$105,1))*HLOOKUP(F199,'Variable priser'!$C$103:$F$105,3))*'Variable priser'!$I$102/F199*(1+Genanskaffelsespriser!$D$203),\"Fejl\"))","v":884.082035625},{"$f":"IF(ISBLANK(E199),\"\",IF(E199=0,\"\",IF(ISNUMBER(E199),((J199*E199)/$C199)*N199,\"\")))","v":5304.4922137499998},{"$f":"IF(ISBLANK(F199),\"\",IF(F199=0,\"\",IF(ISNUMBER(F199),((K199*F199)/$C199)*O199,\"\")))","v":5304.4922137499998},1,1]
["Pumpestation (inkl. evt. hydrofor)/trykforøger, Mek./EL","m³/h ",{"$f":"+Genanskaffelsespriser!$E$176","v":25},300,300,300,0,0,null,{"$f":"IF(E200=0,\"Variabel pris\",IFERROR((HLOOKUP(E200,'Variable priser'!$C$103:$F$105,2)+(E200-HLOOKUP(E200,'Variable priser'!$C$103:$F$105,1))*HLOOKUP(E200,'Variable priser'!$C$103:$F$105,3))*'Variable priser'!$J$102/E200*(1+Genanskaffelsespriser!$D$203),\"Fejl\"))","v":2298.6132926250002},{"$f":"IF(F200=0,\"Variabel pris\",IFERROR((HLOOKUP(F200,'Variable priser'!$C$103:$F$105,2)+(F200-HLOOKUP(F200,'Variable priser'!$C$103:$F$105,1))*HLOOKUP(F200,'Variable priser'!$C$103:$F$105,3))*'Variable priser'!$J$102/F200*(1+Genanskaffelsespriser!$D$203),\"Fejl\"))","v":2298.6132926250002},{"$f":"IF(ISBLANK(E200),\"\",IF(E200=0,\"\",IF(ISNUMBER(E200),((J200*E200)/$C200)*N199,\"\")))","v":27583.359511500003},{"$f":"IF(ISBLANK(F200),\"\",IF(F200=0,\"\",IF(ISNUMBER(F200),((K200*F200)/$C200)*O199,\"\")))","v":27583.359511500003},1,1]
["Pumpestation (inkl. evt. hydrofor)/trykforøger, SRO","m³/h ",{"$f":"+Genanskaffelsespriser!$E$177","v":10},300,300,300,0,0,null,{"$f":"IF(E201=0,\"Variabel pris\",IFERROR((HLOOKUP(E201,'Variable priser'!$C$103:$F$105,2)+(E201-HLOOKUP(E201,'Variable priser'!$C$103:$F$105,1))*HLOOKUP(E201,'Variable priser'!$C$103:$F$105,3))*'Variable priser'!$L$102/E201*(1+Genanskaffelsespriser!$D$203),\"Fejl\"))","v":353.63281425000002},{"$f":"IF(F201=0,\"Variabel pris\",IFERROR((HLOOKUP(F201,'Variable priser'!$C$103:$F$105,2)+(F201-HLOOKUP(F201,'Variable priser'!$C$103:$F$105,1))*HLOOKUP(F201,'Variable priser'!$C$103:$F$105,3))*'Variable priser'!$L$102/F201*(1+Genanskaffelsespriser!$D$203),\"Fejl\"))","v":353.63281425000002},{"$f":"IF(ISBLANK(E201),\"\",IF(E201=0,\"\",IF(ISNUMBER(E201),((J201*E201)/$C201)*N199,\"\")))","v":10608.984427500001},{"$f":"IF(ISBLANK(F201),\"\",IF(F201=0,\"Samlet mængde kan ikke være nul i 2025\",IF(ISNUMBER(F201),((K201*F201)/$C201)*O199,\"\")))","v":10608.984427500001},1,1]
["Beholderanlæg - højdebeholder","m³",{"$f":"+Genanskaffelsespriser!$E$178","v":50},null,null,null,"","",null,{"$f":"IF(E202=0,\"Variabel pris\",IFERROR((HLOOKUP(E202,'Variable priser'!$C$48:$H$50,2)+(E202-HLOOKUP(E202,'Variable priser'!$C$48:$H$50,1))*HLOOKUP(E202,'Variable priser'!$C$48:$H$50,3))/E202*(1+Genanskaffelsespriser!$D$203),\"Fejl\"))","v":"Variabel pris"},{"$f":"IF(F202=0,\"Variabel pris\",IFERROR((HLOOKUP(F202,'Variable priser'!$C$48:$H$50,2)+(F202-HLOOKUP(F202,'Variable priser'!$C$48:$H$50,1))*HLOOKUP(F202,'Variable priser'!$C$48:$H$50,3))/F202*(1+Genanskaffelsespriser!$D$203),\"Fejl\"))","v":"Variabel pris"},{"$f":"IF(ISBLANK(E202),\"\",IF(E202=0,\"\",IF(ISNUMBER(E202),((J202*E202)/$C202)*N199,\"\")))","v":""},{"$f":"IF(ISBLANK(F202),\"\",IF(F202=0,\"\",IF(ISNUMBER(F202),((K202*F202)/$C202)*O199,\"\")))","v":""},1,1]
["Beholderanlæg - vandtårn","m³",{"$f":"+Genanskaffelsespriser!$E$179","v":50},null,null,null,"","",null,{"$f":"IF(E203=0,\"Variabel pris\",IFERROR((HLOOKUP(E203,'Variable priser'!$C$55:$H$57,2)+(E203-HLOOKUP(E203,'Variable priser'!$C$55:$H$57,1))*HLOOKUP(E203,'Variable priser'!$C$55:$H$57,3))/E203*(1+Genanskaffelsespriser!$D$203),\"Fejl\"))","v":"Variabel pris"},{"$f":"IF(F203=0,\"Variabel pris\",IFERROR((HLOOKUP(F203,'Variable priser'!$C$55:$H$57,2)+(F203-HLOOKUP(F203,'Variable priser'!$C$55:$H$57,1))*HLOOKUP(F203,'Variable priser'!$C$55:$H$57,3))/F203*(1+Genanskaffelsespriser!$D$203),\"Fejl\"))","v":"Variabel pris"},{"$f":"IF(ISBLANK(E203),\"\",IF(E203=0,\"\",IF(ISNUMBER(E203),((J203*E203)/$C203)*N199,\"\")))","v":""},{"$f":"IF(ISBLANK(F203),\"\",IF(F203=0,\"\",IF(ISNUMBER(F203),((K203*F203)/$C203)*O199,\"\")))","v":""},1,1]
["Pumpestationer, bygværker og bassiner 19"]
["Pumpestation (inkl. evt. hydrofor)/trykforøger, Konstruktioner","m³/h ",{"$f":"+Genanskaffelsespriser!$E$175","v":50},null,400,400,"Ny data",0,"fejl ikke med tidligere",{"$f":"IF(E205=0,\"Variabel pris\",IFERROR((HLOOKUP(E205,'Variable priser'!$C$103:$F$105,2)+(E205-HLOOKUP(E205,'Variable priser'!$C$103:$F$105,1))*HLOOKUP(E205,'Variable priser'!$C$103:$F$105,3))*'Variable priser'!$I$102/E205*(1+Genanskaffelsespriser!$D$203),\"Fejl\"))","v":851.49188015624986},{"$f":"IF(F205=0,\"Variabel pris\",IFERROR((HLOOKUP(F205,'Variable priser'!$C$103:$F$105,2)+(F205-HLOOKUP(F205,'Variable priser'!$C$103:$F$105,1))*HLOOKUP(F205,'Variable priser'!$C$103:$F$105,3))*'Variable priser'!$I$102/F205*(1+Genanskaffelsespriser!$D$203),\"Fejl\"))","v":851.49188015624986},{"$f":"IF(ISBLANK(E205),\"\",IF(E205=0,\"\",IF(ISNUMBER(E205),((J205*E205)/$C205)*N205,\"\")))","v":6811.9350412499989},{"$f":"IF(ISBLANK(F205),\"\",IF(F205=0,\"\",IF(ISNUMBER(F205),((K205*F205)/$C205)*O205,\"\")))","v":6811.9350412499989},1,1]
["Pumpestation (inkl. evt. hydrofor)/trykforøger, Mek./EL","m³/h ",{"$f":"+Genanskaffelsespriser!$E$176","v":25},800,400,400,-0.5,0," konvereret til dykpumpeanlæg",{"$f":"IF(E206=0,\"Variabel pris\",IFERROR((HLOOKUP(E206,'Variable priser'!$C$103:$F$105,2)+(E206-HLOOKUP(E206,'Variable priser'!$C$103:$F$105,1))*HLOOKUP(E206,'Variable priser'!$C$103:$F$105,3))*'Variable priser'!$J$102/E206*(1+Genanskaffelsespriser!$D$203),\"Fejl\"))","v":2213.8788884062501},{"$f":"IF(F206=0,\"Variabel pris\",IFERROR((HLOOKUP(F206,'Variable priser'!$C$103:$F$105,2)+(F206-HLOOKUP(F206,'Variable priser'!$C$103:$F$105,1))*HLOOKUP(F206,'Variable priser'!$C$103:$F$105,3))*'Variable priser'!$J$102/F206*(1+Genanskaffelsespriser!$D$203),\"Fejl\"))","v":2213.8788884062501},{"$f":"IF(ISBLANK(E206),\"\",IF(E206=0,\"\",IF(ISNUMBER(E206),((J206*E206)/$C206)*N205,\"\")))","v":35422.062214500002},{"$f":"IF(ISBLANK(F206),\"\",IF(F206=0,\"\",IF(ISNUMBER(F206),((K206*F206)/$C206)*O205,\"\")))","v":35422.062214500002},1,1]
["Pumpestation (inkl. evt. hydrofor)/trykforøger, SRO","m³/h ",{"$f":"+Genanskaffelsespriser!$E$177","v":10},800,400,400,-0.5,0," konvereret til dykpumpeanlæg",{"$f":"IF(E207=0,\"Variabel pris\",IFERROR((HLOOKUP(E207,'Variable priser'!$C$103:$F$105,2)+(E207-HLOOKUP(E207,'Variable priser'!$C$103:$F$105,1))*HLOOKUP(E207,'Variable priser'!$C$103:$F$105,3))*'Variable priser'!$L$102/E207*(1+Genanskaffelsespriser!$D$203),\"Fejl\"))","v":340.5967520625},{"$f":"IF(F207=0,\"Variabel pris\",IFERROR((HLOOKUP(F207,'Variable priser'!$C$103:$F$105,2)+(F207-HLOOKUP(F207,'Variable priser'!$C$103:$F$105,1))*HLOOKUP(F207,'Variable priser'!$C$103:$F$105,3))*'Variable priser'!$L$102/F207*(1+Genanskaffelsespriser!$D$203),\"Fejl\"))","v":340.5967520625},{"$f":"IF(ISBLANK(E207),\"\",IF(E207=0,\"\",IF(ISNUMBER(E207),((J207*E207)/$C207)*N205,\"\")))","v":13623.870082500001},{"$f":"IF(ISBLANK(F207),\"\",IF(F207=0,\"Samlet mængde kan ikke være nul i 2025\",IF(ISNUMBER(F207),((K207*F207)/$C207)*O205,\"\")))","v":13623.870082500001},1,1]
["Beholderanlæg - højdebeholder","m³",{"$f":"+Genanskaffelsespriser!$E$178","v":50},null,null,null,"","",null,{"$f":"IF(E208=0,\"Variabel pris\",IFERROR((HLOOKUP(E208,'Variable priser'!$C$48:$H$50,2)+(E208-HLOOKUP(E208,'Variable priser'!$C$48:$H$50,1))*HLOOKUP(E208,'Variable priser'!$C$48:$H$50,3))/E208*(1+Genanskaffelsespriser!$D$203),\"Fejl\"))","v":"Variabel pris"},{"$f":"IF(F208=0,\"Variabel pris\",IFERROR((HLOOKUP(F208,'Variable priser'!$C$48:$H$50,2)+(F208-HLOOKUP(F208,'Variable priser'!$C$48:$H$50,1))*HLOOKUP(F208,'Variable priser'!$C$48:$H$50,3))/F208*(1+Genanskaffelsespriser!$D$203),\"Fejl\"))","v":"Variabel pris"},{"$f":"IF(ISBLANK(E208),\"\",IF(E208=0,\"\",IF(ISNUMBER(E208),((J208*E208)/$C208)*N205,\"\")))","v":""},{"$f":"IF(ISBLANK(F208),\"\",IF(F208=0,\"\",IF(ISNUMBER(F208),((K208*F208)/$C208)*O205,\"\")))","v":""},1,1]
["Beholderanlæg - vandtårn","m³",{"$f":"+Genanskaffelsespriser!$E$179","v":50},null,null,null,"","",null,{"$f":"IF(E209=0,\"Variabel pris\",IFERROR((HLOOKUP(E209,'Variable priser'!$C$55:$H$57,2)+(E209-HLOOKUP(E209,'Variable priser'!$C$55:$H$57,1))*HLOOKUP(E209,'Variable priser'!$C$55:$H$57,3))/E209*(1+Genanskaffelsespriser!$D$203),\"Fejl\"))","v":"Variabel pris"},{"$f":"IF(F209=0,\"Variabel pris\",IFERROR((HLOOKUP(F209,'Variable priser'!$C$55:$H$57,2)+(F209-HLOOKUP(F209,'Variable priser'!$C$55:$H$57,1))*HLOOKUP(F209,'Variable priser'!$C$55:$H$57,3))/F209*(1+Genanskaffelsespriser!$D$203),\"Fejl\"))","v":"Variabel pris"},{"$f":"IF(ISBLANK(E209),\"\",IF(E209=0,\"\",IF(ISNUMBER(E209),((J209*E209)/$C209)*N205,\"\")))","v":""},{"$f":"IF(ISBLANK(F209),\"\",IF(F209=0,\"\",IF(ISNUMBER(F209),((K209*F209)/$C209)*O205,\"\")))","v":""},1,1]
["Pumpestationer, bygværker og bassiner 20"]
["Pumpestation (inkl. evt. hydrofor)/trykforøger, Konstruktioner","m³/h ",{"$f":"+Genanskaffelsespriser!$E$175","v":50},null,300,300,"Ny data",0,"fejl ikke med tidligere",{"$f":"IF(E211=0,\"Variabel pris\",IFERROR((HLOOKUP(E211,'Variable priser'!$C$103:$F$105,2)+(E211-HLOOKUP(E211,'Variable priser'!$C$103:$F$105,1))*HLOOKUP(E211,'Variable priser'!$C$103:$F$105,3))*'Variable priser'!$I$102/E211*(1+Genanskaffelsespriser!$D$203),\"Fejl\"))","v":884.082035625},{"$f":"IF(F211=0,\"Variabel pris\",IFERROR((HLOOKUP(F211,'Variable priser'!$C$103:$F$105,2)+(F211-HLOOKUP(F211,'Variable priser'!$C$103:$F$105,1))*HLOOKUP(F211,'Variable priser'!$C$103:$F$105,3))*'Variable priser'!$I$102/F211*(1+Genanskaffelsespriser!$D$203),\"Fejl\"))","v":884.082035625},{"$f":"IF(ISBLANK(E211),\"\",IF(E211=0,\"\",IF(ISNUMBER(E211),((J211*E211)/$C211)*N211,\"\")))","v":5304.4922137499998},{"$f":"IF(ISBLANK(F211),\"\",IF(F211=0,\"\",IF(ISNUMBER(F211),((K211*F211)/$C211)*O211,\"\")))","v":5304.4922137499998},1,1]
["Pumpestation (inkl. evt. hydrofor)/trykforøger, Mek./EL","m³/h ",{"$f":"+Genanskaffelsespriser!$E$176","v":25},300,300,300,0,0,null,{"$f":"IF(E212=0,\"Variabel pris\",IFERROR((HLOOKUP(E212,'Variable priser'!$C$103:$F$105,2)+(E212-HLOOKUP(E212,'Variable priser'!$C$103:$F$105,1))*HLOOKUP(E212,'Variable priser'!$C$103:$F$105,3))*'Variable priser'!$J$102/E212*(1+Genanskaffelsespriser!$D$203),\"Fejl\"))","v":2298.6132926250002},{"$f":"IF(F212=0,\"Variabel pris\",IFERROR((HLOOKUP(F212,'Variable priser'!$C$103:$F$105,2)+(F212-HLOOKUP(F212,'Variable priser'!$C$103:$F$105,1))*HLOOKUP(F212,'Variable priser'!$C$103:$F$105,3))*'Variable priser'!$J$102/F212*(1+Genanskaffelsespriser!$D$203),\"Fejl\"))","v":2298.6132926250002},{"$f":"IF(ISBLANK(E212),\"\",IF(E212=0,\"\",IF(ISNUMBER(E212),((J212*E212)/$C212)*N211,\"\")))","v":27583.359511500003},{"$f":"IF(ISBLANK(F212),\"\",IF(F212=0,\"\",IF(ISNUMBER(F212),((K212*F212)/$C212)*O211,\"\")))","v":27583.359511500003},1,1]
["Pumpestation (inkl. evt. hydrofor)/trykforøger, SRO","m³/h ",{"$f":"+Genanskaffelsespriser!$E$177","v":10},300,300,300,0,0,null,{"$f":"IF(E213=0,\"Variabel pris\",IFERROR((HLOOKUP(E213,'Variable priser'!$C$103:$F$105,2)+(E213-HLOOKUP(E213,'Variable priser'!$C$103:$F$105,1))*HLOOKUP(E213,'Variable priser'!$C$103:$F$105,3))*'Variable priser'!$L$102/E213*(1+Genanskaffelsespriser!$D$203),\"Fejl\"))","v":353.63281425000002},{"$f":"IF(F213=0,\"Variabel pris\",IFERROR((HLOOKUP(F213,'Variable priser'!$C$103:$F$105,2)+(F213-HLOOKUP(F213,'Variable priser'!$C$103:$F$105,1))*HLOOKUP(F213,'Variable priser'!$C$103:$F$105,3))*'Variable priser'!$L$102/F213*(1+Genanskaffelsespriser!$D$203),\"Fejl\"))","v":353.63281425000002},{"$f":"IF(ISBLANK(E213),\"\",IF(E213=0,\"\",IF(ISNUMBER(E213),((J213*E213)/$C213)*N211,\"\")))","v":10608.984427500001},{"$f":"IF(ISBLANK(F213),\"\",IF(F213=0,\"Samlet mængde kan ikke være nul i 2025\",IF(ISNUMBER(F213),((K213*F213)/$C213)*O211,\"\")))","v":10608.984427500001},1,1]
["Beholderanlæg - højdebeholder","m³",{"$f":"+Genanskaffelsespriser!$E$178","v":50},null,null,null,"","",null,{"$f":"IF(E214=0,\"Variabel pris\",IFERROR((HLOOKUP(E214,'Variable priser'!$C$48:$H$50,2)+(E214-HLOOKUP(E214,'Variable priser'!$C$48:$H$50,1))*HLOOKUP(E214,'Variable priser'!$C$48:$H$50,3))/E214*(1+Genanskaffelsespriser!$D$203),\"Fejl\"))","v":"Variabel pris"},{"$f":"IF(F214=0,\"Variabel pris\",IFERROR((HLOOKUP(F214,'Variable priser'!$C$48:$H$50,2)+(F214-HLOOKUP(F214,'Variable priser'!$C$48:$H$50,1))*HLOOKUP(F214,'Variable priser'!$C$48:$H$50,3))/F214*(1+Genanskaffelsespriser!$D$203),\"Fejl\"))","v":"Variabel pris"},{"$f":"IF(ISBLANK(E214),\"\",IF(E214=0,\"\",IF(ISNUMBER(E214),((J214*E214)/$C214)*N211,\"\")))","v":""},{"$f":"IF(ISBLANK(F214),\"\",IF(F214=0,\"\",IF(ISNUMBER(F214),((K214*F214)/$C214)*O211,\"\")))","v":""},1,1]
["Beholderanlæg - vandtårn","m³",{"$f":"+Genanskaffelsespriser!$E$179","v":50},null,null,null,"","",null,{"$f":"IF(E215=0,\"Variabel pris\",IFERROR((HLOOKUP(E215,'Variable priser'!$C$55:$H$57,2)+(E215-HLOOKUP(E215,'Variable priser'!$C$55:$H$57,1))*HLOOKUP(E215,'Variable priser'!$C$55:$H$57,3))/E215*(1+Genanskaffelsespriser!$D$203),\"Fejl\"))","v":"Variabel pris"},{"$f":"IF(F215=0,\"Variabel pris\",IFERROR((HLOOKUP(F215,'Variable priser'!$C$55:$H$57,2)+(F215-HLOOKUP(F215,'Variable priser'!$C$55:$H$57,1))*HLOOKUP(F215,'Variable priser'!$C$55:$H$57,3))/F215*(1+Genanskaffelsespriser!$D$203),\"Fejl\"))","v":"Variabel pris"},{"$f":"IF(ISBLANK(E215),\"\",IF(E215=0,\"\",IF(ISNUMBER(E215),((J215*E215)/$C215)*N211,\"\")))","v":""},{"$f":"IF(ISBLANK(F215),\"\",IF(F215=0,\"\",IF(ISNUMBER(F215),((K215*F215)/$C215)*O211,\"\")))","v":""},1,1]
["Pumpestationer, bygværker og bassiner 21"]
["Pumpestation (inkl. evt. hydrofor)/trykforøger, Konstruktioner","m³/h ",{"$f":"+Genanskaffelsespriser!$E$175","v":50},null,210,210,"Ny data",0,"fejl ikke med tidligere",{"$f":"IF(E217=0,\"Variabel pris\",IFERROR((HLOOKUP(E217,'Variable priser'!$C$103:$F$105,2)+(E217-HLOOKUP(E217,'Variable priser'!$C$103:$F$105,1))*HLOOKUP(E217,'Variable priser'!$C$103:$F$105,3))*'Variable priser'!$I$102/E217*(1+Genanskaffelsespriser!$D$203),\"Fejl\"))","v":939.95087357142836},{"$f":"IF(F217=0,\"Variabel pris\",IFERROR((HLOOKUP(F217,'Variable priser'!$C$103:$F$105,2)+(F217-HLOOKUP(F217,'Variable priser'!$C$103:$F$105,1))*HLOOKUP(F217,'Variable priser'!$C$103:$F$105,3))*'Variable priser'!$I$102/F217*(1+Genanskaffelsespriser!$D$203),\"Fejl\"))","v":939.95087357142836},{"$f":"IF(ISBLANK(E217),\"\",IF(E217=0,\"\",IF(ISNUMBER(E217),((J217*E217)/$C217)*N217,\"\")))","v":3947.7936689999992},{"$f":"IF(ISBLANK(F217),\"\",IF(F217=0,\"\",IF(ISNUMBER(F217),((K217*F217)/$C217)*O217,\"\")))","v":3947.7936689999992},1,1]
["Pumpestation (inkl. evt. hydrofor)/trykforøger, Mek./EL","m³/h ",{"$f":"+Genanskaffelsespriser!$E$176","v":25},210,210,210,0,0,null,{"$f":"IF(E218=0,\"Variabel pris\",IFERROR((HLOOKUP(E218,'Variable priser'!$C$103:$F$105,2)+(E218-HLOOKUP(E218,'Variable priser'!$C$103:$F$105,1))*HLOOKUP(E218,'Variable priser'!$C$103:$F$105,3))*'Variable priser'!$J$102/E218*(1+Genanskaffelsespriser!$D$203),\"Fejl\"))","v":2443.8722712857139},{"$f":"IF(F218=0,\"Variabel pris\",IFERROR((HLOOKUP(F218,'Variable priser'!$C$103:$F$105,2)+(F218-HLOOKUP(F218,'Variable priser'!$C$103:$F$105,1))*HLOOKUP(F218,'Variable priser'!$C$103:$F$105,3))*'Variable priser'!$J$102/F218*(1+Genanskaffelsespriser!$D$203),\"Fejl\"))","v":2443.8722712857139},{"$f":"IF(ISBLANK(E218),\"\",IF(E218=0,\"\",IF(ISNUMBER(E218),((J218*E218)/$C218)*N217,\"\")))","v":20528.527078799998},{"$f":"IF(ISBLANK(F218),\"\",IF(F218=0,\"\",IF(ISNUMBER(F218),((K218*F218)/$C218)*O217,\"\")))","v":20528.527078799998},1,1]
["Pumpestation (inkl. evt. hydrofor)/trykforøger, SRO","m³/h ",{"$f":"+Genanskaffelsespriser!$E$177","v":10},210,210,210,0,0,null,{"$f":"IF(E219=0,\"Variabel pris\",IFERROR((HLOOKUP(E219,'Variable priser'!$C$103:$F$105,2)+(E219-HLOOKUP(E219,'Variable priser'!$C$103:$F$105,1))*HLOOKUP(E219,'Variable priser'!$C$103:$F$105,3))*'Variable priser'!$L$102/E219*(1+Genanskaffelsespriser!$D$203),\"Fejl\"))","v":375.98034942857134},{"$f":"IF(F219=0,\"Variabel pris\",IFERROR((HLOOKUP(F219,'Variable priser'!$C$103:$F$105,2)+(F219-HLOOKUP(F219,'Variable priser'!$C$103:$F$105,1))*HLOOKUP(F219,'Variable priser'!$C$103:$F$105,3))*'Variable priser'!$L$102/F219*(1+Genanskaffelsespriser!$D$203),\"Fejl\"))","v":375.98034942857134},{"$f":"IF(ISBLANK(E219),\"\",IF(E219=0,\"\",IF(ISNUMBER(E219),((J219*E219)/$C219)*N217,\"\")))","v":7895.5873379999975},{"$f":"IF(ISBLANK(F219),\"\",IF(F219=0,\"Samlet mængde kan ikke være nul i 2025\",IF(ISNUMBER(F219),((K219*F219)/$C219)*O217,\"\")))","v":7895.5873379999975},1,1]
["Beholderanlæg - højdebeholder","m³",{"$f":"+Genanskaffelsespriser!$E$178","v":50},null,null,null,"","",null,{"$f":"IF(E220=0,\"Variabel pris\",IFERROR((HLOOKUP(E220,'Variable priser'!$C$48:$H$50,2)+(E220-HLOOKUP(E220,'Variable priser'!$C$48:$H$50,1))*HLOOKUP(E220,'Variable priser'!$C$48:$H$50,3))/E220*(1+Genanskaffelsespriser!$D$203),\"Fejl\"))","v":"Variabel pris"},{"$f":"IF(F220=0,\"Variabel pris\",IFERROR((HLOOKUP(F220,'Variable priser'!$C$48:$H$50,2)+(F220-HLOOKUP(F220,'Variable priser'!$C$48:$H$50,1))*HLOOKUP(F220,'Variable priser'!$C$48:$H$50,3))/F220*(1+Genanskaffelsespriser!$D$203),\"Fejl\"))","v":"Variabel pris"},{"$f":"IF(ISBLANK(E220),\"\",IF(E220=0,\"\",IF(ISNUMBER(E220),((J220*E220)/$C220)*N217,\"\")))","v":""},{"$f":"IF(ISBLANK(F220),\"\",IF(F220=0,\"\",IF(ISNUMBER(F220),((K220*F220)/$C220)*O217,\"\")))","v":""},1,1]
["Beholderanlæg - vandtårn","m³",{"$f":"+Genanskaffelsespriser!$E$179","v":50},null,null,null,"","",null,{"$f":"IF(E221=0,\"Variabel pris\",IFERROR((HLOOKUP(E221,'Variable priser'!$C$55:$H$57,2)+(E221-HLOOKUP(E221,'Variable priser'!$C$55:$H$57,1))*HLOOKUP(E221,'Variable priser'!$C$55:$H$57,3))/E221*(1+Genanskaffelsespriser!$D$203),\"Fejl\"))","v":"Variabel pris"},{"$f":"IF(F221=0,\"Variabel pris\",IFERROR((HLOOKUP(F221,'Variable priser'!$C$55:$H$57,2)+(F221-HLOOKUP(F221,'Variable priser'!$C$55:$H$57,1))*HLOOKUP(F221,'Variable priser'!$C$55:$H$57,3))/F221*(1+Genanskaffelsespriser!$D$203),\"Fejl\"))","v":"Variabel pris"},{"$f":"IF(ISBLANK(E221),\"\",IF(E221=0,\"\",IF(ISNUMBER(E221),((J221*E221)/$C221)*N217,\"\")))","v":""},{"$f":"IF(ISBLANK(F221),\"\",IF(F221=0,\"\",IF(ISNUMBER(F221),((K221*F221)/$C221)*O217,\"\")))","v":""},1,1]
["Pumpestationer, bygværker og bassiner 22"]
["Pumpestation (inkl. evt. hydrofor)/trykforøger, Konstruktioner","m³/h ",{"$f":"+Genanskaffelsespriser!$E$175","v":50},null,350,350,"Ny data",0,"fejl ikke med tidligere",{"$f":"IF(E223=0,\"Variabel pris\",IFERROR((HLOOKUP(E223,'Variable priser'!$C$103:$F$105,2)+(E223-HLOOKUP(E223,'Variable priser'!$C$103:$F$105,1))*HLOOKUP(E223,'Variable priser'!$C$103:$F$105,3))*'Variable priser'!$I$102/E223*(1+Genanskaffelsespriser!$D$203),\"Fejl\"))","v":865.45908964285707},{"$f":"IF(F223=0,\"Variabel pris\",IFERROR((HLOOKUP(F223,'Variable priser'!$C$103:$F$105,2)+(F223-HLOOKUP(F223,'Variable priser'!$C$103:$F$105,1))*HLOOKUP(F223,'Variable priser'!$C$103:$F$105,3))*'Variable priser'!$I$102/F223*(1+Genanskaffelsespriser!$D$203),\"Fejl\"))","v":865.45908964285707},{"$f":"IF(ISBLANK(E223),\"\",IF(E223=0,\"\",IF(ISNUMBER(E223),((J223*E223)/$C223)*N223,\"\")))","v":6058.2136274999993},{"$f":"IF(ISBLANK(F223),\"\",IF(F223=0,\"\",IF(ISNUMBER(F223),((K223*F223)/$C223)*O223,\"\")))","v":6058.2136274999993},1,1]
["Pumpestation (inkl. evt. hydrofor)/trykforøger, Mek./EL","m³/h ",{"$f":"+Genanskaffelsespriser!$E$176","v":25},700,350,350,-0.5,0,"teknisk kapacitet mindsket af metanstripning og mindre pumper",{"$f":"IF(E224=0,\"Variabel pris\",IFERROR((HLOOKUP(E224,'Variable priser'!$C$103:$F$105,2)+(E224-HLOOKUP(E224,'Variable priser'!$C$103:$F$105,1))*HLOOKUP(E224,'Variable priser'!$C$103:$F$105,3))*'Variable priser'!$J$102/E224*(1+Genanskaffelsespriser!$D$203),\"Fejl\"))","v":2250.1936330714284},{"$f":"IF(F224=0,\"Variabel pris\",IFERROR((HLOOKUP(F224,'Variable priser'!$C$103:$F$105,2)+(F224-HLOOKUP(F224,'Variable priser'!$C$103:$F$105,1))*HLOOKUP(F224,'Variable priser'!$C$103:$F$105,3))*'Variable priser'!$J$102/F224*(1+Genanskaffelsespriser!$D$203),\"Fejl\"))","v":2250.1936330714284},{"$f":"IF(ISBLANK(E224),\"\",IF(E224=0,\"\",IF(ISNUMBER(E224),((J224*E224)/$C224)*N223,\"\")))","v":31502.710862999997},{"$f":"IF(ISBLANK(F224),\"\",IF(F224=0,\"\",IF(ISNUMBER(F224),((K224*F224)/$C224)*O223,\"\")))","v":31502.710862999997},1,1]
["Pumpestation (inkl. evt. hydrofor)/trykforøger, SRO","m³/h ",{"$f":"+Genanskaffelsespriser!$E$177","v":10},700,350,350,-0.5,0,"teknisk kapacitet mindsket af metanstripning og mindre pumper",{"$f":"IF(E225=0,\"Variabel pris\",IFERROR((HLOOKUP(E225,'Variable priser'!$C$103:$F$105,2)+(E225-HLOOKUP(E225,'Variable priser'!$C$103:$F$105,1))*HLOOKUP(E225,'Variable priser'!$C$103:$F$105,3))*'Variable priser'!$L$102/E225*(1+Genanskaffelsespriser!$D$203),\"Fejl\"))","v":346.18363585714286},{"$f":"IF(F225=0,\"Variabel pris\",IFERROR((HLOOKUP(F225,'Variable priser'!$C$103:$F$105,2)+(F225-HLOOKUP(F225,'Variable priser'!$C$103:$F$105,1))*HLOOKUP(F225,'Variable priser'!$C$103:$F$105,3))*'Variable priser'!$L$102/F225*(1+Genanskaffelsespriser!$D$203),\"Fejl\"))","v":346.18363585714286},{"$f":"IF(ISBLANK(E225),\"\",IF(E225=0,\"\",IF(ISNUMBER(E225),((J225*E225)/$C225)*N223,\"\")))","v":12116.427254999999},{"$f":"IF(ISBLANK(F225),\"\",IF(F225=0,\"Samlet mængde kan ikke være nul i 2025\",IF(ISNUMBER(F225),((K225*F225)/$C225)*O223,\"\")))","v":12116.427254999999},1,1]
["Beholderanlæg - højdebeholder","m³",{"$f":"+Genanskaffelsespriser!$E$178","v":50},null,null,null,"","",null,{"$f":"IF(E226=0,\"Variabel pris\",IFERROR((HLOOKUP(E226,'Variable priser'!$C$48:$H$50,2)+(E226-HLOOKUP(E226,'Variable priser'!$C$48:$H$50,1))*HLOOKUP(E226,'Variable priser'!$C$48:$H$50,3))/E226*(1+Genanskaffelsespriser!$D$203),\"Fejl\"))","v":"Variabel pris"},{"$f":"IF(F226=0,\"Variabel pris\",IFERROR((HLOOKUP(F226,'Variable priser'!$C$48:$H$50,2)+(F226-HLOOKUP(F226,'Variable priser'!$C$48:$H$50,1))*HLOOKUP(F226,'Variable priser'!$C$48:$H$50,3))/F226*(1+Genanskaffelsespriser!$D$203),\"Fejl\"))","v":"Variabel pris"},{"$f":"IF(ISBLANK(E226),\"\",IF(E226=0,\"\",IF(ISNUMBER(E226),((J226*E226)/$C226)*N223,\"\")))","v":""},{"$f":"IF(ISBLANK(F226),\"\",IF(F226=0,\"\",IF(ISNUMBER(F226),((K226*F226)/$C226)*O223,\"\")))","v":""},1,1]
["Beholderanlæg - vandtårn","m³",{"$f":"+Genanskaffelsespriser!$E$179","v":50},null,null,null,"","",null,{"$f":"IF(E227=0,\"Variabel pris\",IFERROR((HLOOKUP(E227,'Variable priser'!$C$55:$H$57,2)+(E227-HLOOKUP(E227,'Variable priser'!$C$55:$H$57,1))*HLOOKUP(E227,'Variable priser'!$C$55:$H$57,3))/E227*(1+Genanskaffelsespriser!$D$203),\"Fejl\"))","v":"Variabel pris"},{"$f":"IF(F227=0,\"Variabel pris\",IFERROR((HLOOKUP(F227,'Variable priser'!$C$55:$H$57,2)+(F227-HLOOKUP(F227,'Variable priser'!$C$55:$H$57,1))*HLOOKUP(F227,'Variable priser'!$C$55:$H$57,3))/F227*(1+Genanskaffelsespriser!$D$203),\"Fejl\"))","v":"Variabel pris"},{"$f":"IF(ISBLANK(E227),\"\",IF(E227=0,\"\",IF(ISNUMBER(E227),((J227*E227)/$C227)*N223,\"\")))","v":""},{"$f":"IF(ISBLANK(F227),\"\",IF(F227=0,\"\",IF(ISNUMBER(F227),((K227*F227)/$C227)*O223,\"\")))","v":""},1,1]
["Pumpestationer, bygværker og bassiner 23"]
["Pumpestation (inkl. evt. hydrofor)/trykforøger, Konstruktioner","m³/h ",{"$f":"+Genanskaffelsespriser!$E$175","v":50},null,900,900,"Ny data",0,"fejl ikke med tidligere",{"$f":"IF(E229=0,\"Variabel pris\",IFERROR((HLOOKUP(E229,'Variable priser'!$C$103:$F$105,2)+(E229-HLOOKUP(E229,'Variable priser'!$C$103:$F$105,1))*HLOOKUP(E229,'Variable priser'!$C$103:$F$105,3))*'Variable priser'!$I$102/E229*(1+Genanskaffelsespriser!$D$203),\"Fejl\"))","v":797.17495437499986},{"$f":"IF(F229=0,\"Variabel pris\",IFERROR((HLOOKUP(F229,'Variable priser'!$C$103:$F$105,2)+(F229-HLOOKUP(F229,'Variable priser'!$C$103:$F$105,1))*HLOOKUP(F229,'Variable priser'!$C$103:$F$105,3))*'Variable priser'!$I$102/F229*(1+Genanskaffelsespriser!$D$203),\"Fejl\"))","v":797.17495437499986},{"$f":"IF(ISBLANK(E229),\"\",IF(E229=0,\"\",IF(ISNUMBER(E229),((J229*E229)/$C229)*N229,\"\")))","v":14349.149178749998},{"$f":"IF(ISBLANK(F229),\"\",IF(F229=0,\"\",IF(ISNUMBER(F229),((K229*F229)/$C229)*O229,\"\")))","v":14349.149178749998},1,1]
["Pumpestation (inkl. evt. hydrofor)/trykforøger, Mek./EL","m³/h ",{"$f":"+Genanskaffelsespriser!$E$176","v":25},900,900,900,0,0,null,{"$f":"IF(E230=0,\"Variabel pris\",IFERROR((HLOOKUP(E230,'Variable priser'!$C$103:$F$105,2)+(E230-HLOOKUP(E230,'Variable priser'!$C$103:$F$105,1))*HLOOKUP(E230,'Variable priser'!$C$103:$F$105,3))*'Variable priser'!$J$102/E230*(1+Genanskaffelsespriser!$D$203),\"Fejl\"))","v":2072.6548813750001},{"$f":"IF(F230=0,\"Variabel pris\",IFERROR((HLOOKUP(F230,'Variable priser'!$C$103:$F$105,2)+(F230-HLOOKUP(F230,'Variable priser'!$C$103:$F$105,1))*HLOOKUP(F230,'Variable priser'!$C$103:$F$105,3))*'Variable priser'!$J$102/F230*(1+Genanskaffelsespriser!$D$203),\"Fejl\"))","v":2072.6548813750001},{"$f":"IF(ISBLANK(E230),\"\",IF(E230=0,\"\",IF(ISNUMBER(E230),((J230*E230)/$C230)*N229,\"\")))","v":74615.575729499993},{"$f":"IF(ISBLANK(F230),\"\",IF(F230=0,\"\",IF(ISNUMBER(F230),((K230*F230)/$C230)*O229,\"\")))","v":74615.575729499993},1,1]
["Pumpestation (inkl. evt. hydrofor)/trykforøger, SRO","m³/h ",{"$f":"+Genanskaffelsespriser!$E$177","v":10},900,900,900,0,0,null,{"$f":"IF(E231=0,\"Variabel pris\",IFERROR((HLOOKUP(E231,'Variable priser'!$C$103:$F$105,2)+(E231-HLOOKUP(E231,'Variable priser'!$C$103:$F$105,1))*HLOOKUP(E231,'Variable priser'!$C$103:$F$105,3))*'Variable priser'!$L$102/E231*(1+Genanskaffelsespriser!$D$203),\"Fejl\"))","v":318.86998175000002},{"$f":"IF(F231=0,\"Variabel pris\",IFERROR((HLOOKUP(F231,'Variable priser'!$C$103:$F$105,2)+(F231-HLOOKUP(F231,'Variable priser'!$C$103:$F$105,1))*HLOOKUP(F231,'Variable priser'!$C$103:$F$105,3))*'Variable priser'!$L$102/F231*(1+Genanskaffelsespriser!$D$203),\"Fejl\"))","v":318.86998175000002},{"$f":"IF(ISBLANK(E231),\"\",IF(E231=0,\"\",IF(ISNUMBER(E231),((J231*E231)/$C231)*N229,\"\")))","v":28698.298357500003},{"$f":"IF(ISBLANK(F231),\"\",IF(F231=0,\"Samlet mængde kan ikke være nul i 2025\",IF(ISNUMBER(F231),((K231*F231)/$C231)*O229,\"\")))","v":28698.298357500003},1,1]
["Beholderanlæg - højdebeholder","m³",{"$f":"+Genanskaffelsespriser!$E$178","v":50},null,null,null,"","",null,{"$f":"IF(E232=0,\"Variabel pris\",IFERROR((HLOOKUP(E232,'Variable priser'!$C$48:$H$50,2)+(E232-HLOOKUP(E232,'Variable priser'!$C$48:$H$50,1))*HLOOKUP(E232,'Variable priser'!$C$48:$H$50,3))/E232*(1+Genanskaffelsespriser!$D$203),\"Fejl\"))","v":"Variabel pris"},{"$f":"IF(F232=0,\"Variabel pris\",IFERROR((HLOOKUP(F232,'Variable priser'!$C$48:$H$50,2)+(F232-HLOOKUP(F232,'Variable priser'!$C$48:$H$50,1))*HLOOKUP(F232,'Variable priser'!$C$48:$H$50,3))/F232*(1+Genanskaffelsespriser!$D$203),\"Fejl\"))","v":"Variabel pris"},{"$f":"IF(ISBLANK(E232),\"\",IF(E232=0,\"\",IF(ISNUMBER(E232),((J232*E232)/$C232)*N229,\"\")))","v":""},{"$f":"IF(ISBLANK(F232),\"\",IF(F232=0,\"\",IF(ISNUMBER(F232),((K232*F232)/$C232)*O229,\"\")))","v":""},1,1]
["Beholderanlæg - vandtårn","m³",{"$f":"+Genanskaffelsespriser!$E$179","v":50},null,null,null,"","",null,{"$f":"IF(E233=0,\"Variabel pris\",IFERROR((HLOOKUP(E233,'Variable priser'!$C$55:$H$57,2)+(E233-HLOOKUP(E233,'Variable priser'!$C$55:$H$57,1))*HLOOKUP(E233,'Variable priser'!$C$55:$H$57,3))/E233*(1+Genanskaffelsespriser!$D$203),\"Fejl\"))","v":"Variabel pris"},{"$f":"IF(F233=0,\"Variabel pris\",IFERROR((HLOOKUP(F233,'Variable priser'!$C$55:$H$57,2)+(F233-HLOOKUP(F233,'Variable priser'!$C$55:$H$57,1))*HLOOKUP(F233,'Variable priser'!$C$55:$H$57,3))/F233*(1+Genanskaffelsespriser!$D$203),\"Fejl\"))","v":"Variabel pris"},{"$f":"IF(ISBLANK(E233),\"\",IF(E233=0,\"\",IF(ISNUMBER(E233),((J233*E233)/$C233)*N229,\"\")))","v":""},{"$f":"IF(ISBLANK(F233),\"\",IF(F233=0,\"\",IF(ISNUMBER(F233),((K233*F233)/$C233)*O229,\"\")))","v":""},1,1]
["Pumpestationer, bygværker og bassiner 24"]
["Pumpestation (inkl. evt. hydrofor)/trykforøger, Konstruktioner","m³/h ",{"$f":"+Genanskaffelsespriser!$E$175","v":50},null,750,750,"Ny data",0,"fejl ikke med tidligere",{"$f":"IF(E235=0,\"Variabel pris\",IFERROR((HLOOKUP(E235,'Variable priser'!$C$103:$F$105,2)+(E235-HLOOKUP(E235,'Variable priser'!$C$103:$F$105,1))*HLOOKUP(E235,'Variable priser'!$C$103:$F$105,3))*'Variable priser'!$I$102/E235*(1+Genanskaffelsespriser!$D$203),\"Fejl\"))","v":805.86566249999987},{"$f":"IF(F235=0,\"Variabel pris\",IFERROR((HLOOKUP(F235,'Variable priser'!$C$103:$F$105,2)+(F235-HLOOKUP(F235,'Variable priser'!$C$103:$F$105,1))*HLOOKUP(F235,'Variable priser'!$C$103:$F$105,3))*'Variable priser'!$I$102/F235*(1+Genanskaffelsespriser!$D$203),\"Fejl\"))","v":805.86566249999987},{"$f":"IF(ISBLANK(E235),\"\",IF(E235=0,\"\",IF(ISNUMBER(E235),((J235*E235)/$C235)*N235,\"\")))","v":12087.984937499999},{"$f":"IF(ISBLANK(F235),\"\",IF(F235=0,\"\",IF(ISNUMBER(F235),((K235*F235)/$C235)*O235,\"\")))","v":12087.984937499999},1,1]
["Pumpestation (inkl. evt. hydrofor)/trykforøger, Mek./EL","m³/h ",{"$f":"+Genanskaffelsespriser!$E$176","v":25},1110,750,750,-0.32432432432432434,0,"konveret til dykpumpeanlæg",{"$f":"IF(E236=0,\"Variabel pris\",IFERROR((HLOOKUP(E236,'Variable priser'!$C$103:$F$105,2)+(E236-HLOOKUP(E236,'Variable priser'!$C$103:$F$105,1))*HLOOKUP(E236,'Variable priser'!$C$103:$F$105,3))*'Variable priser'!$J$102/E236*(1+Genanskaffelsespriser!$D$203),\"Fejl\"))","v":2095.2507224999999},{"$f":"IF(F236=0,\"Variabel pris\",IFERROR((HLOOKUP(F236,'Variable priser'!$C$103:$F$105,2)+(F236-HLOOKUP(F236,'Variable priser'!$C$103:$F$105,1))*HLOOKUP(F236,'Variable priser'!$C$103:$F$105,3))*'Variable priser'!$J$102/F236*(1+Genanskaffelsespriser!$D$203),\"Fejl\"))","v":2095.2507224999999},{"$f":"IF(ISBLANK(E236),\"\",IF(E236=0,\"\",IF(ISNUMBER(E236),((J236*E236)/$C236)*N235,\"\")))","v":62857.521674999996},{"$f":"IF(ISBLANK(F236),\"\",IF(F236=0,\"\",IF(ISNUMBER(F236),((K236*F236)/$C236)*O235,\"\")))","v":62857.521674999996},1,1]
["Pumpestation (inkl. evt. hydrofor)/trykforøger, SRO","m³/h ",{"$f":"+Genanskaffelsespriser!$E$177","v":10},1110,750,750,-0.32432432432432434,0,"konveret til dykpumpeanlæg",{"$f":"IF(E237=0,\"Variabel pris\",IFERROR((HLOOKUP(E237,'Variable priser'!$C$103:$F$105,2)+(E237-HLOOKUP(E237,'Variable priser'!$C$103:$F$105,1))*HLOOKUP(E237,'Variable priser'!$C$103:$F$105,3))*'Variable priser'!$L$102/E237*(1+Genanskaffelsespriser!$D$203),\"Fejl\"))","v":322.34626500000002},{"$f":"IF(F237=0,\"Variabel pris\",IFERROR((HLOOKUP(F237,'Variable priser'!$C$103:$F$105,2)+(F237-HLOOKUP(F237,'Variable priser'!$C$103:$F$105,1))*HLOOKUP(F237,'Variable priser'!$C$103:$F$105,3))*'Variable priser'!$L$102/F237*(1+Genanskaffelsespriser!$D$203),\"Fejl\"))","v":322.34626500000002},{"$f":"IF(ISBLANK(E237),\"\",IF(E237=0,\"\",IF(ISNUMBER(E237),((J237*E237)/$C237)*N235,\"\")))","v":24175.969875000003},{"$f":"IF(ISBLANK(F237),\"\",IF(F237=0,\"Samlet mængde kan ikke være nul i 2025\",IF(ISNUMBER(F237),((K237*F237)/$C237)*O235,\"\")))","v":24175.969875000003},1,1]
["Beholderanlæg - højdebeholder","m³",{"$f":"+Genanskaffelsespriser!$E$178","v":50},null,null,null,"","",null,{"$f":"IF(E238=0,\"Variabel pris\",IFERROR((HLOOKUP(E238,'Variable priser'!$C$48:$H$50,2)+(E238-HLOOKUP(E238,'Variable priser'!$C$48:$H$50,1))*HLOOKUP(E238,'Variable priser'!$C$48:$H$50,3))/E238*(1+Genanskaffelsespriser!$D$203),\"Fejl\"))","v":"Variabel pris"},{"$f":"IF(F238=0,\"Variabel pris\",IFERROR((HLOOKUP(F238,'Variable priser'!$C$48:$H$50,2)+(F238-HLOOKUP(F238,'Variable priser'!$C$48:$H$50,1))*HLOOKUP(F238,'Variable priser'!$C$48:$H$50,3))/F238*(1+Genanskaffelsespriser!$D$203),\"Fejl\"))","v":"Variabel pris"},{"$f":"IF(ISBLANK(E238),\"\",IF(E238=0,\"\",IF(ISNUMBER(E238),((J238*E238)/$C238)*N235,\"\")))","v":""},{"$f":"IF(ISBLANK(F238),\"\",IF(F238=0,\"\",IF(ISNUMBER(F238),((K238*F238)/$C238)*O235,\"\")))","v":""},1,1]
["Beholderanlæg - vandtårn","m³",{"$f":"+Genanskaffelsespriser!$E$179","v":50},null,null,null,"","",null,{"$f":"IF(E239=0,\"Variabel pris\",IFERROR((HLOOKUP(E239,'Variable priser'!$C$55:$H$57,2)+(E239-HLOOKUP(E239,'Variable priser'!$C$55:$H$57,1))*HLOOKUP(E239,'Variable priser'!$C$55:$H$57,3))/E239*(1+Genanskaffelsespriser!$D$203),\"Fejl\"))","v":"Variabel pris"},{"$f":"IF(F239=0,\"Variabel pris\",IFERROR((HLOOKUP(F239,'Variable priser'!$C$55:$H$57,2)+(F239-HLOOKUP(F239,'Variable priser'!$C$55:$H$57,1))*HLOOKUP(F239,'Variable priser'!$C$55:$H$57,3))/F239*(1+Genanskaffelsespriser!$D$203),\"Fejl\"))","v":"Variabel pris"},{"$f":"IF(ISBLANK(E239),\"\",IF(E239=0,\"\",IF(ISNUMBER(E239),((J239*E239)/$C239)*N235,\"\")))","v":""},{"$f":"IF(ISBLANK(F239),\"\",IF(F239=0,\"\",IF(ISNUMBER(F239),((K239*F239)/$C239)*O235,\"\")))","v":""},1,1]
["Pumpestationer, bygværker og bassiner 25"]
["Pumpestation (inkl. evt. hydrofor)/trykforøger, Konstruktioner","m³/h ",{"$f":"+Genanskaffelsespriser!$E$175","v":50},null,700,700,"Ny data",0,"fejl ikke med tidligere",{"$f":"IF(E241=0,\"Variabel pris\",IFERROR((HLOOKUP(E241,'Variable priser'!$C$103:$F$105,2)+(E241-HLOOKUP(E241,'Variable priser'!$C$103:$F$105,1))*HLOOKUP(E241,'Variable priser'!$C$103:$F$105,3))*'Variable priser'!$I$102/E241*(1+Genanskaffelsespriser!$D$203),\"Fejl\"))","v":809.59025169642848},{"$f":"IF(F241=0,\"Variabel pris\",IFERROR((HLOOKUP(F241,'Variable priser'!$C$103:$F$105,2)+(F241-HLOOKUP(F241,'Variable priser'!$C$103:$F$105,1))*HLOOKUP(F241,'Variable priser'!$C$103:$F$105,3))*'Variable priser'!$I$102/F241*(1+Genanskaffelsespriser!$D$203),\"Fejl\"))","v":809.59025169642848},{"$f":"IF(ISBLANK(E241),\"\",IF(E241=0,\"\",IF(ISNUMBER(E241),((J241*E241)/$C241)*N241,\"\")))","v":11334.263523749998},{"$f":"IF(ISBLANK(F241),\"\",IF(F241=0,\"\",IF(ISNUMBER(F241),((K241*F241)/$C241)*O241,\"\")))","v":11334.263523749998},1,1]
["Pumpestation (inkl. evt. hydrofor)/trykforøger, Mek./EL","m³/h ",{"$f":"+Genanskaffelsespriser!$E$176","v":25},1040,700,700,-0.32692307692307693,0,"Kapacitet formindsket pga. mindre pumpe",{"$f":"IF(E242=0,\"Variabel pris\",IFERROR((HLOOKUP(E242,'Variable priser'!$C$103:$F$105,2)+(E242-HLOOKUP(E242,'Variable priser'!$C$103:$F$105,1))*HLOOKUP(E242,'Variable priser'!$C$103:$F$105,3))*'Variable priser'!$J$102/E242*(1+Genanskaffelsespriser!$D$203),\"Fejl\"))","v":2104.9346544107143},{"$f":"IF(F242=0,\"Variabel pris\",IFERROR((HLOOKUP(F242,'Variable priser'!$C$103:$F$105,2)+(F242-HLOOKUP(F242,'Variable priser'!$C$103:$F$105,1))*HLOOKUP(F242,'Variable priser'!$C$103:$F$105,3))*'Variable priser'!$J$102/F242*(1+Genanskaffelsespriser!$D$203),\"Fejl\"))","v":2104.9346544107143},{"$f":"IF(ISBLANK(E242),\"\",IF(E242=0,\"\",IF(ISNUMBER(E242),((J242*E242)/$C242)*N241,\"\")))","v":58938.170323500002},{"$f":"IF(ISBLANK(F242),\"\",IF(F242=0,\"\",IF(ISNUMBER(F242),((K242*F242)/$C242)*O241,\"\")))","v":58938.170323500002},1,1]
["Pumpestation (inkl. evt. hydrofor)/trykforøger, SRO","m³/h ",{"$f":"+Genanskaffelsespriser!$E$177","v":10},1040,700,700,-0.32692307692307693,0,"Kapacitet formindsket pga. mindre pumpe",{"$f":"IF(E243=0,\"Variabel pris\",IFERROR((HLOOKUP(E243,'Variable priser'!$C$103:$F$105,2)+(E243-HLOOKUP(E243,'Variable priser'!$C$103:$F$105,1))*HLOOKUP(E243,'Variable priser'!$C$103:$F$105,3))*'Variable priser'!$L$102/E243*(1+Genanskaffelsespriser!$D$203),\"Fejl\"))","v":323.83610067857143},{"$f":"IF(F243=0,\"Variabel pris\",IFERROR((HLOOKUP(F243,'Variable priser'!$C$103:$F$105,2)+(F243-HLOOKUP(F243,'Variable priser'!$C$103:$F$105,1))*HLOOKUP(F243,'Variable priser'!$C$103:$F$105,3))*'Variable priser'!$L$102/F243*(1+Genanskaffelsespriser!$D$203),\"Fejl\"))","v":323.83610067857143},{"$f":"IF(ISBLANK(E243),\"\",IF(E243=0,\"\",IF(ISNUMBER(E243),((J243*E243)/$C243)*N241,\"\")))","v":22668.5270475},{"$f":"IF(ISBLANK(F243),\"\",IF(F243=0,\"Samlet mængde kan ikke være nul i 2025\",IF(ISNUMBER(F243),((K243*F243)/$C243)*O241,\"\")))","v":22668.5270475},1,1]
["Beholderanlæg - højdebeholder","m³",{"$f":"+Genanskaffelsespriser!$E$178","v":50},null,null,null,"","",null,{"$f":"IF(E244=0,\"Variabel pris\",IFERROR((HLOOKUP(E244,'Variable priser'!$C$48:$H$50,2)+(E244-HLOOKUP(E244,'Variable priser'!$C$48:$H$50,1))*HLOOKUP(E244,'Variable priser'!$C$48:$H$50,3))/E244*(1+Genanskaffelsespriser!$D$203),\"Fejl\"))","v":"Variabel pris"},{"$f":"IF(F244=0,\"Variabel pris\",IFERROR((HLOOKUP(F244,'Variable priser'!$C$48:$H$50,2)+(F244-HLOOKUP(F244,'Variable priser'!$C$48:$H$50,1))*HLOOKUP(F244,'Variable priser'!$C$48:$H$50,3))/F244*(1+Genanskaffelsespriser!$D$203),\"Fejl\"))","v":"Variabel pris"},{"$f":"IF(ISBLANK(E244),\"\",IF(E244=0,\"\",IF(ISNUMBER(E244),((J244*E244)/$C244)*N241,\"\")))","v":""},{"$f":"IF(ISBLANK(F244),\"\",IF(F244=0,\"\",IF(ISNUMBER(F244),((K244*F244)/$C244)*O241,\"\")))","v":""},1,1]
["Beholderanlæg - vandtårn","m³",{"$f":"+Genanskaffelsespriser!$E$179","v":50},null,null,null,"","",null,{"$f":"IF(E245=0,\"Variabel pris\",IFERROR((HLOOKUP(E245,'Variable priser'!$C$55:$H$57,2)+(E245-HLOOKUP(E245,'Variable priser'!$C$55:$H$57,1))*HLOOKUP(E245,'Variable priser'!$C$55:$H$57,3))/E245*(1+Genanskaffelsespriser!$D$203),\"Fejl\"))","v":"Variabel pris"},{"$f":"IF(F245=0,\"Variabel pris\",IFERROR((HLOOKUP(F245,'Variable priser'!$C$55:$H$57,2)+(F245-HLOOKUP(F245,'Variable priser'!$C$55:$H$57,1))*HLOOKUP(F245,'Variable priser'!$C$55:$H$57,3))/F245*(1+Genanskaffelsespriser!$D$203),\"Fejl\"))","v":"Variabel pris"},{"$f":"IF(ISBLANK(E245),\"\",IF(E245=0,\"\",IF(ISNUMBER(E245),((J245*E245)/$C245)*N241,\"\")))","v":""},{"$f":"IF(ISBLANK(F245),\"\",IF(F245=0,\"\",IF(ISNUMBER(F245),((K245*F245)/$C245)*O241,\"\")))","v":""},1,1]
["Pumpestationer, bygværker og bassiner 26"]
["Pumpestation (inkl. evt. hydrofor)/trykforøger, Konstruktioner","m³/h ",{"$f":"+Genanskaffelsespriser!$E$175","v":50},null,300,300,"Ny data",0,"fejl ikke med tidligere",{"$f":"IF(E247=0,\"Variabel pris\",IFERROR((HLOOKUP(E247,'Variable priser'!$C$103:$F$105,2)+(E247-HLOOKUP(E247,'Variable priser'!$C$103:$F$105,1))*HLOOKUP(E247,'Variable priser'!$C$103:$F$105,3))*'Variable priser'!$I$102/E247*(1+Genanskaffelsespriser!$D$203),\"Fejl\"))","v":884.082035625},{"$f":"IF(F247=0,\"Variabel pris\",IFERROR((HLOOKUP(F247,'Variable priser'!$C$103:$F$105,2)+(F247-HLOOKUP(F247,'Variable priser'!$C$103:$F$105,1))*HLOOKUP(F247,'Variable priser'!$C$103:$F$105,3))*'Variable priser'!$I$102/F247*(1+Genanskaffelsespriser!$D$203),\"Fejl\"))","v":884.082035625},{"$f":"IF(ISBLANK(E247),\"\",IF(E247=0,\"\",IF(ISNUMBER(E247),((J247*E247)/$C247)*N247,\"\")))","v":5304.4922137499998},{"$f":"IF(ISBLANK(F247),\"\",IF(F247=0,\"\",IF(ISNUMBER(F247),((K247*F247)/$C247)*O247,\"\")))","v":5304.4922137499998},1,1]
["Pumpestation (inkl. evt. hydrofor)/trykforøger, Mek./EL","m³/h ",{"$f":"+Genanskaffelsespriser!$E$176","v":25},680,300,300,-0.55882352941176472,0,"reduceret kapacitet",{"$f":"IF(E248=0,\"Variabel pris\",IFERROR((HLOOKUP(E248,'Variable priser'!$C$103:$F$105,2)+(E248-HLOOKUP(E248,'Variable priser'!$C$103:$F$105,1))*HLOOKUP(E248,'Variable priser'!$C$103:$F$105,3))*'Variable priser'!$J$102/E248*(1+Genanskaffelsespriser!$D$203),\"Fejl\"))","v":2298.6132926250002},{"$f":"IF(F248=0,\"Variabel pris\",IFERROR((HLOOKUP(F248,'Variable priser'!$C$103:$F$105,2)+(F248-HLOOKUP(F248,'Variable priser'!$C$103:$F$105,1))*HLOOKUP(F248,'Variable priser'!$C$103:$F$105,3))*'Variable priser'!$J$102/F248*(1+Genanskaffelsespriser!$D$203),\"Fejl\"))","v":2298.6132926250002},{"$f":"IF(ISBLANK(E248),\"\",IF(E248=0,\"\",IF(ISNUMBER(E248),((J248*E248)/$C248)*N247,\"\")))","v":27583.359511500003},{"$f":"IF(ISBLANK(F248),\"\",IF(F248=0,\"\",IF(ISNUMBER(F248),((K248*F248)/$C248)*O247,\"\")))","v":27583.359511500003},1,1]
["Pumpestation (inkl. evt. hydrofor)/trykforøger, SRO","m³/h ",{"$f":"+Genanskaffelsespriser!$E$177","v":10},680,300,300,-0.55882352941176472,0,"reduceret kapacitet",{"$f":"IF(E249=0,\"Variabel pris\",IFERROR((HLOOKUP(E249,'Variable priser'!$C$103:$F$105,2)+(E249-HLOOKUP(E249,'Variable priser'!$C$103:$F$105,1))*HLOOKUP(E249,'Variable priser'!$C$103:$F$105,3))*'Variable priser'!$L$102/E249*(1+Genanskaffelsespriser!$D$203),\"Fejl\"))","v":353.63281425000002},{"$f":"IF(F249=0,\"Variabel pris\",IFERROR((HLOOKUP(F249,'Variable priser'!$C$103:$F$105,2)+(F249-HLOOKUP(F249,'Variable priser'!$C$103:$F$105,1))*HLOOKUP(F249,'Variable priser'!$C$103:$F$105,3))*'Variable priser'!$L$102/F249*(1+Genanskaffelsespriser!$D$203),\"Fejl\"))","v":353.63281425000002},{"$f":"IF(ISBLANK(E249),\"\",IF(E249=0,\"\",IF(ISNUMBER(E249),((J249*E249)/$C249)*N247,\"\")))","v":10608.984427500001},{"$f":"IF(ISBLANK(F249),\"\",IF(F249=0,\"Samlet mængde kan ikke være nul i 2025\",IF(ISNUMBER(F249),((K249*F249)/$C249)*O247,\"\")))","v":10608.984427500001},1,1]
["Beholderanlæg - højdebeholder","m³",{"$f":"+Genanskaffelsespriser!$E$178","v":50},null,null,null,"","",null,{"$f":"IF(E250=0,\"Variabel pris\",IFERROR((HLOOKUP(E250,'Variable priser'!$C$48:$H$50,2)+(E250-HLOOKUP(E250,'Variable priser'!$C$48:$H$50,1))*HLOOKUP(E250,'Variable priser'!$C$48:$H$50,3))/E250*(1+Genanskaffelsespriser!$D$203),\"Fejl\"))","v":"Variabel pris"},{"$f":"IF(F250=0,\"Variabel pris\",IFERROR((HLOOKUP(F250,'Variable priser'!$C$48:$H$50,2)+(F250-HLOOKUP(F250,'Variable priser'!$C$48:$H$50,1))*HLOOKUP(F250,'Variable priser'!$C$48:$H$50,3))/F250*(1+Genanskaffelsespriser!$D$203),\"Fejl\"))","v":"Variabel pris"},{"$f":"IF(ISBLANK(E250),\"\",IF(E250=0,\"\",IF(ISNUMBER(E250),((J250*E250)/$C250)*N247,\"\")))","v":""},{"$f":"IF(ISBLANK(F250),\"\",IF(F250=0,\"\",IF(ISNUMBER(F250),((K250*F250)/$C250)*O247,\"\")))","v":""},1,1]
["Beholderanlæg - vandtårn","m³",{"$f":"+Genanskaffelsespriser!$E$179","v":50},null,null,null,"","",null,{"$f":"IF(E251=0,\"Variabel pris\",IFERROR((HLOOKUP(E251,'Variable priser'!$C$55:$H$57,2)+(E251-HLOOKUP(E251,'Variable priser'!$C$55:$H$57,1))*HLOOKUP(E251,'Variable priser'!$C$55:$H$57,3))/E251*(1+Genanskaffelsespriser!$D$203),\"Fejl\"))","v":"Variabel pris"},{"$f":"IF(F251=0,\"Variabel pris\",IFERROR((HLOOKUP(F251,'Variable priser'!$C$55:$H$57,2)+(F251-HLOOKUP(F251,'Variable priser'!$C$55:$H$57,1))*HLOOKUP(F251,'Variable priser'!$C$55:$H$57,3))/F251*(1+Genanskaffelsespriser!$D$203),\"Fejl\"))","v":"Variabel pris"},{"$f":"IF(ISBLANK(E251),\"\",IF(E251=0,\"\",IF(ISNUMBER(E251),((J251*E251)/$C251)*N247,\"\")))","v":""},{"$f":"IF(ISBLANK(F251),\"\",IF(F251=0,\"\",IF(ISNUMBER(F251),((K251*F251)/$C251)*O247,\"\")))","v":""},1,1]
["Pumpestationer, bygværker og bassiner 27"]
["Pumpestation (inkl. evt. hydrofor)/trykforøger, Konstruktioner","m³/h ",{"$f":"+Genanskaffelsespriser!$E$175","v":50},null,1400,1400,"Ny data",0,"fejl ikke med tidligere",{"$f":"IF(E253=0,\"Variabel pris\",IFERROR((HLOOKUP(E253,'Variable priser'!$C$103:$F$105,2)+(E253-HLOOKUP(E253,'Variable priser'!$C$103:$F$105,1))*HLOOKUP(E253,'Variable priser'!$C$103:$F$105,3))*'Variable priser'!$I$102/E253*(1+Genanskaffelsespriser!$D$203),\"Fejl\"))","v":781.65583272321419},{"$f":"IF(F253=0,\"Variabel pris\",IFERROR((HLOOKUP(F253,'Variable priser'!$C$103:$F$105,2)+(F253-HLOOKUP(F253,'Variable priser'!$C$103:$F$105,1))*HLOOKUP(F253,'Variable priser'!$C$103:$F$105,3))*'Variable priser'!$I$102/F253*(1+Genanskaffelsespriser!$D$203),\"Fejl\"))","v":781.65583272321419},{"$f":"IF(ISBLANK(E253),\"\",IF(E253=0,\"\",IF(ISNUMBER(E253),((J253*E253)/$C253)*N253,\"\")))","v":21886.363316249997},{"$f":"IF(ISBLANK(F253),\"\",IF(F253=0,\"\",IF(ISNUMBER(F253),((K253*F253)/$C253)*O253,\"\")))","v":21886.363316249997},1,1]
["Pumpestation (inkl. evt. hydrofor)/trykforøger, Mek./EL","m³/h ",{"$f":"+Genanskaffelsespriser!$E$176","v":25},1400,1400,1400,0,0,null,{"$f":"IF(E254=0,\"Variabel pris\",IFERROR((HLOOKUP(E254,'Variable priser'!$C$103:$F$105,2)+(E254-HLOOKUP(E254,'Variable priser'!$C$103:$F$105,1))*HLOOKUP(E254,'Variable priser'!$C$103:$F$105,3))*'Variable priser'!$J$102/E254*(1+Genanskaffelsespriser!$D$203),\"Fejl\"))","v":2032.3051650803568},{"$f":"IF(F254=0,\"Variabel pris\",IFERROR((HLOOKUP(F254,'Variable priser'!$C$103:$F$105,2)+(F254-HLOOKUP(F254,'Variable priser'!$C$103:$F$105,1))*HLOOKUP(F254,'Variable priser'!$C$103:$F$105,3))*'Variable priser'!$J$102/F254*(1+Genanskaffelsespriser!$D$203),\"Fejl\"))","v":2032.3051650803568},{"$f":"IF(ISBLANK(E254),\"\",IF(E254=0,\"\",IF(ISNUMBER(E254),((J254*E254)/$C254)*N253,\"\")))","v":113809.08924449999},{"$f":"IF(ISBLANK(F254),\"\",IF(F254=0,\"\",IF(ISNUMBER(F254),((K254*F254)/$C254)*O253,\"\")))","v":113809.08924449999},1,1]
["Pumpestation (inkl. evt. hydrofor)/trykforøger, SRO","m³/h ",{"$f":"+Genanskaffelsespriser!$E$177","v":10},1400,1400,1400,0,0,null,{"$f":"IF(E255=0,\"Variabel pris\",IFERROR((HLOOKUP(E255,'Variable priser'!$C$103:$F$105,2)+(E255-HLOOKUP(E255,'Variable priser'!$C$103:$F$105,1))*HLOOKUP(E255,'Variable priser'!$C$103:$F$105,3))*'Variable priser'!$L$102/E255*(1+Genanskaffelsespriser!$D$203),\"Fejl\"))","v":312.66233308928571},{"$f":"IF(F255=0,\"Variabel pris\",IFERROR((HLOOKUP(F255,'Variable priser'!$C$103:$F$105,2)+(F255-HLOOKUP(F255,'Variable priser'!$C$103:$F$105,1))*HLOOKUP(F255,'Variable priser'!$C$103:$F$105,3))*'Variable priser'!$L$102/F255*(1+Genanskaffelsespriser!$D$203),\"Fejl\"))","v":312.66233308928571},{"$f":"IF(ISBLANK(E255),\"\",IF(E255=0,\"\",IF(ISNUMBER(E255),((J255*E255)/$C255)*N253,\"\")))","v":43772.726632499995},{"$f":"IF(ISBLANK(F255),\"\",IF(F255=0,\"Samlet mængde kan ikke være nul i 2025\",IF(ISNUMBER(F255),((K255*F255)/$C255)*O253,\"\")))","v":43772.726632499995},1,1]
["Beholderanlæg - højdebeholder","m³",{"$f":"+Genanskaffelsespriser!$E$178","v":50},null,null,null,"","",null,{"$f":"IF(E256=0,\"Variabel pris\",IFERROR((HLOOKUP(E256,'Variable priser'!$C$48:$H$50,2)+(E256-HLOOKUP(E256,'Variable priser'!$C$48:$H$50,1))*HLOOKUP(E256,'Variable priser'!$C$48:$H$50,3))/E256*(1+Genanskaffelsespriser!$D$203),\"Fejl\"))","v":"Variabel pris"},{"$f":"IF(F256=0,\"Variabel pris\",IFERROR((HLOOKUP(F256,'Variable priser'!$C$48:$H$50,2)+(F256-HLOOKUP(F256,'Variable priser'!$C$48:$H$50,1))*HLOOKUP(F256,'Variable priser'!$C$48:$H$50,3))/F256*(1+Genanskaffelsespriser!$D$203),\"Fejl\"))","v":"Variabel pris"},{"$f":"IF(ISBLANK(E256),\"\",IF(E256=0,\"\",IF(ISNUMBER(E256),((J256*E256)/$C256)*N253,\"\")))","v":""},{"$f":"IF(ISBLANK(F256),\"\",IF(F256=0,\"\",IF(ISNUMBER(F256),((K256*F256)/$C256)*O253,\"\")))","v":""},1,1]
["Beholderanlæg - vandtårn","m³",{"$f":"+Genanskaffelsespriser!$E$179","v":50},null,null,null,"","",null,{"$f":"IF(E257=0,\"Variabel pris\",IFERROR((HLOOKUP(E257,'Variable priser'!$C$55:$H$57,2)+(E257-HLOOKUP(E257,'Variable priser'!$C$55:$H$57,1))*HLOOKUP(E257,'Variable priser'!$C$55:$H$57,3))/E257*(1+Genanskaffelsespriser!$D$203),\"Fejl\"))","v":"Variabel pris"},{"$f":"IF(F257=0,\"Variabel pris\",IFERROR((HLOOKUP(F257,'Variable priser'!$C$55:$H$57,2)+(F257-HLOOKUP(F257,'Variable priser'!$C$55:$H$57,1))*HLOOKUP(F257,'Variable priser'!$C$55:$H$57,3))/F257*(1+Genanskaffelsespriser!$D$203),\"Fejl\"))","v":"Variabel pris"},{"$f":"IF(ISBLANK(E257),\"\",IF(E257=0,\"\",IF(ISNUMBER(E257),((J257*E257)/$C257)*N253,\"\")))","v":""},{"$f":"IF(ISBLANK(F257),\"\",IF(F257=0,\"\",IF(ISNUMBER(F257),((K257*F257)/$C257)*O253,\"\")))","v":""},1,1]
["Pumpestationer, bygværker og bassiner 28"]
["Pumpestation (inkl. evt. hydrofor)/trykforøger, Konstruktioner","m³/h ",{"$f":"+Genanskaffelsespriser!$E$175","v":50},816,816,816,0,0,null,{"$f":"IF(E259=0,\"Variabel pris\",IFERROR((HLOOKUP(E259,'Variable priser'!$C$103:$F$105,2)+(E259-HLOOKUP(E259,'Variable priser'!$C$103:$F$105,1))*HLOOKUP(E259,'Variable priser'!$C$103:$F$105,3))*'Variable priser'!$I$102/E259*(1+Genanskaffelsespriser!$D$203),\"Fejl\"))","v":801.64811296874996},{"$f":"IF(F259=0,\"Variabel pris\",IFERROR((HLOOKUP(F259,'Variable priser'!$C$103:$F$105,2)+(F259-HLOOKUP(F259,'Variable priser'!$C$103:$F$105,1))*HLOOKUP(F259,'Variable priser'!$C$103:$F$105,3))*'Variable priser'!$I$102/F259*(1+Genanskaffelsespriser!$D$203),\"Fejl\"))","v":801.64811296874996},{"$f":"IF(ISBLANK(E259),\"\",IF(E259=0,\"\",IF(ISNUMBER(E259),((J259*E259)/$C259)*N259,\"\")))","v":13082.89720365},{"$f":"IF(ISBLANK(F259),\"\",IF(F259=0,\"\",IF(ISNUMBER(F259),((K259*F259)/$C259)*O259,\"\")))","v":13082.89720365},1,1]
["Pumpestation (inkl. evt. hydrofor)/trykforøger, Mek./EL","m³/h ",{"$f":"+Genanskaffelsespriser!$E$176","v":25},399.96,399.96,399.96,0,0,null,{"$f":"IF(E260=0,\"Variabel pris\",IFERROR((HLOOKUP(E260,'Variable priser'!$C$103:$F$105,2)+(E260-HLOOKUP(E260,'Variable priser'!$C$103:$F$105,1))*HLOOKUP(E260,'Variable priser'!$C$103:$F$105,3))*'Variable priser'!$J$102/E260*(1+Genanskaffelsespriser!$D$203),\"Fejl\"))","v":2213.9043112698018},{"$f":"IF(F260=0,\"Variabel pris\",IFERROR((HLOOKUP(F260,'Variable priser'!$C$103:$F$105,2)+(F260-HLOOKUP(F260,'Variable priser'!$C$103:$F$105,1))*HLOOKUP(F260,'Variable priser'!$C$103:$F$105,3))*'Variable priser'!$J$102/F260*(1+Genanskaffelsespriser!$D$203),\"Fejl\"))","v":2213.9043112698018},{"$f":"IF(ISBLANK(E260),\"\",IF(E260=0,\"\",IF(ISNUMBER(E260),((J260*E260)/$C260)*N259,\"\")))","v":35418.926733418797},{"$f":"IF(ISBLANK(F260),\"\",IF(F260=0,\"\",IF(ISNUMBER(F260),((K260*F260)/$C260)*O259,\"\")))","v":35418.926733418797},1,1]
["Pumpestation (inkl. evt. hydrofor)/trykforøger, SRO","m³/h ",{"$f":"+Genanskaffelsespriser!$E$177","v":10},550,550,550,0,0,null,{"$f":"IF(E261=0,\"Variabel pris\",IFERROR((HLOOKUP(E261,'Variable priser'!$C$103:$F$105,2)+(E261-HLOOKUP(E261,'Variable priser'!$C$103:$F$105,1))*HLOOKUP(E261,'Variable priser'!$C$103:$F$105,3))*'Variable priser'!$L$102/E261*(1+Genanskaffelsespriser!$D$203),\"Fejl\"))","v":329.93088300000005},{"$f":"IF(F261=0,\"Variabel pris\",IFERROR((HLOOKUP(F261,'Variable priser'!$C$103:$F$105,2)+(F261-HLOOKUP(F261,'Variable priser'!$C$103:$F$105,1))*HLOOKUP(F261,'Variable priser'!$C$103:$F$105,3))*'Variable priser'!$L$102/F261*(1+Genanskaffelsespriser!$D$203),\"Fejl\"))","v":329.93088300000005},{"$f":"IF(ISBLANK(E261),\"\",IF(E261=0,\"\",IF(ISNUMBER(E261),((J261*E261)/$C261)*N259,\"\")))","v":18146.198565000002},{"$f":"IF(ISBLANK(F261),\"\",IF(F261=0,\"Samlet mængde kan ikke være nul i 2025\",IF(ISNUMBER(F261),((K261*F261)/$C261)*O259,\"\")))","v":18146.198565000002},1,1]
["Beholderanlæg - højdebeholder","m³",{"$f":"+Genanskaffelsespriser!$E$178","v":50},null,null,null,"","",null,{"$f":"IF(E262=0,\"Variabel pris\",IFERROR((HLOOKUP(E262,'Variable priser'!$C$48:$H$50,2)+(E262-HLOOKUP(E262,'Variable priser'!$C$48:$H$50,1))*HLOOKUP(E262,'Variable priser'!$C$48:$H$50,3))/E262*(1+Genanskaffelsespriser!$D$203),\"Fejl\"))","v":"Variabel pris"},{"$f":"IF(F262=0,\"Variabel pris\",IFERROR((HLOOKUP(F262,'Variable priser'!$C$48:$H$50,2)+(F262-HLOOKUP(F262,'Variable priser'!$C$48:$H$50,1))*HLOOKUP(F262,'Variable priser'!$C$48:$H$50,3))/F262*(1+Genanskaffelsespriser!$D$203),\"Fejl\"))","v":"Variabel pris"},{"$f":"IF(ISBLANK(E262),\"\",IF(E262=0,\"\",IF(ISNUMBER(E262),((J262*E262)/$C262)*N259,\"\")))","v":""},{"$f":"IF(ISBLANK(F262),\"\",IF(F262=0,\"\",IF(ISNUMBER(F262),((K262*F262)/$C262)*O259,\"\")))","v":""},1,1]
["Beholderanlæg - vandtårn","m³",{"$f":"+Genanskaffelsespriser!$E$179","v":50},null,null,null,"","",null,{"$f":"IF(E263=0,\"Variabel pris\",IFERROR((HLOOKUP(E263,'Variable priser'!$C$55:$H$57,2)+(E263-HLOOKUP(E263,'Variable priser'!$C$55:$H$57,1))*HLOOKUP(E263,'Variable priser'!$C$55:$H$57,3))/E263*(1+Genanskaffelsespriser!$D$203),\"Fejl\"))","v":"Variabel pris"},{"$f":"IF(F263=0,\"Variabel pris\",IFERROR((HLOOKUP(F263,'Variable priser'!$C$55:$H$57,2)+(F263-HLOOKUP(F263,'Variable priser'!$C$55:$H$57,1))*HLOOKUP(F263,'Variable priser'!$C$55:$H$57,3))/F263*(1+Genanskaffelsespriser!$D$203),\"Fejl\"))","v":"Variabel pris"},{"$f":"IF(ISBLANK(E263),\"\",IF(E263=0,\"\",IF(ISNUMBER(E263),((J263*E263)/$C263)*N259,\"\")))","v":""},{"$f":"IF(ISBLANK(F263),\"\",IF(F263=0,\"\",IF(ISNUMBER(F263),((K263*F263)/$C263)*O259,\"\")))","v":""},1,1]
["Pumpestationer, bygværker og bassiner 29"]
["Pumpestation (inkl. evt. hydrofor)/trykforøger, Konstruktioner","m³/h ",{"$f":"+Genanskaffelsespriser!$E$175","v":50},300,300,300,0,0,null,{"$f":"IF(E265=0,\"Variabel pris\",IFERROR((HLOOKUP(E265,'Variable priser'!$C$103:$F$105,2)+(E265-HLOOKUP(E265,'Variable priser'!$C$103:$F$105,1))*HLOOKUP(E265,'Variable priser'!$C$103:$F$105,3))*'Variable priser'!$I$102/E265*(1+Genanskaffelsespriser!$D$203),\"Fejl\"))","v":884.082035625},{"$f":"IF(F265=0,\"Variabel pris\",IFERROR((HLOOKUP(F265,'Variable priser'!$C$103:$F$105,2)+(F265-HLOOKUP(F265,'Variable priser'!$C$103:$F$105,1))*HLOOKUP(F265,'Variable priser'!$C$103:$F$105,3))*'Variable priser'!$I$102/F265*(1+Genanskaffelsespriser!$D$203),\"Fejl\"))","v":884.082035625},{"$f":"IF(ISBLANK(E265),\"\",IF(E265=0,\"\",IF(ISNUMBER(E265),((J265*E265)/$C265)*N265,\"\")))","v":5304.4922137499998},{"$f":"IF(ISBLANK(F265),\"\",IF(F265=0,\"\",IF(ISNUMBER(F265),((K265*F265)/$C265)*O265,\"\")))","v":5304.4922137499998},1,1]
["Pumpestation (inkl. evt. hydrofor)/trykforøger, Mek./EL","m³/h ",{"$f":"+Genanskaffelsespriser!$E$176","v":25},300,300,300,0,0,null,{"$f":"IF(E266=0,\"Variabel pris\",IFERROR((HLOOKUP(E266,'Variable priser'!$C$103:$F$105,2)+(E266-HLOOKUP(E266,'Variable priser'!$C$103:$F$105,1))*HLOOKUP(E266,'Variable priser'!$C$103:$F$105,3))*'Variable priser'!$J$102/E266*(1+Genanskaffelsespriser!$D$203),\"Fejl\"))","v":2298.6132926250002},{"$f":"IF(F266=0,\"Variabel pris\",IFERROR((HLOOKUP(F266,'Variable priser'!$C$103:$F$105,2)+(F266-HLOOKUP(F266,'Variable priser'!$C$103:$F$105,1))*HLOOKUP(F266,'Variable priser'!$C$103:$F$105,3))*'Variable priser'!$J$102/F266*(1+Genanskaffelsespriser!$D$203),\"Fejl\"))","v":2298.6132926250002},{"$f":"IF(ISBLANK(E266),\"\",IF(E266=0,\"\",IF(ISNUMBER(E266),((J266*E266)/$C266)*N265,\"\")))","v":27583.359511500003},{"$f":"IF(ISBLANK(F266),\"\",IF(F266=0,\"\",IF(ISNUMBER(F266),((K266*F266)/$C266)*O265,\"\")))","v":27583.359511500003},1,1]
["Pumpestation (inkl. evt. hydrofor)/trykforøger, SRO","m³/h ",{"$f":"+Genanskaffelsespriser!$E$177","v":10},null,null,null,"","",null,{"$f":"IF(E267=0,\"Variabel pris\",IFERROR((HLOOKUP(E267,'Variable priser'!$C$103:$F$105,2)+(E267-HLOOKUP(E267,'Variable priser'!$C$103:$F$105,1))*HLOOKUP(E267,'Variable priser'!$C$103:$F$105,3))*'Variable priser'!$L$102/E267*(1+Genanskaffelsespriser!$D$203),\"Fejl\"))","v":"Variabel pris"},{"$f":"IF(F267=0,\"Variabel pris\",IFERROR((HLOOKUP(F267,'Variable priser'!$C$103:$F$105,2)+(F267-HLOOKUP(F267,'Variable priser'!$C$103:$F$105,1))*HLOOKUP(F267,'Variable priser'!$C$103:$F$105,3))*'Variable priser'!$L$102/F267*(1+Genanskaffelsespriser!$D$203),\"Fejl\"))","v":"Variabel pris"},{"$f":"IF(ISBLANK(E267),\"\",IF(E267=0,\"\",IF(ISNUMBER(E267),((J267*E267)/$C267)*N265,\"\")))","v":""},{"$f":"IF(ISBLANK(F267),\"\",IF(F267=0,\"Samlet mængde kan ikke være nul i 2025\",IF(ISNUMBER(F267),((K267*F267)/$C267)*O265,\"\")))","v":""},1,1]
["Beholderanlæg - højdebeholder","m³",{"$f":"+Genanskaffelsespriser!$E$178","v":50},null,null,null,"","",null,{"$f":"IF(E268=0,\"Variabel pris\",IFERROR((HLOOKUP(E268,'Variable priser'!$C$48:$H$50,2)+(E268-HLOOKUP(E268,'Variable priser'!$C$48:$H$50,1))*HLOOKUP(E268,'Variable priser'!$C$48:$H$50,3))/E268*(1+Genanskaffelsespriser!$D$203),\"Fejl\"))","v":"Variabel pris"},{"$f":"IF(F268=0,\"Variabel pris\",IFERROR((HLOOKUP(F268,'Variable priser'!$C$48:$H$50,2)+(F268-HLOOKUP(F268,'Variable priser'!$C$48:$H$50,1))*HLOOKUP(F268,'Variable priser'!$C$48:$H$50,3))/F268*(1+Genanskaffelsespriser!$D$203),\"Fejl\"))","v":"Variabel pris"},{"$f":"IF(ISBLANK(E268),\"\",IF(E268=0,\"\",IF(ISNUMBER(E268),((J268*E268)/$C268)*N265,\"\")))","v":""},{"$f":"IF(ISBLANK(F268),\"\",IF(F268=0,\"\",IF(ISNUMBER(F268),((K268*F268)/$C268)*O265,\"\")))","v":""},1,1]
["Beholderanlæg - vandtårn","m³",{"$f":"+Genanskaffelsespriser!$E$179","v":50},null,null,null,"","",null,{"$f":"IF(E269=0,\"Variabel pris\",IFERROR((HLOOKUP(E269,'Variable priser'!$C$55:$H$57,2)+(E269-HLOOKUP(E269,'Variable priser'!$C$55:$H$57,1))*HLOOKUP(E269,'Variable priser'!$C$55:$H$57,3))/E269*(1+Genanskaffelsespriser!$D$203),\"Fejl\"))","v":"Variabel pris"},{"$f":"IF(F269=0,\"Variabel pris\",IFERROR((HLOOKUP(F269,'Variable priser'!$C$55:$H$57,2)+(F269-HLOOKUP(F269,'Variable priser'!$C$55:$H$57,1))*HLOOKUP(F269,'Variable priser'!$C$55:$H$57,3))/F269*(1+Genanskaffelsespriser!$D$203),\"Fejl\"))","v":"Variabel pris"},{"$f":"IF(ISBLANK(E269),\"\",IF(E269=0,\"\",IF(ISNUMBER(E269),((J269*E269)/$C269)*N265,\"\")))","v":""},{"$f":"IF(ISBLANK(F269),\"\",IF(F269=0,\"\",IF(ISNUMBER(F269),((K269*F269)/$C269)*O265,\"\")))","v":""},1,1]
["Pumpestationer, bygværker og bassiner 30"]
["Pumpestation (inkl. evt. hydrofor)/trykforøger, Konstruktioner","m³/h ",{"$f":"+Genanskaffelsespriser!$E$175","v":50},828,828,828,0,0,null,{"$f":"IF(E271=0,\"Variabel pris\",IFERROR((HLOOKUP(E271,'Variable priser'!$C$103:$F$105,2)+(E271-HLOOKUP(E271,'Variable priser'!$C$103:$F$105,1))*HLOOKUP(E271,'Variable priser'!$C$103:$F$105,3))*'Variable priser'!$I$102/E271*(1+Genanskaffelsespriser!$D$203),\"Fejl\"))","v":800.95352312499983},{"$f":"IF(F271=0,\"Variabel pris\",IFERROR((HLOOKUP(F271,'Variable priser'!$C$103:$F$105,2)+(F271-HLOOKUP(F271,'Variable priser'!$C$103:$F$105,1))*HLOOKUP(F271,'Variable priser'!$C$103:$F$105,3))*'Variable priser'!$I$102/F271*(1+Genanskaffelsespriser!$D$203),\"Fejl\"))","v":800.95352312499983},{"$f":"IF(ISBLANK(E271),\"\",IF(E271=0,\"\",IF(ISNUMBER(E271),((J271*E271)/$C271)*N271,\"\")))","v":13263.790342949997},{"$f":"IF(ISBLANK(F271),\"\",IF(F271=0,\"\",IF(ISNUMBER(F271),((K271*F271)/$C271)*O271,\"\")))","v":13263.790342949997},1,1]
["Pumpestation (inkl. evt. hydrofor)/trykforøger, Mek./EL","m³/h ",{"$f":"+Genanskaffelsespriser!$E$176","v":25},828,828,828,0,0,null,{"$f":"IF(E272=0,\"Variabel pris\",IFERROR((HLOOKUP(E272,'Variable priser'!$C$103:$F$105,2)+(E272-HLOOKUP(E272,'Variable priser'!$C$103:$F$105,1))*HLOOKUP(E272,'Variable priser'!$C$103:$F$105,3))*'Variable priser'!$J$102/E272*(1+Genanskaffelsespriser!$D$203),\"Fejl\"))","v":2082.4791601249999},{"$f":"IF(F272=0,\"Variabel pris\",IFERROR((HLOOKUP(F272,'Variable priser'!$C$103:$F$105,2)+(F272-HLOOKUP(F272,'Variable priser'!$C$103:$F$105,1))*HLOOKUP(F272,'Variable priser'!$C$103:$F$105,3))*'Variable priser'!$J$102/F272*(1+Genanskaffelsespriser!$D$203),\"Fejl\"))","v":2082.4791601249999},{"$f":"IF(ISBLANK(E272),\"\",IF(E272=0,\"\",IF(ISNUMBER(E272),((J272*E272)/$C272)*N271,\"\")))","v":68971.709783339989},{"$f":"IF(ISBLANK(F272),\"\",IF(F272=0,\"\",IF(ISNUMBER(F272),((K272*F272)/$C272)*O271,\"\")))","v":68971.709783339989},1,1]
["Pumpestation (inkl. evt. hydrofor)/trykforøger, SRO","m³/h ",{"$f":"+Genanskaffelsespriser!$E$177","v":10},null,null,null,"","",null,{"$f":"IF(E273=0,\"Variabel pris\",IFERROR((HLOOKUP(E273,'Variable priser'!$C$103:$F$105,2)+(E273-HLOOKUP(E273,'Variable priser'!$C$103:$F$105,1))*HLOOKUP(E273,'Variable priser'!$C$103:$F$105,3))*'Variable priser'!$L$102/E273*(1+Genanskaffelsespriser!$D$203),\"Fejl\"))","v":"Variabel pris"},{"$f":"IF(F273=0,\"Variabel pris\",IFERROR((HLOOKUP(F273,'Variable priser'!$C$103:$F$105,2)+(F273-HLOOKUP(F273,'Variable priser'!$C$103:$F$105,1))*HLOOKUP(F273,'Variable priser'!$C$103:$F$105,3))*'Variable priser'!$L$102/F273*(1+Genanskaffelsespriser!$D$203),\"Fejl\"))","v":"Variabel pris"},{"$f":"IF(ISBLANK(E273),\"\",IF(E273=0,\"\",IF(ISNUMBER(E273),((J273*E273)/$C273)*N271,\"\")))","v":""},{"$f":"IF(ISBLANK(F273),\"\",IF(F273=0,\"Samlet mængde kan ikke være nul i 2025\",IF(ISNUMBER(F273),((K273*F273)/$C273)*O271,\"\")))","v":""},1,1]
["Beholderanlæg - højdebeholder","m³",{"$f":"+Genanskaffelsespriser!$E$178","v":50},null,null,null,"","",null,{"$f":"IF(E274=0,\"Variabel pris\",IFERROR((HLOOKUP(E274,'Variable priser'!$C$48:$H$50,2)+(E274-HLOOKUP(E274,'Variable priser'!$C$48:$H$50,1))*HLOOKUP(E274,'Variable priser'!$C$48:$H$50,3))/E274*(1+Genanskaffelsespriser!$D$203),\"Fejl\"))","v":"Variabel pris"},{"$f":"IF(F274=0,\"Variabel pris\",IFERROR((HLOOKUP(F274,'Variable priser'!$C$48:$H$50,2)+(F274-HLOOKUP(F274,'Variable priser'!$C$48:$H$50,1))*HLOOKUP(F274,'Variable priser'!$C$48:$H$50,3))/F274*(1+Genanskaffelsespriser!$D$203),\"Fejl\"))","v":"Variabel pris"},{"$f":"IF(ISBLANK(E274),\"\",IF(E274=0,\"\",IF(ISNUMBER(E274),((J274*E274)/$C274)*N271,\"\")))","v":""},{"$f":"IF(ISBLANK(F274),\"\",IF(F274=0,\"\",IF(ISNUMBER(F274),((K274*F274)/$C274)*O271,\"\")))","v":""},1,1]
["Beholderanlæg - vandtårn","m³",{"$f":"+Genanskaffelsespriser!$E$179","v":50},null,null,null,"","",null,{"$f":"IF(E275=0,\"Variabel pris\",IFERROR((HLOOKUP(E275,'Variable priser'!$C$55:$H$57,2)+(E275-HLOOKUP(E275,'Variable priser'!$C$55:$H$57,1))*HLOOKUP(E275,'Variable priser'!$C$55:$H$57,3))/E275*(1+Genanskaffelsespriser!$D$203),\"Fejl\"))","v":"Variabel pris"},{"$f":"IF(F275=0,\"Variabel pris\",IFERROR((HLOOKUP(F275,'Variable priser'!$C$55:$H$57,2)+(F275-HLOOKUP(F275,'Variable priser'!$C$55:$H$57,1))*HLOOKUP(F275,'Variable priser'!$C$55:$H$57,3))/F275*(1+Genanskaffelsespriser!$D$203),\"Fejl\"))","v":"Variabel pris"},{"$f":"IF(ISBLANK(E275),\"\",IF(E275=0,\"\",IF(ISNUMBER(E275),((J275*E275)/$C275)*N271,\"\")))","v":""},{"$f":"IF(ISBLANK(F275),\"\",IF(F275=0,\"\",IF(ISNUMBER(F275),((K275*F275)/$C275)*O271,\"\")))","v":""},1,1]
["Pumpestationer, bygværker og bassiner 31"]
["Pumpestation (inkl. evt. hydrofor)/trykforøger, Konstruktioner","m³/h ",{"$f":"+Genanskaffelsespriser!$E$175","v":50},null,400,400,"Ny data",0,"fejlindtastet sidste gang",{"$f":"IF(E277=0,\"Variabel pris\",IFERROR((HLOOKUP(E277,'Variable priser'!$C$103:$F$105,2)+(E277-HLOOKUP(E277,'Variable priser'!$C$103:$F$105,1))*HLOOKUP(E277,'Variable priser'!$C$103:$F$105,3))*'Variable priser'!$I$102/E277*(1+Genanskaffelsespriser!$D$203),\"Fejl\"))","v":851.49188015624986},{"$f":"IF(F277=0,\"Variabel pris\",IFERROR((HLOOKUP(F277,'Variable priser'!$C$103:$F$105,2)+(F277-HLOOKUP(F277,'Variable priser'!$C$103:$F$105,1))*HLOOKUP(F277,'Variable priser'!$C$103:$F$105,3))*'Variable priser'!$I$102/F277*(1+Genanskaffelsespriser!$D$203),\"Fejl\"))","v":851.49188015624986},{"$f":"IF(ISBLANK(E277),\"\",IF(E277=0,\"\",IF(ISNUMBER(E277),((J277*E277)/$C277)*N277,\"\")))","v":6811.9350412499989},{"$f":"IF(ISBLANK(F277),\"\",IF(F277=0,\"\",IF(ISNUMBER(F277),((K277*F277)/$C277)*O277,\"\")))","v":6811.9350412499989},1,1]
["Pumpestation (inkl. evt. hydrofor)/trykforøger, Mek./EL","m³/h ",{"$f":"+Genanskaffelsespriser!$E$176","v":25},816,816,816,0,0,null,{"$f":"IF(E278=0,\"Variabel pris\",IFERROR((HLOOKUP(E278,'Variable priser'!$C$103:$F$105,2)+(E278-HLOOKUP(E278,'Variable priser'!$C$103:$F$105,1))*HLOOKUP(E278,'Variable priser'!$C$103:$F$105,3))*'Variable priser'!$J$102/E278*(1+Genanskaffelsespriser!$D$203),\"Fejl\"))","v":2084.28509371875},{"$f":"IF(F278=0,\"Variabel pris\",IFERROR((HLOOKUP(F278,'Variable priser'!$C$103:$F$105,2)+(F278-HLOOKUP(F278,'Variable priser'!$C$103:$F$105,1))*HLOOKUP(F278,'Variable priser'!$C$103:$F$105,3))*'Variable priser'!$J$102/F278*(1+Genanskaffelsespriser!$D$203),\"Fejl\"))","v":2084.28509371875},{"$f":"IF(ISBLANK(E278),\"\",IF(E278=0,\"\",IF(ISNUMBER(E278),((J278*E278)/$C278)*N277,\"\")))","v":68031.065458979996},{"$f":"IF(ISBLANK(F278),\"\",IF(F278=0,\"\",IF(ISNUMBER(F278),((K278*F278)/$C278)*O277,\"\")))","v":68031.065458979996},1,1]
["Pumpestation (inkl. evt. hydrofor)/trykforøger, SRO","m³/h ",{"$f":"+Genanskaffelsespriser!$E$177","v":10},400,400,400,0,0,null,{"$f":"IF(E279=0,\"Variabel pris\",IFERROR((HLOOKUP(E279,'Variable priser'!$C$103:$F$105,2)+(E279-HLOOKUP(E279,'Variable priser'!$C$103:$F$105,1))*HLOOKUP(E279,'Variable priser'!$C$103:$F$105,3))*'Variable priser'!$L$102/E279*(1+Genanskaffelsespriser!$D$203),\"Fejl\"))","v":340.5967520625},{"$f":"IF(F279=0,\"Variabel pris\",IFERROR((HLOOKUP(F279,'Variable priser'!$C$103:$F$105,2)+(F279-HLOOKUP(F279,'Variable priser'!$C$103:$F$105,1))*HLOOKUP(F279,'Variable priser'!$C$103:$F$105,3))*'Variable priser'!$L$102/F279*(1+Genanskaffelsespriser!$D$203),\"Fejl\"))","v":340.5967520625},{"$f":"IF(ISBLANK(E279),\"\",IF(E279=0,\"\",IF(ISNUMBER(E279),((J279*E279)/$C279)*N277,\"\")))","v":13623.870082500001},{"$f":"IF(ISBLANK(F279),\"\",IF(F279=0,\"Samlet mængde kan ikke være nul i 2025\",IF(ISNUMBER(F279),((K279*F279)/$C279)*O277,\"\")))","v":13623.870082500001},1,1]
["Beholderanlæg - højdebeholder","m³",{"$f":"+Genanskaffelsespriser!$E$178","v":50},null,null,null,"","",null,{"$f":"IF(E280=0,\"Variabel pris\",IFERROR((HLOOKUP(E280,'Variable priser'!$C$48:$H$50,2)+(E280-HLOOKUP(E280,'Variable priser'!$C$48:$H$50,1))*HLOOKUP(E280,'Variable priser'!$C$48:$H$50,3))/E280*(1+Genanskaffelsespriser!$D$203),\"Fejl\"))","v":"Variabel pris"},{"$f":"IF(F280=0,\"Variabel pris\",IFERROR((HLOOKUP(F280,'Variable priser'!$C$48:$H$50,2)+(F280-HLOOKUP(F280,'Variable priser'!$C$48:$H$50,1))*HLOOKUP(F280,'Variable priser'!$C$48:$H$50,3))/F280*(1+Genanskaffelsespriser!$D$203),\"Fejl\"))","v":"Variabel pris"},{"$f":"IF(ISBLANK(E280),\"\",IF(E280=0,\"\",IF(ISNUMBER(E280),((J280*E280)/$C280)*N277,\"\")))","v":""},{"$f":"IF(ISBLANK(F280),\"\",IF(F280=0,\"\",IF(ISNUMBER(F280),((K280*F280)/$C280)*O277,\"\")))","v":""},1,1]
["Beholderanlæg - vandtårn","m³",{"$f":"+Genanskaffelsespriser!$E$179","v":50},null,null,null,"","",null,{"$f":"IF(E281=0,\"Variabel pris\",IFERROR((HLOOKUP(E281,'Variable priser'!$C$55:$H$57,2)+(E281-HLOOKUP(E281,'Variable priser'!$C$55:$H$57,1))*HLOOKUP(E281,'Variable priser'!$C$55:$H$57,3))/E281*(1+Genanskaffelsespriser!$D$203),\"Fejl\"))","v":"Variabel pris"},{"$f":"IF(F281=0,\"Variabel pris\",IFERROR((HLOOKUP(F281,'Variable priser'!$C$55:$H$57,2)+(F281-HLOOKUP(F281,'Variable priser'!$C$55:$H$57,1))*HLOOKUP(F281,'Variable priser'!$C$55:$H$57,3))/F281*(1+Genanskaffelsespriser!$D$203),\"Fejl\"))","v":"Variabel pris"},{"$f":"IF(ISBLANK(E281),\"\",IF(E281=0,\"\",IF(ISNUMBER(E281),((J281*E281)/$C281)*N277,\"\")))","v":""},{"$f":"IF(ISBLANK(F281),\"\",IF(F281=0,\"\",IF(ISNUMBER(F281),((K281*F281)/$C281)*O277,\"\")))","v":""},1,1]
["Pumpestationer, bygværker og bassiner 32"]
["Pumpestation (inkl. evt. hydrofor)/trykforøger, Konstruktioner","m³/h ",{"$f":"+Genanskaffelsespriser!$E$175","v":50},4000,4000,4000,0,0,null,{"$f":"IF(E283=0,\"Variabel pris\",IFERROR((HLOOKUP(E283,'Variable priser'!$C$103:$F$105,2)+(E283-HLOOKUP(E283,'Variable priser'!$C$103:$F$105,1))*HLOOKUP(E283,'Variable priser'!$C$103:$F$105,3))*'Variable priser'!$I$102/E283*(1+Genanskaffelsespriser!$D$203),\"Fejl\"))","v":763.49846039062481},{"$f":"IF(F283=0,\"Variabel pris\",IFERROR((HLOOKUP(F283,'Variable priser'!$C$103:$F$105,2)+(F283-HLOOKUP(F283,'Variable priser'!$C$103:$F$105,1))*HLOOKUP(F283,'Variable priser'!$C$103:$F$105,3))*'Variable priser'!$I$102/F283*(1+Genanskaffelsespriser!$D$203),\"Fejl\"))","v":763.49846039062481},{"$f":"IF(ISBLANK(E283),\"\",IF(E283=0,\"\",IF(ISNUMBER(E283),((J283*E283)/$C283)*N283,\"\")))","v":61079.876831249989},{"$f":"IF(ISBLANK(F283),\"\",IF(F283=0,\"\",IF(ISNUMBER(F283),((K283*F283)/$C283)*O283,\"\")))","v":61079.876831249989},1,1]
["Pumpestation (inkl. evt. hydrofor)/trykforøger, Mek./EL","m³/h ",{"$f":"+Genanskaffelsespriser!$E$176","v":25},4000,4000,4000,0,0,null,{"$f":"IF(E284=0,\"Variabel pris\",IFERROR((HLOOKUP(E284,'Variable priser'!$C$103:$F$105,2)+(E284-HLOOKUP(E284,'Variable priser'!$C$103:$F$105,1))*HLOOKUP(E284,'Variable priser'!$C$103:$F$105,3))*'Variable priser'!$J$102/E284*(1+Genanskaffelsespriser!$D$203),\"Fejl\"))","v":1985.0959970156248},{"$f":"IF(F284=0,\"Variabel pris\",IFERROR((HLOOKUP(F284,'Variable priser'!$C$103:$F$105,2)+(F284-HLOOKUP(F284,'Variable priser'!$C$103:$F$105,1))*HLOOKUP(F284,'Variable priser'!$C$103:$F$105,3))*'Variable priser'!$J$102/F284*(1+Genanskaffelsespriser!$D$203),\"Fejl\"))","v":1985.0959970156248},{"$f":"IF(ISBLANK(E284),\"\",IF(E284=0,\"\",IF(ISNUMBER(E284),((J284*E284)/$C284)*N283,\"\")))","v":317615.35952249996},{"$f":"IF(ISBLANK(F284),\"\",IF(F284=0,\"\",IF(ISNUMBER(F284),((K284*F284)/$C284)*O283,\"\")))","v":317615.35952249996},1,1]
["Pumpestation (inkl. evt. hydrofor)/trykforøger, SRO","m³/h ",{"$f":"+Genanskaffelsespriser!$E$177","v":10},4000,4000,4000,0,0,null,{"$f":"IF(E285=0,\"Variabel pris\",IFERROR((HLOOKUP(E285,'Variable priser'!$C$103:$F$105,2)+(E285-HLOOKUP(E285,'Variable priser'!$C$103:$F$105,1))*HLOOKUP(E285,'Variable priser'!$C$103:$F$105,3))*'Variable priser'!$L$102/E285*(1+Genanskaffelsespriser!$D$203),\"Fejl\"))","v":305.39938415624994},{"$f":"IF(F285=0,\"Variabel pris\",IFERROR((HLOOKUP(F285,'Variable priser'!$C$103:$F$105,2)+(F285-HLOOKUP(F285,'Variable priser'!$C$103:$F$105,1))*HLOOKUP(F285,'Variable priser'!$C$103:$F$105,3))*'Variable priser'!$L$102/F285*(1+Genanskaffelsespriser!$D$203),\"Fejl\"))","v":305.39938415624994},{"$f":"IF(ISBLANK(E285),\"\",IF(E285=0,\"\",IF(ISNUMBER(E285),((J285*E285)/$C285)*N283,\"\")))","v":122159.75366249998},{"$f":"IF(ISBLANK(F285),\"\",IF(F285=0,\"Samlet mængde kan ikke være nul i 2025\",IF(ISNUMBER(F285),((K285*F285)/$C285)*O283,\"\")))","v":122159.75366249998},1,1]
["Beholderanlæg - højdebeholder","m³",{"$f":"+Genanskaffelsespriser!$E$178","v":50},null,null,null,"","",null,{"$f":"IF(E286=0,\"Variabel pris\",IFERROR((HLOOKUP(E286,'Variable priser'!$C$48:$H$50,2)+(E286-HLOOKUP(E286,'Variable priser'!$C$48:$H$50,1))*HLOOKUP(E286,'Variable priser'!$C$48:$H$50,3))/E286*(1+Genanskaffelsespriser!$D$203),\"Fejl\"))","v":"Variabel pris"},{"$f":"IF(F286=0,\"Variabel pris\",IFERROR((HLOOKUP(F286,'Variable priser'!$C$48:$H$50,2)+(F286-HLOOKUP(F286,'Variable priser'!$C$48:$H$50,1))*HLOOKUP(F286,'Variable priser'!$C$48:$H$50,3))/F286*(1+Genanskaffelsespriser!$D$203),\"Fejl\"))","v":"Variabel pris"},{"$f":"IF(ISBLANK(E286),\"\",IF(E286=0,\"\",IF(ISNUMBER(E286),((J286*E286)/$C286)*N283,\"\")))","v":""},{"$f":"IF(ISBLANK(F286),\"\",IF(F286=0,\"\",IF(ISNUMBER(F286),((K286*F286)/$C286)*O283,\"\")))","v":""},1,1]
["Beholderanlæg - vandtårn","m³",{"$f":"+Genanskaffelsespriser!$E$179","v":50},null,null,null,"","",null,{"$f":"IF(E287=0,\"Variabel pris\",IFERROR((HLOOKUP(E287,'Variable priser'!$C$55:$H$57,2)+(E287-HLOOKUP(E287,'Variable priser'!$C$55:$H$57,1))*HLOOKUP(E287,'Variable priser'!$C$55:$H$57,3))/E287*(1+Genanskaffelsespriser!$D$203),\"Fejl\"))","v":"Variabel pris"},{"$f":"IF(F287=0,\"Variabel pris\",IFERROR((HLOOKUP(F287,'Variable priser'!$C$55:$H$57,2)+(F287-HLOOKUP(F287,'Variable priser'!$C$55:$H$57,1))*HLOOKUP(F287,'Variable priser'!$C$55:$H$57,3))/F287*(1+Genanskaffelsespriser!$D$203),\"Fejl\"))","v":"Variabel pris"},{"$f":"IF(ISBLANK(E287),\"\",IF(E287=0,\"\",IF(ISNUMBER(E287),((J287*E287)/$C287)*N283,\"\")))","v":""},{"$f":"IF(ISBLANK(F287),\"\",IF(F287=0,\"\",IF(ISNUMBER(F287),((K287*F287)/$C287)*O283,\"\")))","v":""},1,1]
["Pumpestationer, bygværker og bassiner 33"]
["Pumpestation (inkl. evt. hydrofor)/trykforøger, Konstruktioner","m³/h ",{"$f":"+Genanskaffelsespriser!$E$175","v":50},null,550,550,"Ny data",0,"fejlindtastet sidste gang",{"$f":"IF(E289=0,\"Variabel pris\",IFERROR((HLOOKUP(E289,'Variable priser'!$C$103:$F$105,2)+(E289-HLOOKUP(E289,'Variable priser'!$C$103:$F$105,1))*HLOOKUP(E289,'Variable priser'!$C$103:$F$105,3))*'Variable priser'!$I$102/E289*(1+Genanskaffelsespriser!$D$203),\"Fejl\"))","v":824.82720749999999},{"$f":"IF(F289=0,\"Variabel pris\",IFERROR((HLOOKUP(F289,'Variable priser'!$C$103:$F$105,2)+(F289-HLOOKUP(F289,'Variable priser'!$C$103:$F$105,1))*HLOOKUP(F289,'Variable priser'!$C$103:$F$105,3))*'Variable priser'!$I$102/F289*(1+Genanskaffelsespriser!$D$203),\"Fejl\"))","v":824.82720749999999},{"$f":"IF(ISBLANK(E289),\"\",IF(E289=0,\"\",IF(ISNUMBER(E289),((J289*E289)/$C289)*N289,\"\")))","v":9073.0992824999994},{"$f":"IF(ISBLANK(F289),\"\",IF(F289=0,\"\",IF(ISNUMBER(F289),((K289*F289)/$C289)*O289,\"\")))","v":9073.0992824999994},1,1]
["Pumpestation (inkl. evt. hydrofor)/trykforøger, Mek./EL","m³/h ",{"$f":"+Genanskaffelsespriser!$E$176","v":25},550,550,550,0,0,null,{"$f":"IF(E290=0,\"Variabel pris\",IFERROR((HLOOKUP(E290,'Variable priser'!$C$103:$F$105,2)+(E290-HLOOKUP(E290,'Variable priser'!$C$103:$F$105,1))*HLOOKUP(E290,'Variable priser'!$C$103:$F$105,3))*'Variable priser'!$J$102/E290*(1+Genanskaffelsespriser!$D$203),\"Fejl\"))","v":2144.5507395},{"$f":"IF(F290=0,\"Variabel pris\",IFERROR((HLOOKUP(F290,'Variable priser'!$C$103:$F$105,2)+(F290-HLOOKUP(F290,'Variable priser'!$C$103:$F$105,1))*HLOOKUP(F290,'Variable priser'!$C$103:$F$105,3))*'Variable priser'!$J$102/F290*(1+Genanskaffelsespriser!$D$203),\"Fejl\"))","v":2144.5507395},{"$f":"IF(ISBLANK(E290),\"\",IF(E290=0,\"\",IF(ISNUMBER(E290),((J290*E290)/$C290)*N289,\"\")))","v":47180.116268999998},{"$f":"IF(ISBLANK(F290),\"\",IF(F290=0,\"\",IF(ISNUMBER(F290),((K290*F290)/$C290)*O289,\"\")))","v":47180.116268999998},1,1]
["Pumpestation (inkl. evt. hydrofor)/trykforøger, SRO","m³/h ",{"$f":"+Genanskaffelsespriser!$E$177","v":10},null,null,null,"","",null,{"$f":"IF(E291=0,\"Variabel pris\",IFERROR((HLOOKUP(E291,'Variable priser'!$C$103:$F$105,2)+(E291-HLOOKUP(E291,'Variable priser'!$C$103:$F$105,1))*HLOOKUP(E291,'Variable priser'!$C$103:$F$105,3))*'Variable priser'!$L$102/E291*(1+Genanskaffelsespriser!$D$203),\"Fejl\"))","v":"Variabel pris"},{"$f":"IF(F291=0,\"Variabel pris\",IFERROR((HLOOKUP(F291,'Variable priser'!$C$103:$F$105,2)+(F291-HLOOKUP(F291,'Variable priser'!$C$103:$F$105,1))*HLOOKUP(F291,'Variable priser'!$C$103:$F$105,3))*'Variable priser'!$L$102/F291*(1+Genanskaffelsespriser!$D$203),\"Fejl\"))","v":"Variabel pris"},{"$f":"IF(ISBLANK(E291),\"\",IF(E291=0,\"\",IF(ISNUMBER(E291),((J291*E291)/$C291)*N289,\"\")))","v":""},{"$f":"IF(ISBLANK(F291),\"\",IF(F291=0,\"Samlet mængde kan ikke være nul i 2025\",IF(ISNUMBER(F291),((K291*F291)/$C291)*O289,\"\")))","v":""},1,1]
["Beholderanlæg - højdebeholder","m³",{"$f":"+Genanskaffelsespriser!$E$178","v":50},null,null,null,"","",null,{"$f":"IF(E292=0,\"Variabel pris\",IFERROR((HLOOKUP(E292,'Variable priser'!$C$48:$H$50,2)+(E292-HLOOKUP(E292,'Variable priser'!$C$48:$H$50,1))*HLOOKUP(E292,'Variable priser'!$C$48:$H$50,3))/E292*(1+Genanskaffelsespriser!$D$203),\"Fejl\"))","v":"Variabel pris"},{"$f":"IF(F292=0,\"Variabel pris\",IFERROR((HLOOKUP(F292,'Variable priser'!$C$48:$H$50,2)+(F292-HLOOKUP(F292,'Variable priser'!$C$48:$H$50,1))*HLOOKUP(F292,'Variable priser'!$C$48:$H$50,3))/F292*(1+Genanskaffelsespriser!$D$203),\"Fejl\"))","v":"Variabel pris"},{"$f":"IF(ISBLANK(E292),\"\",IF(E292=0,\"\",IF(ISNUMBER(E292),((J292*E292)/$C292)*N289,\"\")))","v":""},{"$f":"IF(ISBLANK(F292),\"\",IF(F292=0,\"\",IF(ISNUMBER(F292),((K292*F292)/$C292)*O289,\"\")))","v":""},1,1]
["Beholderanlæg - vandtårn","m³",{"$f":"+Genanskaffelsespriser!$E$179","v":50},null,null,null,"","",null,{"$f":"IF(E293=0,\"Variabel pris\",IFERROR((HLOOKUP(E293,'Variable priser'!$C$55:$H$57,2)+(E293-HLOOKUP(E293,'Variable priser'!$C$55:$H$57,1))*HLOOKUP(E293,'Variable priser'!$C$55:$H$57,3))/E293*(1+Genanskaffelsespriser!$D$203),\"Fejl\"))","v":"Variabel pris"},{"$f":"IF(F293=0,\"Variabel pris\",IFERROR((HLOOKUP(F293,'Variable priser'!$C$55:$H$57,2)+(F293-HLOOKUP(F293,'Variable priser'!$C$55:$H$57,1))*HLOOKUP(F293,'Variable priser'!$C$55:$H$57,3))/F293*(1+Genanskaffelsespriser!$D$203),\"Fejl\"))","v":"Variabel pris"},{"$f":"IF(ISBLANK(E293),\"\",IF(E293=0,\"\",IF(ISNUMBER(E293),((J293*E293)/$C293)*N289,\"\")))","v":""},{"$f":"IF(ISBLANK(F293),\"\",IF(F293=0,\"\",IF(ISNUMBER(F293),((K293*F293)/$C293)*O289,\"\")))","v":""},1,1]
["Pumpestationer, bygværker og bassiner 34"]
["Pumpestation (inkl. evt. hydrofor)/trykforøger, Konstruktioner","m³/h ",{"$f":"+Genanskaffelsespriser!$E$175","v":50},1200,1200,1200,0,0,null,{"$f":"IF(E295=0,\"Variabel pris\",IFERROR((HLOOKUP(E295,'Variable priser'!$C$103:$F$105,2)+(E295-HLOOKUP(E295,'Variable priser'!$C$103:$F$105,1))*HLOOKUP(E295,'Variable priser'!$C$103:$F$105,3))*'Variable priser'!$I$102/E295*(1+Genanskaffelsespriser!$D$203),\"Fejl\"))","v":786.31156921874981},{"$f":"IF(F295=0,\"Variabel pris\",IFERROR((HLOOKUP(F295,'Variable priser'!$C$103:$F$105,2)+(F295-HLOOKUP(F295,'Variable priser'!$C$103:$F$105,1))*HLOOKUP(F295,'Variable priser'!$C$103:$F$105,3))*'Variable priser'!$I$102/F295*(1+Genanskaffelsespriser!$D$203),\"Fejl\"))","v":786.31156921874981},{"$f":"IF(ISBLANK(E295),\"\",IF(E295=0,\"\",IF(ISNUMBER(E295),((J295*E295)/$C295)*N295,\"\")))","v":18871.477661249995},{"$f":"IF(ISBLANK(F295),\"\",IF(F295=0,\"\",IF(ISNUMBER(F295),((K295*F295)/$C295)*O295,\"\")))","v":18871.477661249995},1,1]
["Pumpestation (inkl. evt. hydrofor)/trykforøger, Mek./EL","m³/h ",{"$f":"+Genanskaffelsespriser!$E$176","v":25},1200,1200,1200,0,0,null,{"$f":"IF(E296=0,\"Variabel pris\",IFERROR((HLOOKUP(E296,'Variable priser'!$C$103:$F$105,2)+(E296-HLOOKUP(E296,'Variable priser'!$C$103:$F$105,1))*HLOOKUP(E296,'Variable priser'!$C$103:$F$105,3))*'Variable priser'!$J$102/E296*(1+Genanskaffelsespriser!$D$203),\"Fejl\"))","v":2044.4100799687496},{"$f":"IF(F296=0,\"Variabel pris\",IFERROR((HLOOKUP(F296,'Variable priser'!$C$103:$F$105,2)+(F296-HLOOKUP(F296,'Variable priser'!$C$103:$F$105,1))*HLOOKUP(F296,'Variable priser'!$C$103:$F$105,3))*'Variable priser'!$J$102/F296*(1+Genanskaffelsespriser!$D$203),\"Fejl\"))","v":2044.4100799687496},{"$f":"IF(ISBLANK(E296),\"\",IF(E296=0,\"\",IF(ISNUMBER(E296),((J296*E296)/$C296)*N295,\"\")))","v":98131.683838499986},{"$f":"IF(ISBLANK(F296),\"\",IF(F296=0,\"\",IF(ISNUMBER(F296),((K296*F296)/$C296)*O295,\"\")))","v":98131.683838499986},1,1]
["Pumpestation (inkl. evt. hydrofor)/trykforøger, SRO","m³/h ",{"$f":"+Genanskaffelsespriser!$E$177","v":10},1200,1200,1200,0,0,null,{"$f":"IF(E297=0,\"Variabel pris\",IFERROR((HLOOKUP(E297,'Variable priser'!$C$103:$F$105,2)+(E297-HLOOKUP(E297,'Variable priser'!$C$103:$F$105,1))*HLOOKUP(E297,'Variable priser'!$C$103:$F$105,3))*'Variable priser'!$L$102/E297*(1+Genanskaffelsespriser!$D$203),\"Fejl\"))","v":314.52462768749996},{"$f":"IF(F297=0,\"Variabel pris\",IFERROR((HLOOKUP(F297,'Variable priser'!$C$103:$F$105,2)+(F297-HLOOKUP(F297,'Variable priser'!$C$103:$F$105,1))*HLOOKUP(F297,'Variable priser'!$C$103:$F$105,3))*'Variable priser'!$L$102/F297*(1+Genanskaffelsespriser!$D$203),\"Fejl\"))","v":314.52462768749996},{"$f":"IF(ISBLANK(E297),\"\",IF(E297=0,\"\",IF(ISNUMBER(E297),((J297*E297)/$C297)*N295,\"\")))","v":37742.955322499991},{"$f":"IF(ISBLANK(F297),\"\",IF(F297=0,\"Samlet mængde kan ikke være nul i 2025\",IF(ISNUMBER(F297),((K297*F297)/$C297)*O295,\"\")))","v":37742.955322499991},1,1]
["Beholderanlæg - højdebeholder","m³",{"$f":"+Genanskaffelsespriser!$E$178","v":50},null,null,null,"","",null,{"$f":"IF(E298=0,\"Variabel pris\",IFERROR((HLOOKUP(E298,'Variable priser'!$C$48:$H$50,2)+(E298-HLOOKUP(E298,'Variable priser'!$C$48:$H$50,1))*HLOOKUP(E298,'Variable priser'!$C$48:$H$50,3))/E298*(1+Genanskaffelsespriser!$D$203),\"Fejl\"))","v":"Variabel pris"},{"$f":"IF(F298=0,\"Variabel pris\",IFERROR((HLOOKUP(F298,'Variable priser'!$C$48:$H$50,2)+(F298-HLOOKUP(F298,'Variable priser'!$C$48:$H$50,1))*HLOOKUP(F298,'Variable priser'!$C$48:$H$50,3))/F298*(1+Genanskaffelsespriser!$D$203),\"Fejl\"))","v":"Variabel pris"},{"$f":"IF(ISBLANK(E298),\"\",IF(E298=0,\"\",IF(ISNUMBER(E298),((J298*E298)/$C298)*N295,\"\")))","v":""},{"$f":"IF(ISBLANK(F298),\"\",IF(F298=0,\"\",IF(ISNUMBER(F298),((K298*F298)/$C298)*O295,\"\")))","v":""},1,1]
["Beholderanlæg - vandtårn","m³",{"$f":"+Genanskaffelsespriser!$E$179","v":50},null,null,null,"","",null,{"$f":"IF(E299=0,\"Variabel pris\",IFERROR((HLOOKUP(E299,'Variable priser'!$C$55:$H$57,2)+(E299-HLOOKUP(E299,'Variable priser'!$C$55:$H$57,1))*HLOOKUP(E299,'Variable priser'!$C$55:$H$57,3))/E299*(1+Genanskaffelsespriser!$D$203),\"Fejl\"))","v":"Variabel pris"},{"$f":"IF(F299=0,\"Variabel pris\",IFERROR((HLOOKUP(F299,'Variable priser'!$C$55:$H$57,2)+(F299-HLOOKUP(F299,'Variable priser'!$C$55:$H$57,1))*HLOOKUP(F299,'Variable priser'!$C$55:$H$57,3))/F299*(1+Genanskaffelsespriser!$D$203),\"Fejl\"))","v":"Variabel pris"},{"$f":"IF(ISBLANK(E299),\"\",IF(E299=0,\"\",IF(ISNUMBER(E299),((J299*E299)/$C299)*N295,\"\")))","v":""},{"$f":"IF(ISBLANK(F299),\"\",IF(F299=0,\"\",IF(ISNUMBER(F299),((K299*F299)/$C299)*O295,\"\")))","v":""},1,1]
["Pumpestationer, bygværker og bassiner 35"]
["Pumpestation (inkl. evt. hydrofor)/trykforøger, Konstruktioner","m³/h ",{"$f":"+Genanskaffelsespriser!$E$175","v":50},null,null,null,"","",null,{"$f":"IF(E301=0,\"Variabel pris\",IFERROR((HLOOKUP(E301,'Variable priser'!$C$103:$F$105,2)+(E301-HLOOKUP(E301,'Variable priser'!$C$103:$F$105,1))*HLOOKUP(E301,'Variable priser'!$C$103:$F$105,3))*'Variable priser'!$I$102/E301*(1+Genanskaffelsespriser!$D$203),\"Fejl\"))","v":"Variabel pris"},{"$f":"IF(F301=0,\"Variabel pris\",IFERROR((HLOOKUP(F301,'Variable priser'!$C$103:$F$105,2)+(F301-HLOOKUP(F301,'Variable priser'!$C$103:$F$105,1))*HLOOKUP(F301,'Variable priser'!$C$103:$F$105,3))*'Variable priser'!$I$102/F301*(1+Genanskaffelsespriser!$D$203),\"Fejl\"))","v":"Variabel pris"},{"$f":"IF(ISBLANK(E301),\"\",IF(E301=0,\"\",IF(ISNUMBER(E301),((J301*E301)/$C301)*N301,\"\")))","v":""},{"$f":"IF(ISBLANK(F301),\"\",IF(F301=0,\"\",IF(ISNUMBER(F301),((K301*F301)/$C301)*O301,\"\")))","v":""},1,1]
["Pumpestation (inkl. evt. hydrofor)/trykforøger, Mek./EL","m³/h ",{"$f":"+Genanskaffelsespriser!$E$176","v":25},null,null,null,"","",null,{"$f":"IF(E302=0,\"Variabel pris\",IFERROR((HLOOKUP(E302,'Variable priser'!$C$103:$F$105,2)+(E302-HLOOKUP(E302,'Variable priser'!$C$103:$F$105,1))*HLOOKUP(E302,'Variable priser'!$C$103:$F$105,3))*'Variable priser'!$J$102/E302*(1+Genanskaffelsespriser!$D$203),\"Fejl\"))","v":"Variabel pris"},{"$f":"IF(F302=0,\"Variabel pris\",IFERROR((HLOOKUP(F302,'Variable priser'!$C$103:$F$105,2)+(F302-HLOOKUP(F302,'Variable priser'!$C$103:$F$105,1))*HLOOKUP(F302,'Variable priser'!$C$103:$F$105,3))*'Variable priser'!$J$102/F302*(1+Genanskaffelsespriser!$D$203),\"Fejl\"))","v":"Variabel pris"},{"$f":"IF(ISBLANK(E302),\"\",IF(E302=0,\"\",IF(ISNUMBER(E302),((J302*E302)/$C302)*N301,\"\")))","v":""},{"$f":"IF(ISBLANK(F302),\"\",IF(F302=0,\"\",IF(ISNUMBER(F302),((K302*F302)/$C302)*O301,\"\")))","v":""},1,1]
["Pumpestation (inkl. evt. hydrofor)/trykforøger, SRO","m³/h ",{"$f":"+Genanskaffelsespriser!$E$177","v":10},null,null,null,"","",null,{"$f":"IF(E303=0,\"Variabel pris\",IFERROR((HLOOKUP(E303,'Variable priser'!$C$103:$F$105,2)+(E303-HLOOKUP(E303,'Variable priser'!$C$103:$F$105,1))*HLOOKUP(E303,'Variable priser'!$C$103:$F$105,3))*'Variable priser'!$L$102/E303*(1+Genanskaffelsespriser!$D$203),\"Fejl\"))","v":"Variabel pris"},{"$f":"IF(F303=0,\"Variabel pris\",IFERROR((HLOOKUP(F303,'Variable priser'!$C$103:$F$105,2)+(F303-HLOOKUP(F303,'Variable priser'!$C$103:$F$105,1))*HLOOKUP(F303,'Variable priser'!$C$103:$F$105,3))*'Variable priser'!$L$102/F303*(1+Genanskaffelsespriser!$D$203),\"Fejl\"))","v":"Variabel pris"},{"$f":"IF(ISBLANK(E303),\"\",IF(E303=0,\"\",IF(ISNUMBER(E303),((J303*E303)/$C303)*N301,\"\")))","v":""},{"$f":"IF(ISBLANK(F303),\"\",IF(F303=0,\"Samlet mængde kan ikke være nul i 2025\",IF(ISNUMBER(F303),((K303*F303)/$C303)*O301,\"\")))","v":""},1,1]
["Beholderanlæg - højdebeholder","m³",{"$f":"+Genanskaffelsespriser!$E$178","v":50},20000,20000,20000,0,0,null,{"$f":"IF(E304=0,\"Variabel pris\",IFERROR((HLOOKUP(E304,'Variable priser'!$C$48:$H$50,2)+(E304-HLOOKUP(E304,'Variable priser'!$C$48:$H$50,1))*HLOOKUP(E304,'Variable priser'!$C$48:$H$50,3))/E304*(1+Genanskaffelsespriser!$D$203),\"Fejl\"))","v":1835.2771204920002},{"$f":"IF(F304=0,\"Variabel pris\",IFERROR((HLOOKUP(F304,'Variable priser'!$C$48:$H$50,2)+(F304-HLOOKUP(F304,'Variable priser'!$C$48:$H$50,1))*HLOOKUP(F304,'Variable priser'!$C$48:$H$50,3))/F304*(1+Genanskaffelsespriser!$D$203),\"Fejl\"))","v":1835.2771204920002},{"$f":"IF(ISBLANK(E304),\"\",IF(E304=0,\"\",IF(ISNUMBER(E304),((J304*E304)/$C304)*N301,\"\")))","v":734110.8481968001},{"$f":"IF(ISBLANK(F304),\"\",IF(F304=0,\"\",IF(ISNUMBER(F304),((K304*F304)/$C304)*O301,\"\")))","v":734110.8481968001},1,1]
["Beholderanlæg - vandtårn","m³",{"$f":"+Genanskaffelsespriser!$E$179","v":50},null,null,null,"","",null,{"$f":"IF(E305=0,\"Variabel pris\",IFERROR((HLOOKUP(E305,'Variable priser'!$C$55:$H$57,2)+(E305-HLOOKUP(E305,'Variable priser'!$C$55:$H$57,1))*HLOOKUP(E305,'Variable priser'!$C$55:$H$57,3))/E305*(1+Genanskaffelsespriser!$D$203),\"Fejl\"))","v":"Variabel pris"},{"$f":"IF(F305=0,\"Variabel pris\",IFERROR((HLOOKUP(F305,'Variable priser'!$C$55:$H$57,2)+(F305-HLOOKUP(F305,'Variable priser'!$C$55:$H$57,1))*HLOOKUP(F305,'Variable priser'!$C$55:$H$57,3))/F305*(1+Genanskaffelsespriser!$D$203),\"Fejl\"))","v":"Variabel pris"},{"$f":"IF(ISBLANK(E305),\"\",IF(E305=0,\"\",IF(ISNUMBER(E305),((J305*E305)/$C305)*N301,\"\")))","v":""},{"$f":"IF(ISBLANK(F305),\"\",IF(F305=0,\"\",IF(ISNUMBER(F305),((K305*F305)/$C305)*O301,\"\")))","v":""},1,1]
["Pumpestationer, bygværker og bassiner 36"]
["Pumpestation (inkl. evt. hydrofor)/trykforøger, Konstruktioner","m³/h ",{"$f":"+Genanskaffelsespriser!$E$175","v":50},null,null,null,"","",null,{"$f":"IF(E307=0,\"Variabel pris\",IFERROR((HLOOKUP(E307,'Variable priser'!$C$103:$F$105,2)+(E307-HLOOKUP(E307,'Variable priser'!$C$103:$F$105,1))*HLOOKUP(E307,'Variable priser'!$C$103:$F$105,3))*'Variable priser'!$I$102/E307*(1+Genanskaffelsespriser!$D$203),\"Fejl\"))","v":"Variabel pris"},{"$f":"IF(F307=0,\"Variabel pris\",IFERROR((HLOOKUP(F307,'Variable priser'!$C$103:$F$105,2)+(F307-HLOOKUP(F307,'Variable priser'!$C$103:$F$105,1))*HLOOKUP(F307,'Variable priser'!$C$103:$F$105,3))*'Variable priser'!$I$102/F307*(1+Genanskaffelsespriser!$D$203),\"Fejl\"))","v":"Variabel pris"},{"$f":"IF(ISBLANK(E307),\"\",IF(E307=0,\"\",IF(ISNUMBER(E307),((J307*E307)/$C307)*N307,\"\")))","v":""},{"$f":"IF(ISBLANK(F307),\"\",IF(F307=0,\"\",IF(ISNUMBER(F307),((K307*F307)/$C307)*O307,\"\")))","v":""},1,1]
["Pumpestation (inkl. evt. hydrofor)/trykforøger, Mek./EL","m³/h ",{"$f":"+Genanskaffelsespriser!$E$176","v":25},null,null,null,"","",null,{"$f":"IF(E308=0,\"Variabel pris\",IFERROR((HLOOKUP(E308,'Variable priser'!$C$103:$F$105,2)+(E308-HLOOKUP(E308,'Variable priser'!$C$103:$F$105,1))*HLOOKUP(E308,'Variable priser'!$C$103:$F$105,3))*'Variable priser'!$J$102/E308*(1+Genanskaffelsespriser!$D$203),\"Fejl\"))","v":"Variabel pris"},{"$f":"IF(F308=0,\"Variabel pris\",IFERROR((HLOOKUP(F308,'Variable priser'!$C$103:$F$105,2)+(F308-HLOOKUP(F308,'Variable priser'!$C$103:$F$105,1))*HLOOKUP(F308,'Variable priser'!$C$103:$F$105,3))*'Variable priser'!$J$102/F308*(1+Genanskaffelsespriser!$D$203),\"Fejl\"))","v":"Variabel pris"},{"$f":"IF(ISBLANK(E308),\"\",IF(E308=0,\"\",IF(ISNUMBER(E308),((J308*E308)/$C308)*N307,\"\")))","v":""},{"$f":"IF(ISBLANK(F308),\"\",IF(F308=0,\"\",IF(ISNUMBER(F308),((K308*F308)/$C308)*O307,\"\")))","v":""},1,1]
["Pumpestation (inkl. evt. hydrofor)/trykforøger, SRO","m³/h ",{"$f":"+Genanskaffelsespriser!$E$177","v":10},null,null,null,"","",null,{"$f":"IF(E309=0,\"Variabel pris\",IFERROR((HLOOKUP(E309,'Variable priser'!$C$103:$F$105,2)+(E309-HLOOKUP(E309,'Variable priser'!$C$103:$F$105,1))*HLOOKUP(E309,'Variable priser'!$C$103:$F$105,3))*'Variable priser'!$L$102/E309*(1+Genanskaffelsespriser!$D$203),\"Fejl\"))","v":"Variabel pris"},{"$f":"IF(F309=0,\"Variabel pris\",IFERROR((HLOOKUP(F309,'Variable priser'!$C$103:$F$105,2)+(F309-HLOOKUP(F309,'Variable priser'!$C$103:$F$105,1))*HLOOKUP(F309,'Variable priser'!$C$103:$F$105,3))*'Variable priser'!$L$102/F309*(1+Genanskaffelsespriser!$D$203),\"Fejl\"))","v":"Variabel pris"},{"$f":"IF(ISBLANK(E309),\"\",IF(E309=0,\"\",IF(ISNUMBER(E309),((J309*E309)/$C309)*N307,\"\")))","v":""},{"$f":"IF(ISBLANK(F309),\"\",IF(F309=0,\"Samlet mængde kan ikke være nul i 2025\",IF(ISNUMBER(F309),((K309*F309)/$C309)*O307,\"\")))","v":""},1,1]
["Beholderanlæg - højdebeholder","m³",{"$f":"+Genanskaffelsespriser!$E$178","v":50},20000,20000,20000,0,0,null,{"$f":"IF(E310=0,\"Variabel pris\",IFERROR((HLOOKUP(E310,'Variable priser'!$C$48:$H$50,2)+(E310-HLOOKUP(E310,'Variable priser'!$C$48:$H$50,1))*HLOOKUP(E310,'Variable priser'!$C$48:$H$50,3))/E310*(1+Genanskaffelsespriser!$D$203),\"Fejl\"))","v":1835.2771204920002},{"$f":"IF(F310=0,\"Variabel pris\",IFERROR((HLOOKUP(F310,'Variable priser'!$C$48:$H$50,2)+(F310-HLOOKUP(F310,'Variable priser'!$C$48:$H$50,1))*HLOOKUP(F310,'Variable priser'!$C$48:$H$50,3))/F310*(1+Genanskaffelsespriser!$D$203),\"Fejl\"))","v":1835.2771204920002},{"$f":"IF(ISBLANK(E310),\"\",IF(E310=0,\"\",IF(ISNUMBER(E310),((J310*E310)/$C310)*N307,\"\")))","v":734110.8481968001},{"$f":"IF(ISBLANK(F310),\"\",IF(F310=0,\"\",IF(ISNUMBER(F310),((K310*F310)/$C310)*O307,\"\")))","v":734110.8481968001},1,1]
["Beholderanlæg - vandtårn","m³",{"$f":"+Genanskaffelsespriser!$E$179","v":50},null,null,null,"","",null,{"$f":"IF(E311=0,\"Variabel pris\",IFERROR((HLOOKUP(E311,'Variable priser'!$C$55:$H$57,2)+(E311-HLOOKUP(E311,'Variable priser'!$C$55:$H$57,1))*HLOOKUP(E311,'Variable priser'!$C$55:$H$57,3))/E311*(1+Genanskaffelsespriser!$D$203),\"Fejl\"))","v":"Variabel pris"},{"$f":"IF(F311=0,\"Variabel pris\",IFERROR((HLOOKUP(F311,'Variable priser'!$C$55:$H$57,2)+(F311-HLOOKUP(F311,'Variable priser'!$C$55:$H$57,1))*HLOOKUP(F311,'Variable priser'!$C$55:$H$57,3))/F311*(1+Genanskaffelsespriser!$D$203),\"Fejl\"))","v":"Variabel pris"},{"$f":"IF(ISBLANK(E311),\"\",IF(E311=0,\"\",IF(ISNUMBER(E311),((J311*E311)/$C311)*N307,\"\")))","v":""},{"$f":"IF(ISBLANK(F311),\"\",IF(F311=0,\"\",IF(ISNUMBER(F311),((K311*F311)/$C311)*O307,\"\")))","v":""},1,1]
["Pumpestationer, bygværker og bassiner 37"]
["Pumpestation (inkl. evt. hydrofor)/trykforøger, Konstruktioner","m³/h ",{"$f":"+Genanskaffelsespriser!$E$175","v":50},null,null,null,"","",null,{"$f":"IF(E313=0,\"Variabel pris\",IFERROR((HLOOKUP(E313,'Variable priser'!$C$103:$F$105,2)+(E313-HLOOKUP(E313,'Variable priser'!$C$103:$F$105,1))*HLOOKUP(E313,'Variable priser'!$C$103:$F$105,3))*'Variable priser'!$I$102/E313*(1+Genanskaffelsespriser!$D$203),\"Fejl\"))","v":"Variabel pris"},{"$f":"IF(F313=0,\"Variabel pris\",IFERROR((HLOOKUP(F313,'Variable priser'!$C$103:$F$105,2)+(F313-HLOOKUP(F313,'Variable priser'!$C$103:$F$105,1))*HLOOKUP(F313,'Variable priser'!$C$103:$F$105,3))*'Variable priser'!$I$102/F313*(1+Genanskaffelsespriser!$D$203),\"Fejl\"))","v":"Variabel pris"},{"$f":"IF(ISBLANK(E313),\"\",IF(E313=0,\"\",IF(ISNUMBER(E313),((J313*E313)/$C313)*N313,\"\")))","v":""},{"$f":"IF(ISBLANK(F313),\"\",IF(F313=0,\"\",IF(ISNUMBER(F313),((K313*F313)/$C313)*O313,\"\")))","v":""},1,1]
["Pumpestation (inkl. evt. hydrofor)/trykforøger, Mek./EL","m³/h ",{"$f":"+Genanskaffelsespriser!$E$176","v":25},null,null,null,"","",null,{"$f":"IF(E314=0,\"Variabel pris\",IFERROR((HLOOKUP(E314,'Variable priser'!$C$103:$F$105,2)+(E314-HLOOKUP(E314,'Variable priser'!$C$103:$F$105,1))*HLOOKUP(E314,'Variable priser'!$C$103:$F$105,3))*'Variable priser'!$J$102/E314*(1+Genanskaffelsespriser!$D$203),\"Fejl\"))","v":"Variabel pris"},{"$f":"IF(F314=0,\"Variabel pris\",IFERROR((HLOOKUP(F314,'Variable priser'!$C$103:$F$105,2)+(F314-HLOOKUP(F314,'Variable priser'!$C$103:$F$105,1))*HLOOKUP(F314,'Variable priser'!$C$103:$F$105,3))*'Variable priser'!$J$102/F314*(1+Genanskaffelsespriser!$D$203),\"Fejl\"))","v":"Variabel pris"},{"$f":"IF(ISBLANK(E314),\"\",IF(E314=0,\"\",IF(ISNUMBER(E314),((J314*E314)/$C314)*N313,\"\")))","v":""},{"$f":"IF(ISBLANK(F314),\"\",IF(F314=0,\"\",IF(ISNUMBER(F314),((K314*F314)/$C314)*O313,\"\")))","v":""},1,1]
["Pumpestation (inkl. evt. hydrofor)/trykforøger, SRO","m³/h ",{"$f":"+Genanskaffelsespriser!$E$177","v":10},null,null,null,"","",null,{"$f":"IF(E315=0,\"Variabel pris\",IFERROR((HLOOKUP(E315,'Variable priser'!$C$103:$F$105,2)+(E315-HLOOKUP(E315,'Variable priser'!$C$103:$F$105,1))*HLOOKUP(E315,'Variable priser'!$C$103:$F$105,3))*'Variable priser'!$L$102/E315*(1+Genanskaffelsespriser!$D$203),\"Fejl\"))","v":"Variabel pris"},{"$f":"IF(F315=0,\"Variabel pris\",IFERROR((HLOOKUP(F315,'Variable priser'!$C$103:$F$105,2)+(F315-HLOOKUP(F315,'Variable priser'!$C$103:$F$105,1))*HLOOKUP(F315,'Variable priser'!$C$103:$F$105,3))*'Variable priser'!$L$102/F315*(1+Genanskaffelsespriser!$D$203),\"Fejl\"))","v":"Variabel pris"},{"$f":"IF(ISBLANK(E315),\"\",IF(E315=0,\"\",IF(ISNUMBER(E315),((J315*E315)/$C315)*N313,\"\")))","v":""},{"$f":"IF(ISBLANK(F315),\"\",IF(F315=0,\"Samlet mængde kan ikke være nul i 2025\",IF(ISNUMBER(F315),((K315*F315)/$C315)*O313,\"\")))","v":""},1,1]
["Beholderanlæg - højdebeholder","m³",{"$f":"+Genanskaffelsespriser!$E$178","v":50},20000,20000,20000,0,0,null,{"$f":"IF(E316=0,\"Variabel pris\",IFERROR((HLOOKUP(E316,'Variable priser'!$C$48:$H$50,2)+(E316-HLOOKUP(E316,'Variable priser'!$C$48:$H$50,1))*HLOOKUP(E316,'Variable priser'!$C$48:$H$50,3))/E316*(1+Genanskaffelsespriser!$D$203),\"Fejl\"))","v":1835.2771204920002},{"$f":"IF(F316=0,\"Variabel pris\",IFERROR((HLOOKUP(F316,'Variable priser'!$C$48:$H$50,2)+(F316-HLOOKUP(F316,'Variable priser'!$C$48:$H$50,1))*HLOOKUP(F316,'Variable priser'!$C$48:$H$50,3))/F316*(1+Genanskaffelsespriser!$D$203),\"Fejl\"))","v":1835.2771204920002},{"$f":"IF(ISBLANK(E316),\"\",IF(E316=0,\"\",IF(ISNUMBER(E316),((J316*E316)/$C316)*N313,\"\")))","v":734110.8481968001},{"$f":"IF(ISBLANK(F316),\"\",IF(F316=0,\"\",IF(ISNUMBER(F316),((K316*F316)/$C316)*O313,\"\")))","v":734110.8481968001},1,1]
["Beholderanlæg - vandtårn","m³",{"$f":"+Genanskaffelsespriser!$E$179","v":50},null,null,null,"","",null,{"$f":"IF(E317=0,\"Variabel pris\",IFERROR((HLOOKUP(E317,'Variable priser'!$C$55:$H$57,2)+(E317-HLOOKUP(E317,'Variable priser'!$C$55:$H$57,1))*HLOOKUP(E317,'Variable priser'!$C$55:$H$57,3))/E317*(1+Genanskaffelsespriser!$D$203),\"Fejl\"))","v":"Variabel pris"},{"$f":"IF(F317=0,\"Variabel pris\",IFERROR((HLOOKUP(F317,'Variable priser'!$C$55:$H$57,2)+(F317-HLOOKUP(F317,'Variable priser'!$C$55:$H$57,1))*HLOOKUP(F317,'Variable priser'!$C$55:$H$57,3))/F317*(1+Genanskaffelsespriser!$D$203),\"Fejl\"))","v":"Variabel pris"},{"$f":"IF(ISBLANK(E317),\"\",IF(E317=0,\"\",IF(ISNUMBER(E317),((J317*E317)/$C317)*N313,\"\")))","v":""},{"$f":"IF(ISBLANK(F317),\"\",IF(F317=0,\"\",IF(ISNUMBER(F317),((K317*F317)/$C317)*O313,\"\")))","v":""},1,1]
["Pumpestationer, bygværker og bassiner 38"]
["Pumpestation (inkl. evt. hydrofor)/trykforøger, Konstruktioner","m³/h ",{"$f":"+Genanskaffelsespriser!$E$175","v":50},null,null,null,"","",null,{"$f":"IF(E319=0,\"Variabel pris\",IFERROR((HLOOKUP(E319,'Variable priser'!$C$103:$F$105,2)+(E319-HLOOKUP(E319,'Variable priser'!$C$103:$F$105,1))*HLOOKUP(E319,'Variable priser'!$C$103:$F$105,3))*'Variable priser'!$I$102/E319*(1+Genanskaffelsespriser!$D$203),\"Fejl\"))","v":"Variabel pris"},{"$f":"IF(F319=0,\"Variabel pris\",IFERROR((HLOOKUP(F319,'Variable priser'!$C$103:$F$105,2)+(F319-HLOOKUP(F319,'Variable priser'!$C$103:$F$105,1))*HLOOKUP(F319,'Variable priser'!$C$103:$F$105,3))*'Variable priser'!$I$102/F319*(1+Genanskaffelsespriser!$D$203),\"Fejl\"))","v":"Variabel pris"},{"$f":"IF(ISBLANK(E319),\"\",IF(E319=0,\"\",IF(ISNUMBER(E319),((J319*E319)/$C319)*N319,\"\")))","v":""},{"$f":"IF(ISBLANK(F319),\"\",IF(F319=0,\"\",IF(ISNUMBER(F319),((K319*F319)/$C319)*O319,\"\")))","v":""},1,1]
["Pumpestation (inkl. evt. hydrofor)/trykforøger, Mek./EL","m³/h ",{"$f":"+Genanskaffelsespriser!$E$176","v":25},null,null,null,"","",null,{"$f":"IF(E320=0,\"Variabel pris\",IFERROR((HLOOKUP(E320,'Variable priser'!$C$103:$F$105,2)+(E320-HLOOKUP(E320,'Variable priser'!$C$103:$F$105,1))*HLOOKUP(E320,'Variable priser'!$C$103:$F$105,3))*'Variable priser'!$J$102/E320*(1+Genanskaffelsespriser!$D$203),\"Fejl\"))","v":"Variabel pris"},{"$f":"IF(F320=0,\"Variabel pris\",IFERROR((HLOOKUP(F320,'Variable priser'!$C$103:$F$105,2)+(F320-HLOOKUP(F320,'Variable priser'!$C$103:$F$105,1))*HLOOKUP(F320,'Variable priser'!$C$103:$F$105,3))*'Variable priser'!$J$102/F320*(1+Genanskaffelsespriser!$D$203),\"Fejl\"))","v":"Variabel pris"},{"$f":"IF(ISBLANK(E320),\"\",IF(E320=0,\"\",IF(ISNUMBER(E320),((J320*E320)/$C320)*N319,\"\")))","v":""},{"$f":"IF(ISBLANK(F320),\"\",IF(F320=0,\"\",IF(ISNUMBER(F320),((K320*F320)/$C320)*O319,\"\")))","v":""},1,1]
["Pumpestation (inkl. evt. hydrofor)/trykforøger, SRO","m³/h ",{"$f":"+Genanskaffelsespriser!$E$177","v":10},null,null,null,"","",null,{"$f":"IF(E321=0,\"Variabel pris\",IFERROR((HLOOKUP(E321,'Variable priser'!$C$103:$F$105,2)+(E321-HLOOKUP(E321,'Variable priser'!$C$103:$F$105,1))*HLOOKUP(E321,'Variable priser'!$C$103:$F$105,3))*'Variable priser'!$L$102/E321*(1+Genanskaffelsespriser!$D$203),\"Fejl\"))","v":"Variabel pris"},{"$f":"IF(F321=0,\"Variabel pris\",IFERROR((HLOOKUP(F321,'Variable priser'!$C$103:$F$105,2)+(F321-HLOOKUP(F321,'Variable priser'!$C$103:$F$105,1))*HLOOKUP(F321,'Variable priser'!$C$103:$F$105,3))*'Variable priser'!$L$102/F321*(1+Genanskaffelsespriser!$D$203),\"Fejl\"))","v":"Variabel pris"},{"$f":"IF(ISBLANK(E321),\"\",IF(E321=0,\"\",IF(ISNUMBER(E321),((J321*E321)/$C321)*N319,\"\")))","v":""},{"$f":"IF(ISBLANK(F321),\"\",IF(F321=0,\"Samlet mængde kan ikke være nul i 2025\",IF(ISNUMBER(F321),((K321*F321)/$C321)*O319,\"\")))","v":""},1,1]
["Beholderanlæg - højdebeholder","m³",{"$f":"+Genanskaffelsespriser!$E$178","v":50},20000,20000,20000,0,0,null,{"$f":"IF(E322=0,\"Variabel pris\",IFERROR((HLOOKUP(E322,'Variable priser'!$C$48:$H$50,2)+(E322-HLOOKUP(E322,'Variable priser'!$C$48:$H$50,1))*HLOOKUP(E322,'Variable priser'!$C$48:$H$50,3))/E322*(1+Genanskaffelsespriser!$D$203),\"Fejl\"))","v":1835.2771204920002},{"$f":"IF(F322=0,\"Variabel pris\",IFERROR((HLOOKUP(F322,'Variable priser'!$C$48:$H$50,2)+(F322-HLOOKUP(F322,'Variable priser'!$C$48:$H$50,1))*HLOOKUP(F322,'Variable priser'!$C$48:$H$50,3))/F322*(1+Genanskaffelsespriser!$D$203),\"Fejl\"))","v":1835.2771204920002},{"$f":"IF(ISBLANK(E322),\"\",IF(E322=0,\"\",IF(ISNUMBER(E322),((J322*E322)/$C322)*N319,\"\")))","v":734110.8481968001},{"$f":"IF(ISBLANK(F322),\"\",IF(F322=0,\"\",IF(ISNUMBER(F322),((K322*F322)/$C322)*O319,\"\")))","v":734110.8481968001},1,1]
["Beholderanlæg - vandtårn","m³",{"$f":"+Genanskaffelsespriser!$E$179","v":50},null,null,null,"","",null,{"$f":"IF(E323=0,\"Variabel pris\",IFERROR((HLOOKUP(E323,'Variable priser'!$C$55:$H$57,2)+(E323-HLOOKUP(E323,'Variable priser'!$C$55:$H$57,1))*HLOOKUP(E323,'Variable priser'!$C$55:$H$57,3))/E323*(1+Genanskaffelsespriser!$D$203),\"Fejl\"))","v":"Variabel pris"},{"$f":"IF(F323=0,\"Variabel pris\",IFERROR((HLOOKUP(F323,'Variable priser'!$C$55:$H$57,2)+(F323-HLOOKUP(F323,'Variable priser'!$C$55:$H$57,1))*HLOOKUP(F323,'Variable priser'!$C$55:$H$57,3))/F323*(1+Genanskaffelsespriser!$D$203),\"Fejl\"))","v":"Variabel pris"},{"$f":"IF(ISBLANK(E323),\"\",IF(E323=0,\"\",IF(ISNUMBER(E323),((J323*E323)/$C323)*N319,\"\")))","v":""},{"$f":"IF(ISBLANK(F323),\"\",IF(F323=0,\"\",IF(ISNUMBER(F323),((K323*F323)/$C323)*O319,\"\")))","v":""},1,1]
["Pumpestationer, bygværker og bassiner 39"]
["Pumpestation (inkl. evt. hydrofor)/trykforøger, Konstruktioner","m³/h ",{"$f":"+Genanskaffelsespriser!$E$175","v":50},null,null,null,"","",null,{"$f":"IF(E325=0,\"Variabel pris\",IFERROR((HLOOKUP(E325,'Variable priser'!$C$103:$F$105,2)+(E325-HLOOKUP(E325,'Variable priser'!$C$103:$F$105,1))*HLOOKUP(E325,'Variable priser'!$C$103:$F$105,3))*'Variable priser'!$I$102/E325*(1+Genanskaffelsespriser!$D$203),\"Fejl\"))","v":"Variabel pris"},{"$f":"IF(F325=0,\"Variabel pris\",IFERROR((HLOOKUP(F325,'Variable priser'!$C$103:$F$105,2)+(F325-HLOOKUP(F325,'Variable priser'!$C$103:$F$105,1))*HLOOKUP(F325,'Variable priser'!$C$103:$F$105,3))*'Variable priser'!$I$102/F325*(1+Genanskaffelsespriser!$D$203),\"Fejl\"))","v":"Variabel pris"},{"$f":"IF(ISBLANK(E325),\"\",IF(E325=0,\"\",IF(ISNUMBER(E325),((J325*E325)/$C325)*N325,\"\")))","v":""},{"$f":"IF(ISBLANK(F325),\"\",IF(F325=0,\"\",IF(ISNUMBER(F325),((K325*F325)/$C325)*O325,\"\")))","v":""},1,1]
["Pumpestation (inkl. evt. hydrofor)/trykforøger, Mek./EL","m³/h ",{"$f":"+Genanskaffelsespriser!$E$176","v":25},null,null,null,"","",null,{"$f":"IF(E326=0,\"Variabel pris\",IFERROR((HLOOKUP(E326,'Variable priser'!$C$103:$F$105,2)+(E326-HLOOKUP(E326,'Variable priser'!$C$103:$F$105,1))*HLOOKUP(E326,'Variable priser'!$C$103:$F$105,3))*'Variable priser'!$J$102/E326*(1+Genanskaffelsespriser!$D$203),\"Fejl\"))","v":"Variabel pris"},{"$f":"IF(F326=0,\"Variabel pris\",IFERROR((HLOOKUP(F326,'Variable priser'!$C$103:$F$105,2)+(F326-HLOOKUP(F326,'Variable priser'!$C$103:$F$105,1))*HLOOKUP(F326,'Variable priser'!$C$103:$F$105,3))*'Variable priser'!$J$102/F326*(1+Genanskaffelsespriser!$D$203),\"Fejl\"))","v":"Variabel pris"},{"$f":"IF(ISBLANK(E326),\"\",IF(E326=0,\"\",IF(ISNUMBER(E326),((J326*E326)/$C326)*N325,\"\")))","v":""},{"$f":"IF(ISBLANK(F326),\"\",IF(F326=0,\"\",IF(ISNUMBER(F326),((K326*F326)/$C326)*O325,\"\")))","v":""},1,1]
["Pumpestation (inkl. evt. hydrofor)/trykforøger, SRO","m³/h ",{"$f":"+Genanskaffelsespriser!$E$177","v":10},null,null,null,"","",null,{"$f":"IF(E327=0,\"Variabel pris\",IFERROR((HLOOKUP(E327,'Variable priser'!$C$103:$F$105,2)+(E327-HLOOKUP(E327,'Variable priser'!$C$103:$F$105,1))*HLOOKUP(E327,'Variable priser'!$C$103:$F$105,3))*'Variable priser'!$L$102/E327*(1+Genanskaffelsespriser!$D$203),\"Fejl\"))","v":"Variabel pris"},{"$f":"IF(F327=0,\"Variabel pris\",IFERROR((HLOOKUP(F327,'Variable priser'!$C$103:$F$105,2)+(F327-HLOOKUP(F327,'Variable priser'!$C$103:$F$105,1))*HLOOKUP(F327,'Variable priser'!$C$103:$F$105,3))*'Variable priser'!$L$102/F327*(1+Genanskaffelsespriser!$D$203),\"Fejl\"))","v":"Variabel pris"},{"$f":"IF(ISBLANK(E327),\"\",IF(E327=0,\"\",IF(ISNUMBER(E327),((J327*E327)/$C327)*N325,\"\")))","v":""},{"$f":"IF(ISBLANK(F327),\"\",IF(F327=0,\"Samlet mængde kan ikke være nul i 2025\",IF(ISNUMBER(F327),((K327*F327)/$C327)*O325,\"\")))","v":""},1,1]
["Beholderanlæg - højdebeholder","m³",{"$f":"+Genanskaffelsespriser!$E$178","v":50},20000,20000,20000,0,0,null,{"$f":"IF(E328=0,\"Variabel pris\",IFERROR((HLOOKUP(E328,'Variable priser'!$C$48:$H$50,2)+(E328-HLOOKUP(E328,'Variable priser'!$C$48:$H$50,1))*HLOOKUP(E328,'Variable priser'!$C$48:$H$50,3))/E328*(1+Genanskaffelsespriser!$D$203),\"Fejl\"))","v":1835.2771204920002},{"$f":"IF(F328=0,\"Variabel pris\",IFERROR((HLOOKUP(F328,'Variable priser'!$C$48:$H$50,2)+(F328-HLOOKUP(F328,'Variable priser'!$C$48:$H$50,1))*HLOOKUP(F328,'Variable priser'!$C$48:$H$50,3))/F328*(1+Genanskaffelsespriser!$D$203),\"Fejl\"))","v":1835.2771204920002},{"$f":"IF(ISBLANK(E328),\"\",IF(E328=0,\"\",IF(ISNUMBER(E328),((J328*E328)/$C328)*N325,\"\")))","v":734110.8481968001},{"$f":"IF(ISBLANK(F328),\"\",IF(F328=0,\"\",IF(ISNUMBER(F328),((K328*F328)/$C328)*O325,\"\")))","v":734110.8481968001},1,1]
["Beholderanlæg - vandtårn","m³",{"$f":"+Genanskaffelsespriser!$E$179","v":50},null,null,null,"","",null,{"$f":"IF(E329=0,\"Variabel pris\",IFERROR((HLOOKUP(E329,'Variable priser'!$C$55:$H$57,2)+(E329-HLOOKUP(E329,'Variable priser'!$C$55:$H$57,1))*HLOOKUP(E329,'Variable priser'!$C$55:$H$57,3))/E329*(1+Genanskaffelsespriser!$D$203),\"Fejl\"))","v":"Variabel pris"},{"$f":"IF(F329=0,\"Variabel pris\",IFERROR((HLOOKUP(F329,'Variable priser'!$C$55:$H$57,2)+(F329-HLOOKUP(F329,'Variable priser'!$C$55:$H$57,1))*HLOOKUP(F329,'Variable priser'!$C$55:$H$57,3))/F329*(1+Genanskaffelsespriser!$D$203),\"Fejl\"))","v":"Variabel pris"},{"$f":"IF(ISBLANK(E329),\"\",IF(E329=0,\"\",IF(ISNUMBER(E329),((J329*E329)/$C329)*N325,\"\")))","v":""},{"$f":"IF(ISBLANK(F329),\"\",IF(F329=0,\"\",IF(ISNUMBER(F329),((K329*F329)/$C329)*O325,\"\")))","v":""},1,1]
["Pumpestationer, bygværker og bassiner 40"]
["Pumpestation (inkl. evt. hydrofor)/trykforøger, Konstruktioner","m³/h ",{"$f":"+Genanskaffelsespriser!$E$175","v":50},null,null,null,"","",null,{"$f":"IF(E331=0,\"Variabel pris\",IFERROR((HLOOKUP(E331,'Variable priser'!$C$103:$F$105,2)+(E331-HLOOKUP(E331,'Variable priser'!$C$103:$F$105,1))*HLOOKUP(E331,'Variable priser'!$C$103:$F$105,3))*'Variable priser'!$I$102/E331*(1+Genanskaffelsespriser!$D$203),\"Fejl\"))","v":"Variabel pris"},{"$f":"IF(F331=0,\"Variabel pris\",IFERROR((HLOOKUP(F331,'Variable priser'!$C$103:$F$105,2)+(F331-HLOOKUP(F331,'Variable priser'!$C$103:$F$105,1))*HLOOKUP(F331,'Variable priser'!$C$103:$F$105,3))*'Variable priser'!$I$102/F331*(1+Genanskaffelsespriser!$D$203),\"Fejl\"))","v":"Variabel pris"},{"$f":"IF(ISBLANK(E331),\"\",IF(E331=0,\"\",IF(ISNUMBER(E331),((J331*E331)/$C331)*N331,\"\")))","v":""},{"$f":"IF(ISBLANK(F331),\"\",IF(F331=0,\"\",IF(ISNUMBER(F331),((K331*F331)/$C331)*O331,\"\")))","v":""},1,1]
["Pumpestation (inkl. evt. hydrofor)/trykforøger, Mek./EL","m³/h ",{"$f":"+Genanskaffelsespriser!$E$176","v":25},null,null,null,"","",null,{"$f":"IF(E332=0,\"Variabel pris\",IFERROR((HLOOKUP(E332,'Variable priser'!$C$103:$F$105,2)+(E332-HLOOKUP(E332,'Variable priser'!$C$103:$F$105,1))*HLOOKUP(E332,'Variable priser'!$C$103:$F$105,3))*'Variable priser'!$J$102/E332*(1+Genanskaffelsespriser!$D$203),\"Fejl\"))","v":"Variabel pris"},{"$f":"IF(F332=0,\"Variabel pris\",IFERROR((HLOOKUP(F332,'Variable priser'!$C$103:$F$105,2)+(F332-HLOOKUP(F332,'Variable priser'!$C$103:$F$105,1))*HLOOKUP(F332,'Variable priser'!$C$103:$F$105,3))*'Variable priser'!$J$102/F332*(1+Genanskaffelsespriser!$D$203),\"Fejl\"))","v":"Variabel pris"},{"$f":"IF(ISBLANK(E332),\"\",IF(E332=0,\"\",IF(ISNUMBER(E332),((J332*E332)/$C332)*N331,\"\")))","v":""},{"$f":"IF(ISBLANK(F332),\"\",IF(F332=0,\"\",IF(ISNUMBER(F332),((K332*F332)/$C332)*O331,\"\")))","v":""},1,1]
["Pumpestation (inkl. evt. hydrofor)/trykforøger, SRO","m³/h ",{"$f":"+Genanskaffelsespriser!$E$177","v":10},null,null,null,"","",null,{"$f":"IF(E333=0,\"Variabel pris\",IFERROR((HLOOKUP(E333,'Variable priser'!$C$103:$F$105,2)+(E333-HLOOKUP(E333,'Variable priser'!$C$103:$F$105,1))*HLOOKUP(E333,'Variable priser'!$C$103:$F$105,3))*'Variable priser'!$L$102/E333*(1+Genanskaffelsespriser!$D$203),\"Fejl\"))","v":"Variabel pris"},{"$f":"IF(F333=0,\"Variabel pris\",IFERROR((HLOOKUP(F333,'Variable priser'!$C$103:$F$105,2)+(F333-HLOOKUP(F333,'Variable priser'!$C$103:$F$105,1))*HLOOKUP(F333,'Variable priser'!$C$103:$F$105,3))*'Variable priser'!$L$102/F333*(1+Genanskaffelsespriser!$D$203),\"Fejl\"))","v":"Variabel pris"},{"$f":"IF(ISBLANK(E333),\"\",IF(E333=0,\"\",IF(ISNUMBER(E333),((J333*E333)/$C333)*N331,\"\")))","v":""},{"$f":"IF(ISBLANK(F333),\"\",IF(F333=0,\"Samlet mængde kan ikke være nul i 2025\",IF(ISNUMBER(F333),((K333*F333)/$C333)*O331,\"\")))","v":""},1,1]
["Beholderanlæg - højdebeholder","m³",{"$f":"+Genanskaffelsespriser!$E$178","v":50},20000,20000,20000,0,0,null,{"$f":"IF(E334=0,\"Variabel pris\",IFERROR((HLOOKUP(E334,'Variable priser'!$C$48:$H$50,2)+(E334-HLOOKUP(E334,'Variable priser'!$C$48:$H$50,1))*HLOOKUP(E334,'Variable priser'!$C$48:$H$50,3))/E334*(1+Genanskaffelsespriser!$D$203),\"Fejl\"))","v":1835.2771204920002},{"$f":"IF(F334=0,\"Variabel pris\",IFERROR((HLOOKUP(F334,'Variable priser'!$C$48:$H$50,2)+(F334-HLOOKUP(F334,'Variable priser'!$C$48:$H$50,1))*HLOOKUP(F334,'Variable priser'!$C$48:$H$50,3))/F334*(1+Genanskaffelsespriser!$D$203),\"Fejl\"))","v":1835.2771204920002},{"$f":"IF(ISBLANK(E334),\"\",IF(E334=0,\"\",IF(ISNUMBER(E334),((J334*E334)/$C334)*N331,\"\")))","v":734110.8481968001},{"$f":"IF(ISBLANK(F334),\"\",IF(F334=0,\"\",IF(ISNUMBER(F334),((K334*F334)/$C334)*O331,\"\")))","v":734110.8481968001},1,1]
["Beholderanlæg - vandtårn","m³",{"$f":"+Genanskaffelsespriser!$E$179","v":50},null,null,null,"","",null,{"$f":"IF(E335=0,\"Variabel pris\",IFERROR((HLOOKUP(E335,'Variable priser'!$C$55:$H$57,2)+(E335-HLOOKUP(E335,'Variable priser'!$C$55:$H$57,1))*HLOOKUP(E335,'Variable priser'!$C$55:$H$57,3))/E335*(1+Genanskaffelsespriser!$D$203),\"Fejl\"))","v":"Variabel pris"},{"$f":"IF(F335=0,\"Variabel pris\",IFERROR((HLOOKUP(F335,'Variable priser'!$C$55:$H$57,2)+(F335-HLOOKUP(F335,'Variable priser'!$C$55:$H$57,1))*HLOOKUP(F335,'Variable priser'!$C$55:$H$57,3))/F335*(1+Genanskaffelsespriser!$D$203),\"Fejl\"))","v":"Variabel pris"},{"$f":"IF(ISBLANK(E335),\"\",IF(E335=0,\"\",IF(ISNUMBER(E335),((J335*E335)/$C335)*N331,\"\")))","v":""},{"$f":"IF(ISBLANK(F335),\"\",IF(F335=0,\"\",IF(ISNUMBER(F335),((K335*F335)/$C335)*O331,\"\")))","v":""},1,1]
["Pumpestationer, bygværker og bassiner 41"]
["Pumpestation (inkl. evt. hydrofor)/trykforøger, Konstruktioner","m³/h ",{"$f":"+Genanskaffelsespriser!$E$175","v":50},null,null,null,"","",null,{"$f":"IF(E337=0,\"Variabel pris\",IFERROR((HLOOKUP(E337,'Variable priser'!$C$103:$F$105,2)+(E337-HLOOKUP(E337,'Variable priser'!$C$103:$F$105,1))*HLOOKUP(E337,'Variable priser'!$C$103:$F$105,3))*'Variable priser'!$I$102/E337*(1+Genanskaffelsespriser!$D$203),\"Fejl\"))","v":"Variabel pris"},{"$f":"IF(F337=0,\"Variabel pris\",IFERROR((HLOOKUP(F337,'Variable priser'!$C$103:$F$105,2)+(F337-HLOOKUP(F337,'Variable priser'!$C$103:$F$105,1))*HLOOKUP(F337,'Variable priser'!$C$103:$F$105,3))*'Variable priser'!$I$102/F337*(1+Genanskaffelsespriser!$D$203),\"Fejl\"))","v":"Variabel pris"},{"$f":"IF(ISBLANK(E337),\"\",IF(E337=0,\"\",IF(ISNUMBER(E337),((J337*E337)/$C337)*N337,\"\")))","v":""},{"$f":"IF(ISBLANK(F337),\"\",IF(F337=0,\"\",IF(ISNUMBER(F337),((K337*F337)/$C337)*O337,\"\")))","v":""},1,1]
["Pumpestation (inkl. evt. hydrofor)/trykforøger, Mek./EL","m³/h ",{"$f":"+Genanskaffelsespriser!$E$176","v":25},null,null,null,"","",null,{"$f":"IF(E338=0,\"Variabel pris\",IFERROR((HLOOKUP(E338,'Variable priser'!$C$103:$F$105,2)+(E338-HLOOKUP(E338,'Variable priser'!$C$103:$F$105,1))*HLOOKUP(E338,'Variable priser'!$C$103:$F$105,3))*'Variable priser'!$J$102/E338*(1+Genanskaffelsespriser!$D$203),\"Fejl\"))","v":"Variabel pris"},{"$f":"IF(F338=0,\"Variabel pris\",IFERROR((HLOOKUP(F338,'Variable priser'!$C$103:$F$105,2)+(F338-HLOOKUP(F338,'Variable priser'!$C$103:$F$105,1))*HLOOKUP(F338,'Variable priser'!$C$103:$F$105,3))*'Variable priser'!$J$102/F338*(1+Genanskaffelsespriser!$D$203),\"Fejl\"))","v":"Variabel pris"},{"$f":"IF(ISBLANK(E338),\"\",IF(E338=0,\"\",IF(ISNUMBER(E338),((J338*E338)/$C338)*N337,\"\")))","v":""},{"$f":"IF(ISBLANK(F338),\"\",IF(F338=0,\"\",IF(ISNUMBER(F338),((K338*F338)/$C338)*O337,\"\")))","v":""},1,1]
["Pumpestation (inkl. evt. hydrofor)/trykforøger, SRO","m³/h ",{"$f":"+Genanskaffelsespriser!$E$177","v":10},null,null,null,"","",null,{"$f":"IF(E339=0,\"Variabel pris\",IFERROR((HLOOKUP(E339,'Variable priser'!$C$103:$F$105,2)+(E339-HLOOKUP(E339,'Variable priser'!$C$103:$F$105,1))*HLOOKUP(E339,'Variable priser'!$C$103:$F$105,3))*'Variable priser'!$L$102/E339*(1+Genanskaffelsespriser!$D$203),\"Fejl\"))","v":"Variabel pris"},{"$f":"IF(F339=0,\"Variabel pris\",IFERROR((HLOOKUP(F339,'Variable priser'!$C$103:$F$105,2)+(F339-HLOOKUP(F339,'Variable priser'!$C$103:$F$105,1))*HLOOKUP(F339,'Variable priser'!$C$103:$F$105,3))*'Variable priser'!$L$102/F339*(1+Genanskaffelsespriser!$D$203),\"Fejl\"))","v":"Variabel pris"},{"$f":"IF(ISBLANK(E339),\"\",IF(E339=0,\"\",IF(ISNUMBER(E339),((J339*E339)/$C339)*N337,\"\")))","v":""},{"$f":"IF(ISBLANK(F339),\"\",IF(F339=0,\"Samlet mængde kan ikke være nul i 2025\",IF(ISNUMBER(F339),((K339*F339)/$C339)*O337,\"\")))","v":""},1,1]
["Beholderanlæg - højdebeholder","m³",{"$f":"+Genanskaffelsespriser!$E$178","v":50},27000,0,0,-1,0,"Tinghøj 7 ude af produktion",{"$f":"IF(E340=0,\"Variabel pris\",IFERROR((HLOOKUP(E340,'Variable priser'!$C$48:$H$50,2)+(E340-HLOOKUP(E340,'Variable priser'!$C$48:$H$50,1))*HLOOKUP(E340,'Variable priser'!$C$48:$H$50,3))/E340*(1+Genanskaffelsespriser!$D$203),\"Fejl\"))","v":"Variabel pris"},{"$f":"IF(F340=0,\"Variabel pris\",IFERROR((HLOOKUP(F340,'Variable priser'!$C$48:$H$50,2)+(F340-HLOOKUP(F340,'Variable priser'!$C$48:$H$50,1))*HLOOKUP(F340,'Variable priser'!$C$48:$H$50,3))/F340*(1+Genanskaffelsespriser!$D$203),\"Fejl\"))","v":"Variabel pris"},{"$f":"IF(ISBLANK(E340),\"\",IF(E340=0,\"\",IF(ISNUMBER(E340),((J340*E340)/$C340)*N337,\"\")))","v":""},{"$f":"IF(ISBLANK(F340),\"\",IF(F340=0,\"\",IF(ISNUMBER(F340),((K340*F340)/$C340)*O337,\"\")))","v":""},1,1]
["Beholderanlæg - vandtårn","m³",{"$f":"+Genanskaffelsespriser!$E$179","v":50},null,null,null,"","",null,{"$f":"IF(E341=0,\"Variabel pris\",IFERROR((HLOOKUP(E341,'Variable priser'!$C$55:$H$57,2)+(E341-HLOOKUP(E341,'Variable priser'!$C$55:$H$57,1))*HLOOKUP(E341,'Variable priser'!$C$55:$H$57,3))/E341*(1+Genanskaffelsespriser!$D$203),\"Fejl\"))","v":"Variabel pris"},{"$f":"IF(F341=0,\"Variabel pris\",IFERROR((HLOOKUP(F341,'Variable priser'!$C$55:$H$57,2)+(F341-HLOOKUP(F341,'Variable priser'!$C$55:$H$57,1))*HLOOKUP(F341,'Variable priser'!$C$55:$H$57,3))/F341*(1+Genanskaffelsespriser!$D$203),\"Fejl\"))","v":"Variabel pris"},{"$f":"IF(ISBLANK(E341),\"\",IF(E341=0,\"\",IF(ISNUMBER(E341),((J341*E341)/$C341)*N337,\"\")))","v":""},{"$f":"IF(ISBLANK(F341),\"\",IF(F341=0,\"\",IF(ISNUMBER(F341),((K341*F341)/$C341)*O337,\"\")))","v":""},1,1]
["Pumpestationer, bygværker og bassiner 42"]
["Pumpestation (inkl. evt. hydrofor)/trykforøger, Konstruktioner","m³/h ",{"$f":"+Genanskaffelsespriser!$E$175","v":50},null,null,null,"","",null,{"$f":"IF(E343=0,\"Variabel pris\",IFERROR((HLOOKUP(E343,'Variable priser'!$C$103:$F$105,2)+(E343-HLOOKUP(E343,'Variable priser'!$C$103:$F$105,1))*HLOOKUP(E343,'Variable priser'!$C$103:$F$105,3))*'Variable priser'!$I$102/E343*(1+Genanskaffelsespriser!$D$203),\"Fejl\"))","v":"Variabel pris"},{"$f":"IF(F343=0,\"Variabel pris\",IFERROR((HLOOKUP(F343,'Variable priser'!$C$103:$F$105,2)+(F343-HLOOKUP(F343,'Variable priser'!$C$103:$F$105,1))*HLOOKUP(F343,'Variable priser'!$C$103:$F$105,3))*'Variable priser'!$I$102/F343*(1+Genanskaffelsespriser!$D$203),\"Fejl\"))","v":"Variabel pris"},{"$f":"IF(ISBLANK(E343),\"\",IF(E343=0,\"\",IF(ISNUMBER(E343),((J343*E343)/$C343)*N343,\"\")))","v":""},{"$f":"IF(ISBLANK(F343),\"\",IF(F343=0,\"\",IF(ISNUMBER(F343),((K343*F343)/$C343)*O343,\"\")))","v":""},1,1]
["Pumpestation (inkl. evt. hydrofor)/trykforøger, Mek./EL","m³/h ",{"$f":"+Genanskaffelsespriser!$E$176","v":25},null,null,null,"","",null,{"$f":"IF(E344=0,\"Variabel pris\",IFERROR((HLOOKUP(E344,'Variable priser'!$C$103:$F$105,2)+(E344-HLOOKUP(E344,'Variable priser'!$C$103:$F$105,1))*HLOOKUP(E344,'Variable priser'!$C$103:$F$105,3))*'Variable priser'!$J$102/E344*(1+Genanskaffelsespriser!$D$203),\"Fejl\"))","v":"Variabel pris"},{"$f":"IF(F344=0,\"Variabel pris\",IFERROR((HLOOKUP(F344,'Variable priser'!$C$103:$F$105,2)+(F344-HLOOKUP(F344,'Variable priser'!$C$103:$F$105,1))*HLOOKUP(F344,'Variable priser'!$C$103:$F$105,3))*'Variable priser'!$J$102/F344*(1+Genanskaffelsespriser!$D$203),\"Fejl\"))","v":"Variabel pris"},{"$f":"IF(ISBLANK(E344),\"\",IF(E344=0,\"\",IF(ISNUMBER(E344),((J344*E344)/$C344)*N343,\"\")))","v":""},{"$f":"IF(ISBLANK(F344),\"\",IF(F344=0,\"\",IF(ISNUMBER(F344),((K344*F344)/$C344)*O343,\"\")))","v":""},1,1]
["Pumpestation (inkl. evt. hydrofor)/trykforøger, SRO","m³/h ",{"$f":"+Genanskaffelsespriser!$E$177","v":10},null,null,null,"","",null,{"$f":"IF(E345=0,\"Variabel pris\",IFERROR((HLOOKUP(E345,'Variable priser'!$C$103:$F$105,2)+(E345-HLOOKUP(E345,'Variable priser'!$C$103:$F$105,1))*HLOOKUP(E345,'Variable priser'!$C$103:$F$105,3))*'Variable priser'!$L$102/E345*(1+Genanskaffelsespriser!$D$203),\"Fejl\"))","v":"Variabel pris"},{"$f":"IF(F345=0,\"Variabel pris\",IFERROR((HLOOKUP(F345,'Variable priser'!$C$103:$F$105,2)+(F345-HLOOKUP(F345,'Variable priser'!$C$103:$F$105,1))*HLOOKUP(F345,'Variable priser'!$C$103:$F$105,3))*'Variable priser'!$L$102/F345*(1+Genanskaffelsespriser!$D$203),\"Fejl\"))","v":"Variabel pris"},{"$f":"IF(ISBLANK(E345),\"\",IF(E345=0,\"\",IF(ISNUMBER(E345),((J345*E345)/$C345)*N343,\"\")))","v":""},{"$f":"IF(ISBLANK(F345),\"\",IF(F345=0,\"Samlet mængde kan ikke være nul i 2025\",IF(ISNUMBER(F345),((K345*F345)/$C345)*O343,\"\")))","v":""},1,1]
["Beholderanlæg - højdebeholder","m³",{"$f":"+Genanskaffelsespriser!$E$178","v":50},27000,27000,27000,0,0,null,{"$f":"IF(E346=0,\"Variabel pris\",IFERROR((HLOOKUP(E346,'Variable priser'!$C$48:$H$50,2)+(E346-HLOOKUP(E346,'Variable priser'!$C$48:$H$50,1))*HLOOKUP(E346,'Variable priser'!$C$48:$H$50,3))/E346*(1+Genanskaffelsespriser!$D$203),\"Fejl\"))","v":1800.6329364622227},{"$f":"IF(F346=0,\"Variabel pris\",IFERROR((HLOOKUP(F346,'Variable priser'!$C$48:$H$50,2)+(F346-HLOOKUP(F346,'Variable priser'!$C$48:$H$50,1))*HLOOKUP(F346,'Variable priser'!$C$48:$H$50,3))/F346*(1+Genanskaffelsespriser!$D$203),\"Fejl\"))","v":1800.6329364622227},{"$f":"IF(ISBLANK(E346),\"\",IF(E346=0,\"\",IF(ISNUMBER(E346),((J346*E346)/$C346)*N343,\"\")))","v":972341.78568960028},{"$f":"IF(ISBLANK(F346),\"\",IF(F346=0,\"\",IF(ISNUMBER(F346),((K346*F346)/$C346)*O343,\"\")))","v":972341.78568960028},1,1]
["Beholderanlæg - vandtårn","m³",{"$f":"+Genanskaffelsespriser!$E$179","v":50},null,null,null,"","",null,{"$f":"IF(E347=0,\"Variabel pris\",IFERROR((HLOOKUP(E347,'Variable priser'!$C$55:$H$57,2)+(E347-HLOOKUP(E347,'Variable priser'!$C$55:$H$57,1))*HLOOKUP(E347,'Variable priser'!$C$55:$H$57,3))/E347*(1+Genanskaffelsespriser!$D$203),\"Fejl\"))","v":"Variabel pris"},{"$f":"IF(F347=0,\"Variabel pris\",IFERROR((HLOOKUP(F347,'Variable priser'!$C$55:$H$57,2)+(F347-HLOOKUP(F347,'Variable priser'!$C$55:$H$57,1))*HLOOKUP(F347,'Variable priser'!$C$55:$H$57,3))/F347*(1+Genanskaffelsespriser!$D$203),\"Fejl\"))","v":"Variabel pris"},{"$f":"IF(ISBLANK(E347),\"\",IF(E347=0,\"\",IF(ISNUMBER(E347),((J347*E347)/$C347)*N343,\"\")))","v":""},{"$f":"IF(ISBLANK(F347),\"\",IF(F347=0,\"\",IF(ISNUMBER(F347),((K347*F347)/$C347)*O343,\"\")))","v":""},1,1]
["Pumpestationer, bygværker og bassiner 43"]
["Pumpestation (inkl. evt. hydrofor)/trykforøger, Konstruktioner","m³/h ",{"$f":"+Genanskaffelsespriser!$E$175","v":50},null,null,null,"","",null,{"$f":"IF(E349=0,\"Variabel pris\",IFERROR((HLOOKUP(E349,'Variable priser'!$C$103:$F$105,2)+(E349-HLOOKUP(E349,'Variable priser'!$C$103:$F$105,1))*HLOOKUP(E349,'Variable priser'!$C$103:$F$105,3))*'Variable priser'!$I$102/E349*(1+Genanskaffelsespriser!$D$203),\"Fejl\"))","v":"Variabel pris"},{"$f":"IF(F349=0,\"Variabel pris\",IFERROR((HLOOKUP(F349,'Variable priser'!$C$103:$F$105,2)+(F349-HLOOKUP(F349,'Variable priser'!$C$103:$F$105,1))*HLOOKUP(F349,'Variable priser'!$C$103:$F$105,3))*'Variable priser'!$I$102/F349*(1+Genanskaffelsespriser!$D$203),\"Fejl\"))","v":"Variabel pris"},{"$f":"IF(ISBLANK(E349),\"\",IF(E349=0,\"\",IF(ISNUMBER(E349),((J349*E349)/$C349)*N349,\"\")))","v":""},{"$f":"IF(ISBLANK(F349),\"\",IF(F349=0,\"\",IF(ISNUMBER(F349),((K349*F349)/$C349)*O349,\"\")))","v":""},1,1]
["Pumpestation (inkl. evt. hydrofor)/trykforøger, Mek./EL","m³/h ",{"$f":"+Genanskaffelsespriser!$E$176","v":25},null,null,null,"","",null,{"$f":"IF(E350=0,\"Variabel pris\",IFERROR((HLOOKUP(E350,'Variable priser'!$C$103:$F$105,2)+(E350-HLOOKUP(E350,'Variable priser'!$C$103:$F$105,1))*HLOOKUP(E350,'Variable priser'!$C$103:$F$105,3))*'Variable priser'!$J$102/E350*(1+Genanskaffelsespriser!$D$203),\"Fejl\"))","v":"Variabel pris"},{"$f":"IF(F350=0,\"Variabel pris\",IFERROR((HLOOKUP(F350,'Variable priser'!$C$103:$F$105,2)+(F350-HLOOKUP(F350,'Variable priser'!$C$103:$F$105,1))*HLOOKUP(F350,'Variable priser'!$C$103:$F$105,3))*'Variable priser'!$J$102/F350*(1+Genanskaffelsespriser!$D$203),\"Fejl\"))","v":"Variabel pris"},{"$f":"IF(ISBLANK(E350),\"\",IF(E350=0,\"\",IF(ISNUMBER(E350),((J350*E350)/$C350)*N349,\"\")))","v":""},{"$f":"IF(ISBLANK(F350),\"\",IF(F350=0,\"\",IF(ISNUMBER(F350),((K350*F350)/$C350)*O349,\"\")))","v":""},1,1]
["Pumpestation (inkl. evt. hydrofor)/trykforøger, SRO","m³/h ",{"$f":"+Genanskaffelsespriser!$E$177","v":10},null,null,null,"","",null,{"$f":"IF(E351=0,\"Variabel pris\",IFERROR((HLOOKUP(E351,'Variable priser'!$C$103:$F$105,2)+(E351-HLOOKUP(E351,'Variable priser'!$C$103:$F$105,1))*HLOOKUP(E351,'Variable priser'!$C$103:$F$105,3))*'Variable priser'!$L$102/E351*(1+Genanskaffelsespriser!$D$203),\"Fejl\"))","v":"Variabel pris"},{"$f":"IF(F351=0,\"Variabel pris\",IFERROR((HLOOKUP(F351,'Variable priser'!$C$103:$F$105,2)+(F351-HLOOKUP(F351,'Variable priser'!$C$103:$F$105,1))*HLOOKUP(F351,'Variable priser'!$C$103:$F$105,3))*'Variable priser'!$L$102/F351*(1+Genanskaffelsespriser!$D$203),\"Fejl\"))","v":"Variabel pris"},{"$f":"IF(ISBLANK(E351),\"\",IF(E351=0,\"\",IF(ISNUMBER(E351),((J351*E351)/$C351)*N349,\"\")))","v":""},{"$f":"IF(ISBLANK(F351),\"\",IF(F351=0,\"Samlet mængde kan ikke være nul i 2025\",IF(ISNUMBER(F351),((K351*F351)/$C351)*O349,\"\")))","v":""},1,1]
["Beholderanlæg - højdebeholder","m³",{"$f":"+Genanskaffelsespriser!$E$178","v":50},27000,27000,27000,0,0,null,{"$f":"IF(E352=0,\"Variabel pris\",IFERROR((HLOOKUP(E352,'Variable priser'!$C$48:$H$50,2)+(E352-HLOOKUP(E352,'Variable priser'!$C$48:$H$50,1))*HLOOKUP(E352,'Variable priser'!$C$48:$H$50,3))/E352*(1+Genanskaffelsespriser!$D$203),\"Fejl\"))","v":1800.6329364622227},{"$f":"IF(F352=0,\"Variabel pris\",IFERROR((HLOOKUP(F352,'Variable priser'!$C$48:$H$50,2)+(F352-HLOOKUP(F352,'Variable priser'!$C$48:$H$50,1))*HLOOKUP(F352,'Variable priser'!$C$48:$H$50,3))/F352*(1+Genanskaffelsespriser!$D$203),\"Fejl\"))","v":1800.6329364622227},{"$f":"IF(ISBLANK(E352),\"\",IF(E352=0,\"\",IF(ISNUMBER(E352),((J352*E352)/$C352)*N349,\"\")))","v":972341.78568960028},{"$f":"IF(ISBLANK(F352),\"\",IF(F352=0,\"\",IF(ISNUMBER(F352),((K352*F352)/$C352)*O349,\"\")))","v":972341.78568960028},1,1]
["Beholderanlæg - vandtårn","m³",{"$f":"+Genanskaffelsespriser!$E$179","v":50},null,null,null,"","",null,{"$f":"IF(E353=0,\"Variabel pris\",IFERROR((HLOOKUP(E353,'Variable priser'!$C$55:$H$57,2)+(E353-HLOOKUP(E353,'Variable priser'!$C$55:$H$57,1))*HLOOKUP(E353,'Variable priser'!$C$55:$H$57,3))/E353*(1+Genanskaffelsespriser!$D$203),\"Fejl\"))","v":"Variabel pris"},{"$f":"IF(F353=0,\"Variabel pris\",IFERROR((HLOOKUP(F353,'Variable priser'!$C$55:$H$57,2)+(F353-HLOOKUP(F353,'Variable priser'!$C$55:$H$57,1))*HLOOKUP(F353,'Variable priser'!$C$55:$H$57,3))/F353*(1+Genanskaffelsespriser!$D$203),\"Fejl\"))","v":"Variabel pris"},{"$f":"IF(ISBLANK(E353),\"\",IF(E353=0,\"\",IF(ISNUMBER(E353),((J353*E353)/$C353)*N349,\"\")))","v":""},{"$f":"IF(ISBLANK(F353),\"\",IF(F353=0,\"\",IF(ISNUMBER(F353),((K353*F353)/$C353)*O349,\"\")))","v":""},1,1]
["Pumpestationer, bygværker og bassiner 44"]
["Pumpestation (inkl. evt. hydrofor)/trykforøger, Konstruktioner","m³/h ",{"$f":"+Genanskaffelsespriser!$E$175","v":50},null,null,null,"","",null,{"$f":"IF(E355=0,\"Variabel pris\",IFERROR((HLOOKUP(E355,'Variable priser'!$C$103:$F$105,2)+(E355-HLOOKUP(E355,'Variable priser'!$C$103:$F$105,1))*HLOOKUP(E355,'Variable priser'!$C$103:$F$105,3))*'Variable priser'!$I$102/E355*(1+Genanskaffelsespriser!$D$203),\"Fejl\"))","v":"Variabel pris"},{"$f":"IF(F355=0,\"Variabel pris\",IFERROR((HLOOKUP(F355,'Variable priser'!$C$103:$F$105,2)+(F355-HLOOKUP(F355,'Variable priser'!$C$103:$F$105,1))*HLOOKUP(F355,'Variable priser'!$C$103:$F$105,3))*'Variable priser'!$I$102/F355*(1+Genanskaffelsespriser!$D$203),\"Fejl\"))","v":"Variabel pris"},{"$f":"IF(ISBLANK(E355),\"\",IF(E355=0,\"\",IF(ISNUMBER(E355),((J355*E355)/$C355)*N355,\"\")))","v":""},{"$f":"IF(ISBLANK(F355),\"\",IF(F355=0,\"\",IF(ISNUMBER(F355),((K355*F355)/$C355)*O355,\"\")))","v":""},1,1]
["Pumpestation (inkl. evt. hydrofor)/trykforøger, Mek./EL","m³/h ",{"$f":"+Genanskaffelsespriser!$E$176","v":25},null,null,null,"","",null,{"$f":"IF(E356=0,\"Variabel pris\",IFERROR((HLOOKUP(E356,'Variable priser'!$C$103:$F$105,2)+(E356-HLOOKUP(E356,'Variable priser'!$C$103:$F$105,1))*HLOOKUP(E356,'Variable priser'!$C$103:$F$105,3))*'Variable priser'!$J$102/E356*(1+Genanskaffelsespriser!$D$203),\"Fejl\"))","v":"Variabel pris"},{"$f":"IF(F356=0,\"Variabel pris\",IFERROR((HLOOKUP(F356,'Variable priser'!$C$103:$F$105,2)+(F356-HLOOKUP(F356,'Variable priser'!$C$103:$F$105,1))*HLOOKUP(F356,'Variable priser'!$C$103:$F$105,3))*'Variable priser'!$J$102/F356*(1+Genanskaffelsespriser!$D$203),\"Fejl\"))","v":"Variabel pris"},{"$f":"IF(ISBLANK(E356),\"\",IF(E356=0,\"\",IF(ISNUMBER(E356),((J356*E356)/$C356)*N355,\"\")))","v":""},{"$f":"IF(ISBLANK(F356),\"\",IF(F356=0,\"\",IF(ISNUMBER(F356),((K356*F356)/$C356)*O355,\"\")))","v":""},1,1]
["Pumpestation (inkl. evt. hydrofor)/trykforøger, SRO","m³/h ",{"$f":"+Genanskaffelsespriser!$E$177","v":10},null,null,null,"","",null,{"$f":"IF(E357=0,\"Variabel pris\",IFERROR((HLOOKUP(E357,'Variable priser'!$C$103:$F$105,2)+(E357-HLOOKUP(E357,'Variable priser'!$C$103:$F$105,1))*HLOOKUP(E357,'Variable priser'!$C$103:$F$105,3))*'Variable priser'!$L$102/E357*(1+Genanskaffelsespriser!$D$203),\"Fejl\"))","v":"Variabel pris"},{"$f":"IF(F357=0,\"Variabel pris\",IFERROR((HLOOKUP(F357,'Variable priser'!$C$103:$F$105,2)+(F357-HLOOKUP(F357,'Variable priser'!$C$103:$F$105,1))*HLOOKUP(F357,'Variable priser'!$C$103:$F$105,3))*'Variable priser'!$L$102/F357*(1+Genanskaffelsespriser!$D$203),\"Fejl\"))","v":"Variabel pris"},{"$f":"IF(ISBLANK(E357),\"\",IF(E357=0,\"\",IF(ISNUMBER(E357),((J357*E357)/$C357)*N355,\"\")))","v":""},{"$f":"IF(ISBLANK(F357),\"\",IF(F357=0,\"Samlet mængde kan ikke være nul i 2025\",IF(ISNUMBER(F357),((K357*F357)/$C357)*O355,\"\")))","v":""},1,1]
["Beholderanlæg - højdebeholder","m³",{"$f":"+Genanskaffelsespriser!$E$178","v":50},27000,0,0,-1,0,"Tinghøj 10 ude af produktion",{"$f":"IF(E358=0,\"Variabel pris\",IFERROR((HLOOKUP(E358,'Variable priser'!$C$48:$H$50,2)+(E358-HLOOKUP(E358,'Variable priser'!$C$48:$H$50,1))*HLOOKUP(E358,'Variable priser'!$C$48:$H$50,3))/E358*(1+Genanskaffelsespriser!$D$203),\"Fejl\"))","v":"Variabel pris"},{"$f":"IF(F358=0,\"Variabel pris\",IFERROR((HLOOKUP(F358,'Variable priser'!$C$48:$H$50,2)+(F358-HLOOKUP(F358,'Variable priser'!$C$48:$H$50,1))*HLOOKUP(F358,'Variable priser'!$C$48:$H$50,3))/F358*(1+Genanskaffelsespriser!$D$203),\"Fejl\"))","v":"Variabel pris"},{"$f":"IF(ISBLANK(E358),\"\",IF(E358=0,\"\",IF(ISNUMBER(E358),((J358*E358)/$C358)*N355,\"\")))","v":""},{"$f":"IF(ISBLANK(F358),\"\",IF(F358=0,\"\",IF(ISNUMBER(F358),((K358*F358)/$C358)*O355,\"\")))","v":""},1,1]
["Beholderanlæg - vandtårn","m³",{"$f":"+Genanskaffelsespriser!$E$179","v":50},null,null,null,"","",null,{"$f":"IF(E359=0,\"Variabel pris\",IFERROR((HLOOKUP(E359,'Variable priser'!$C$55:$H$57,2)+(E359-HLOOKUP(E359,'Variable priser'!$C$55:$H$57,1))*HLOOKUP(E359,'Variable priser'!$C$55:$H$57,3))/E359*(1+Genanskaffelsespriser!$D$203),\"Fejl\"))","v":"Variabel pris"},{"$f":"IF(F359=0,\"Variabel pris\",IFERROR((HLOOKUP(F359,'Variable priser'!$C$55:$H$57,2)+(F359-HLOOKUP(F359,'Variable priser'!$C$55:$H$57,1))*HLOOKUP(F359,'Variable priser'!$C$55:$H$57,3))/F359*(1+Genanskaffelsespriser!$D$203),\"Fejl\"))","v":"Variabel pris"},{"$f":"IF(ISBLANK(E359),\"\",IF(E359=0,\"\",IF(ISNUMBER(E359),((J359*E359)/$C359)*N355,\"\")))","v":""},{"$f":"IF(ISBLANK(F359),\"\",IF(F359=0,\"\",IF(ISNUMBER(F359),((K359*F359)/$C359)*O355,\"\")))","v":""},1,1]
["Pumpestationer, bygværker og bassiner 45"]
["Pumpestation (inkl. evt. hydrofor)/trykforøger, Konstruktioner","m³/h ",{"$f":"+Genanskaffelsespriser!$E$175","v":50},null,null,null,"","",null,{"$f":"IF(E361=0,\"Variabel pris\",IFERROR((HLOOKUP(E361,'Variable priser'!$C$103:$F$105,2)+(E361-HLOOKUP(E361,'Variable priser'!$C$103:$F$105,1))*HLOOKUP(E361,'Variable priser'!$C$103:$F$105,3))*'Variable priser'!$I$102/E361*(1+Genanskaffelsespriser!$D$203),\"Fejl\"))","v":"Variabel pris"},{"$f":"IF(F361=0,\"Variabel pris\",IFERROR((HLOOKUP(F361,'Variable priser'!$C$103:$F$105,2)+(F361-HLOOKUP(F361,'Variable priser'!$C$103:$F$105,1))*HLOOKUP(F361,'Variable priser'!$C$103:$F$105,3))*'Variable priser'!$I$102/F361*(1+Genanskaffelsespriser!$D$203),\"Fejl\"))","v":"Variabel pris"},{"$f":"IF(ISBLANK(E361),\"\",IF(E361=0,\"\",IF(ISNUMBER(E361),((J361*E361)/$C361)*N361,\"\")))","v":""},{"$f":"IF(ISBLANK(F361),\"\",IF(F361=0,\"\",IF(ISNUMBER(F361),((K361*F361)/$C361)*O361,\"\")))","v":""},1,1]
["Pumpestation (inkl. evt. hydrofor)/trykforøger, Mek./EL","m³/h ",{"$f":"+Genanskaffelsespriser!$E$176","v":25},null,null,null,"","",null,{"$f":"IF(E362=0,\"Variabel pris\",IFERROR((HLOOKUP(E362,'Variable priser'!$C$103:$F$105,2)+(E362-HLOOKUP(E362,'Variable priser'!$C$103:$F$105,1))*HLOOKUP(E362,'Variable priser'!$C$103:$F$105,3))*'Variable priser'!$J$102/E362*(1+Genanskaffelsespriser!$D$203),\"Fejl\"))","v":"Variabel pris"},{"$f":"IF(F362=0,\"Variabel pris\",IFERROR((HLOOKUP(F362,'Variable priser'!$C$103:$F$105,2)+(F362-HLOOKUP(F362,'Variable priser'!$C$103:$F$105,1))*HLOOKUP(F362,'Variable priser'!$C$103:$F$105,3))*'Variable priser'!$J$102/F362*(1+Genanskaffelsespriser!$D$203),\"Fejl\"))","v":"Variabel pris"},{"$f":"IF(ISBLANK(E362),\"\",IF(E362=0,\"\",IF(ISNUMBER(E362),((J362*E362)/$C362)*N361,\"\")))","v":""},{"$f":"IF(ISBLANK(F362),\"\",IF(F362=0,\"\",IF(ISNUMBER(F362),((K362*F362)/$C362)*O361,\"\")))","v":""},1,1]
["Pumpestation (inkl. evt. hydrofor)/trykforøger, SRO","m³/h ",{"$f":"+Genanskaffelsespriser!$E$177","v":10},null,null,null,"","",null,{"$f":"IF(E363=0,\"Variabel pris\",IFERROR((HLOOKUP(E363,'Variable priser'!$C$103:$F$105,2)+(E363-HLOOKUP(E363,'Variable priser'!$C$103:$F$105,1))*HLOOKUP(E363,'Variable priser'!$C$103:$F$105,3))*'Variable priser'!$L$102/E363*(1+Genanskaffelsespriser!$D$203),\"Fejl\"))","v":"Variabel pris"},{"$f":"IF(F363=0,\"Variabel pris\",IFERROR((HLOOKUP(F363,'Variable priser'!$C$103:$F$105,2)+(F363-HLOOKUP(F363,'Variable priser'!$C$103:$F$105,1))*HLOOKUP(F363,'Variable priser'!$C$103:$F$105,3))*'Variable priser'!$L$102/F363*(1+Genanskaffelsespriser!$D$203),\"Fejl\"))","v":"Variabel pris"},{"$f":"IF(ISBLANK(E363),\"\",IF(E363=0,\"\",IF(ISNUMBER(E363),((J363*E363)/$C363)*N361,\"\")))","v":""},{"$f":"IF(ISBLANK(F363),\"\",IF(F363=0,\"Samlet mængde kan ikke være nul i 2025\",IF(ISNUMBER(F363),((K363*F363)/$C363)*O361,\"\")))","v":""},1,1]
["Beholderanlæg - højdebeholder","m³",{"$f":"+Genanskaffelsespriser!$E$178","v":50},68000,68000,68000,0,0,null,{"$f":"IF(E364=0,\"Variabel pris\",IFERROR((HLOOKUP(E364,'Variable priser'!$C$48:$H$50,2)+(E364-HLOOKUP(E364,'Variable priser'!$C$48:$H$50,1))*HLOOKUP(E364,'Variable priser'!$C$48:$H$50,3))/E364*(1+Genanskaffelsespriser!$D$203),\"Fejl\"))","v":1740.9517791000003},{"$f":"IF(F364=0,\"Variabel pris\",IFERROR((HLOOKUP(F364,'Variable priser'!$C$48:$H$50,2)+(F364-HLOOKUP(F364,'Variable priser'!$C$48:$H$50,1))*HLOOKUP(F364,'Variable priser'!$C$48:$H$50,3))/F364*(1+Genanskaffelsespriser!$D$203),\"Fejl\"))","v":1740.9517791000003},{"$f":"IF(ISBLANK(E364),\"\",IF(E364=0,\"\",IF(ISNUMBER(E364),((J364*E364)/$C364)*N361,\"\")))","v":2367694.4195760004},{"$f":"IF(ISBLANK(F364),\"\",IF(F364=0,\"\",IF(ISNUMBER(F364),((K364*F364)/$C364)*O361,\"\")))","v":2367694.4195760004},1,1]
["Beholderanlæg - vandtårn","m³",{"$f":"+Genanskaffelsespriser!$E$179","v":50},null,null,null,"","",null,{"$f":"IF(E365=0,\"Variabel pris\",IFERROR((HLOOKUP(E365,'Variable priser'!$C$55:$H$57,2)+(E365-HLOOKUP(E365,'Variable priser'!$C$55:$H$57,1))*HLOOKUP(E365,'Variable priser'!$C$55:$H$57,3))/E365*(1+Genanskaffelsespriser!$D$203),\"Fejl\"))","v":"Variabel pris"},{"$f":"IF(F365=0,\"Variabel pris\",IFERROR((HLOOKUP(F365,'Variable priser'!$C$55:$H$57,2)+(F365-HLOOKUP(F365,'Variable priser'!$C$55:$H$57,1))*HLOOKUP(F365,'Variable priser'!$C$55:$H$57,3))/F365*(1+Genanskaffelsespriser!$D$203),\"Fejl\"))","v":"Variabel pris"},{"$f":"IF(ISBLANK(E365),\"\",IF(E365=0,\"\",IF(ISNUMBER(E365),((J365*E365)/$C365)*N361,\"\")))","v":""},{"$f":"IF(ISBLANK(F365),\"\",IF(F365=0,\"\",IF(ISNUMBER(F365),((K365*F365)/$C365)*O361,\"\")))","v":""},1,1]
["Pumpestationer, bygværker og bassiner 46"]
["Pumpestation (inkl. evt. hydrofor)/trykforøger, Konstruktioner","m³/h ",{"$f":"+Genanskaffelsespriser!$E$175","v":50},null,1800,1800,{"$f":"IF($D367=\"\",IF($E367>0,\"Ny data\",IF($E367=\"\",\"\",0)),IF($D367=0,IF($E367=0,0,\"Ny data\"),($E367-$D367)/$D367))","v":"Ny data"},{"$f":"IF($E367=\"\",IF($F367>0,\"Ny data\",IF($F367=\"\",\"\",0)),IF($E367=0,IF($F367=0,0,\"Ny data\"),($F367-$E367)/$E367))","v":0},"fejl ikke med tidligere",{"$f":"IF(E367=0,\"Variabel pris\",IFERROR((HLOOKUP(E367,'Variable priser'!$C$103:$F$105,2)+(E367-HLOOKUP(E367,'Variable priser'!$C$103:$F$105,1))*HLOOKUP(E367,'Variable priser'!$C$103:$F$105,3))*'Variable priser'!$I$102/E367*(1+Genanskaffelsespriser!$D$203),\"Fejl\"))","v":775.44818406249988},{"$f":"IF(F367=0,\"Variabel pris\",IFERROR((HLOOKUP(F367,'Variable priser'!$C$103:$F$105,2)+(F367-HLOOKUP(F367,'Variable priser'!$C$103:$F$105,1))*HLOOKUP(F367,'Variable priser'!$C$103:$F$105,3))*'Variable priser'!$I$102/F367*(1+Genanskaffelsespriser!$D$203),\"Fejl\"))","v":775.44818406249988},{"$f":"IF(ISBLANK(E367),\"\",IF(E367=0,\"\",IF(ISNUMBER(E367),((J367*E367)/$C367)*N367,\"\")))","v":27916.134626249997},{"$f":"IF(ISBLANK(F367),\"\",IF(F367=0,\"\",IF(ISNUMBER(F367),((K367*F367)/$C367)*O367,\"\")))","v":27916.134626249997},1,1]
["Pumpestation (inkl. evt. hydrofor)/trykforøger, Mek./EL","m³/h ",{"$f":"+Genanskaffelsespriser!$E$176","v":25},1800,1800,1800,0,0,null,{"$f":"IF(E368=0,\"Variabel pris\",IFERROR((HLOOKUP(E368,'Variable priser'!$C$103:$F$105,2)+(E368-HLOOKUP(E368,'Variable priser'!$C$103:$F$105,1))*HLOOKUP(E368,'Variable priser'!$C$103:$F$105,3))*'Variable priser'!$J$102/E368*(1+Genanskaffelsespriser!$D$203),\"Fejl\"))","v":2016.1652785624995},{"$f":"IF(F368=0,\"Variabel pris\",IFERROR((HLOOKUP(F368,'Variable priser'!$C$103:$F$105,2)+(F368-HLOOKUP(F368,'Variable priser'!$C$103:$F$105,1))*HLOOKUP(F368,'Variable priser'!$C$103:$F$105,3))*'Variable priser'!$J$102/F368*(1+Genanskaffelsespriser!$D$203),\"Fejl\"))","v":2016.1652785624995},{"$f":"IF(ISBLANK(E368),\"\",IF(E368=0,\"\",IF(ISNUMBER(E368),((J368*E368)/$C368)*N367,\"\")))","v":145163.90005649996},{"$f":"IF(ISBLANK(F368),\"\",IF(F368=0,\"\",IF(ISNUMBER(F368),((K368*F368)/$C368)*O367,\"\")))","v":145163.90005649996},1,1]
["Pumpestation (inkl. evt. hydrofor)/trykforøger, SRO","m³/h ",{"$f":"+Genanskaffelsespriser!$E$177","v":10},1800,1800,1800,0,0,null,{"$f":"IF(E369=0,\"Variabel pris\",IFERROR((HLOOKUP(E369,'Variable priser'!$C$103:$F$105,2)+(E369-HLOOKUP(E369,'Variable priser'!$C$103:$F$105,1))*HLOOKUP(E369,'Variable priser'!$C$103:$F$105,3))*'Variable priser'!$L$102/E369*(1+Genanskaffelsespriser!$D$203),\"Fejl\"))","v":310.17927362499995},{"$f":"IF(F369=0,\"Variabel pris\",IFERROR((HLOOKUP(F369,'Variable priser'!$C$103:$F$105,2)+(F369-HLOOKUP(F369,'Variable priser'!$C$103:$F$105,1))*HLOOKUP(F369,'Variable priser'!$C$103:$F$105,3))*'Variable priser'!$L$102/F369*(1+Genanskaffelsespriser!$D$203),\"Fejl\"))","v":310.17927362499995},{"$f":"IF(ISBLANK(E369),\"\",IF(E369=0,\"\",IF(ISNUMBER(E369),((J369*E369)/$C369)*N367,\"\")))","v":55832.269252499995},{"$f":"IF(ISBLANK(F369),\"\",IF(F369=0,\"Samlet mængde kan ikke være nul i 2025\",IF(ISNUMBER(F369),((K369*F369)/$C369)*O367,\"\")))","v":55832.269252499995},1,1]
["Beholderanlæg - højdebeholder","m³",{"$f":"+Genanskaffelsespriser!$E$178","v":50},null,null,null,"","",null,{"$f":"IF(E370=0,\"Variabel pris\",IFERROR((HLOOKUP(E370,'Variable priser'!$C$48:$H$50,2)+(E370-HLOOKUP(E370,'Variable priser'!$C$48:$H$50,1))*HLOOKUP(E370,'Variable priser'!$C$48:$H$50,3))/E370*(1+Genanskaffelsespriser!$D$203),\"Fejl\"))","v":"Variabel pris"},{"$f":"IF(F370=0,\"Variabel pris\",IFERROR((HLOOKUP(F370,'Variable priser'!$C$48:$H$50,2)+(F370-HLOOKUP(F370,'Variable priser'!$C$48:$H$50,1))*HLOOKUP(F370,'Variable priser'!$C$48:$H$50,3))/F370*(1+Genanskaffelsespriser!$D$203),\"Fejl\"))","v":"Variabel pris"},{"$f":"IF(ISBLANK(E370),\"\",IF(E370=0,\"\",IF(ISNUMBER(E370),((J370*E370)/$C370)*N367,\"\")))","v":""},{"$f":"IF(ISBLANK(F370),\"\",IF(F370=0,\"\",IF(ISNUMBER(F370),((K370*F370)/$C370)*O367,\"\")))","v":""},1,1]
["Beholderanlæg - vandtårn","m³",{"$f":"+Genanskaffelsespriser!$E$179","v":50},null,null,null,"","",null,{"$f":"IF(E371=0,\"Variabel pris\",IFERROR((HLOOKUP(E371,'Variable priser'!$C$55:$H$57,2)+(E371-HLOOKUP(E371,'Variable priser'!$C$55:$H$57,1))*HLOOKUP(E371,'Variable priser'!$C$55:$H$57,3))/E371*(1+Genanskaffelsespriser!$D$203),\"Fejl\"))","v":"Variabel pris"},{"$f":"IF(F371=0,\"Variabel pris\",IFERROR((HLOOKUP(F371,'Variable priser'!$C$55:$H$57,2)+(F371-HLOOKUP(F371,'Variable priser'!$C$55:$H$57,1))*HLOOKUP(F371,'Variable priser'!$C$55:$H$57,3))/F371*(1+Genanskaffelsespriser!$D$203),\"Fejl\"))","v":"Variabel pris"},{"$f":"IF(ISBLANK(E371),\"\",IF(E371=0,\"\",IF(ISNUMBER(E371),((J371*E371)/$C371)*N367,\"\")))","v":""},{"$f":"IF(ISBLANK(F371),\"\",IF(F371=0,\"\",IF(ISNUMBER(F371),((K371*F371)/$C371)*O367,\"\")))","v":""},1,1]
["Pumpestationer, bygværker og bassiner 47"]
["Pumpestation (inkl. evt. hydrofor)/trykforøger, Konstruktioner","m³/h ",{"$f":"+Genanskaffelsespriser!$E$175","v":50},null,null,null,{"$f":"IF($D373=\"\",IF($E373>0,\"Ny data\",IF($E373=\"\",\"\",0)),IF($D373=0,IF($E373=0,0,\"Ny data\"),($E373-$D373)/$D373))","v":""},{"$f":"IF($E373=\"\",IF($F373>0,\"Ny data\",IF($F373=\"\",\"\",0)),IF($E373=0,IF($F373=0,0,\"Ny data\"),($F373-$E373)/$E373))","v":""},null,{"$f":"IF(E373=0,\"Variabel pris\",IFERROR((HLOOKUP(E373,'Variable priser'!$C$103:$F$105,2)+(E373-HLOOKUP(E373,'Variable priser'!$C$103:$F$105,1))*HLOOKUP(E373,'Variable priser'!$C$103:$F$105,3))*'Variable priser'!$I$102/E373*(1+Genanskaffelsespriser!$D$203),\"Fejl\"))","v":"Variabel pris"},{"$f":"IF(F373=0,\"Variabel pris\",IFERROR((HLOOKUP(F373,'Variable priser'!$C$103:$F$105,2)+(F373-HLOOKUP(F373,'Variable priser'!$C$103:$F$105,1))*HLOOKUP(F373,'Variable priser'!$C$103:$F$105,3))*'Variable priser'!$I$102/F373*(1+Genanskaffelsespriser!$D$203),\"Fejl\"))","v":"Variabel pris"},{"$f":"IF(ISBLANK(E373),\"\",IF(E373=0,\"\",IF(ISNUMBER(E373),((J373*E373)/$C373)*N373,\"\")))","v":""},{"$f":"IF(ISBLANK(F373),\"\",IF(F373=0,\"\",IF(ISNUMBER(F373),((K373*F373)/$C373)*O373,\"\")))","v":""},1,1]
["Pumpestation (inkl. evt. hydrofor)/trykforøger, Mek./EL","m³/h ",{"$f":"+Genanskaffelsespriser!$E$176","v":25},null,null,null,"","",null,{"$f":"IF(E374=0,\"Variabel pris\",IFERROR((HLOOKUP(E374,'Variable priser'!$C$103:$F$105,2)+(E374-HLOOKUP(E374,'Variable priser'!$C$103:$F$105,1))*HLOOKUP(E374,'Variable priser'!$C$103:$F$105,3))*'Variable priser'!$J$102/E374*(1+Genanskaffelsespriser!$D$203),\"Fejl\"))","v":"Variabel pris"},{"$f":"IF(F374=0,\"Variabel pris\",IFERROR((HLOOKUP(F374,'Variable priser'!$C$103:$F$105,2)+(F374-HLOOKUP(F374,'Variable priser'!$C$103:$F$105,1))*HLOOKUP(F374,'Variable priser'!$C$103:$F$105,3))*'Variable priser'!$J$102/F374*(1+Genanskaffelsespriser!$D$203),\"Fejl\"))","v":"Variabel pris"},{"$f":"IF(ISBLANK(E374),\"\",IF(E374=0,\"\",IF(ISNUMBER(E374),((J374*E374)/$C374)*N373,\"\")))","v":""},{"$f":"IF(ISBLANK(F374),\"\",IF(F374=0,\"\",IF(ISNUMBER(F374),((K374*F374)/$C374)*O373,\"\")))","v":""},1,1]
["Pumpestation (inkl. evt. hydrofor)/trykforøger, SRO","m³/h ",{"$f":"+Genanskaffelsespriser!$E$177","v":10},null,null,null,"","",null,{"$f":"IF(E375=0,\"Variabel pris\",IFERROR((HLOOKUP(E375,'Variable priser'!$C$103:$F$105,2)+(E375-HLOOKUP(E375,'Variable priser'!$C$103:$F$105,1))*HLOOKUP(E375,'Variable priser'!$C$103:$F$105,3))*'Variable priser'!$L$102/E375*(1+Genanskaffelsespriser!$D$203),\"Fejl\"))","v":"Variabel pris"},{"$f":"IF(F375=0,\"Variabel pris\",IFERROR((HLOOKUP(F375,'Variable priser'!$C$103:$F$105,2)+(F375-HLOOKUP(F375,'Variable priser'!$C$103:$F$105,1))*HLOOKUP(F375,'Variable priser'!$C$103:$F$105,3))*'Variable priser'!$L$102/F375*(1+Genanskaffelsespriser!$D$203),\"Fejl\"))","v":"Variabel pris"},{"$f":"IF(ISBLANK(E375),\"\",IF(E375=0,\"\",IF(ISNUMBER(E375),((J375*E375)/$C375)*N373,\"\")))","v":""},{"$f":"IF(ISBLANK(F375),\"\",IF(F375=0,\"Samlet mængde kan ikke være nul i 2025\",IF(ISNUMBER(F375),((K375*F375)/$C375)*O373,\"\")))","v":""},1,1]
["Beholderanlæg - højdebeholder","m³",{"$f":"+Genanskaffelsespriser!$E$178","v":50},0,0,0,0,0,"ikke i drift",{"$f":"IF(E376=0,\"Variabel pris\",IFERROR((HLOOKUP(E376,'Variable priser'!$C$48:$H$50,2)+(E376-HLOOKUP(E376,'Variable priser'!$C$48:$H$50,1))*HLOOKUP(E376,'Variable priser'!$C$48:$H$50,3))/E376*(1+Genanskaffelsespriser!$D$203),\"Fejl\"))","v":"Variabel pris"},{"$f":"IF(F376=0,\"Variabel pris\",IFERROR((HLOOKUP(F376,'Variable priser'!$C$48:$H$50,2)+(F376-HLOOKUP(F376,'Variable priser'!$C$48:$H$50,1))*HLOOKUP(F376,'Variable priser'!$C$48:$H$50,3))/F376*(1+Genanskaffelsespriser!$D$203),\"Fejl\"))","v":"Variabel pris"},{"$f":"IF(ISBLANK(E376),\"\",IF(E376=0,\"\",IF(ISNUMBER(E376),((J376*E376)/$C376)*N373,\"\")))","v":""},{"$f":"IF(ISBLANK(F376),\"\",IF(F376=0,\"\",IF(ISNUMBER(F376),((K376*F376)/$C376)*O373,\"\")))","v":""},1,1]
["Beholderanlæg - vandtårn","m³",{"$f":"+Genanskaffelsespriser!$E$179","v":50},null,null,null,"","",null,{"$f":"IF(E377=0,\"Variabel pris\",IFERROR((HLOOKUP(E377,'Variable priser'!$C$55:$H$57,2)+(E377-HLOOKUP(E377,'Variable priser'!$C$55:$H$57,1))*HLOOKUP(E377,'Variable priser'!$C$55:$H$57,3))/E377*(1+Genanskaffelsespriser!$D$203),\"Fejl\"))","v":"Variabel pris"},{"$f":"IF(F377=0,\"Variabel pris\",IFERROR((HLOOKUP(F377,'Variable priser'!$C$55:$H$57,2)+(F377-HLOOKUP(F377,'Variable priser'!$C$55:$H$57,1))*HLOOKUP(F377,'Variable priser'!$C$55:$H$57,3))/F377*(1+Genanskaffelsespriser!$D$203),\"Fejl\"))","v":"Variabel pris"},{"$f":"IF(ISBLANK(E377),\"\",IF(E377=0,\"\",IF(ISNUMBER(E377),((J377*E377)/$C377)*N373,\"\")))","v":""},{"$f":"IF(ISBLANK(F377),\"\",IF(F377=0,\"\",IF(ISNUMBER(F377),((K377*F377)/$C377)*O373,\"\")))","v":""},1,1]
["Pumpestationer, bygværker og bassiner 48"]
["Pumpestation (inkl. evt. hydrofor)/trykforøger, Konstruktioner","m³/h ",{"$f":"+Genanskaffelsespriser!$E$175","v":50},430,430,430,{"$f":"IF($D379=\"\",IF($E379>0,\"Ny data\",IF($E379=\"\",\"\",0)),IF($D379=0,IF($E379=0,0,\"Ny data\"),($E379-$D379)/$D379))","v":0},{"$f":"IF($E379=\"\",IF($F379>0,\"Ny data\",IF($F379=\"\",\"\",0)),IF($E379=0,IF($F379=0,0,\"Ny data\"),($F379-$E379)/$E379))","v":0},null,{"$f":"IF(E379=0,\"Variabel pris\",IFERROR((HLOOKUP(E379,'Variable priser'!$C$103:$F$105,2)+(E379-HLOOKUP(E379,'Variable priser'!$C$103:$F$105,1))*HLOOKUP(E379,'Variable priser'!$C$103:$F$105,3))*'Variable priser'!$I$102/E379*(1+Genanskaffelsespriser!$D$203),\"Fejl\"))","v":844.67068482558125},{"$f":"IF(F379=0,\"Variabel pris\",IFERROR((HLOOKUP(F379,'Variable priser'!$C$103:$F$105,2)+(F379-HLOOKUP(F379,'Variable priser'!$C$103:$F$105,1))*HLOOKUP(F379,'Variable priser'!$C$103:$F$105,3))*'Variable priser'!$I$102/F379*(1+Genanskaffelsespriser!$D$203),\"Fejl\"))","v":844.67068482558125},{"$f":"IF(ISBLANK(E379),\"\",IF(E379=0,\"\",IF(ISNUMBER(E379),((J379*E379)/$C379)*N379,\"\")))","v":7264.1678894999986},{"$f":"IF(ISBLANK(F379),\"\",IF(F379=0,\"\",IF(ISNUMBER(F379),((K379*F379)/$C379)*O379,\"\")))","v":7264.1678894999986},1,1]
["Pumpestation (inkl. evt. hydrofor)/trykforøger, Mek./EL","m³/h ",{"$f":"+Genanskaffelsespriser!$E$176","v":25},430,430,430,0,0,null,{"$f":"IF(E380=0,\"Variabel pris\",IFERROR((HLOOKUP(E380,'Variable priser'!$C$103:$F$105,2)+(E380-HLOOKUP(E380,'Variable priser'!$C$103:$F$105,1))*HLOOKUP(E380,'Variable priser'!$C$103:$F$105,3))*'Variable priser'!$J$102/E380*(1+Genanskaffelsespriser!$D$203),\"Fejl\"))","v":2196.1437805465112},{"$f":"IF(F380=0,\"Variabel pris\",IFERROR((HLOOKUP(F380,'Variable priser'!$C$103:$F$105,2)+(F380-HLOOKUP(F380,'Variable priser'!$C$103:$F$105,1))*HLOOKUP(F380,'Variable priser'!$C$103:$F$105,3))*'Variable priser'!$J$102/F380*(1+Genanskaffelsespriser!$D$203),\"Fejl\"))","v":2196.1437805465112},{"$f":"IF(ISBLANK(E380),\"\",IF(E380=0,\"\",IF(ISNUMBER(E380),((J380*E380)/$C380)*N379,\"\")))","v":37773.673025399992},{"$f":"IF(ISBLANK(F380),\"\",IF(F380=0,\"\",IF(ISNUMBER(F380),((K380*F380)/$C380)*O379,\"\")))","v":37773.673025399992},1,1]
["Pumpestation (inkl. evt. hydrofor)/trykforøger, SRO","m³/h ",{"$f":"+Genanskaffelsespriser!$E$177","v":10},430,430,430,0,0,null,{"$f":"IF(E381=0,\"Variabel pris\",IFERROR((HLOOKUP(E381,'Variable priser'!$C$103:$F$105,2)+(E381-HLOOKUP(E381,'Variable priser'!$C$103:$F$105,1))*HLOOKUP(E381,'Variable priser'!$C$103:$F$105,3))*'Variable priser'!$L$102/E381*(1+Genanskaffelsespriser!$D$203),\"Fejl\"))","v":337.86827393023253},{"$f":"IF(F381=0,\"Variabel pris\",IFERROR((HLOOKUP(F381,'Variable priser'!$C$103:$F$105,2)+(F381-HLOOKUP(F381,'Variable priser'!$C$103:$F$105,1))*HLOOKUP(F381,'Variable priser'!$C$103:$F$105,3))*'Variable priser'!$L$102/F381*(1+Genanskaffelsespriser!$D$203),\"Fejl\"))","v":337.86827393023253},{"$f":"IF(ISBLANK(E381),\"\",IF(E381=0,\"\",IF(ISNUMBER(E381),((J381*E381)/$C381)*N379,\"\")))","v":14528.335778999997},{"$f":"IF(ISBLANK(F381),\"\",IF(F381=0,\"Samlet mængde kan ikke være nul i 2025\",IF(ISNUMBER(F381),((K381*F381)/$C381)*O379,\"\")))","v":14528.335778999997},1,1]
["Beholderanlæg - højdebeholder","m³",{"$f":"+Genanskaffelsespriser!$E$178","v":50},null,null,null,"","",null,{"$f":"IF(E382=0,\"Variabel pris\",IFERROR((HLOOKUP(E382,'Variable priser'!$C$48:$H$50,2)+(E382-HLOOKUP(E382,'Variable priser'!$C$48:$H$50,1))*HLOOKUP(E382,'Variable priser'!$C$48:$H$50,3))/E382*(1+Genanskaffelsespriser!$D$203),\"Fejl\"))","v":"Variabel pris"},{"$f":"IF(F382=0,\"Variabel pris\",IFERROR((HLOOKUP(F382,'Variable priser'!$C$48:$H$50,2)+(F382-HLOOKUP(F382,'Variable priser'!$C$48:$H$50,1))*HLOOKUP(F382,'Variable priser'!$C$48:$H$50,3))/F382*(1+Genanskaffelsespriser!$D$203),\"Fejl\"))","v":"Variabel pris"},{"$f":"IF(ISBLANK(E382),\"\",IF(E382=0,\"\",IF(ISNUMBER(E382),((J382*E382)/$C382)*N379,\"\")))","v":""},{"$f":"IF(ISBLANK(F382),\"\",IF(F382=0,\"\",IF(ISNUMBER(F382),((K382*F382)/$C382)*O379,\"\")))","v":""},1,1]
["Beholderanlæg - vandtårn","m³",{"$f":"+Genanskaffelsespriser!$E$179","v":50},null,null,null,"","",null,{"$f":"IF(E383=0,\"Variabel pris\",IFERROR((HLOOKUP(E383,'Variable priser'!$C$55:$H$57,2)+(E383-HLOOKUP(E383,'Variable priser'!$C$55:$H$57,1))*HLOOKUP(E383,'Variable priser'!$C$55:$H$57,3))/E383*(1+Genanskaffelsespriser!$D$203),\"Fejl\"))","v":"Variabel pris"},{"$f":"IF(F383=0,\"Variabel pris\",IFERROR((HLOOKUP(F383,'Variable priser'!$C$55:$H$57,2)+(F383-HLOOKUP(F383,'Variable priser'!$C$55:$H$57,1))*HLOOKUP(F383,'Variable priser'!$C$55:$H$57,3))/F383*(1+Genanskaffelsespriser!$D$203),\"Fejl\"))","v":"Variabel pris"},{"$f":"IF(ISBLANK(E383),\"\",IF(E383=0,\"\",IF(ISNUMBER(E383),((J383*E383)/$C383)*N379,\"\")))","v":""},{"$f":"IF(ISBLANK(F383),\"\",IF(F383=0,\"\",IF(ISNUMBER(F383),((K383*F383)/$C383)*O379,\"\")))","v":""},1,1]
["Pumpestationer, bygværker og bassiner 49"]
["Pumpestation (inkl. evt. hydrofor)/trykforøger, Konstruktioner","m³/h ",{"$f":"+Genanskaffelsespriser!$E$175","v":50},0,0,0,{"$f":"IF($D385=\"\",IF($E385>0,\"Ny data\",IF($E385=\"\",\"\",0)),IF($D385=0,IF($E385=0,0,\"Ny data\"),($E385-$D385)/$D385))","v":0},{"$f":"IF($E385=\"\",IF($F385>0,\"Ny data\",IF($F385=\"\",\"\",0)),IF($E385=0,IF($F385=0,0,\"Ny data\"),($F385-$E385)/$E385))","v":0},null,{"$f":"IF(E385=0,\"Variabel pris\",IFERROR((HLOOKUP(E385,'Variable priser'!$C$103:$F$105,2)+(E385-HLOOKUP(E385,'Variable priser'!$C$103:$F$105,1))*HLOOKUP(E385,'Variable priser'!$C$103:$F$105,3))*'Variable priser'!$I$102/E385*(1+Genanskaffelsespriser!$D$203),\"Fejl\"))","v":"Variabel pris"},{"$f":"IF(F385=0,\"Variabel pris\",IFERROR((HLOOKUP(F385,'Variable priser'!$C$103:$F$105,2)+(F385-HLOOKUP(F385,'Variable priser'!$C$103:$F$105,1))*HLOOKUP(F385,'Variable priser'!$C$103:$F$105,3))*'Variable priser'!$I$102/F385*(1+Genanskaffelsespriser!$D$203),\"Fejl\"))","v":"Variabel pris"},{"$f":"IF(ISBLANK(E385),\"\",IF(E385=0,\"\",IF(ISNUMBER(E385),((J385*E385)/$C385)*N385,\"\")))","v":""},{"$f":"IF(ISBLANK(F385),\"\",IF(F385=0,\"\",IF(ISNUMBER(F385),((K385*F385)/$C385)*O385,\"\")))","v":""},1,1]
["Pumpestation (inkl. evt. hydrofor)/trykforøger, Mek./EL","m³/h ",{"$f":"+Genanskaffelsespriser!$E$176","v":25},0,0,0,0,0,null,{"$f":"IF(E386=0,\"Variabel pris\",IFERROR((HLOOKUP(E386,'Variable priser'!$C$103:$F$105,2)+(E386-HLOOKUP(E386,'Variable priser'!$C$103:$F$105,1))*HLOOKUP(E386,'Variable priser'!$C$103:$F$105,3))*'Variable priser'!$J$102/E386*(1+Genanskaffelsespriser!$D$203),\"Fejl\"))","v":"Variabel pris"},{"$f":"IF(F386=0,\"Variabel pris\",IFERROR((HLOOKUP(F386,'Variable priser'!$C$103:$F$105,2)+(F386-HLOOKUP(F386,'Variable priser'!$C$103:$F$105,1))*HLOOKUP(F386,'Variable priser'!$C$103:$F$105,3))*'Variable priser'!$J$102/F386*(1+Genanskaffelsespriser!$D$203),\"Fejl\"))","v":"Variabel pris"},{"$f":"IF(ISBLANK(E386),\"\",IF(E386=0,\"\",IF(ISNUMBER(E386),((J386*E386)/$C386)*N385,\"\")))","v":""},{"$f":"IF(ISBLANK(F386),\"\",IF(F386=0,\"\",IF(ISNUMBER(F386),((K386*F386)/$C386)*O385,\"\")))","v":""},1,1]
["Pumpestation (inkl. evt. hydrofor)/trykforøger, SRO","m³/h ",{"$f":"+Genanskaffelsespriser!$E$177","v":10},0,0,0,0,0,null,{"$f":"IF(E387=0,\"Variabel pris\",IFERROR((HLOOKUP(E387,'Variable priser'!$C$103:$F$105,2)+(E387-HLOOKUP(E387,'Variable priser'!$C$103:$F$105,1))*HLOOKUP(E387,'Variable priser'!$C$103:$F$105,3))*'Variable priser'!$L$102/E387*(1+Genanskaffelsespriser!$D$203),\"Fejl\"))","v":"Variabel pris"},{"$f":"IF(F387=0,\"Variabel pris\",IFERROR((HLOOKUP(F387,'Variable priser'!$C$103:$F$105,2)+(F387-HLOOKUP(F387,'Variable priser'!$C$103:$F$105,1))*HLOOKUP(F387,'Variable priser'!$C$103:$F$105,3))*'Variable priser'!$L$102/F387*(1+Genanskaffelsespriser!$D$203),\"Fejl\"))","v":"Variabel pris"},{"$f":"IF(ISBLANK(E387),\"\",IF(E387=0,\"\",IF(ISNUMBER(E387),((J387*E387)/$C387)*N385,\"\")))","v":""},{"$f":"IF(ISBLANK(F387),\"\",IF(F387=0,\"Samlet mængde kan ikke være nul i 2025\",IF(ISNUMBER(F387),((K387*F387)/$C387)*O385,\"\")))","v":"Samlet mængde kan ikke være nul i 2025"},1,1]
["Beholderanlæg - højdebeholder","m³",{"$f":"+Genanskaffelsespriser!$E$178","v":50},null,null,null,"","",null,{"$f":"IF(E388=0,\"Variabel pris\",IFERROR((HLOOKUP(E388,'Variable priser'!$C$48:$H$50,2)+(E388-HLOOKUP(E388,'Variable priser'!$C$48:$H$50,1))*HLOOKUP(E388,'Variable priser'!$C$48:$H$50,3))/E388*(1+Genanskaffelsespriser!$D$203),\"Fejl\"))","v":"Variabel pris"},{"$f":"IF(F388=0,\"Variabel pris\",IFERROR((HLOOKUP(F388,'Variable priser'!$C$48:$H$50,2)+(F388-HLOOKUP(F388,'Variable priser'!$C$48:$H$50,1))*HLOOKUP(F388,'Variable priser'!$C$48:$H$50,3))/F388*(1+Genanskaffelsespriser!$D$203),\"Fejl\"))","v":"Variabel pris"},{"$f":"IF(ISBLANK(E388),\"\",IF(E388=0,\"\",IF(ISNUMBER(E388),((J388*E388)/$C388)*N385,\"\")))","v":""},{"$f":"IF(ISBLANK(F388),\"\",IF(F388=0,\"\",IF(ISNUMBER(F388),((K388*F388)/$C388)*O385,\"\")))","v":""},1,1]
["Beholderanlæg - vandtårn","m³",{"$f":"+Genanskaffelsespriser!$E$179","v":50},null,null,null,"","",null,{"$f":"IF(E389=0,\"Variabel pris\",IFERROR((HLOOKUP(E389,'Variable priser'!$C$55:$H$57,2)+(E389-HLOOKUP(E389,'Variable priser'!$C$55:$H$57,1))*HLOOKUP(E389,'Variable priser'!$C$55:$H$57,3))/E389*(1+Genanskaffelsespriser!$D$203),\"Fejl\"))","v":"Variabel pris"},{"$f":"IF(F389=0,\"Variabel pris\",IFERROR((HLOOKUP(F389,'Variable priser'!$C$55:$H$57,2)+(F389-HLOOKUP(F389,'Variable priser'!$C$55:$H$57,1))*HLOOKUP(F389,'Variable priser'!$C$55:$H$57,3))/F389*(1+Genanskaffelsespriser!$D$203),\"Fejl\"))","v":"Variabel pris"},{"$f":"IF(ISBLANK(E389),\"\",IF(E389=0,\"\",IF(ISNUMBER(E389),((J389*E389)/$C389)*N385,\"\")))","v":""},{"$f":"IF(ISBLANK(F389),\"\",IF(F389=0,\"\",IF(ISNUMBER(F389),((K389*F389)/$C389)*O385,\"\")))","v":""},1,1]
["Pumpestationer, bygværker og bassiner 50"]
["Pumpestation (inkl. evt. hydrofor)/trykforøger, Konstruktioner","m³/h ",{"$f":"+Genanskaffelsespriser!$E$175","v":50},0,0,0,{"$f":"IF($D391=\"\",IF($E391>0,\"Ny data\",IF($E391=\"\",\"\",0)),IF($D391=0,IF($E391=0,0,\"Ny data\"),($E391-$D391)/$D391))","v":0},{"$f":"IF($E391=\"\",IF($F391>0,\"Ny data\",IF($F391=\"\",\"\",0)),IF($E391=0,IF($F391=0,0,\"Ny data\"),($F391-$E391)/$E391))","v":0},null,{"$f":"IF(E391=0,\"Variabel pris\",IFERROR((HLOOKUP(E391,'Variable priser'!$C$103:$F$105,2)+(E391-HLOOKUP(E391,'Variable priser'!$C$103:$F$105,1))*HLOOKUP(E391,'Variable priser'!$C$103:$F$105,3))*'Variable priser'!$I$102/E391*(1+Genanskaffelsespriser!$D$203),\"Fejl\"))","v":"Variabel pris"},{"$f":"IF(F391=0,\"Variabel pris\",IFERROR((HLOOKUP(F391,'Variable priser'!$C$103:$F$105,2)+(F391-HLOOKUP(F391,'Variable priser'!$C$103:$F$105,1))*HLOOKUP(F391,'Variable priser'!$C$103:$F$105,3))*'Variable priser'!$I$102/F391*(1+Genanskaffelsespriser!$D$203),\"Fejl\"))","v":"Variabel pris"},{"$f":"IF(ISBLANK(E391),\"\",IF(E391=0,\"\",IF(ISNUMBER(E391),((J391*E391)/$C391)*N391,\"\")))","v":""},{"$f":"IF(ISBLANK(F391),\"\",IF(F391=0,\"\",IF(ISNUMBER(F391),((K391*F391)/$C391)*O391,\"\")))","v":""},1,1]
["Pumpestation (inkl. evt. hydrofor)/trykforøger, Mek./EL","m³/h ",{"$f":"+Genanskaffelsespriser!$E$176","v":25},0,0,0,0,0,null,{"$f":"IF(E392=0,\"Variabel pris\",IFERROR((HLOOKUP(E392,'Variable priser'!$C$103:$F$105,2)+(E392-HLOOKUP(E392,'Variable priser'!$C$103:$F$105,1))*HLOOKUP(E392,'Variable priser'!$C$103:$F$105,3))*'Variable priser'!$J$102/E392*(1+Genanskaffelsespriser!$D$203),\"Fejl\"))","v":"Variabel pris"},{"$f":"IF(F392=0,\"Variabel pris\",IFERROR((HLOOKUP(F392,'Variable priser'!$C$103:$F$105,2)+(F392-HLOOKUP(F392,'Variable priser'!$C$103:$F$105,1))*HLOOKUP(F392,'Variable priser'!$C$103:$F$105,3))*'Variable priser'!$J$102/F392*(1+Genanskaffelsespriser!$D$203),\"Fejl\"))","v":"Variabel pris"},{"$f":"IF(ISBLANK(E392),\"\",IF(E392=0,\"\",IF(ISNUMBER(E392),((J392*E392)/$C392)*N391,\"\")))","v":""},{"$f":"IF(ISBLANK(F392),\"\",IF(F392=0,\"\",IF(ISNUMBER(F392),((K392*F392)/$C392)*O391,\"\")))","v":""},1,1]
["Pumpestation (inkl. evt. hydrofor)/trykforøger, SRO","m³/h ",{"$f":"+Genanskaffelsespriser!$E$177","v":10},0,0,0,0,0,null,{"$f":"IF(E393=0,\"Variabel pris\",IFERROR((HLOOKUP(E393,'Variable priser'!$C$103:$F$105,2)+(E393-HLOOKUP(E393,'Variable priser'!$C$103:$F$105,1))*HLOOKUP(E393,'Variable priser'!$C$103:$F$105,3))*'Variable priser'!$L$102/E393*(1+Genanskaffelsespriser!$D$203),\"Fejl\"))","v":"Variabel pris"},{"$f":"IF(F393=0,\"Variabel pris\",IFERROR((HLOOKUP(F393,'Variable priser'!$C$103:$F$105,2)+(F393-HLOOKUP(F393,'Variable priser'!$C$103:$F$105,1))*HLOOKUP(F393,'Variable priser'!$C$103:$F$105,3))*'Variable priser'!$L$102/F393*(1+Genanskaffelsespriser!$D$203),\"Fejl\"))","v":"Variabel pris"},{"$f":"IF(ISBLANK(E393),\"\",IF(E393=0,\"\",IF(ISNUMBER(E393),((J393*E393)/$C393)*N391,\"\")))","v":""},{"$f":"IF(ISBLANK(F393),\"\",IF(F393=0,\"Samlet mængde kan ikke være nul i 2025\",IF(ISNUMBER(F393),((K393*F393)/$C393)*O391,\"\")))","v":"Samlet mængde kan ikke være nul i 2025"},1,1]
["Beholderanlæg - højdebeholder","m³",{"$f":"+Genanskaffelsespriser!$E$178","v":50},null,null,null,"","",null,{"$f":"IF(E394=0,\"Variabel pris\",IFERROR((HLOOKUP(E394,'Variable priser'!$C$48:$H$50,2)+(E394-HLOOKUP(E394,'Variable priser'!$C$48:$H$50,1))*HLOOKUP(E394,'Variable priser'!$C$48:$H$50,3))/E394*(1+Genanskaffelsespriser!$D$203),\"Fejl\"))","v":"Variabel pris"},{"$f":"IF(F394=0,\"Variabel pris\",IFERROR((HLOOKUP(F394,'Variable priser'!$C$48:$H$50,2)+(F394-HLOOKUP(F394,'Variable priser'!$C$48:$H$50,1))*HLOOKUP(F394,'Variable priser'!$C$48:$H$50,3))/F394*(1+Genanskaffelsespriser!$D$203),\"Fejl\"))","v":"Variabel pris"},{"$f":"IF(ISBLANK(E394),\"\",IF(E394=0,\"\",IF(ISNUMBER(E394),((J394*E394)/$C394)*N391,\"\")))","v":""},{"$f":"IF(ISBLANK(F394),\"\",IF(F394=0,\"\",IF(ISNUMBER(F394),((K394*F394)/$C394)*O391,\"\")))","v":""},1,1]
["Beholderanlæg - vandtårn","m³",{"$f":"+Genanskaffelsespriser!$E$179","v":50},null,null,null,"","",null,{"$f":"IF(E395=0,\"Variabel pris\",IFERROR((HLOOKUP(E395,'Variable priser'!$C$55:$H$57,2)+(E395-HLOOKUP(E395,'Variable priser'!$C$55:$H$57,1))*HLOOKUP(E395,'Variable priser'!$C$55:$H$57,3))/E395*(1+Genanskaffelsespriser!$D$203),\"Fejl\"))","v":"Variabel pris"},{"$f":"IF(F395=0,\"Variabel pris\",IFERROR((HLOOKUP(F395,'Variable priser'!$C$55:$H$57,2)+(F395-HLOOKUP(F395,'Variable priser'!$C$55:$H$57,1))*HLOOKUP(F395,'Variable priser'!$C$55:$H$57,3))/F395*(1+Genanskaffelsespriser!$D$203),\"Fejl\"))","v":"Variabel pris"},{"$f":"IF(ISBLANK(E395),\"\",IF(E395=0,\"\",IF(ISNUMBER(E395),((J395*E395)/$C395)*N391,\"\")))","v":""},{"$f":"IF(ISBLANK(F395),\"\",IF(F395=0,\"\",IF(ISNUMBER(F395),((K395*F395)/$C395)*O391,\"\")))","v":""},1,1]
["Andre"]
["Afregningsmålere, mekaniske, ","stk.",{"$f":"Genanskaffelsespriser!E181","v":8},26000,17155,6910,-0.34019230769230768,-0.59720198192946661,"Udskriftning målere",{"$f":"Genanskaffelsespriser!$D181","v":1348.1},{"$f":"J397","v":1348.1},2890831.9375,1164421.375,1,1]
["Afregningsmålere, elektroniske med maksimal gennemstrømning ≤ 4 m3/t","stk.",10,8309,15147,23848,0.82296305211216758,0.57443718228031948,"Udskriftning målere",{"$f":"Genanskaffelsespriser!$D182","v":1503.6499999999999},{"$f":"J398","v":1503.6499999999999},2277578.6549999998,3585904.5199999996,1,1]
["Afregningsmålere, elektroniske med maksimal gennemstrømning > 4 m3/t ≤ 15 m3/t","stk.",10,1278,2684,3861,1.1001564945226916,0.43852459016393441,"Udskriftning målere",{"$f":"Genanskaffelsespriser!$D183","v":2152.8119999999999},2152.8119999999999,577814.74080000003,831200.71319999988,1,1]
["Afregningsmålere, elektroniske med maksimal gennemstrømning > 15 m3/t ≤ 300 m3/t ","stk.",10,1115,1605,1986,0.43946188340807174,0.23738317757009345,"Udskriftning målere",{"$f":"Genanskaffelsespriser!$D184","v":20740},20740,3328770,4118964,1,1]
["Afregningsmålere, elektroniske med maksimal gennemstrømning > 300 m3/t","stk.",10,40,37,40,-7.4999999999999997E-2,8.1081081081081086E-2,"Udskriftning målere",{"$f":"Genanskaffelsespriser!$D185","v":26961.999999999996},26961.999999999996,99759.4,107847.99999999997,1,1]
["SRO-brønd/kvarterbrønd/sektionsbrønd, Konstruktioner","stk.",{"$f":"Genanskaffelsespriser!E186","v":50},null,null,null,{"$f":"IF($D402=\"\",IF($E402>0,\"Ny data\",IF($E402=\"\",\"\",0)),IF($D402=0,IF($E402=0,0,\"Ny data\"),($E402-$D402)/$D402))","v":""},{"$f":"IF($E402=\"\",IF($F402>0,\"Ny data\",IF($F402=\"\",\"\",0)),IF($E402=0,IF($F402=0,0,\"Ny data\"),($F402-$E402)/$E402))","v":""},null,{"$f":"Genanskaffelsespriser!$D186","v":81762.264999999999},81762.264999999999,{"$f":"IF(ISNUMBER(E402),((J402*E402)/C402)*N402,\"\")","v":""},{"$f":"IF(ISNUMBER(F402),((K402*F402)/C402)*O402,\"\")","v":""},1,1]
["SRO-brønd/kvarterbrønd/sektionsbrønd, Mek./EL","stk.",{"$f":"Genanskaffelsespriser!E187","v":15},null,null,null,"","",null,{"$f":"Genanskaffelsespriser!$D187","v":93441.995999999999},93441.995999999999,"","",1,1]
["SRO-brønd/kvarterbrønd/sektionsbrønd, SRO","stk.",{"$f":"Genanskaffelsespriser!E188","v":10},null,null,null,"","",null,{"$f":"Genanskaffelsespriser!$D188","v":58401.765999999996},58401.765999999996,"","",1,1]

{"sheet":"Fællesfunktionsanlæg","index":2,"n_rows":11,"n_cols":15,"rows_kept":11,"cut":false,"hidden":false,"merged":[]}
["Fællesfunktionsanlæg","Enhed","Standard-levetid","Samlet mængde per 31/12-2023","Samlet mængde per 31/12-2024","Samlet mængde per 31/12-2025","Afvigelse\n2023-2024","Afvigelse\n2024-2025","Bemærkninger","Enhedspris\n2024","Enhedspris\n2025","Netvolumenbidrag\n2024","Netvolumenbidrag\n2025","Ejerandel 2024 (%)","Ejerandel 2025 (%)"]
["Andre",null,null,null,null,null,{"$f":"IF($D$2=\"\",IF($E$2>0,\"Ny data\",IF($E$2=\"\",\"\",0)),IF($D$2=0,IF($E$2=0,0,\"Ny data\"),($E$2-$D$2)/$D$2))","v":""},{"$f":"IF($E$2=\"\",IF($F$2>0,\"Ny data\",IF($F$2=\"\",\"\",0)),IF($E$2=0,IF($F$2=0,0,\"Ny data\"),($F$2-$E$2)/$E$2))","v":""},null,null,null,null,null,1]
["Arbejdsplads og kontor","stk.",5,150,150,150,{"$f":"IF($D$3=\"\",IF($E$3>0,\"Ny data\",IF($E$3=\"\",\"\",0)),IF($D$3=0,IF($E$3=0,0,\"Ny data\"),($E$3-$D$3)/$D$3))","v":0},{"$f":"IF($E$3=\"\",IF($F$3>0,\"Ny data\",IF($F$3=\"\",\"\",0)),IF($E$3=0,IF($F$3=0,0,\"Ny data\"),($F$3-$E$3)/$E$3))","v":0},null,{"$f":"Genanskaffelsespriser!D193","v":36295},{"$f":"J3","v":36295},{"$f":"IF(ISNUMBER(E3),((J3*E3)/C3)*N3,\"\")","v":1088850},{"$f":"IF(ISNUMBER(F3),((K3*F3)/C3)*O3,\"\")","v":1088850},1,1]
["Køretøjer, personbil","stk.",5,null,null,null,{"$f":"IF($D$4=\"\",IF($E$4>0,\"Ny data\",IF($E$4=\"\",\"\",0)),IF($D$4=0,IF($E$4=0,0,\"Ny data\"),($E$4-$D$4)/$D$4))","v":""},{"$f":"IF($E$4=\"\",IF($F$4>0,\"Ny data\",IF($F$4=\"\",\"\",0)),IF($E$4=0,IF($F$4=0,0,\"Ny data\"),($F$4-$E$4)/$E$4))","v":""},null,{"$f":"Genanskaffelsespriser!D194","v":225000},{"$f":"J4","v":225000},{"$f":"IF(ISNUMBER(E4),((J4*E4)/C4)*N4,\"\")","v":""},{"$f":"IF(ISNUMBER(F4),((K4*F4)/C4)*O4,\"\")","v":""},1,1]
["Køretøjer, små lastvogne (< 3.500 kg.)","stk.",5,null,null,null,{"$f":"IF($D$5=\"\",IF($E$5>0,\"Ny data\",IF($E$5=\"\",\"\",0)),IF($D$5=0,IF($E$5=0,0,\"Ny data\"),($E$5-$D$5)/$D$5))","v":""},{"$f":"IF($E$5=\"\",IF($F$5>0,\"Ny data\",IF($F$5=\"\",\"\",0)),IF($E$5=0,IF($F$5=0,0,\"Ny data\"),($F$5-$E$5)/$E$5))","v":""},null,{"$f":"Genanskaffelsespriser!D195","v":250000},250000,"","",1,1]
["Køretøjer, store lastvogne (> 3.500 kg.)","stk.",5,null,null,null,{"$f":"IF($D$6=\"\",IF($E$6>0,\"Ny data\",IF($E$6=\"\",\"\",0)),IF($D$6=0,IF($E$6=0,0,\"Ny data\"),($E$6-$D$6)/$D$6))","v":""},{"$f":"IF($E$6=\"\",IF($F$6>0,\"Ny data\",IF($F$6=\"\",\"\",0)),IF($E$6=0,IF($F$6=0,0,\"Ny data\"),($F$6-$E$6)/$E$6))","v":""},null,{"$f":"Genanskaffelsespriser!$D196","v":1300000},1300000,"","",1,1]
["Køretøjer, entreprenørmaskiner","stk.",5,2,2,2,{"$f":"IF($D$7=\"\",IF($E$7>0,\"Ny data\",IF($E$7=\"\",\"\",0)),IF($D$7=0,IF($E$7=0,0,\"Ny data\"),($E$7-$D$7)/$D$7))","v":0},{"$f":"IF($E$7=\"\",IF($F$7>0,\"Ny data\",IF($F$7=\"\",\"\",0)),IF($E$7=0,IF($F$7=0,0,\"Ny data\"),($F$7-$E$7)/$E$7))","v":0},null,{"$f":"Genanskaffelsespriser!D197","v":400000},400000,160000,160000,1,1]
["Solcelleanlæg ekskl. Inverter","kWp",25,0,null,null,{"$f":"IF($D$8=\"\",IF($E$8>0,\"Ny data\",IF($E$8=\"\",\"\",0)),IF($D$8=0,IF($E$8=0,0,\"Ny data\"),($E$8-$D$8)/$D$8))","v":0},{"$f":"IF($E$8=\"\",IF($F$8>0,\"Ny data\",IF($F$8=\"\",\"\",0)),IF($E$8=0,IF($F$8=0,0,\"Ny data\"),($F$8-$E$8)/$E$8))","v":""},null,{"$f":"Genanskaffelsespriser!D199","v":5400},5400,{"$f":"IF(OR(ISBLANK(E8),ISBLANK(N8)),\"\",(((E8*J8)/C8)*N8)*(IF(SUM(E10:E11)<>0,E11/SUM(E10:E11),1)))","v":""},{"$f":"IF(OR(ISBLANK(F8),ISBLANK(O8)),\"\",(((F8*K8)/C8)*O8)*(IF(SUM(F10:F11)<>0,F11/SUM(F10:F11),1)))","v":""},1,1]
["Inverter til solcelleanlæg","kWp",10,0,null,null,{"$f":"IF($D$9=\"\",IF($E$9>0,\"Ny data\",IF($E$9=\"\",\"\",0)),IF($D$9=0,IF($E$9=0,0,\"Ny data\"),($E$9-$D$9)/$D$9))","v":0},{"$f":"IF($E$9=\"\",IF($F$9>0,\"Ny data\",IF($F$9=\"\",\"\",0)),IF($E$9=0,IF($F$9=0,0,\"Ny data\"),($F$9-$E$9)/$E$9))","v":""},null,{"$f":"Genanskaffelsespriser!D200","v":600},600,{"$f":"IF(OR(ISBLANK(E9),ISBLANK(N9)),\"\",(((E9*J9)/C9)*N9)*(IF(SUM(E10:E11)<>0,E11/SUM(E10:E11),1)))","v":""},{"$f":"IF(OR(ISBLANK(F9),ISBLANK(O9)),\"\",(((F9*K9)/C9)*O9)*(IF(SUM(F10:F11)<>0,F11/SUM(F10:F11),1)))","v":""},1,1]
["Internt brug af produceret solcellestrøm 2024","MWh",null,0,null,null,{"$f":"IF($D10=\"\",IF($E10>0,\"Ny data\",IF($E10=\"\",\"\",0)),IF($D10=0,IF($E10=0,0,\"Ny data\"),($E10-$D10)/$D10))","v":0},{"$f":"IF($E$10=\"\",IF($F$10>0,\"Ny data\",IF($F$10=\"\",\"\",0)),IF($E$10=0,IF($F$10=0,0,\"Ny data\"),($F$10-$E$10)/$E$10))","v":""},null,null,null,null,null,1,1]
["Eksternt afsat produceret solcellestrøm 2024","MWh",null,0,null,null,{"$f":"IF($D11=\"\",IF($E11>0,\"Ny data\",IF($E11=\"\",\"\",0)),IF($D11=0,IF($E11=0,0,\"Ny data\"),($E11-$D11)/$D11))","v":0},{"$f":"IF($E$11=\"\",IF($F$11>0,\"Ny data\",IF($F$11=\"\",\"\",0)),IF($E$11=0,IF($F$11=0,0,\"Ny data\"),($F$11-$E$11)/$E$11))","v":""},null,null,null,null,null,1,1]

{"sheet":"Genanskaffelsespriser","index":3,"n_rows":203,"n_cols":5,"rows_kept":203,"cut":false,"hidden":false,"merged":[[1048235,2,1048236,2],[1048235,3,1048236,3],[1048235,4,1048236,4],[1048442,2,1048443,2],[1048442,3,1048443,3],[1048442,4,1048443,4],[1047821,2,1047822,2],[1047821,3,1047822,3],[1047821,4,1047822,4],[1048028,2,1048029,2],[1048028,3,1048029,3],[1048028,4,1048029,4],[1047407,2,1047408,2],[1047407,3,1047408,3],[1047407,4,1047408,4],[1047614,2,1047615,2],[1047614,3,1047615,3],[1047614,4,1047615,4],[1046993,2,1046994,2],[1046993,3,1046994,3],[1046993,4,1046994,4],[1047200,2,1047201,2],[1047200,3,1047201,3],[1047200,4,1047201,4],[1046579,2,1046580,2],[1046579,3,1046580,3],[1046579,4,1046580,4],[1046786,2,1046787,2],[1046786,3,1046787,3],[1046786,4,1046787,4],[1046165,2,1046166,2],[1046165,3,1046166,3],[1046165,4,1046166,4],[1046372,2,1046373,2],[1046372,3,1046373,3],[1046372,4,1046373,4],[1045751,2,1045752,2],[1045751,3,1045752,3],[1045751,4,1045752,4],[1045958,2,1045959,2],[1045958,3,1045959,3],[1045958,4,1045959,4],[1045337,2,1045338,2],[1045337,3,1045338,3],[1045337,4,1045338,4],[1045544,2,1045545,2],[1045544,3,1045545,3],[1045544,4,1045545,4],[1044923,2,1044924,2],[1044923,3,1044924,3],[1044923,4,1044924,4],[1045130,2,1045131,2],[1045130,3,1045131,3],[1045130,4,1045131,4],[1044509,2,1044510,2],[1044509,3,1044510,3],[1044509,4,1044510,4],[1044716,2,1044717,2],[1044716,3,1044717,3],[1044716,4,1044717,4],[1044095,2,1044096,2],[1044095,3,1044096,3],[1044095,4,1044096,4],[1044302,2,1044303,2],[1044302,3,1044303,3],[1044302,4,1044303,4],[1043681,2,1043682,2],[1043681,3,1043682,3],[1043681,4,1043682,4],[1043888,2,1043889,2],[1043888,3,1043889,3],[1043888,4,1043889,4],[1043267,2,1043268,2],[1043267,3,1043268,3],[1043267,4,1043268,4],[1043474,2,1043475,2],[1043474,3,1043475,3],[1043474,4,1043475,4],[1042853,2,1042854,2],[1042853,3,1042854,3],[1042853,4,1042854,4],[1043060,2,1043061,2],[1043060,3,1043061,3],[1043060,4,1043061,4],[1042439,2,1042440,2],[1042439,3,1042440,3],[1042439,4,1042440,4],[1042646,2,1042647,2],[1042646,3,1042647,3],[1042646,4,1042647,4],[1042025,2,1042026,2],[1042025,3,1042026,3],[1042025,4,1042026,4],[1042232,2,1042233,2],[1042232,3,1042233,3],[1042232,4,1042233,4],[1041611,2,1041612,2],[1041611,3,1041612,3],[1041611,4,1041612,4],[1041818,2,1041819,2],[1041818,3,1041819,3],[1041818,4,1041819,4],[1041197,2,1041198,2],[1041197,3,1041198,3],[1041197,4,1041198,4],[1041404,2,1041405,2],[1041404,3,1041405,3],[1041404,4,1041405,4],[1040783,2,1040784,2],[1040783,3,1040784,3],[1040783,4,1040784,4],[1040990,2,1040991,2],[1040990,3,1040991,3],[1040990,4,1040991,4],[1040369,2,1040370,2],[1040369,3,1040370,3],[1040369,4,1040370,4],[1040576,2,1040577,2],[1040576,3,1040577,3],[1040576,4,1040577,4],[1039955,2,1039956,2],[1039955,3,1039956,3],[1039955,4,1039956,4],[1040162,2,1040163,2],[1040162,3,1040163,3],[1040162,4,1040163,4],[1039541,2,1039542,2],[1039541,3,1039542,3],[1039541,4,1039542,4],[1039748,2,1039749,2],[1039748,3,1039749,3],[1039748,4,1039749,4],[1039127,2,1039128,2],[1039127,3,1039128,3],[1039127,4,1039128,4],[1039334,2,1039335,2],[1039334,3,1039335,3],[1039334,4,1039335,4],[1038713,2,1038714,2],[1038713,3,1038714,3],[1038713,4,1038714,4],[1038920,2,1038921,2],[1038920,3,1038921,3],[1038920,4,1038921,4],[1038299,2,1038300,2],[1038299,3,1038300,3],[1038299,4,1038300,4],[1038506,2,1038507,2],[1038506,3,1038507,3],[1038506,4,1038507,4],[1037885,2,1037886,2],[1037885,3,1037886,3],[1037885,4,1037886,4],[1038092,2,1038093,2],[1038092,3,1038093,3],[1038092,4,1038093,4],[1037471,2,1037472,2],[1037471,3,1037472,3],[1037471,4,1037472,4],[1037678,2,1037679,2],[1037678,3,1037679,3],[1037678,4,1037679,4],[1037057,2,1037058,2],[1037057,3,1037058,3],[1037057,4,1037058,4],[1037264,2,1037265,2],[1037264,3,1037265,3],[1037264,4,1037265,4],[1036643,2,1036644,2],[1036643,3,1036644,3],[1036643,4,1036644,4],[1036850,2,1036851,2],[1036850,3,1036851,3],[1036850,4,1036851,4],[1036229,2,1036230,2],[1036229,3,1036230,3],[1036229,4,1036230,4],[1036436,2,1036437,2],[1036436,3,1036437,3],[1036436,4,1036437,4],[1035815,2,1035816,2],[1035815,3,1035816,3],[1035815,4,1035816,4],[1036022,2,1036023,2],[1036022,3,1036023,3],[1036022,4,1036023,4],[1035401,2,1035402,2],[1035401,3,1035402,3],[1035401,4,1035402,4],[1035608,2,1035609,2],[1035608,3,1035609,3],[1035608,4,1035609,4],[1034987,2,1034988,2],[1034987,3,1034988,3],[1034987,4,1034988,4],[1035194,2,1035195,2],[1035194,3,1035195,3],[1035194,4,1035195,4],[1034573,2,1034574,2],[1034573,3,1034574,3],[1034573,4,1034574,4],[1034780,2,1034781,2],[1034780,3,1034781,3],[1034780,4,1034781,4],[1034159,2,1034160,2],[1034159,3,1034160,3],[1034159,4,1034160,4],[1034366,2,1034367,2],[1034366,3,1034367,3],[1034366,4,1034367,4],[1033745,2,1033746,2],[1033745,3,1033746,3],[1033745,4,1033746,4],[1033952,2,1033953,2],[1033952,3,1033953,3],[1033952,4,1033953,4],[1033331,2,1033332,2],[1033331,3,1033332,3],[1033331,4,1033332,4],[1033538,2,1033539,2],[1033538,3,1033539,3],[1033538,4,1033539,4],[1032917,2,1032918,2],[1032917,3,1032918,3],[1032917,4,1032918,4],[1033124,2,1033125,2],[1033124,3,1033125,3],[1033124,4,1033125,4],[1032503,2,1032504,2],[1032503,3,1032504,3],[1032503,4,1032504,4],[1032710,2,1032711,2],[1032710,3,1032711,3],[1032710,4,1032711,4],[1032089,2,1032090,2],[1032089,3,1032090,3],[1032089,4,1032090,4],[1032296,2,1032297,2],[1032296,3,1032297,3],[1032296,4,1032297,4],[1031675,2,1031676,2],[1031675,3,1031676,3],[1031675,4,1031676,4],[1031882,2,1031883,2],[1031882,3,1031883,3],[1031882,4,1031883,4],[1031261,2,1031262,2],[1031261,3,1031262,3],[1031261,4,1031262,4],[1031468,2,1031469,2],[1031468,3,1031469,3],[1031468,4,1031469,4],[1030847,2,1030848,2],[1030847,3,1030848,3],[1030847,4,1030848,4],[1031054,2,1031055,2],[1031054,3,1031055,3],[1031054,4,1031055,4],[1030433,2,1030434,2],[1030433,3,1030434,3],[1030433,4,1030434,4],[1030640,2,1030641,2],[1030640,3,1030641,3],[1030640,4,1030641,4],[1030019,2,1030020,2],[1030019,3,1030020,3],[1030019,4,1030020,4],[1030226,2,1030227,2],[1030226,3,1030227,3],[1030226,4,1030227,4],[1029605,2,1029606,2],[1029605,3,1029606,3],[1029605,4,1029606,4],[1029812,2,1029813,2],[1029812,3,1029813,3],[1029812,4,1029813,4],[1029191,2,1029192,2],[1029191,3,1029192,3],[1029191,4,1029192,4],[1029398,2,1029399,2],[1029398,3,1029399,3],[1029398,4,1029399,4],[1028777,2,1028778,2],[1028777,3,1028778,3],[1028777,4,1028778,4],[1028984,2,1028985,2],[1028984,3,1028985,3],[1028984,4,1028985,4],[1028363,2,1028364,2],[1028363,3,1028364,3],[1028363,4,1028364,4],[1028570,2,1028571,2],[1028570,3,1028571,3],[1028570,4,1028571,4],[1027949,2,1027950,2],[1027949,3,1027950,3],[1027949,4,1027950,4],[1028156,2,1028157,2],[1028156,3,1028157,3],[1028156,4,1028157,4],[1027535,2,1027536,2],[1027535,3,1027536,3],[1027535,4,1027536,4],[1027742,2,1027743,2],[1027742,3,1027743,3],[1027742,4,1027743,4],[1027121,2,1027122,2],[1027121,3,1027122,3],[1027121,4,1027122,4],[1027328,2,1027329,2],[1027328,3,1027329,3],[1027328,4,1027329,4],[1026707,2,1026708,2],[1026707,3,1026708,3],[1026707,4,1026708,4],[1026914,2,1026915,2],[1026914,3,1026915,3],[1026914,4,1026915,4],[1026293,2,1026294,2],[1026293,3,1026294,3],[1026293,4,1026294,4],[1026500,2,1026501,2],[1026500,3,1026501,3],[1026500,4,1026501,4],[1025879,2,1025880,2],[1025879,3,1025880,3],[1025879,4,1025880,4],[1026086,2,1026087,2],[1026086,3,1026087,3],[1026086,4,1026087,4],[1025465,2,1025466,2],[1025465,3,1025466,3],[1025465,4,1025466,4],[1025672,2,1025673,2],[1025672,3,1025673,3],[1025672,4,1025673,4],[1025051,2,1025052,2],[1025051,3,1025052,3],[1025051,4,1025052,4],[1025258,2,1025259,2],[1025258,3,1025259,3],[1025258,4,1025259,4],[1024637,2,1024638,2],[1024637,3,1024638,3],[1024637,4,1024638,4],[1024844,2,1024845,2],[1024844,3,1024845,3],[1024844,4,1024845,4],[1024223,2,1024224,2],[1024223,3,1024224,3],[1024223,4,1024224,4],[1024430,2,1024431,2],[1024430,3,1024431,3],[1024430,4,1024431,4],[1023809,2,1023810,2],[1023809,3,1023810,3],[1023809,4,1023810,4],[1024016,2,1024017,2],[1024016,3,1024017,3],[1024016,4,1024017,4],[1023395,2,1023396,2],[1023395,3,1023396,3],[1023395,4,1023396,4],[1023602,2,1023603,2],[1023602,3,1023603,3],[1023602,4,1023603,4],[1022981,2,1022982,2],[1022981,3,1022982,3],[1022981,4,1022982,4],[1023188,2,1023189,2],[1023188,3,1023189,3],[1023188,4,1023189,4],[1022567,2,1022568,2],[1022567,3,1022568,3],[1022567,4,1022568,4],[1022774,2,1022775,2],[1022774,3,1022775,3],[1022774,4,1022775,4],[1022153,2,1022154,2],[1022153,3,1022154,3],[1022153,4,1022154,4],[1022360,2,1022361,2],[1022360,3,1022361,3],[1022360,4,1022361,4],[1021739,2,1021740,2],[1021739,3,1021740,3],[1021739,4,1021740,4],[1021946,2,1021947,2],[1021946,3,1021947,3],[1021946,4,1021947,4],[1021325,2,1021326,2],[1021325,3,1021326,3],[1021325,4,1021326,4],[1021532,2,1021533,2],[1021532,3,1021533,3],[1021532,4,1021533,4],[1020911,2,1020912,2],[1020911,3,1020912,3],[1020911,4,1020912,4],[1021118,2,1021119,2],[1021118,3,1021119,3],[1021118,4,1021119,4],[1020497,2,1020498,2],[1020497,3,1020498,3],[1020497,4,1020498,4],[1020704,2,1020705,2],[1020704,3,1020705,3],[1020704,4,1020705,4],[1020083,2,1020084,2],[1020083,3,1020084,3],[1020083,4,1020084,4],[1020290,2,1020291,2],[1020290,3,1020291,3],[1020290,4,1020291,4],[1019669,2,1019670,2],[1019669,3,1019670,3],[1019669,4,1019670,4],[1019876,2,1019877,2],[1019876,3,1019877,3],[1019876,4,1019877,4],[1019255,2,1019256,2],[1019255,3,1019256,3],[1019255,4,1019256,4],[1019462,2,1019463,2],[1019462,3,1019463,3],[1019462,4,1019463,4],[1018841,2,1018842,2],[1018841,3,1018842,3],[1018841,4,1018842,4],[1019048,2,1019049,2],[1019048,3,1019049,3],[1019048,4,1019049,4],[1018427,2,1018428,2],[1018427,3,1018428,3],[1018427,4,1018428,4],[1018634,2,1018635,2],[1018634,3,1018635,3],[1018634,4,1018635,4],[1018013,2,1018014,2],[1018013,3,1018014,3],[1018013,4,1018014,4],[1018220,2,1018221,2],[1018220,3,1018221,3],[1018220,4,1018221,4],[1017599,2,1017600,2],[1017599,3,1017600,3],[1017599,4,1017600,4],[1017806,2,1017807,2],[1017806,3,1017807,3],[1017806,4,1017807,4],[1017185,2,1017186,2],[1017185,3,1017186,3],[1017185,4,1017186,4],[1017392,2,1017393,2],[1017392,3,1017393,3],[1017392,4,1017393,4],[1016771,2,1016772,2],[1016771,3,1016772,3],[1016771,4,1016772,4],[1016978,2,1016979,2],[1016978,3,1016979,3],[1016978,4,1016979,4],[1016357,2,1016358,2],[1016357,3,1016358,3],[1016357,4,1016358,4],[1016564,2,1016565,2],[1016564,3,1016565,3],[1016564,4,1016565,4],[1015943,2,1015944,2],[1015943,3,1015944,3],[1015943,4,1015944,4],[1016150,2,1016151,2],[1016150,3,1016151,3],[1016150,4,1016151,4],[1015529,2,1015530,2],[1015529,3,1015530,3],[1015529,4,1015530,4],[1015736,2,1015737,2],[1015736,3,1015737,3],[1015736,4,1015737,4],[1015115,2,1015116,2],[1015115,3,1015116,3],[1015115,4,1015116,4],[1015322,2,1015323,2],[1015322,3,1015323,3],[1015322,4,1015323,4],[1014701,2,1014702,2],[1014701,3,1014702,3],[1014701,4,1014702,4],[1014908,2,1014909,2],[1014908,3,1014909,3],[1014908,4,1014909,4],[1014287,2,1014288,2],[1014287,3,1014288,3],[1014287,4,1014288,4],[1014494,2,1014495,2],[1014494,3,1014495,3],[1014494,4,1014495,4],[1013873,2,1013874,2],[1013873,3,1013874,3],[1013873,4,1013874,4],[1014080,2,1014081,2],[1014080,3,1014081,3],[1014080,4,1014081,4],[1013459,2,1013460,2],[1013459,3,1013460,3],[1013459,4,1013460,4],[1013666,2,1013667,2],[1013666,3,1013667,3],[1013666,4,1013667,4],[1013045,2,1013046,2],[1013045,3,1013046,3],[1013045,4,1013046,4],[1013252,2,1013253,2],[1013252,3,1013253,3],[1013252,4,1013253,4],[1012631,2,1012632,2],[1012631,3,1012632,3],[1012631,4,1012632,4],[1012838,2,1012839,2],[1012838,3,1012839,3],[1012838,4,1012839,4],[1012217,2,1012218,2],[1012217,3,1012218,3],[1012217,4,1012218,4],[1012424,2,1012425,2],[1012424,3,1012425,3],[1012424,4,1012425,4],[1011803,2,1011804,2],[1011803,3,1011804,3],[1011803,4,1011804,4],[1012010,2,1012011,2],[1012010,3,1012011,3],[1012010,4,1012011,4],[1011389,2,1011390,2],[1011389,3,1011390,3],[1011389,4,1011390,4],[1011596,2,1011597,2],[1011596,3,1011597,3],[1011596,4,1011597,4],[1010975,2,1010976,2],[1010975,3,1010976,3],[1010975,4,1010976,4],[1011182,2,1011183,2],[1011182,3,1011183,3],[1011182,4,1011183,4],[1010561,2,1010562,2],[1010561,3,1010562,3],[1010561,4,1010562,4],[1010768,2,1010769,2],[1010768,3,1010769,3],[1010768,4,1010769,4],[1010147,2,1010148,2],[1010147,3,1010148,3],[1010147,4,1010148,4],[1010354,2,1010355,2],[1010354,3,1010355,3],[1010354,4,1010355,4],[1009733,2,1009734,2],[1009733,3,1009734,3],[1009733,4,1009734,4],[1009940,2,1009941,2],[1009940,3,1009941,3],[1009940,4,1009941,4],[1009319,2,1009320,2],[1009319,3,1009320,3],[1009319,4,1009320,4],[1009526,2,1009527,2],[1009526,3,1009527,3],[1009526,4,1009527,4],[1008905,2,1008906,2],[1008905,3,1008906,3],[1008905,4,1008906,4],[1009112,2,1009113,2],[1009112,3,1009113,3],[1009112,4,1009113,4],[1008491,2,1008492,2],[1008491,3,1008492,3],[1008491,4,1008492,4],[1008698,2,1008699,2],[1008698,3,1008699,3],[1008698,4,1008699,4],[1008077,2,1008078,2],[1008077,3,1008078,3],[1008077,4,1008078,4],[1008284,2,1008285,2],[1008284,3,1008285,3],[1008284,4,1008285,4],[1007663,2,1007664,2],[1007663,3,1007664,3],[1007663,4,1007664,4],[1007870,2,1007871,2],[1007870,3,1007871,3],[1007870,4,1007871,4],[1007249,2,1007250,2],[1007249,3,1007250,3],[1007249,4,1007250,4],[1007456,2,1007457,2],[1007456,3,1007457,3],[1007456,4,1007457,4],[1006835,2,1006836,2],[1006835,3,1006836,3],[1006835,4,1006836,4],[1007042,2,1007043,2],[1007042,3,1007043,3],[1007042,4,1007043,4],[1006421,2,1006422,2],[1006421,3,1006422,3],[1006421,4,1006422,4],[1006628,2,1006629,2],[1006628,3,1006629,3],[1006628,4,1006629,4],[1006007,2,1006008,2],[1006007,3,1006008,3],[1006007,4,1006008,4],[1006214,2,1006215,2],[1006214,3,1006215,3],[1006214,4,1006215,4],[1005593,2,1005594,2],[1005593,3,1005594,3],[1005593,4,1005594,4],[1005800,2,1005801,2],[1005800,3,1005801,3],[1005800,4,1005801,4],[1005179,2,1005180,2],[1005179,3,1005180,3],[1005179,4,1005180,4],[1005386,2,1005387,2],[1005386,3,1005387,3],[1005386,4,1005387,4],[1004765,2,1004766,2],[1004765,3,1004766,3],[1004765,4,1004766,4],[1004972,2,1004973,2],[1004972,3,1004973,3],[1004972,4,1004973,4],[1004351,2,1004352,2],[1004351,3,1004352,3],[1004351,4,1004352,4],[1004558,2,1004559,2],[1004558,3,1004559,3],[1004558,4,1004559,4],[1003937,2,1003938,2],[1003937,3,1003938,3],[1003937,4,1003938,4],[1004144,2,1004145,2],[1004144,3,1004145,3],[1004144,4,1004145,4],[1003523,2,1003524,2],[1003523,3,1003524,3],[1003523,4,1003524,4],[1003730,2,1003731,2],[1003730,3,1003731,3],[1003730,4,1003731,4],[1003109,2,1003110,2],[1003109,3,1003110,3],[1003109,4,1003110,4],[1003316,2,1003317,2],[1003316,3,1003317,3],[1003316,4,1003317,4],[1002695,2,1002696,2],[1002695,3,1002696,3],[1002695,4,1002696,4],[1002902,2,1002903,2],[1002902,3,1002903,3],[1002902,4,1002903,4],[1002281,2,1002282,2],[1002281,3,1002282,3],[1002281,4,1002282,4],[1002488,2,1002489,2],[1002488,3,1002489,3],[1002488,4,1002489,4],[1001867,2,1001868,2],[1001867,3,1001868,3],[1001867,4,1001868,4],[1002074,2,1002075,2],[1002074,3,1002075,3],[1002074,4,1002075,4],[1001453,2,1001454,2],[1001453,3,1001454,3],[1001453,4,1001454,4],[1001660,2,1001661,2],[1001660,3,1001661,3],[1001660,4,1001661,4],[1001039,2,1001040,2],[1001039,3,1001040,3],[1001039,4,1001040,4],[1001246,2,1001247,2],[1001246,3,1001247,3],[1001246,4,1001247,4],[1000625,2,1000626,2],[1000625,3,1000626,3],[1000625,4,1000626,4],[1000832,2,1000833,2],[1000832,3,1000833,3],[1000832,4,1000833,4],[1000211,2,1000212,2],[1000211,3,1000212,3],[1000211,4,1000212,4],[1000418,2,1000419,2],[1000418,3,1000419,3],[1000418,4,1000419,4],[999797,2,999798,2],[999797,3,999798,3],[999797,4,999798,4],[1000004,2,1000005,2],[1000004,3,1000005,3],[1000004,4,1000005,4],[999383,2,999384,2],[999383,3,999384,3],[999383,4,999384,4],[999590,2,999591,2],[999590,3,999591,3],[999590,4,999591,4],[998969,2,998970,2],[998969,3,998970,3],[998969,4,998970,4],[999176,2,999177,2],[999176,3,999177,3],[999176,4,999177,4],[998555,2,998556,2],[998555,3,998556,3],[998555,4,998556,4],[998762,2,998763,2],[998762,3,998763,3],[998762,4,998763,4],[998141,2,998142,2],[998141,3,998142,3],[998141,4,998142,4],[998348,2,998349,2],[998348,3,998349,3],[998348,4,998349,4],[997727,2,997728,2],[997727,3,997728,3],[997727,4,997728,4],[997934,2,997935,2],[997934,3,997935,3],[997934,4,997935,4],[997313,2,997314,2],[997313,3,997314,3],[997313,4,997314,4],[997520,2,997521,2],[997520,3,997521,3],[997520,4,997521,4],[996899,2,996900,2],[996899,3,996900,3],[996899,4,996900,4],[997106,2,997107,2],[997106,3,997107,3],[997106,4,997107,4],[996485,2,996486,2],[996485,3,996486,3],[996485,4,996486,4],[996692,2,996693,2],[996692,3,996693,3],[996692,4,996693,4],[996071,2,996072,2],[996071,3,996072,3],[996071,4,996072,4],[996278,2,996279,2],[996278,3,996279,3],[996278,4,996279,4],[995657,2,995658,2],[995657,3,995658,3],[995657,4,995658,4],[995864,2,995865,2],[995864,3,995865,3],[995864,4,995865,4],[995243,2,995244,2],[995243,3,995244,3],[995243,4,995244,4],[995450,2,995451,2],[995450,3,995451,3],[995450,4,995451,4],[994829,2,994830,2],[994829,3,994830,3],[994829,4,994830,4],[995036,2,995037,2],[995036,3,995037,3],[995036,4,995037,4],[994415,2,994416,2],[994415,3,994416,3],[994415,4,994416,4],[994622,2,994623,2],[994622,3,994623,3],[994622,4,994623,4],[994001,2,994002,2],[994001,3,994002,3],[994001,4,994002,4],[994208,2,994209,2],[994208,3,994209,3],[994208,4,994209,4],[993587,2,993588,2],[993587,3,993588,3],[993587,4,993588,4],[993794,2,993795,2],[993794,3,993795,3],[993794,4,993795,4],[993173,2,993174,2],[993173,3,993174,3],[993173,4,993174,4],[993380,2,993381,2],[993380,3,993381,3],[993380,4,993381,4],[992759,2,992760,2],[992759,3,992760,3],[992759,4,992760,4],[992966,2,992967,2],[992966,3,992967,3],[992966,4,992967,4],[992345,2,992346,2],[992345,3,992346,3],[992345,4,992346,4],[992552,2,992553,2],[992552,3,992553,3],[992552,4,992553,4],[991931,2,991932,2],[991931,3,991932,3],[991931,4,991932,4],[992138,2,992139,2],[992138,3,992139,3],[992138,4,992139,4],[991517,2,991518,2],[991517,3,991518,3],[991517,4,991518,4],[991724,2,991725,2],[991724,3,991725,3],[991724,4,991725,4],[991103,2,991104,2],[991103,3,991104,3],[991103,4,991104,4],[991310,2,991311,2],[991310,3,991311,3],[991310,4,991311,4],[990689,2,990690,2],[990689,3,990690,3],[990689,4,990690,4],[990896,2,990897,2],[990896,3,990897,3],[990896,4,990897,4],[990275,2,990276,2],[990275,3,990276,3],[990275,4,990276,4],[990482,2,990483,2],[990482,3,990483,3],[990482,4,990483,4],[989861,2,989862,2],[989861,3,989862,3],[989861,4,989862,4],[990068,2,990069,2],[990068,3,990069,3],[990068,4,990069,4],[989447,2,989448,2],[989447,3,989448,3],[989447,4,989448,4],[989654,2,989655,2],[989654,3,989655,3],[989654,4,989655,4],[989033,2,989034,2],[989033,3,989034,3],[989033,4,989034,4],[989240,2,989241,2],[989240,3,989241,3],[989240,4,989241,4],[988619,2,988620,2],[988619,3,988620,3],[988619,4,988620,4],[988826,2,988827,2],[988826,3,988827,3],[988826,4,988827,4],[988205,2,988206,2],[988205,3,988206,3],[988205,4,988206,4],[988412,2,988413,2],[988412,3,988413,3],[988412,4,988413,4],[987791,2,987792,2],[987791,3,987792,3],[987791,4,987792,4],[987998,2,987999,2],[987998,3,987999,3],[987998,4,987999,4],[987377,2,987378,2],[987377,3,987378,3],[987377,4,987378,4],[987584,2,987585,2],[987584,3,987585,3],[987584,4,987585,4],[986963,2,986964,2],[986963,3,986964,3],[986963,4,986964,4],[987170,2,987171,2],[987170,3,987171,3],[987170,4,987171,4],[986549,2,986550,2],[986549,3,986550,3],[986549,4,986550,4],[986756,2,986757,2],[986756,3,986757,3],[986756,4,986757,4],[986135,2,986136,2],[986135,3,986136,3],[986135,4,986136,4],[986342,2,986343,2],[986342,3,986343,3],[986342,4,986343,4],[985721,2,985722,2],[985721,3,985722,3],[985721,4,985722,4],[985928,2,985929,2],[985928,3,985929,3],[985928,4,985929,4],[985307,2,985308,2],[985307,3,985308,3],[985307,4,985308,4],[985514,2,985515,2],[985514,3,985515,3],[985514,4,985515,4],[984893,2,984894,2],[984893,3,984894,3],[984893,4,984894,4],[985100,2,985101,2],[985100,3,985101,3],[985100,4,985101,4],[984479,2,984480,2],[984479,3,984480,3],[984479,4,984480,4],[984686,2,984687,2],[984686,3,984687,3],[984686,4,984687,4],[984065,2,984066,2],[984065,3,984066,3],[984065,4,984066,4],[984272,2,984273,2],[984272,3,984273,3],[984272,4,984273,4],[983651,2,983652,2],[983651,3,983652,3],[983651,4,983652,4],[983858,2,983859,2],[983858,3,983859,3],[983858,4,983859,4],[983237,2,983238,2],[983237,3,983238,3],[983237,4,983238,4],[983444,2,983445,2],[983444,3,983445,3],[983444,4,983445,4],[982823,2,982824,2],[982823,3,982824,3],[982823,4,982824,4],[983030,2,983031,2],[983030,3,983031,3],[983030,4,983031,4],[982409,2,982410,2],[982409,3,982410,3],[982409,4,982410,4],[982616,2,982617,2],[982616,3,982617,3],[982616,4,982617,4],[981995,2,981996,2],[981995,3,981996,3],[981995,4,981996,4],[982202,2,982203,2],[982202,3,982203,3],[982202,4,982203,4],[981581,2,981582,2],[981581,3,981582,3],[981581,4,981582,4],[981788,2,981789,2],[981788,3,981789,3],[981788,4,981789,4],[981167,2,981168,2],[981167,3,981168,3],[981167,4,981168,4],[981374,2,981375,2],[981374,3,981375,3],[981374,4,981375,4],[980753,2,980754,2],[980753,3,980754,3],[980753,4,980754,4],[980960,2,980961,2],[980960,3,980961,3],[980960,4,980961,4],[980339,2,980340,2],[980339,3,980340,3],[980339,4,980340,4],[980546,2,980547,2],[980546,3,980547,3],[980546,4,980547,4],[979925,2,979926,2],[979925,3,979926,3],[979925,4,979926,4],[980132,2,980133,2],[980132,3,980133,3],[980132,4,980133,4],[979511,2,979512,2],[979511,3,979512,3],[979511,4,979512,4],[979718,2,979719,2]],"merged_total":15181,"flags":["merged_cut"]}
[null,"Genanskaffelsespriser","Måleenhed","Vægtet \nenhedspris","Teknisk levetid"]
[]
[null,"Produktionsanlæg:"]
[null,"Boringer"]
[null,"Boring (inkl. etablering, forerør, filter og prøvepumpning)","kr./m.",2538,30]
[null,"Råvandsstationer"]
[null,"Råvandsstation komplet montering og boringshus/tørbrønd","kr./stk.",{"$f":"57810*(1+D203)","v":59948.969999999994},30]
[null,"Instrumenter (flowmåler+tryk transducer+alarmer)","kr./stk.",{"$f":"65241*(1+D203)","v":67654.917000000001},10]
[null,"Pumpe inkl. stigrør og forerørsforsejlinger mv.","kr/m³/h ","Variabel",15]
[null,"Erstatninger (OBS ingen øst-tillæg eller øvrige tillæg) ","kr/stk",44911,30]
[null,"Hegn","kr./stk.",{"$f":"85428*(1+D203)","v":88588.835999999996},15]
[null,"Elanlæg","kr./boring",{"$f":"108657*(1+D203)","v":112677.30899999999},20]
[null,"SRO anlæg","kr./boring",{"$f":"29256*(1+D203)","v":30338.471999999998},10]
[null,"Råvandsledninger - Land"]
[null,"Ø 50mm < Ledningsnet ≤ Ø110 mm","kr./m.",{"$f":"354*(1+D203)","v":367.09799999999996},75]
[null,"Ø110 mm < Ledningsnet ≤ Ø 250 mm","kr./m.",{"$f":"1018*(1+D203)","v":1055.6659999999999},75]
[null,"Ø 250 mm < Ledningsnet ≤ Ø 500mm","kr./m.",{"$f":"2335*(1+D203)","v":2421.395},75]
[null,"Ledningsnet > Ø 500 mm","kr./m.",{"$f":"5029*(1+D203)","v":5215.0729999999994},75]
[null,"Råvandsledninger - By"]
[null,"Ø 50mm < Ledningsnet ≤ Ø110 mm","kr./m.",{"$f":"958*(1+D203)","v":993.44599999999991},75]
[null,"Ø110 mm < Ledningsnet ≤ Ø 250 mm","kr./m.",{"$f":"1684*(1+D203)","v":1746.3079999999998},75]
[null,"Ø 250 mm < Ledningsnet ≤ Ø 500mm","kr./m.",{"$f":"3153*(1+D203)","v":3269.6609999999996},75]
[null,"Ledningsnet > Ø 500 mm","kr./m.",{"$f":"5998*(1+D203)","v":6219.9259999999995},75]
[null,"Råvandsledninger - City"]
[null,"Ø 50mm < Ledningsnet ≤ Ø110 mm","kr./m.",{"$f":"1495*(1+D203)","v":1550.3149999999998},75]
[null,"Ø110 mm < Ledningsnet ≤ Ø 250 mm","kr./m.",{"$f":"2192*(1+D203)","v":2273.1039999999998},75]
[null,"Ø 250 mm < Ledningsnet ≤ Ø 500mm","kr./m.",{"$f":"3773*(1+D203)","v":3912.6009999999997},75]
[null,"Ledningsnet > Ø 500 mm","kr./m.",{"$f":"6732*(1+D203)","v":6981.0839999999998},75]
[null,"Vandværker: Behandling og Udpumpning"]
[null,"Beluftningsanlæg, iltningstrappe, Konstruktioner","kr/m³/h ","Variabel",50]
[null,"Beluftningsanlæg, iltningstrappe, Mek./EL","kr/m³/h ","Variabel",25]
[null,"Beluftningsanlæg, ika-beluftning, Konstruktioner","kr/m³/h ","Variabel",50]
[null,"Beluftningsanlæg, ika-beluftning, Mek./EL","kr/m³/h ","Variabel",25]
[null,"Beluftningsanlæg, bundbeluftbning, Konstruktioner","kr/m³/h ","Variabel",50]
[null,"Beluftningsanlæg, bundbeluftbning, Mek./EL","kr/m³/h ","Variabel",25]
[null,"Beluftningsanlæg, rislebakke, Konstruktioner","kr/m³/h ","Variabel",50]
[null,"Beluftningsanlæg, rislebakke, Mek./EL","kr/m³/h ","Variabel",25]
[null,"Beluftningsanlæg, kompressorbeluftning","kr/m³/h ","Variabel",25]
[null,"Beluftningsanlæg, ren ilt","kr/m³/h ","Variabel",25]
[null,"Behandlingsanlæg, kalk anlæg","kr/m³/h ","Variabel",25]
[null,"Behandlingsanlæg, luddosering","kr/m³/h ","Variabel",25]
[null,"Filteranlæg, åbne filtre, enkelt filtrering, Konstruktioner","kr/m³/h ","Variabel",50]
[null,"Filteranlæg, åbne filtre, enkelt filtrering, Mek./EL","kr/m³/h ","Variabel",25]
[null,"Filteranlæg, åbne filtre, dobbelt filtrering, Konstruktioner","kr/m³/h ","Variabel",50]
[null,"Filteranlæg, åbne filtre, dobbelt filtrering, Mek./EL","kr/m³/h ","Variabel",25]
[null,"Filteranlæg, trykfiltre, enkelt filtrering","kr/m³/h ","Variabel",25]
[null,"Filteranlæg, trykfiltre, dobbelt filtrering","kr/m³/h ","Variabel",25]
[null,"Rentvandsbeholder  insitu støbt","kr/m³","Variabel",50]
[null,"Rentvandsbeholder  element","kr/m³","Variabel",50]
[null,"Udpumpningsanlæg, rentvandspumper på vandværk","kr/m³/h ","Variabel",25]
[null,"Udpumpningsanlæg, Frekvensomformer","kr/kW","Variabel",25]
[null,"Udpumpningsanlæg, Hydrofor","kr/lilter","Variabel",25]
[null,"Skyllevand-/slamhåndteringsanlæg - lukkede betonbeholdere","kr/m³","Variabel",50]
[null,"Skyllevand-/slamhåndteringsanl. - åbne med faste sider/bund","kr/m³","Variabel",50]
[null,"Skyllevand-/slamhåndteringsanlæg - jordbassiner","kr/m³","Variabel",50]
[null,"Skyllevandsbehandling, inkl. UV-filter mv., Mek./EL","kr/m³/h ","Variabel",25]
[null,"Skyllevandsbehandling, inkl. UV-filter mv., SRO","kr/m³/h ","Variabel",10]
[null,"Nødstrømsanlæg på vandværk","kr/kW","Variabel",25]
[null,"Elanlæg og SRO-anlæg - vandværk, Elanlæg","kr./m³/h","Variabel",25]
[null,"Elanlæg og SRO-anlæg - vandværk, SRO","kr./m³/h","Variabel",10]
[null,"Bygninger"]
[null,"Etageareal vandbehandlingsbygning","kr/m²",{"$f":"18108*(1+D203)","v":18777.995999999999},75]
[null,"Etageareal kontor og mandskabsfaciliteter","kr/m²",{"$f":"19309*(1+D203)","v":20023.432999999997},75]
[null,"Værksted","kr/m²",{"$f":"14921*(1+D203)","v":15473.076999999999},75]
[null,"Lager","kr/m²",{"$f":"14921*(1+D203)","v":15473.076999999999},75]
[null,"Garage og rørlager","kr/m²",{"$f":"10444*(1+D203)","v":10830.428},75]
[null,"Bygning for trykforøgere","kr/m²",{"$f":"20318*(1+D203)","v":21069.766},75]
[null,"Laboratorium (bygning, inkl. inventar+udstyr), Konstruktioner","kr/m²",{"$f":"20362*(1+D203)","v":21115.393999999997},75]
[null,"Laboratorium (bygning, inkl. inventar+udstyr), Mek./EL","kr/m²",{"$f":"13575*(1+D203)","v":14077.275},10]
[null,"Andre"]
[null,"Sikring (terror, hærværk), Mek./EL","kr./stk.",{"$f":"6372*(1+D203)","v":6607.7639999999992},25]
[null,"Sikring (terror, hærværk), SRO","kr./stk.",{"$f":"14868*(1+D203)","v":15418.115999999998},10]
[null,"Sikring, mindre avanceret (hegn, porte), Mek./EL","kr./stk.",{"$f":"26067*(1+D203)","v":27031.478999999999},25]
[null,"Sikring, mindre avanceret (hegn, porte), SRO","kr./stk.",{"$f":"60823*(1+D203)","v":63073.450999999994},10]
[null,"Sikring, avanceret (hegn, porte og overvågningssystemer), Mek./EL","kr./stk.",{"$f":"56318*(1+D203)","v":58401.765999999996},25]
[null,"Sikring, avanceret (hegn, porte og overvågningssystemer), SRO","kr./stk.",{"$f":"225271*(1+D203)","v":233606.02699999997},10]
[]
[]
[null,"Distributionsanlæg:"]
[null,"Ledningsnet - Land"]
[null,"Ledningsnet ≤ Ø50 mm","kr./m.",{"$f":"529*(1+D203)","v":548.57299999999998},75]
[null,"Ø 50mm < Ledningsnet ≤ Ø110 mm","kr./m.",{"$f":"808*(1+D203)","v":837.89599999999996},75]
[null,"Ø110 mm < Ledningsnet ≤ Ø 250 mm","kr./m.",{"$f":"1513*(1+D203)","v":1568.981},75]
[null,"Ø 250 mm < Ledningsnet ≤ Ø 500mm","kr./m.",{"$f":"2944*(1+D203)","v":3052.9279999999999},75]
[null,"Ledningsnet > Ø 500 mm","kr./m.",{"$f":"5751*(1+D203)","v":5963.7869999999994},75]
[null,"Støbejernsledninger ≤ Ø50 mm","kr./m.",{"$f":"899*(1+D203)","v":932.26299999999992},100]
[null,"Støbejernsledninger Ø 50mm < Ledningsnet ≤ Ø110 mm","kr./m.",{"$f":"1053*(1+D203)","v":1091.961},100]
[null,"Støbejernsledninger Ø110 mm < Ledningsnet ≤ Ø 250 mm","kr./m.",{"$f":"1490*(1+D203)","v":1545.1299999999999},100]
[null,"Støbejernsledninger Ø 250 mm < Ledningsnet ≤ Ø 500mm","kr./m.",{"$f":"2762*(1+D203)","v":2864.194},100]
[null,"Støbejernsledninger Ledningsnet > Ø 500 mm","kr./m.",{"$f":"5484*(1+D203)","v":5686.9079999999994},100]
[null,"Eternitledninger ≤ Ø50 mm","kr./m.",{"$f":"655*(1+D203)","v":679.2349999999999},75]
[null,"Eternitledninger Ø 50mm < Ledningsnet ≤ Ø110 mm","kr./m.",{"$f":"885*(1+D203)","v":917.74499999999989},75]
[null,"Eternitledninger Ø110 mm < Ledningsnet ≤ Ø 250 mm","kr./m.",{"$f":"1287*(1+D203)","v":1334.6189999999999},75]
[null,"Eternitledninger Ø 250 mm < Ledningsnet ≤ Ø 500mm","kr./m.",{"$f":"3056*(1+D203)","v":3169.0719999999997},75]
[null,"Eternitledninger Ledningsnet > Ø 500 mm","kr./m.",{"$f":"8477*(1+D203)","v":8790.6489999999994},75]
[null,"Skelbrønd, Konstruktioner","kr./stk.",{"$f":"10415*(1+D203)","v":10800.355},50]
[null,"Skelbrønd, Mek./EL","kr./stk.",{"$f":"15623*(1+D203)","v":16201.050999999999},15]
[null,"Inspektionsbrønd, Konstruktioner","kr./stk.",{"$f":"10415*(1+D203)","v":10800.355},50]
[null,"Inspektionsbrønd, Mek./EL","kr./stk.",{"$f":"13019*(1+D203)","v":13500.703},15]
[null,"Stik på ledningsnet, Konstruktioner","kr./stk.",{"$f":"4722*(1+D203)","v":4896.7139999999999},75]
[null,"Stik på ledningsnet, Mek./EL","kr./stk.",{"$f":"4722*(1+D203)","v":4896.7139999999999},75]
[null,"Ledningsnet - By"]
[null,"Ledningsnet ≤ Ø50 mm","kr./m.",{"$f":"650*(1+D203)","v":674.05},75]
[null,"Ø 50mm < Ledningsnet ≤ Ø110 mm","kr./m.",{"$f":"958*(1+D203)","v":993.44599999999991},75]
[null,"Ø110 mm < Ledningsnet ≤ Ø 250 mm","kr./m.",{"$f":"1684*(1+D203)","v":1746.3079999999998},75]
[null,"Ø 250 mm < Ledningsnet ≤ Ø 500mm","kr./m.",{"$f":"3153*(1+D203)","v":3269.6609999999996},75]
[null,"Ledningsnet > Ø 500 mm","kr./m.",{"$f":"5998*(1+D203)","v":6219.9259999999995},75]
[null,"Støbejernsledninger ≤ Ø50 mm","kr./m.",{"$f":"1020*(1+D203)","v":1057.74},100]
[null,"Støbejernsledninger Ø 50mm < Ledningsnet ≤ Ø110 mm","kr./m.",{"$f":"1203*(1+D203)","v":1247.511},100]
[null,"Støbejernsledninger Ø110 mm < Ledningsnet ≤ Ø 250 mm","kr./m.",{"$f":"1661*(1+D203)","v":1722.4569999999999},100]
[null,"Støbejernsledninger Ø 250 mm < Ledningsnet ≤ Ø 500mm","kr./m.",{"$f":"2971*(1+D203)","v":3080.9269999999997},100]
[null,"Støbejernsledninger Ledningsnet > Ø 500 mm","kr./m.",{"$f":"5731*(1+D203)","v":5943.0469999999996},100]
[null,"Eternitledninger ≤ Ø50 mm","kr./m.",{"$f":"776*(1+D203)","v":804.71199999999999},75]
[null,"Eternitledninger Ø 50mm < Ledningsnet ≤ Ø110 mm","kr./m.",{"$f":"1035*(1+D203)","v":1073.2949999999998},75]
[null,"Eternitledninger Ø110 mm < Ledningsnet ≤ Ø 250 mm","kr./m.",{"$f":"1456*(1+D203)","v":1509.8719999999998},75]
[null,"Eternitledninger Ø 250 mm < Ledningsnet ≤ Ø 500mm","kr./m.",{"$f":"3265*(1+D203)","v":3385.8049999999998},75]
[null,"Eternitledninger Ledningsnet > Ø 500 mm","kr./m.",{"$f":"8724*(1+D203)","v":9046.7879999999986},75]
[null,"Skelbrønd, Konstruktioner","kr./stk.",{"$f":"11457*(1+D203)","v":11880.909},50]
[null,"Skelbrønd, Mek./EL","kr./stk.",{"$f":"17185*(1+D203)","v":17820.844999999998},15]
[null,"Inspektionsbrønd, Konstruktioner","kr./stk.",{"$f":"11457*(1+D203)","v":11880.909},50]
[null,"Inspektionsbrønd, Mek./EL","kr./stk.",{"$f":"14321*(1+D203)","v":14850.876999999999},15]
[null,"Stik på ledningsnet, Konstruktioner","kr./stk.",{"$f":"5666*(1+D203)","v":5875.6419999999998},75]
[null,"Stik på ledningsnet, Mek./EL","kr./stk.",{"$f":"5666*(1+D203)","v":5875.6419999999998},75]
[null,"Ledningsnet - City"]
[null,"Ledningsnet ≤ Ø50 mm","kr./m.",{"$f":"1078*(1+D203)","v":1117.886},75]
[null,"Ø 50mm < Ledningsnet ≤ Ø110 mm","kr./m.",{"$f":"1495*(1+D203)","v":1550.3149999999998},75]
[null,"Ø110 mm < Ledningsnet ≤ Ø 250 mm","kr./m.",{"$f":"2192*(1+D203)","v":2273.1039999999998},75]
[null,"Ø 250 mm < Ledningsnet ≤ Ø 500mm","kr./m.",{"$f":"3773*(1+D203)","v":3912.6009999999997},75]
[null,"Ledningsnet > Ø 500 mm","kr./m.",{"$f":"6732*(1+D203)","v":6981.0839999999998},75]
[null,"Støbejernsledninger ≤ Ø50 mm","kr./m.",{"$f":"1448*(1+D203)","v":1501.5759999999998},100]
[null,"Støbejernsledninger Ø 50mm < Ledningsnet ≤ Ø110 mm","kr./m.",{"$f":"1740*(1+D203)","v":1804.3799999999999},100]
[null,"Støbejernsledninger Ø110 mm < Ledningsnet ≤ Ø 250 mm","kr./m.",{"$f":"2169*(1+D203)","v":2249.2529999999997},100]
[null,"Støbejernsledninger Ø 250 mm < Ledningsnet ≤ Ø 500mm","kr./m.",{"$f":"3591*(1+D203)","v":3723.8669999999997},100]
[null,"Støbejernsledninger Ledningsnet > Ø 500 mm","kr./m.",{"$f":"6465*(1+D203)","v":6704.2049999999999},100]
[null,"Eternitledninger ≤ Ø50 mm","kr./m.",{"$f":"1204*(1+D203)","v":1248.548},75]
[null,"Eternitledninger Ø 50mm < Ledningsnet ≤ Ø110 mm","kr./m.",{"$f":"1572*(1+D203)","v":1630.164},75]
[null,"Eternitledninger Ø110 mm < Ledningsnet ≤ Ø 250 mm","kr./m.",{"$f":"1966*(1+D203)","v":2038.7419999999997},75]
[null,"Eternitledninger Ø 250 mm < Ledningsnet ≤ Ø 500mm","kr./m.",{"$f":"3885*(1+D203)","v":4028.7449999999999},75]
[null,"Eternitledninger Ledningsnet > Ø 500 mm","kr./m.",{"$f":"9458*(1+D203)","v":9807.9459999999999},75]
[null,"Skelbrønd, Konstruktioner","kr./stk.",{"$f":"12498*(1+D203)","v":12960.425999999999},50]
[null,"Skelbrønd, Mek./EL","kr./stk.",{"$f":"18747*(1+D203)","v":19440.638999999999},15]
[null,"Inspektionsbrønd, Konstruktioner","kr./stk.",{"$f":"12498*(1+D203)","v":12960.425999999999},50]
[null,"Inspektionsbrønd, Mek./EL","kr./stk.",{"$f":"15623*(1+D203)","v":16201.050999999999},15]
[null,"Stik på ledningsnet, Konstruktioner","kr./stk.",{"$f":"6139*(1+D203)","v":6366.1429999999991},75]
[null,"Stik på ledningsnet, Mek./EL","kr./stk.",{"$f":"6139*(1+D203)","v":6366.1429999999991},75]
[null,"Ledningsnet - Indre city"]
[null,"Ledningsnet ≤ Ø50 mm","kr./m.",{"$f":"1697*(1+D203)","v":1759.7889999999998},75]
[null,"Ø 50mm < Ledningsnet ≤ Ø110 mm","kr./m.",{"$f":"2268*(1+D203)","v":2351.9159999999997},75]
[null,"Ø110 mm < Ledningsnet ≤ Ø 250 mm","kr./m.",{"$f":"3009*(1+D203)","v":3120.3329999999996},75]
[null,"Ø 250 mm < Ledningsnet ≤ Ø 500mm","kr./m.",{"$f":"4773*(1+D203)","v":4949.6009999999997},75]
[null,"Ledningsnet > Ø 500 mm","kr./m.",{"$f":"7915*(1+D203)","v":8207.8549999999996},75]
[null,"Støbejernsledninger ≤ Ø50 mm","kr./m.",{"$f":"2067*(1+D203)","v":2143.4789999999998},100]
[null,"Støbejernsledninger Ø 50mm < Ledningsnet ≤ Ø110 mm","kr./m.",{"$f":"2513*(1+D203)","v":2605.9809999999998},100]
[null,"Støbejernsledninger Ø110 mm < Ledningsnet ≤ Ø 250 mm","kr./m.",{"$f":"2986*(1+D203)","v":3096.482},100]
[null,"Støbejernsledninger Ø 250 mm < Ledningsnet ≤ Ø 500mm","kr./m.",{"$f":"4591*(1+D203)","v":4760.8669999999993},100]
[null,"Støbejernsledninger Ledningsnet > Ø 500 mm","kr./m.",{"$f":"7648*(1+D203)","v":7930.9759999999997},100]
[null,"Eternitledninger ≤ Ø50 mm","kr./m.",{"$f":"1823*(1+D203)","v":1890.4509999999998},75]
[null,"Eternitledninger Ø 50mm < Ledningsnet ≤ Ø110 mm","kr./m.",{"$f":"2345*(1+D203)","v":2431.7649999999999},75]
[null,"Eternitledninger Ø110 mm < Ledningsnet ≤ Ø 250 mm","kr./m.",{"$f":"2783*(1+D203)","v":2885.971},75]
[null,"Eternitledninger Ø 250 mm < Ledningsnet ≤ Ø 500mm","kr./m.",{"$f":"4885*(1+D203)","v":5065.7449999999999},75]
[null,"Eternitledninger Ledningsnet > Ø 500 mm","kr./m.",{"$f":"10641*(1+D203)","v":11034.716999999999},75]
[null,"Skelbrønd, Konstruktioner","kr./stk.",{"$f":"13540*(1+D203)","v":14040.98},50]
[null,"Skelbrønd, Mek./EL","kr./stk.",{"$f":"20310*(1+D203)","v":21061.469999999998},15]
[null,"Inspektionsbrønd, Konstruktioner","kr./stk.",{"$f":"13540*(1+D203)","v":14040.98},50]
[null,"Inspektionsbrønd, Mek./EL","kr./stk.",{"$f":"16925*(1+D203)","v":17551.224999999999},15]
[null,"Stik på ledningsnet, Konstruktioner","kr./stk.",{"$f":"7555*(1+D203)","v":7834.5349999999999},75]
[null,"Stik på ledningsnet, Mek./EL","kr./stk.",{"$f":"7555*(1+D203)","v":7834.5349999999999},75]
[null,"Ventiler"]
[null,"Ventiler på ledningsnet ≤ Ø50 mm","kr./stk.",{"$f":"7732*(1+D203)","v":8018.0839999999998},75]
[null,"Ventiler på Ø 50mm < Ledningsnet ≤ Ø110 mm","kr./stk.",{"$f":"8980*(1+D203)","v":9312.2599999999984},75]
[null,"Ventiler på Ø110 mm < Ledningsnet ≤ Ø 250 mm","kr./stk.",{"$f":"21736*(1+D203)","v":22540.232},75]
[null,"Ventiler på Ø 250 mm < Ledningsnet ≤ Ø 500mm","kr./stk.",{"$f":"78299*(1+D203)","v":81196.062999999995},75]
[null,"Ventiler på ledningsnet > Ø 500 mm","kr./stk.",{"$f":"223733*(1+D203)","v":232011.12099999998},75]
[null,"Pumpestationer, bygværker og bassiner"]
[null,"Pumpestation (inkl. evt. hydrofor)/trykforøger, Konstruktioner","kr/m³/h ","Variabel",50]
[null,"Pumpestation (inkl. evt. hydrofor)/trykforøger, Mek./EL","kr/m³/h ","Variabel",25]
[null,"Pumpestation (inkl. evt. hydrofor)/trykforøger, SRO","kr/m³/h ","Variabel",10]
[null,"Beholderanlæg - højdebeholder","kr/m³/h ","Variabel",50]
[null,"Beholderanlæg - vandtårn","kr/m³/h ","Variabel",50]
[null,"Andre: "]
[null,"Afregningsmålere, mekaniske, ","kr./stk.",{"$f":"1300*(1+D203)","v":1348.1},8]
[null,"Afregningsmålere, elektroniske med maksimal gennemstrømning ≤ 4 m3/t","kr./stk.",{"$f":"1450*(1+D203)","v":1503.6499999999999},10]
[null,"Afregningsmålere, elektroniske med maksimal gennemstrømning > 4 m3/t ≤ 15 m3/t","kr./stk.",{"$f":"2076*(1+D203)","v":2152.8119999999999},10]
[null,"Afregningsmålere, elektroniske med maksimal gennemstrømning > 15 m3/t ≤ 300 m3/t ","kr./stk.",{"$f":"20000*(1+D203)","v":20740},10]
[null,"Afregningsmålere, elektroniske med maksimal gennemstrømning > 300 m3/t","kr./stk.",{"$f":"26000*(1+D203)","v":26961.999999999996},10]
[null,"SRO-brønd/kvarterbrønd/sektionsbrønd, Konstruktioner","kr./stk.",{"$f":"78845*(1+D203)","v":81762.264999999999},50]
[null,"SRO-brønd/kvarterbrønd/sektionsbrønd, Mek./EL","kr./stk.",{"$f":"90108*(1+D203)","v":93441.995999999999},15]
[null,"SRO-brønd/kvarterbrønd/sektionsbrønd, SRO","kr./stk.",{"$f":"56318*(1+D203)","v":58401.765999999996},10]
[]
[]
[null,"Fællesfunktionsanlæg: "]
[null,"Andre"]
[null,"Arbejdsplads og kontor","kr./stk.",{"$f":"35000*(1+D203)","v":36295},5]
[null,"Køretøjer, personbil","kr./stk.",225000,5]
[null,"Køretøjer, små lastvogne (< 3.500 kg.)","kr./stk.",250000,5]
[null,"Køretøjer, store lastvogne (> 3.500 kg.)","kr./stk.",1300000,5]
[null,"Køretøjer, entreprenørmaskiner","kr./stk.",400000,5]
[null,"Øvrige"]
[null,"Solcelleanlæg ekskl. Inverter","kWp",5400,25]
[null,"Inverter til solcelleanlæg","kWp",600,10]
[]
[]
[null,"Regionstillæg",null,3.6999999999999998E-2]

{"sheet":"Variable priser","index":4,"n_rows":110,"n_cols":12,"rows_kept":110,"cut":false,"hidden":false,"merged":[[0,0,0,12]]}
["Til bestemmelse af diverse variable priser"]
["Udpumpningsanlæg",null,0,10,20,30,45,300,"m³/time"]
[null,null,0,44147.303999999996,62958.911999999997,77148.072,90254.76,292560,"kr"]
[null,null,4414.7303999999995,1881.1608000000001,1418.9160000000004,873.77919999999961,793.35388235294113,793.35388235294113,"kr/m³"]
[]
["Beluftningsanlæg",null,0,10,50,100,200,500,null,null,"Anlæg","Mekn/El"]
["Iltningstrappe",null,0,58570.511999999995,266229.59999999998,439278.84,718819.92,1331148,"kr",null,0.8,0.2]
[null,null,5857.0511999999999,5191.4771999999994,3460.9847999999988,2795.4108000000015,2041.0935999999999,2041.0935999999999,"kr/m³/t"]
["Ikabelufter",null,0,87855.767999999982,399344.4,658918.26,1078229.8799999999,1996722,"kr",null,0.5,0.5]
[null,null,8785.5767999999989,7787.2158000000009,5191.4771999999975,4193.1162000000004,3061.6404000000002,3061.6404000000002,"kr/m³/t"]
["Bundbeluftning",null,0,52713.460799999993,239606.64,395350.95599999995,646937.92800000007,1198033.2,"kr"]
[null,null,5271.3460799999993,4672.3294799999985,3114.8863199999996,2515.8697200000011,1836.9842399999995,1836.9842399999995,"kr/m³/t"]
["Kompressorbeluftning",null,0,11714.1024,53245.919999999998,87855.767999999982,143763.984,266229.59999999998,"kr"]
[null,null,1171.4102399999999,1038.2954399999999,692.19695999999965,559.08216000000016,408.21871999999991,408.21871999999991,"kr/m³/t"]
["Rent ilt",null,0,11714.1024,53245.919999999998,87855.767999999982,143763.984,266229.59999999998,"kr"]
[null,null,1171.4102399999999,1038.2954399999999,692.19695999999965,559.08216000000016,408.21871999999991,408.21871999999991,"kr/m³/t"]
["Rislebakke",null,0,35142.307199999996,159737.76,263567.30399999995,431291.95200000005,798688.8,"kr",null,0.7,0.3]
[null,null,3514.2307199999996,3114.8863199999996,2076.5908799999993,1677.2464800000009,1224.65616,1224.65616,"kr/m³/t"]
[]
["pH Justering",null,0,50,100,200,500,"m³/time"]
["Kalkdoseringsanlæg",null,0,78552.36,133539.01199999999,213662.4192,427324.83840000001,"kr"]
[null,null,0,235657.08,400617.03599999996,640987.25760000001,1281974.5152,"kr"]
["Luddoseringsanlæg",null,4713.1415999999999,3299.1991199999993,2403.7022160000006,2136.6241920000002,2136.6241920000002,"kr/m³/time"]
[null,null,0,39276.18,66769.505999999994,106831.2096,213662.4192,"kr"]
[null,null,785.52359999999999,549.86651999999992,400.6170360000001,356.10403200000002,356.10403200000002,"kr/m³/time"]
[]
["Behandlingsanlæg"]
["Åbne filtre",null,0,50,100,200,500,"m³/time"]
["07-41,01 inkl. tillæg",null,null,544161.6]
["Skønnet inkl. tillæg",null,null,292560,null,null,null,"kr/m³/t",null,null,"Anlæg","Mekn/El"]
["Returskylning inkl. tillæg",null,null,null,null,null,null,null,null,null,0.4,0.6]
["07-61.01",null,null,714577.8]
[null,null,0,1551299.4,2637208.98,4219534.3679999998,8439068.7359999996,"kr"]
["Dobbelt filtrering",null,31025.987999999998,21718.191600000002,15823.253879999998,14065.11456,14065.11456,"kr/m³/time"]
[]
[null,null,0,1085909.58,1846046.2859999998,2953674.0575999999,5907348.1151999999,"kr "]
["Enkelt filtrering",null,21718.191600000002,15202.734119999996,11076.277716000001,9845.5801919999994,9845.5801919999994,"kr/m³/time"]
[]
["Behandlingsanlæg"]
["Lukkede filtre",null,0,30,100,200,500,"m³/t"]
["Enkelt filtrering inkl..rør mv.",null,0,516368.4,1290921,2323657.7999999998,4647315.5999999996,"kr "]
[null,null,17212.28,11065.037142857143,10327.368000000002,7745.5260000000007,7745.5260000000007,"kr/m³/time"]
[]
[null,null,0,30,100,200,500,"m³/t"]
["Dobbeltfiltrering ekskl. rør ",null,0,722915.76,1807289.4,3253120.92,6506241.8400000008,"kr"]
[null,null,24097.191999999999,15491.051999999998,14458.315200000005,10843.736400000002,10843.736400000002,"kr/m³/time"]
[]
["Rentvandsbeholdere",null,0,100,500,1000,3000,"m³"]
["In-situ støbt rentvandsbeholder ",null,0,520756.8,2343405.6,4218130.08,7500000,"kr"]
[null,null,5207.5679999999993,4556.6219999999994,3749.4489599999988,1640.9349600000005,1640.9349600000005,"kr/m³"]
[]
[null,null,0,120,500,1000,3000,"m³"]
["Element beholder ",null,0,509054.4,1883501.28,3390302.304,6600000,"kr"]
[null,null,4242.12,3616.9654736842108,3013.6020479999997,1604.8488480000001,1604.8488480000001,"kr/m³"]
["Vandtårne",null,0,100,500,1000,3000,"m³/time"]
["Skønnet inkl. tillæg",null,0,781135.2,3515108.4,6327195.1199999992,11250000,"kr"]
[null,null,7811.351999999998,6834.9329999999991,5624.1734399999996,2461.4024400000003,2461.4024400000003,"kr/m³"]
[]
["Skyllevandsbeholdere",null,0,100,200,500,1000,"m³"]
["Lukket skyllevandsbeholder 30 - 80 m³",null,0,520756.8,833210.88,1833063.936,3299515.0847999998,"kr "]
[null,null,5207.5679999999993,3124.5407999999998,3332.8435200000004,2932.9022975999997,2932.9022975999997,"kr/m³"]
[]
["Åbne beholder med faste side / bund",null,0,251601.6,402562.56,885637.6320000001,1594147.7376000001,"kr "]
[null,null,2516.0159999999996,1509.6096000000002,1610.2502400000003,1417.0202111999999,1417.0202111999999,"kr/m³"]
[]
["Jordbassin",null,0,37740.239999999998,60384.384000000005,132845.64480000001,239122.16064000002,"kr "]
[null,null,377.4024,226.44144000000009,241.53753600000002,212.55303168,212.55303168,"kr/m³"]
[]
["Udpumpningsanlæg"]
[]
["Udpumpningsanlæg",null,0,10,20,30,100,1000,"m³/time"]
[null,null,0,39349.32,51051.72,59974.8,149937,899622,"kr"]
[null,null,3934.9319999999998,1170.24,892.30800000000022,1285.1742857142858,832.98333333333335,832.98333333333335,"kr/m³"]
[]
["Frekvensomformere inkl. elinstallationer"]
[null,null,0,2.2000000000000002,4,5.5,"m³/time"]
[null,null,0,68605.320000000007,74456.52,77089.56,"kr"]
[null,null,31184.236363636359,3250.6666666666652,1755.3600000000054,1755.3600000000054,"kr/m³"]
[]
["Hydrofor"]
[null,null,0,2500,5000,"m³/time"]
["Hydrofor inkl. styring",null,0,200842.44,270032.88,"kr"]
[null,null,80.336975999999993,27.676176000000012,27.676176000000012,"kr/m³"]
[]
["Nødstrømsaggregat"]
[null,null,0,11.5,16,22,50,"kW"]
[null,null,0,134577.60000000001,155495.64000000001,174073.2,295924.44,"kr"]
[null,null,11702.4,4648.4533333333347,3096.26,4351.83,4351.83,"kr/m³"]
[]
["El + SRO Vandværk"]
[null,null,0,50,200,1000,"m³/time"]
["Eltavle + install inkl. tillæg",null,0,380328,665574,1663935,"Kr"]
[]
["Sum",null,null,380328,665574,1663935,"Kr"]
[null,null,7606.56,1901.64,1247.9512499999998,1247.9512499999998,"kr/m³"]
[]
["SRO inkl. tillæg",null,0,292560,351072,596822.4,"Kr"]
[null,null,5851.2,390.08,307.18800000000005,307.18800000000005,"kr/m³"]
[]
["Pumpestation / Trykforøgerstation"]
[null,null,null,null,null,null,null,null,"Anlæg","Mekn/El",null,"SRO"]
["Maskinanlæg pumpestation / trykforøger",null,null,null,null,null,null,null,0.25,0.65,null,0.1]
[null,null,0,30,50,250,"m³/time"]
[null,null,0,230391,296217,877680,"Kr","Inkl. El og styring"]
[null,null,7679.7,3291.3,2907.3149999999996,2907.3149999999996,"Kr/m³/time"]
[]
["Skyllevandsbehandling"]
[null,null,0,20,40,"m³/t",null,"Mekn/El","SRO"]
[null,null,0,515637,773455.5,"kr",null,0.85,0.15]
[null,null,25781.85,12890.924999999997,12890.924999999997,"kr/m³/time"]